{"text_format":"1","workbook":"xlsx","n_sheets":12,"sheets":["Instructions","How to use","GROUPS","Importance","Positivity","Time","Helpful","Influence","IMPORTED","Group Data","Data & Calc","Your MAP"],"not_rendered":{"charts":1,"images":0,"macros":1,"external_links":0,"defined_names":10,"comments":0,"pivot_tables":1},"unopened":[],"bounds":{"document_bytes":16777216,"sheet_cells":100000,"rows_first":2000,"rows_last":500,"rows_between":2000,"halvings":0,"cell_chars":16384,"cell_head_chars":4096},"cells_cut":0,"cells_raw":0,"read":"whole","date_system":"1900"}

{"sheet":"Instructions","index":0,"n_rows":56,"n_cols":6,"rows_kept":56,"cut":false,"hidden":true,"merged":[]}
[null,null,null,null,"Social Identity Mapping (Student Copy)"]
[]
[]
[]
[]
[null,null,null,1,"Your tutor will email you YOUR DATA from the SIM Questionnaire"]
[null,null,null,2,"Save this DATA to an appropriate location"]
[null,null,null,3,"Click' the 'IMPORT DATA' button above the find and import this DATA."]
[null,null,null,4,"Click the 'MOVE DATA' button"]
[null,null,null,5,"Goto the SIM OUTPUT Analysis page."]
[null,null,null,6,"Review your analysis in conjunction with the guide"]
[]
[]
[]
[]
[]
[]
[]
[]
[]
[]
[]
[]
[]
[]
[]
[]
[]
[]
[]
[]
[]
[]
[]
[]
[]
[]
[]
[]
[]
[]
[]
[]
[]
[]
[]
[]
[]
[]
[]
[]
[null,null,null,"Column1","Column1","Column1"]
[null,null,null,"Year 1","UK","Yes"]
[null,null,null,"Year 2","EU","No"]
[null,null,null,"Year 3","International"]
[null,null,null,"Postgraduate"]

{"sheet":"How to use","index":1,"n_rows":19,"n_cols":16,"rows_kept":19,"cut":false,"hidden":false,"merged":[]}
[]
[null,"AIM"]
[null,"This workbook will create a map of the social network within which you exist. This is called Social Identity Mapping (SIM)"]
[null,"This can help you to understand how much time, interest and effort you give to others in your social world, often with some surprises."]
[null,"It can also help you understand how to develop your resilience in your social world by considering the diversity of others you identify with and how you feel about them."]
[null,"For a more detailed review of the origin of SIM and how it can be used - please review the student guide."]
[null," "]
[null,"STEPS"]
[null,"Complete the different worksheets in the following order:"]
[null,"1- List those groups  / others you identify with as part of your social world - this is the GROUPS worksheet."]
[null,"2-Choose a number to represent the value of importance, to you, of each group - this is the Importance worksheet."]
[null,"3-Choose a number to  value how positive you feel about the groups you have identified. This is the Positivity worksheet."]
[null,"4-Choose a number to value how much time you feel you spend with the groups you have identified. This is the Time worksheet."]
[null,"5-Choose a number to value how much you feel your identified groups are helpful or going to be helpful in your studies. This is the Helpful worksheet."]
[]
[null,"The final step 6 - requires you to choose a number that values much much influence each possible pairing of the groups you identify has (or will have) in your engagement with your studies."]
[null,"This is the Influence worksheet.",null,null,null,null,null,null,null,null,null,null,null,null,null,"Now Goto Worksheet 1 -Groups"]
[null,"There are further instructions on each worksheet but please ask if you are unsure, or perhaps work with a friend before you enter your data.",null,null,null,null,null,null,null,null,null,null,null,null,null," "]
[null,"For a more detailed instructions review of SIM - please review the student guide."]

{"sheet":"GROUPS","index":2,"n_rows":23,"n_cols":13,"rows_kept":23,"cut":false,"hidden":false,"merged":[]}
[]
[null,null,null,null,"Identify your groups",null,null,"Instructions"]
[]
[null,null,null,"Group 1","Friends",null,null,"In this worksheet - please enter the name of those groups you feel are part of your social world."]
[null,null,null,"Group 2","Parents",null,null,"Please review the student support guide for examples of groups."]
[null,null,null,"Group 3","Siblings"]
[null,null,null,"Group 4","Grandparents",null,null,"Please each group name in the green cell."]
[null,null,null,"Group 5","Sports clubs",null,null,"One group name per green cell, starting at Group 1 and working down the listing sequentially."]
[null,null,null,"Group 6","Social media group chats",null,null,"You must choose at least seven groups, but cannot choose more than twenty groups."]
[null,null,null,"Group 7","Colleagues "]
[null,null,null,"Group 8",null,null,null,"Do not enter any text into blank group names."]
[null,null,null,"Group 9",null,null,null," "]
[null,null,null,"Group 10",null,null,null,"Press this button to reset your group names and data if you want to delete all the data:"]
[null,null,null,"Group 11"]
[null,null,null,"Group 12"]
[null,null,null,"Group 13"]
[null,null,null,"Group 14"]
[null,null,null,"Group 15"]
[null,null,null,"Group 16"]
[null,null,null,"Group 17"]
[null,null,null,"Group 18"]
[null,null,null,"Group 19",null,null,null,null,null,null,null,null,"Now Goto Worksheet 2 - Importance"]
[null,null,null,"Group 20",null,null,null,null,null,null,null,null," "]

{"sheet":"Importance","index":3,"n_rows":23,"n_cols":14,"rows_kept":23,"cut":false,"hidden":false,"merged":[]}
[]
[]
[null,null,null,null,null,"Group","Value"]
[null,null,null,null,"Group 1",{"$f":"GROUPS!E4","v":"Friends"},10,null,"Instructions"]
[null,null,null,null,"Group 2",{"$f":"GROUPS!E5","v":"Parents"},10]
[null,null,null,null,"Group 3",{"$f":"GROUPS!E6","v":"Siblings"},10,null,"In this worksheet - please choose a value that reflects how important each group is for you "]
[null,null,null,null,"Group 4",{"$f":"GROUPS!E7","v":"Grandparents"},10,null,"and your studies. Place this value in the blue cell."]
[null,null,null,null,"Group 5",{"$f":"GROUPS!E8","v":"Sports clubs"},5]
[null,null,null,null,"Group 6",{"$f":"GROUPS!E9","v":"Social media group chats"},5,null,"Select a value between 1 and 10 where:"]
[null,null,null,null,"Group 7",{"$f":"GROUPS!E10","v":"Colleagues "},7]
[null,null,null,null,"Group 8",{"$f":"GROUPS!E11","v":0},null,null,"1-not very important"]
[null,null,null,null,"Group 9",{"$f":"GROUPS!E12","v":0},null,null,"10-very important"]
[null,null,null,null,"Group 10",{"$f":"GROUPS!E13","v":0},null,null," "]
[null,null,null,null,"Group 11",{"$f":"GROUPS!E14","v":0},null,null,"Please review the student support guide for examples of how you might do this."]
[null,null,null,null,"Group 12",{"$f":"GROUPS!E15","v":0}]
[null,null,null,null,"Group 13",{"$f":"GROUPS!E16","v":0}]
[null,null,null,null,"Group 14",{"$f":"GROUPS!E17","v":0}]
[null,null,null,null,"Group 15",{"$f":"GROUPS!E18","v":0}]
[null,null,null,null,"Group 16",{"$f":"GROUPS!E19","v":0}]
[null,null,null,null,"Group 17",{"$f":"GROUPS!E20","v":0}]
[null,null,null,null,"Group 18",{"$f":"GROUPS!E21","v":0}]
[null,null,null,null,"Group 19",{"$f":"GROUPS!E22","v":0},null,null,null,null,null,null,null,"Now Goto Worksheet 3 - Positivity"]
[null,null,null,null,"Group 20",{"$f":"GROUPS!E23","v":0},null,null,null,null,null,null,null," "]

{"sheet":"Positivity","index":4,"n_rows":22,"n_cols":14,"rows_kept":22,"cut":false,"hidden":false,"merged":[]}
[]
[null,null,null,null,null,"Name","Value"]
[null,null,null,null,"Group 1",{"$f":"GROUPS!E4","v":"Friends"},10,null,"Instructions"]
[null,null,null,null,"Group 2",{"$f":"GROUPS!E5","v":"Parents"},10]
[null,null,null,null,"Group 3",{"$f":"GROUPS!E6","v":"Siblings"},10,null,"In this worksheet - please choose a value that reflects how positive you feel about your groups."]
[null,null,null,null,"Group 4",{"$f":"GROUPS!E7","v":"Grandparents"},10,null,"Place this value in the blue cell."]
[null,null,null,null,"Group 5",{"$f":"GROUPS!E8","v":"Sports clubs"},8]
[null,null,null,null,"Group 6",{"$f":"GROUPS!E9","v":"Social media group chats"},8,null,"Select a value between 1 and 10 where:"]
[null,null,null,null,"Group 7",{"$f":"GROUPS!E10","v":"Colleagues "},8]
[null,null,null,null,"Group 8",{"$f":"GROUPS!E11","v":0},null,null,"1-not very positive"]
[null,null,null,null,"Group 9",{"$f":"GROUPS!E12","v":0},null,null,"10-very positive"]
[null,null,null,null,"Group 10",{"$f":"GROUPS!E13","v":0},null,null," "]
[null,null,null,null,"Group 11",{"$f":"GROUPS!E14","v":0},null,null,"Please review the student support guide for examples of how you might do this."]
[null,null,null,null,"Group 12",{"$f":"GROUPS!E15","v":0}]
[null,null,null,null,"Group 13",{"$f":"GROUPS!E16","v":0}]
[null,null,null,null,"Group 14",{"$f":"GROUPS!E17","v":0}]
[null,null,null,null,"Group 15",{"$f":"GROUPS!E18","v":0}]
[null,null,null,null,"Group 16",{"$f":"GROUPS!E19","v":0}]
[null,null,null,null,"Group 17",{"$f":"GROUPS!E20","v":0}]
[null,null,null,null,"Group 18",{"$f":"GROUPS!E21","v":0}]
[null,null,null,null,"Group 19",{"$f":"GROUPS!E22","v":0},null,null,null,null,null,null,null,"Now Goto Worksheet 4 - Time"]
[null,null,null,null,"Group 20",{"$f":"GROUPS!E23","v":0},null,null,null,null,null,null,null," "]

{"sheet":"Time","index":5,"n_rows":23,"n_cols":17,"rows_kept":23,"cut":false,"hidden":false,"merged":[]}
[]
[]
[null,null,null,null,null,"Name","Value"]
[null,null,null,null,"Group 1",{"$f":"GROUPS!E4","v":"Friends"},8,null,"Instructions"]
[null,null,null,null,"Group 2",{"$f":"GROUPS!E5","v":"Parents"},10]
[null,null,null,null,"Group 3",{"$f":"GROUPS!E6","v":"Siblings"},10,null,"In this worksheet - please choose a value that reflects how much time you feel "]
[null,null,null,null,"Group 4",{"$f":"GROUPS!E7","v":"Grandparents"},10,null,"you spend with each of your groups (you can choose your time frame)."]
[null,null,null,null,"Group 5",{"$f":"GROUPS!E8","v":"Sports clubs"},2,null,"Place this value in the blue cell."]
[null,null,null,null,"Group 6",{"$f":"GROUPS!E9","v":"Social media group chats"},5,null," "]
[null,null,null,null,"Group 7",{"$f":"GROUPS!E10","v":"Colleagues "},7,null,"Select a value between 1 and 10 where:"]
[null,null,null,null,"Group 8",{"$f":"GROUPS!E11","v":0},null,null,null,null,null,null,null,null,null,null,"\\"]
[null,null,null,null,"Group 9",{"$f":"GROUPS!E12","v":0},null,null,"1-not much time"]
[null,null,null,null,"Group 10",{"$f":"GROUPS!E13","v":0},null,null,"10-most of my time"]
[null,null,null,null,"Group 11",{"$f":"GROUPS!E14","v":0},null,null," "]
[null,null,null,null,"Group 12",{"$f":"GROUPS!E15","v":0},null,null,"Please review the student support guide for examples of how you might do this."]
[null,null,null,null,"Group 13",{"$f":"GROUPS!E16","v":0}]
[null,null,null,null,"Group 14",{"$f":"GROUPS!E17","v":0}]
[null,null,null,null,"Group 15",{"$f":"GROUPS!E18","v":0}]
[null,null,null,null,"Group 16",{"$f":"GROUPS!E19","v":0}]
[null,null,null,null,"Group 17",{"$f":"GROUPS!E20","v":0}]
[null,null,null,null,"Group 18",{"$f":"GROUPS!E21","v":0}]
[null,null,null,null,"Group 19",{"$f":"GROUPS!E22","v":0},null,null,null,null,null,null,"Now Goto Worksheet 5 - Helpful"]
[null,null,null,null,"Group 20",{"$f":"GROUPS!E23","v":0},null,null,null,null,null,null," "]

{"sheet":"Helpful","index":6,"n_rows":23,"n_cols":13,"rows_kept":23,"cut":false,"hidden":false,"merged":[]}
[]
[]
[null,null,null,null,null,"Name","Value"]
[null,null,null,null,"Group 1",{"$f":"GROUPS!E4","v":"Friends"},10,null,"Instructions"]
[null,null,null,null,"Group 2",{"$f":"GROUPS!E5","v":"Parents"},10]
[null,null,null,null,"Group 3",{"$f":"GROUPS!E6","v":"Siblings"},10,null,"In this worksheet - please choose a value that reflects how helpful you feel "]
[null,null,null,null,"Group 4",{"$f":"GROUPS!E7","v":"Grandparents"},10,null,"your groups are to you in your studies - academically, practically, or emotionally."]
[null,null,null,null,"Group 5",{"$f":"GROUPS!E8","v":"Sports clubs"},1,null,"Place this value in the blue cell."]
[null,null,null,null,"Group 6",{"$f":"GROUPS!E9","v":"Social media group chats"},5]
[null,null,null,null,"Group 7",{"$f":"GROUPS!E10","v":"Colleagues "},1,null,"Select a value between 1 and 10 where:"]
[null,null,null,null,"Group 8",{"$f":"GROUPS!E11","v":0}]
[null,null,null,null,"Group 9",{"$f":"GROUPS!E12","v":0},null,null,"1-not very helpful"]
[null,null,null,null,"Group 10",{"$f":"GROUPS!E13","v":0},null,null,"10-very helpful"]
[null,null,null,null,"Group 11",{"$f":"GROUPS!E14","v":0},null,null," "]
[null,null,null,null,"Group 12",{"$f":"GROUPS!E15","v":0},null,null,"Please review the student support guide for examples of how you might do this."]
[null,null,null,null,"Group 13",{"$f":"GROUPS!E16","v":0}]
[null,null,null,null,"Group 14",{"$f":"GROUPS!E17","v":0}]
[null,null,null,null,"Group 15",{"$f":"GROUPS!E18","v":0}]
[null,null,null,null,"Group 16",{"$f":"GROUPS!E19","v":0}]
[null,null,null,null,"Group 17",{"$f":"GROUPS!E20","v":0}]
[null,null,null,null,"Group 18",{"$f":"GROUPS!E21","v":0}]
[null,null,null,null,"Group 19",{"$f":"GROUPS!E22","v":0},null,null,null,null,null,null,"Now Goto Worksheet 6 - Influence"]
[null,null,null,null,"Group 20",{"$f":"GROUPS!E23","v":0},null,null,null,null,null,null," "]

{"sheet":"Influence","index":7,"n_rows":36,"n_cols":22,"rows_kept":36,"cut":false,"hidden":false,"merged":[]}
[]
[]
[null,null,{"$f":"GROUPS!E4","v":"Friends"},{"$f":"GROUPS!E5","v":"Parents"},{"$f":"GROUPS!E6","v":"Siblings"},{"$f":"GROUPS!E7","v":"Grandparents"},{"$f":"GROUPS!E8","v":"Sports clubs"},{"$f":"GROUPS!E9","v":"Social media group chats"},{"$f":"GROUPS!E10","v":"Colleagues "},{"$f":"GROUPS!E11","v":0},{"$f":"GROUPS!E12","v":0},{"$f":"GROUPS!E13","v":0},{"$f":"GROUPS!E14","v":0},{"$f":"GROUPS!E15","v":0},{"$f":"GROUPS!E16","v":0},{"$f":"GROUPS!E17","v":0},{"$f":"GROUPS!E18","v":0},{"$f":"GROUPS!E19","v":0},{"$f":"GROUPS!E20","v":0},{"$f":"GROUPS!E21","v":0},{"$f":"GROUPS!E22","v":0},{"$f":"GROUPS!E23","v":0}]
[null,{"$f":"GROUPS!E4","v":"Friends"}]
[null,{"$f":"GROUPS!E5","v":"Parents"},2]
[null,{"$f":"GROUPS!E6","v":"Siblings"},2,2]
[null,{"$f":"GROUPS!E7","v":"Grandparents"},0,0,0]
[null,{"$f":"GROUPS!E8","v":"Sports clubs"},0,0,0,0]
[null,{"$f":"GROUPS!E9","v":"Social media group chats"},1,1,1,1,1]
[null,{"$f":"GROUPS!E10","v":"Colleagues "},0,0,0,0,0,0]
[null,{"$f":"GROUPS!E11","v":0}]
[null,{"$f":"GROUPS!E12","v":0}]
[null,{"$f":"GROUPS!E13","v":0}]
[null,{"$f":"GROUPS!E14","v":0}]
[null,{"$f":"GROUPS!E15","v":0}]
[null,{"$f":"GROUPS!E16","v":0}]
[null,{"$f":"GROUPS!E17","v":0}]
[null,{"$f":"GROUPS!E18","v":0}]
[null,{"$f":"GROUPS!E19","v":0}]
[null,{"$f":"GROUPS!E20","v":0}]
[null,{"$f":"GROUPS!E21","v":0}]
[null,{"$f":"GROUPS!E22","v":0}]
[null,{"$f":"GROUPS!E23","v":0}]
[]
[null,null,null,null,null,null,null,null,null,null,"Now Goto Worksheet - Your Map"]
[null,null,null,null,null,null,null,null,null,null," "]
["Instructions"]
[]
["In this final worksheet - please consider the relationship between these groups you have stated are important to you, and give each pairing a value based on how their interactions affect you and your studies.  This is NOT about which group has the MOST influence over you.  "]
["For example, if you are close to your parents and have siblings, the interaction between your parents and brother/sister may play a bigger part in your studies (positively or negatively) than that of associates mixing with the extended family you rarely see.  This is personal and subjective."]
["There are no right or wrong answers."]
[]
["Select a vlaue between 0, 1 or 2 where:",null,null,null,null,null,null,null,null,null,"Please review the student support guide for examples of how you might do this."]
["0 = no influence, 1 = limited influence, 2 = significant influence"]
[null," "]
[null," "]

{"sheet":"IMPORTED","index":8,"n_rows":200,"n_cols":499,"rows_kept":200,"cut":false,"hidden":true,"merged":[]}
[]
[]
[]
[]
[]
[]
[]
[]
[]
[]
[]
[]
[]
[]
[]
[]
[]
[]
[]
[]
[]
[]
[]
[]
[]
[]
[]
[]
[]
[]
[]
[]
[]
[]
[]
[]
[]
[]
[]
[]
[]
[]
[]
[]
[]
[]
[]
[]
[]
[]
[]
[]
[]
[]
[]
[]
[]
[]
[]
[]
[]
[]
[]
[]
[]
[]
[]
[]
[]
[]
[]
[]
[]
[]
[]
[]
[]
[]
[]
[]
[]
[]
[]
[]
[]
[]
[]
[]
[]
[]
[]
[]
[]
[]
[]
[]
[]
[]
[]
[]
[]
[]
[]
[]
[]
[]
[]
[]
[]
[]
[]
[]
[]
[]
[]
[]
[]
[]
[]
[]
[]
[]
[]
[]
[]
[]
[]
[]
[]
[]
[]
[]
[]
[]
[]
[]
[]
[]
[]
[]
[]
[]
[]
[]
[]
[]
[]
[]
[]
[]
[]
[]
[]
[]
[]
[]
[]
[]
[]
[]
[]
[]
[]
[]
[]
[]
[]
[]
[]
[]
[]
[]
[]
[]
[]
[]
[]
[]
[]
[]
[]
[]
[]
[]
[]
[]
[]
[]
[]
[]
[]
[]
[]
[]
[]
[]
[]
[]
[]
[{"$error":"#N/A"},{"$error":"#N/A"},{"$error":"#N/A"},{"$error":"#N/A"},{"$error":"#N/A"},{"$error":"#N/A"},{"$error":"#N/A"},{"$error":"#N/A"},{"$error":"#N/A"},{"$error":"#N/A"},{"$error":"#N/A"},{"$error":"#N/A"},{"$error":"#N/A"},{"$error":"#N/A"},{"$error":"#N/A"},{"$error":"#N/A"},{"$error":"#N/A"},{"$error":"#N/A"},{"$error":"#N/A"},{"$error":"#N/A"},{"$error":"#N/A"},{"$error":"#N/A"},{"$error":"#N/A"},{"$error":"#N/A"},{"$error":"#N/A"},{"$error":"#N/A"},{"$error":"#N/A"},{"$error":"#N/A"},{"$error":"#N/A"},{"$error":"#N/A"},{"$error":"#N/A"},{"$error":"#N/A"},{"$error":"#N/A"},{"$error":"#N/A"},{"$error":"#N/A"},{"$error":"#N/A"},{"$error":"#N/A"},{"$error":"#N/A"},{"$error":"#N/A"},{"$error":"#N/A"},{"$error":"#N/A"},{"$error":"#N/A"},{"$error":"#N/A"},{"$error":"#N/A"},{"$error":"#N/A"},{"$error":"#N/A"},{"$error":"#N/A"},{"$error":"#N/A"},{"$error":"#N/A"},{"$error":"#N/A"},{"$error":"#N/A"},{"$error":"#N/A"},{"$error":"#N/A"},{"$error":"#N/A"},{"$error":"#N/A"},{"$error":"#N/A"},{"$error":"#N/A"},{"$error":"#N/A"},{"$error":"#N/A"},{"$error":"#N/A"},{"$error":"#N/A"},{"$error":"#N/A"},{"$error":"#N/A"},{"$error":"#N/A"},{"$error":"#N/A"},{"$error":"#N/A"},{"$error":"#N/A"},{"$error":"#N/A"},{"$error":"#N/A"},{"$error":"#N/A"},{"$error":"#N/A"},{"$error":"#N/A"},{"$error":"#N/A"},{"$error":"#N/A"},{"$error":"#N/A"},{"$error":"#N/A"},{"$error":"#N/A"},{"$error":"#N/A"},{"$error":"#N/A"},{"$error":"#N/A"},{"$error":"#N/A"},{"$error":"#N/A"},{"$error":"#N/A"},{"$error":"#N/A"},{"$error":"#N/A"},{"$error":"#N/A"},{"$error":"#N/A"},{"$error":"#N/A"},{"$error":"#N/A"},{"$error":"#N/A"},{"$error":"#N/A"},{"$error":"#N/A"},{"$error":"#N/A"},{"$error":"#N/A"},{"$error":"#N/A"},{"$error":"#N/A"},{"$error":"#N/A"},{"$error":"#N/A"},{"$error":"#N/A"},{"$error":"#N/A"},{"$error":"#N/A"},{"$error":"#N/A"},{"$error":"#N/A"},{"$error":"#N/A"},{"$error":"#N/A"},{"$error":"#N/A"},{"$error":"#N/A"},{"$error":"#N/A"},{"$error":"#N/A"},{"$error":"#N/A"},{"$error":"#N/A"},{"$error":"#N/A"},{"$error":"#N/A"},{"$error":"#N/A"},{"$error":"#N/A"},{"$error":"#N/A"},{"$error":"#N/A"},{"$error":"#N/A"},{"$error":"#N/A"},{"$error":"#N/A"},{"$error":"#N/A"},{"$error":"#N/A"},{"$error":"#N/A"},{"$error":"#N/A"},{"$error":"#N/A"},{"$error":"#N/A"},{"$error":"#N/A"},{"$error":"#N/A"},{"$error":"#N/A"},{"$error":"#N/A"},{"$error":"#N/A"},{"$error":"#N/A"},{"$error":"#N/A"},{"$error":"#N/A"},{"$error":"#N/A"},{"$error":"#N/A"},{"$error":"#N/A"},{"$error":"#N/A"},{"$error":"#N/A"},{"$error":"#N/A"},{"$error":"#N/A"},{"$error":"#N/A"},{"$error":"#N/A"},{"$error":"#N/A"},{"$error":"#N/A"},{"$error":"#N/A"},{"$error":"#N/A"},{"$error":"#N/A"},{"$error":"#N/A"},{"$error":"#N/A"},{"$error":"#N/A"},{"$error":"#N/A"},{"$error":"#N/A"},{"$error":"#N/A"},{"$error":"#N/A"},{"$error":"#N/A"},{"$error":"#N/A"},{"$error":"#N/A"},{"$error":"#N/A"},{"$error":"#N/A"},{"$error":"#N/A"},{"$error":"#N/A"},{"$error":"#N/A"},{"$error":"#N/A"},{"$error":"#N/A"},{"$error":"#N/A"},{"$error":"#N/A"},{"$error":"#N/A"},{"$error":"#N/A"},{"$error":"#N/A"},{"$error":"#N/A"},{"$error":"#N/A"},{"$error":"#N/A"},{"$error":"#N/A"},{"$error":"#N/A"},{"$error":"#N/A"},{"$error":"#N/A"},{"$error":"#N/A"},{"$error":"#N/A"},{"$error":"#N/A"},{"$error":"#N/A"},{"$error":"#N/A"},{"$error":"#N/A"},{"$error":"#N/A"},{"$error":"#N/A"},{"$error":"#N/A"},{"$error":"#N/A"},{"$error":"#N/A"},{"$error":"#N/A"},{"$error":"#N/A"},{"$error":"#N/A"},{"$error":"#N/A"},{"$error":"#N/A"},{"$error":"#N/A"},{"$error":"#N/A"},{"$error":"#N/A"},{"$error":"#N/A"},{"$error":"#N/A"},{"$error":"#N/A"},{"$error":"#N/A"},{"$error":"#N/A"},{"$error":"#N/A"},{"$error":"#N/A"},{"$error":"#N/A"},{"$error":"#N/A"},{"$error":"#N/A"},{"$error":"#N/A"},{"$error":"#N/A"},{"$error":"#N/A"},{"$error":"#N/A"},{"$error":"#N/A"},{"$error":"#N/A"},{"$error":"#N/A"},{"$error":"#N/A"},{"$error":"#N/A"},{"$error":"#N/A"},{"$error":"#N/A"},{"$error":"#N/A"},{"$error":"#N/A"},{"$error":"#N/A"},{"$error":"#N/A"},{"$error":"#N/A"},{"$error":"#N/A"},{"$error":"#N/A"},{"$error":"#N/A"},{"$error":"#N/A"},{"$error":"#N/A"},{"$error":"#N/A"},{"$error":"#N/A"},{"$error":"#N/A"},{"$error":"#N/A"},{"$error":"#N/A"},{"$error":"#N/A"},{"$error":"#N/A"},{"$error":"#N/A"},{"$error":"#N/A"},{"$error":"#N/A"},{"$error":"#N/A"},{"$error":"#N/A"},{"$error":"#N/A"},{"$error":"#N/A"},{"$error":"#N/A"},{"$error":"#N/A"},{"$error":"#N/A"},{"$error":"#N/A"},{"$error":"#N/A"},{"$error":"#N/A"},{"$error":"#N/A"},{"$error":"#N/A"},{"$error":"#N/A"},{"$error":"#N/A"},{"$error":"#N/A"},{"$error":"#N/A"},{"$error":"#N/A"},{"$error":"#N/A"},{"$error":"#N/A"},{"$error":"#N/A"},{"$error":"#N/A"},{"$error":"#N/A"},{"$error":"#N/A"},{"$error":"#N/A"},{"$error":"#N/A"},{"$error":"#N/A"},{"$error":"#N/A"},{"$error":"#N/A"},{"$error":"#N/A"},{"$error":"#N/A"},{"$error":"#N/A"},{"$error":"#N/A"},{"$error":"#N/A"},{"$error":"#N/A"},{"$error":"#N/A"},{"$error":"#N/A"},{"$error":"#N/A"},{"$error":"#N/A"},{"$error":"#N/A"},{"$error":"#N/A"},{"$error":"#N/A"},{"$error":"#N/A"},{"$error":"#N/A"},{"$error":"#N/A"},{"$error":"#N/A"},{"$error":"#N/A"},{"$error":"#N/A"},{"$error":"#N/A"},{"$error":"#N/A"},{"$error":"#N/A"},{"$error":"#N/A"},{"$error":"#N/A"},{"$error":"#N/A"},{"$error":"#N/A"},{"$error":"#N/A"},{"$error":"#N/A"},{"$error":"#N/A"},{"$error":"#N/A"},{"$error":"#N/A"},{"$error":"#N/A"},{"$error":"#N/A"},{"$error":"#N/A"},{"$error":"#N/A"},{"$error":"#N/A"},{"$error":"#N/A"},{"$error":"#N/A"},{"$error":"#N/A"},{"$error":"#N/A"},{"$error":"#N/A"},{"$error":"#N/A"},{"$error":"#N/A"},{"$error":"#N/A"},{"$error":"#N/A"},{"$error":"#N/A"},{"$error":"#N/A"},{"$error":"#N/A"},{"$error":"#N/A"},{"$error":"#N/A"},{"$error":"#N/A"},{"$error":"#N/A"},{"$error":"#N/A"},{"$error":"#N/A"},{"$error":"#N/A"},{"$error":"#N/A"},{"$error":"#N/A"},{"$error":"#N/A"},{"$error":"#N/A"},{"$error":"#N/A"},{"$error":"#N/A"},{"$error":"#N/A"},{"$error":"#N/A"},{"$error":"#N/A"},{"$error":"#N/A"},{"$error":"#N/A"},{"$error":"#N/A"},{"$error":"#N/A"},{"$error":"#N/A"},{"$error":"#N/A"},{"$error":"#N/A"},{"$error":"#N/A"},{"$error":"#N/A"},{"$error":"#N/A"},{"$error":"#N/A"},{"$error":"#N/A"},{"$error":"#N/A"},{"$error":"#N/A"},{"$error":"#N/A"},{"$error":"#N/A"},{"$error":"#N/A"},{"$error":"#N/A"},{"$error":"#N/A"},{"$error":"#N/A"},{"$error":"#N/A"},{"$error":"#N/A"},{"$error":"#N/A"},{"$error":"#N/A"},{"$error":"#N/A"},{"$error":"#N/A"},{"$error":"#N/A"},{"$error":"#N/A"},{"$error":"#N/A"},{"$error":"#N/A"},{"$error":"#N/A"},{"$error":"#N/A"},{"$error":"#N/A"},{"$error":"#N/A"},{"$error":"#N/A"},{"$error":"#N/A"},{"$error":"#N/A"},{"$error":"#N/A"},{"$error":"#N/A"},{"$error":"#N/A"},{"$error":"#N/A"},{"$error":"#N/A"},{"$error":"#N/A"},{"$error":"#N/A"},{"$error":"#N/A"},{"$error":"#N/A"},{"$error":"#N/A"},{"$error":"#N/A"},{"$error":"#N/A"},{"$error":"#N/A"},{"$error":"#N/A"},{"$error":"#N/A"},{"$error":"#N/A"},{"$error":"#N/A"},{"$error":"#N/A"},{"$error":"#N/A"},{"$error":"#N/A"},{"$error":"#N/A"},{"$error":"#N/A"},{"$error":"#N/A"},{"$error":"#N/A"},{"$error":"#N/A"},{"$error":"#N/A"},{"$error":"#N/A"},{"$error":"#N/A"},{"$error":"#N/A"},{"$error":"#N/A"},{"$error":"#N/A"},{"$error":"#N/A"},{"$error":"#N/A"},{"$error":"#N/A"},{"$error":"#N/A"},{"$error":"#N/A"},{"$error":"#N/A"},{"$error":"#N/A"},{"$error":"#N/A"},{"$error":"#N/A"},{"$error":"#N/A"},{"$error":"#N/A"},{"$error":"#N/A"},{"$error":"#N/A"},{"$error":"#N/A"},{"$error":"#N/A"},{"$error":"#N/A"},{"$error":"#N/A"},{"$error":"#N/A"},{"$error":"#N/A"},{"$error":"#N/A"},{"$error":"#N/A"},{"$error":"#N/A"},{"$error":"#N/A"},{"$error":"#N/A"},{"$error":"#N/A"},{"$error":"#N/A"},{"$error":"#N/A"},{"$error":"#N/A"},{"$error":"#N/A"},{"$error":"#N/A"},{"$error":"#N/A"},{"$error":"#N/A"},{"$error":"#N/A"},{"$error":"#N/A"},{"$error":"#N/A"},{"$error":"#N/A"},{"$error":"#N/A"},{"$error":"#N/A"},{"$error":"#N/A"},{"$error":"#N/A"},{"$error":"#N/A"},{"$error":"#N/A"},{"$error":"#N/A"},{"$error":"#N/A"},{"$error":"#N/A"},{"$error":"#N/A"},{"$error":"#N/A"},{"$error":"#N/A"},{"$error":"#N/A"},{"$error":"#N/A"},{"$error":"#N/A"},{"$error":"#N/A"},{"$error":"#N/A"},{"$error":"#N/A"},{"$error":"#N/A"},{"$error":"#N/A"},{"$error":"#N/A"},{"$error":"#N/A"},{"$error":"#N/A"},{"$error":"#N/A"},{"$error":"#N/A"},{"$error":"#N/A"},{"$error":"#N/A"},{"$error":"#N/A"},{"$error":"#N/A"},{"$error":"#N/A"},{"$error":"#N/A"},{"$error":"#N/A"},{"$error":"#N/A"},{"$error":"#N/A"},{"$error":"#N/A"},{"$error":"#N/A"},{"$error":"#N/A"},{"$error":"#N/A"},{"$error":"#N/A"},{"$error":"#N/A"},{"$error":"#N/A"},{"$error":"#N/A"},{"$error":"#N/A"},{"$error":"#N/A"},{"$error":"#N/A"},{"$error":"#N/A"},{"$error":"#N/A"},{"$error":"#N/A"},{"$error":"#N/A"},{"$error":"#N/A"},{"$error":"#N/A"},{"$error":"#N/A"},{"$error":"#N/A"},{"$error":"#N/A"},{"$error":"#N/A"},{"$error":"#N/A"},{"$error":"#N/A"},{"$error":"#N/A"},{"$error":"#N/A"},{"$error":"#N/A"},{"$error":"#N/A"},{"$error":"#N/A"},{"$error":"#N/A"},{"$error":"#N/A"},{"$error":"#N/A"},{"$error":"#N/A"}]

{"sheet":"Group Data","index":9,"n_rows":83,"n_cols":55,"rows_kept":83,"cut":false,"hidden":true,"merged":[[15,2,15,4]]}
[]
[]
[]
[]
[]
[]
[]
[]
[]
[]
[null,null,null,null,null,null,null,null,null,null,null,null,null,null,null,null,null,null,null,null,null,null,null,null,null,null,null,null,null,null,null,null,null,null,null,null,null,null,"Upper (1)",{"$f":"IF(AK12-2<0,\"change\",AK12-2)","v":2}]
[null,null,null,null,null,null,null,null,null,null,null,null,null,null,null,null,null,null,null,null,null,null,null,null,null,null,null,null,null,null,null,null,null,null,null,"Sensitivity=",{"$f":"'Your MAP'!P14","v":4},null,"Lower (0)",{"$f":"IF(AK12-4<0,\"change\",AK12-4)","v":0}]
[null,"TABLE 1",null,"2) Answer (rate) how you feel about the groups here",null,null,"3) How helpful is this group for your studies @ LIBS?",null,null,null,null,null,null,null,null,null,null,null,null,null,null,null,"TABLE 2"]
[null,"1) Add the GROUPS Here"]
[null,null,null,null,null,null,null,null,null,null,null,null,null,null,null,null,null,null,null,"Rate how each group relates to the other groups [0=no influence, 1=some influence, 2=significant influence)",null,null,null,null,null,null,null,null,null,null,null,null,null,null,null,"THIS DATA RESCALES THE OUTPUT MULTIPLIER DATA (GROUP X vs GROUP Y and their relevance to LIBS study) to 0,1 or 2 (0 if the multipler =5 (no net impact), >5 (strong net impact), <5 (weak net impact)"]
[null,null,"1=I feel very little of this [...] for this group  ...to 10=I feel a great deal of this [...] for this group",null,null,null,"1=very unhelpful to 10=very helpful",null,null,"LOG (10) rescaling"]
[null,"Group Identity Label","How important is this group in shaping your views today?","How positive do you feel about this group?","How much time do you spend with this group? (average /month)","This is the relevance of this group","Is this group helping in your studies at LIBS?","Reverses scale of G accouting for a 10 (zero)","This is the relevance of this group for your studies at LIBS","Adjusted Group relevance multiplier",null,null,{"$f":"B17","v":"Group Identity Label"},{"$f":"'Data & Calc'!C4","v":"Friends"},{"$f":"'Data & Calc'!D4","v":"Parents"},{"$f":"'Data & Calc'!E4","v":"Siblings"},{"$f":"'Data & Calc'!F4","v":"Grandparents"},{"$f":"'Data & Calc'!G4","v":"Sports clubs"},{"$f":"'Data & Calc'!H4","v":"Social media group chats"},{"$f":"'Data & Calc'!I4","v":"Colleagues "},{"$f":"'Data & Calc'!J4","v":0},{"$f":"'Data & Calc'!K4","v":0},{"$f":"'Data & Calc'!L4","v":0},{"$f":"'Data & Calc'!M4","v":0},{"$f":"'Data & Calc'!N4","v":0},{"$f":"'Data & Calc'!O4","v":0},{"$f":"'Data & Calc'!P4","v":0},{"$f":"'Data & Calc'!Q4","v":0},{"$f":"'Data & Calc'!R4","v":0},{"$f":"'Data & Calc'!S4","v":0},{"$f":"'Data & Calc'!T4","v":0},{"$f":"'Data & Calc'!U4","v":0},{"$f":"'Data & Calc'!V4","v":0},null,{"$f":"M17","v":"Group Identity Label"},{"$f":"N17","v":"Friends"},{"$f":"O17","v":"Parents"},"Siblings","Grandparents","Sports clubs","Social media group chats","Colleagues ",0,0,0,0,0,0,0,0,0,0,0,0,0]
[{"$f":"IF(CELL(\"type\",B18)=\"v\",1,0)","v":0},{"$f":"GROUPS!E4","v":"Friends"},{"$f":"Importance!G4","v":10},{"$f":"Positivity!G3","v":10},{"$f":"Time!G4","v":8},{"$f":"C18*D18*E18","v":800},{"$f":"IF(Helpful!G4=0,1,Helpful!G4)","v":10},{"$f":"IF(G18=1,9,IF(G18=2,8,IF(G18=3,7,IF(G18=4,6,IF(G18=5,5,IF(G18=6,4,IF(G18=7,3,IF(G18=8,2,IF(G18=8,2,IF(G18=9,1,0.5))))))))))","v":0.5},{"$f":"F18/G18","v":80},{"$f":"ABS(LOG(I18))","v":1.9030899869919435},null,null,{"$f":"B18","v":"Friends"}," ",{"$f":"IMPORTED!FB2","v":0},{"$f":"IMPORTED!FU2","v":0},{"$f":"IMPORTED!GN2","v":0},{"$f":"IMPORTED!HG$2","v":0},{"$f":"IMPORTED!HZ$2","v":0},{"$f":"IMPORTED!IS$2","v":0},{"$f":"IMPORTED!JL$2","v":0},{"$f":"IMPORTED!KE$2","v":0},{"$f":"IMPORTED!KX$2","v":0},{"$f":"IMPORTED!LQ$2","v":0},{"$f":"IMPORTED!MJ$2","v":0},{"$f":"IMPORTED!NC$2","v":0},{"$f":"IMPORTED!NV$2","v":0},{"$f":"IMPORTED!OO$2","v":0},{"$f":"IMPORTED!PH$2","v":0},{"$f":"IMPORTED!QA$2","v":0},{"$f":"IMPORTED!QT$2","v":0},{"$f":"IMPORTED!RM$2","v":0},null,null,{"$f":"M18","v":"Friends"}]
[{"$f":"IF(CELL(\"type\",B19)=\"v\",1,0)","v":0},{"$f":"GROUPS!E5","v":"Parents"},{"$f":"Importance!G5","v":10},{"$f":"Positivity!G4","v":10},{"$f":"Time!G5","v":10},{"$f":"C19*D19*E19","v":1000},{"$f":"IF(Helpful!G5=0,1,Helpful!G5)","v":10},{"$f":"IF(G19=1,9,IF(G19=2,8,IF(G19=3,7,IF(G19=4,6,IF(G19=5,5,IF(G19=6,4,IF(G19=7,3,IF(G19=8,2,IF(G19=8,2,IF(G19=9,1,0.5))))))))))","v":0.5},{"$f":"F19/G19","v":100},{"$f":"ABS(LOG(I19))","v":2},null,null,"Parents",{"$f":"Influence!C5","v":2},{"$f":"IMPORTED!FB2","v":0},{"$f":"IMPORTED!FV2","v":0},{"$f":"IMPORTED!GO2","v":0},{"$f":"IMPORTED!HH$2","v":0},{"$f":"IMPORTED!IA$2","v":0},{"$f":"IMPORTED!IT$2","v":0},{"$f":"IMPORTED!JM$2","v":0},{"$f":"IMPORTED!KF$2","v":0},{"$f":"IMPORTED!KY$2","v":0},{"$f":"IMPORTED!LR$2","v":0},{"$f":"IMPORTED!MK$2","v":0},{"$f":"IMPORTED!ND$2","v":0},{"$f":"IMPORTED!NW$2","v":0},{"$f":"IMPORTED!OP$2","v":0},{"$f":"IMPORTED!PI$2","v":0},{"$f":"IMPORTED!QB$2","v":0},{"$f":"IMPORTED!QU$2","v":0},{"$f":"IMPORTED!RN$2","v":0},null,null,"Parents",{"$f":"IF(INT(N43)>=$AK$12,2,IF(INT(N43)<$AK$12,IF(INT(N43)>=$AN$11,1,0),0))","v":2}]
[{"$f":"IF(CELL(\"type\",B20)=\"v\",1,0)","v":0},{"$f":"GROUPS!E6","v":"Siblings"},{"$f":"Importance!G6","v":10},{"$f":"Positivity!G5","v":10},{"$f":"Time!G6","v":10},1000,{"$f":"IF(Helpful!G6=0,1,Helpful!G6)","v":10},0.5,100,2,null,null,"Siblings",{"$f":"Influence!C6","v":2},{"$f":"Influence!D6","v":2},{"$f":"IMPORTED!FV2","v":0},{"$f":"IMPORTED!GP2","v":0},{"$f":"IMPORTED!HI$2","v":0},{"$f":"IMPORTED!IB$2","v":0},{"$f":"IMPORTED!IU$2","v":0},{"$f":"IMPORTED!JN$2","v":0},{"$f":"IMPORTED!KG$2","v":0},{"$f":"IMPORTED!KZ$2","v":0},{"$f":"IMPORTED!LS$2","v":0},{"$f":"IMPORTED!ML$2","v":0},{"$f":"IMPORTED!NE$2","v":0},{"$f":"IMPORTED!NX$2","v":0},{"$f":"IMPORTED!OQ$2","v":0},{"$f":"IMPORTED!PJ$2","v":0},{"$f":"IMPORTED!QC$2","v":0},{"$f":"IMPORTED!QV$2","v":0},{"$f":"IMPORTED!RO$2","v":0},null,null,"Siblings",{"$f":"IF(INT(N44)>=$AK$12,2,IF(INT(N44)<$AK$12,IF(INT(N44)>=$AN$11,1,0),0))","v":2},2]
[{"$f":"IF(CELL(\"type\",B21)=\"v\",1,0)","v":0},{"$f":"GROUPS!E7","v":"Grandparents"},{"$f":"Importance!G7","v":10},{"$f":"Positivity!G6","v":10},{"$f":"Time!G7","v":10},1000,{"$f":"IF(Helpful!G7=0,1,Helpful!G7)","v":10},0.5,100,2,null,null,"Grandparents",{"$f":"Influence!C7","v":0},{"$f":"Influence!D7","v":0},{"$f":"Influence!E7","v":0},{"$f":"IMPORTED!GQ2","v":0},{"$f":"IMPORTED!HJ$2","v":0},{"$f":"IMPORTED!IC$2","v":0},{"$f":"IMPORTED!IV$2","v":0},{"$f":"IMPORTED!JO$2","v":0},{"$f":"IMPORTED!KH$2","v":0},{"$f":"IMPORTED!LA$2","v":0},{"$f":"IMPORTED!LT$2","v":0},{"$f":"IMPORTED!MM$2","v":0},{"$f":"IMPORTED!NF$2","v":0},{"$f":"IMPORTED!NY$2","v":0},{"$f":"IMPORTED!OR$2","v":0},{"$f":"IMPORTED!PK$2","v":0},{"$f":"IMPORTED!QD$2","v":0},{"$f":"IMPORTED!QW$2","v":0},{"$f":"IMPORTED!RP$2","v":0},null,null,"Grandparents",0,0,0]
[{"$f":"IF(CELL(\"type\",B22)=\"v\",1,0)","v":0},{"$f":"GROUPS!E8","v":"Sports clubs"},{"$f":"Importance!G8","v":5},{"$f":"Positivity!G7","v":8},{"$f":"Time!G8","v":2},80,{"$f":"IF(Helpful!G8=0,1,Helpful!G8)","v":1},9,80,1.9030899869919435,null,null,"Sports clubs",{"$f":"Influence!C8","v":0},{"$f":"Influence!D8","v":0},{"$f":"Influence!E8","v":0},{"$f":"Influence!F8","v":0},{"$f":"IMPORTED!HK$2","v":0},{"$f":"IMPORTED!ID$2","v":0},{"$f":"IMPORTED!IW$2","v":0},{"$f":"IMPORTED!JP$2","v":0},{"$f":"IMPORTED!KI$2","v":0},{"$f":"IMPORTED!LB$2","v":0},{"$f":"IMPORTED!LU$2","v":0},{"$f":"IMPORTED!MN$2","v":0},{"$f":"IMPORTED!NG$2","v":0},{"$f":"IMPORTED!NZ$2","v":0},{"$f":"IMPORTED!OS$2","v":0},{"$f":"IMPORTED!PL$2","v":0},{"$f":"IMPORTED!QE$2","v":0},{"$f":"IMPORTED!QX$2","v":0},{"$f":"IMPORTED!RQ$2","v":0},null,null,"Sports clubs",0,0,0,0]
[{"$f":"IF(CELL(\"type\",B23)=\"v\",1,0)","v":0},{"$f":"GROUPS!E9","v":"Social media group chats"},{"$f":"Importance!G9","v":5},{"$f":"Positivity!G8","v":8},{"$f":"Time!G9","v":5},200,{"$f":"IF(Helpful!G9=0,1,Helpful!G9)","v":5},5,40,1.6020599913279623,null,null,"Social media group chats",{"$f":"Influence!C9","v":1},{"$f":"Influence!D9","v":1},{"$f":"Influence!E9","v":1},{"$f":"Influence!F9","v":1},{"$f":"Influence!G9","v":1},{"$f":"IMPORTED!IE$2","v":0},{"$f":"IMPORTED!IX$2","v":0},{"$f":"IMPORTED!JQ$2","v":0},{"$f":"IMPORTED!KJ$2","v":0},{"$f":"IMPORTED!LC$2","v":0},{"$f":"IMPORTED!LV$2","v":0},{"$f":"IMPORTED!MO$2","v":0},{"$f":"IMPORTED!NH$2","v":0},{"$f":"IMPORTED!OA$2","v":0},{"$f":"IMPORTED!OT$2","v":0},{"$f":"IMPORTED!PM$2","v":0},{"$f":"IMPORTED!QF$2","v":0},{"$f":"IMPORTED!QY$2","v":0},{"$f":"IMPORTED!RR$2","v":0},null,null,"Social media group chats",1,0,1,1,1]
[{"$f":"IF(CELL(\"type\",B24)=\"v\",1,0)","v":0},{"$f":"GROUPS!E10","v":"Colleagues "},{"$f":"Importance!G10","v":7},{"$f":"Positivity!G9","v":8},{"$f":"Time!G10","v":7},392,{"$f":"IF(Helpful!G10=0,1,Helpful!G10)","v":1},9,392,2.5932860670204572,null,null,"Colleagues ",{"$f":"Influence!C10","v":0},{"$f":"Influence!D10","v":0},{"$f":"Influence!E10","v":0},{"$f":"Influence!F10","v":0},{"$f":"Influence!G10","v":0},{"$f":"Influence!H10","v":0},{"$f":"IMPORTED!IY$2","v":0},{"$f":"IMPORTED!JR$2","v":0},{"$f":"IMPORTED!KK$2","v":0},{"$f":"IMPORTED!LD$2","v":0},{"$f":"IMPORTED!LW$2","v":0},{"$f":"IMPORTED!MP$2","v":0},{"$f":"IMPORTED!NI$2","v":0},{"$f":"IMPORTED!OB$2","v":0},{"$f":"IMPORTED!OU$2","v":0},{"$f":"IMPORTED!PN$2","v":0},{"$f":"IMPORTED!QG$2","v":0},{"$f":"IMPORTED!QZ$2","v":0},{"$f":"IMPORTED!RS$2","v":0},null,null,"Colleagues ",0,2,0,0,0,0]
[{"$f":"IF(CELL(\"type\",B25)=\"v\",1,0)","v":1},{"$f":"GROUPS!E11","v":0},{"$f":"Importance!G11","v":0},{"$f":"Positivity!G10","v":0},{"$f":"Time!G11","v":0},0,{"$f":"IF(Helpful!G11=0,1,Helpful!G11)","v":1},9,0,{"$f":"IF(I25=0,0,ABS(LOG(I25)))","v":0},null,null,0,{"$f":"Influence!C11","v":0},{"$f":"Influence!D11","v":0},{"$f":"Influence!E11","v":0},{"$f":"Influence!F11","v":0},{"$f":"Influence!G11","v":0},{"$f":"Influence!H11","v":0},{"$f":"Influence!I11","v":0},{"$f":"IMPORTED!JS$2","v":0},{"$f":"IMPORTED!KL$2","v":0},{"$f":"IMPORTED!LE$2","v":0},{"$f":"IMPORTED!LX$2","v":0},{"$f":"IMPORTED!MQ$2","v":0},{"$f":"IMPORTED!NJ$2","v":0},{"$f":"IMPORTED!OC$2","v":0},{"$f":"IMPORTED!OV$2","v":0},{"$f":"IMPORTED!PO$2","v":0},{"$f":"IMPORTED!QH$2","v":0},{"$f":"IMPORTED!RA$2","v":0},{"$f":"IMPORTED!RT$2","v":0},null,null,0,0,0,0,0,0,0,0]
[{"$f":"IF(CELL(\"type\",B26)=\"v\",1,0)","v":1},{"$f":"GROUPS!E12","v":0},{"$f":"Importance!G12","v":0},{"$f":"Positivity!G11","v":0},{"$f":"Time!G12","v":0},0,{"$f":"IF(Helpful!G12=0,1,Helpful!G12)","v":1},9,0,{"$f":"IF(I26=0,0,ABS(LOG(I26)))","v":0},null,null,0,{"$f":"Influence!C12","v":0},{"$f":"Influence!D12","v":0},{"$f":"Influence!E12","v":0},{"$f":"Influence!F12","v":0},{"$f":"Influence!G12","v":0},{"$f":"Influence!H12","v":0},{"$f":"Influence!I12","v":0},{"$f":"Influence!J12","v":0},{"$f":"IMPORTED!KM$2","v":0},{"$f":"IMPORTED!LF$2","v":0},{"$f":"IMPORTED!LY$2","v":0},{"$f":"IMPORTED!MR$2","v":0},{"$f":"IMPORTED!NK$2","v":0},{"$f":"IMPORTED!OD$2","v":0},{"$f":"IMPORTED!OW$2","v":0},{"$f":"IMPORTED!PP$2","v":0},{"$f":"IMPORTED!QI$2","v":0},{"$f":"IMPORTED!RB$2","v":0},{"$f":"IMPORTED!RU$2","v":0},null,null,0,0,0,0,0,0,0,0,0]
[{"$f":"IF(CELL(\"type\",B27)=\"v\",1,0)","v":1},{"$f":"GROUPS!E13","v":0},{"$f":"Importance!G13","v":0},{"$f":"Positivity!G12","v":0},{"$f":"Time!G13","v":0},0,{"$f":"IF(Helpful!G13=0,1,Helpful!G13)","v":1},9,0,0,null,null,0,{"$f":"Influence!C13","v":0},{"$f":"Influence!D13","v":0},{"$f":"Influence!E13","v":0},{"$f":"Influence!F13","v":0},{"$f":"Influence!G13","v":0},{"$f":"Influence!H13","v":0},{"$f":"Influence!I13","v":0},{"$f":"Influence!J13","v":0},{"$f":"Influence!K13","v":0},{"$f":"IMPORTED!LG$2","v":0},{"$f":"IMPORTED!LZ$2","v":0},{"$f":"IMPORTED!MS$2","v":0},{"$f":"IMPORTED!NL$2","v":0},{"$f":"IMPORTED!OE$2","v":0},{"$f":"IMPORTED!OX$2","v":0},{"$f":"IMPORTED!PQ$2","v":0},{"$f":"IMPORTED!QJ$2","v":0},{"$f":"IMPORTED!RC$2","v":0},{"$f":"IMPORTED!RV$2","v":0},null,null,0,0,0,0,0,0,0,0,0,0]
[{"$f":"IF(CELL(\"type\",B28)=\"v\",1,0)","v":1},{"$f":"GROUPS!E14","v":0},{"$f":"Importance!G14","v":0},{"$f":"Positivity!G13","v":0},{"$f":"Time!G14","v":0},0,{"$f":"IF(Helpful!G14=0,1,Helpful!G14)","v":1},9,0,0,null,null,0,{"$f":"Influence!C14","v":0},{"$f":"Influence!D14","v":0},{"$f":"Influence!E14","v":0},{"$f":"Influence!F14","v":0},{"$f":"Influence!G14","v":0},{"$f":"Influence!H14","v":0},{"$f":"Influence!I14","v":0},{"$f":"Influence!J14","v":0},{"$f":"Influence!K14","v":0},{"$f":"Influence!L14","v":0},{"$f":"IMPORTED!MA$2","v":0},{"$f":"IMPORTED!MT$2","v":0},{"$f":"IMPORTED!NM$2","v":0},{"$f":"IMPORTED!OF$2","v":0},{"$f":"IMPORTED!OY$2","v":0},{"$f":"IMPORTED!PR$2","v":0},{"$f":"IMPORTED!QK$2","v":0},{"$f":"IMPORTED!RD$2","v":0},{"$f":"IMPORTED!RW$2","v":0},null,null,0,0,0,0,0,0,0,0,0,0,0]
[{"$f":"IF(CELL(\"type\",B29)=\"v\",1,0)","v":1},{"$f":"GROUPS!E15","v":0},{"$f":"Importance!G15","v":0},{"$f":"Positivity!G14","v":0},{"$f":"Time!G15","v":0},0,{"$f":"IF(Helpful!G15=0,1,Helpful!G15)","v":1},9,0,0,null,null,0,{"$f":"Influence!C15","v":0},{"$f":"Influence!D15","v":0},{"$f":"Influence!E15","v":0},{"$f":"Influence!F15","v":0},{"$f":"Influence!G15","v":0},{"$f":"Influence!H15","v":0},{"$f":"Influence!I15","v":0},{"$f":"Influence!J15","v":0},{"$f":"Influence!K15","v":0},{"$f":"Influence!L15","v":0},{"$f":"Influence!M15","v":0},{"$f":"IMPORTED!MU$2","v":0},{"$f":"IMPORTED!NN$2","v":0},{"$f":"IMPORTED!OG$2","v":0},{"$f":"IMPORTED!OZ$2","v":0},{"$f":"IMPORTED!PS$2","v":0},{"$f":"IMPORTED!QL$2","v":0},{"$f":"IMPORTED!RE$2","v":0},{"$f":"IMPORTED!RX$2","v":0},null,null,0,0,0,0,0,0,0,0,0,0,0,0]
[{"$f":"IF(CELL(\"type\",B30)=\"v\",1,0)","v":1},{"$f":"GROUPS!E16","v":0},{"$f":"Importance!G16","v":0},{"$f":"Positivity!G15","v":0},{"$f":"Time!G16","v":0},0,{"$f":"IF(Helpful!G16=0,1,Helpful!G16)","v":1},9,0,0,null,null,0,{"$f":"Influence!C16","v":0},{"$f":"Influence!D16","v":0},{"$f":"Influence!E16","v":0},{"$f":"Influence!F16","v":0},{"$f":"Influence!G16","v":0},{"$f":"Influence!H16","v":0},{"$f":"Influence!I16","v":0},{"$f":"Influence!J16","v":0},{"$f":"Influence!K16","v":0},{"$f":"Influence!L16","v":0},{"$f":"Influence!M16","v":0},{"$f":"Influence!N16","v":0},{"$f":"IMPORTED!NO$2","v":0},{"$f":"IMPORTED!OH$2","v":0},{"$f":"IMPORTED!PA$2","v":0},{"$f":"IMPORTED!PT$2","v":0},{"$f":"IMPORTED!QM$2","v":0},{"$f":"IMPORTED!RF$2","v":0},{"$f":"IMPORTED!RY$2","v":0},null,null,0,0,0,0,0,0,0,0,0,0,0,0,0]
[{"$f":"IF(CELL(\"type\",B31)=\"v\",1,0)","v":1},{"$f":"GROUPS!E17","v":0},{"$f":"Importance!G17","v":0},{"$f":"Positivity!G16","v":0},{"$f":"Time!G17","v":0},0,{"$f":"IF(Helpful!G17=0,1,Helpful!G17)","v":1},9,0,0,null,null,0,{"$f":"Influence!C17","v":0},{"$f":"Influence!D17","v":0},{"$f":"Influence!E17","v":0},{"$f":"Influence!F17","v":0},{"$f":"Influence!G17","v":0},{"$f":"Influence!H17","v":0},{"$f":"Influence!I17","v":0},{"$f":"Influence!J17","v":0},{"$f":"Influence!K17","v":0},{"$f":"Influence!L17","v":0},{"$f":"Influence!M17","v":0},{"$f":"Influence!N17","v":0},{"$f":"Influence!O17","v":0},{"$f":"IMPORTED!OI$2","v":0},{"$f":"IMPORTED!PB$2","v":0},{"$f":"IMPORTED!PU$2","v":0},{"$f":"IMPORTED!QN$2","v":0},{"$f":"IMPORTED!RG$2","v":0},{"$f":"IMPORTED!RZ$2","v":0},null,null,0,0,0,0,0,0,0,0,0,0,0,0,0,0]
[{"$f":"IF(CELL(\"type\",B32)=\"v\",1,0)","v":1},{"$f":"GROUPS!E18","v":0},{"$f":"Importance!G18","v":0},{"$f":"Positivity!G17","v":0},{"$f":"Time!G18","v":0},0,{"$f":"IF(Helpful!G18=0,1,Helpful!G18)","v":1},9,0,0,null,null,0,{"$f":"Influence!C18","v":0},{"$f":"Influence!D18","v":0},{"$f":"Influence!E18","v":0},{"$f":"Influence!F18","v":0},{"$f":"Influence!G18","v":0},{"$f":"Influence!H18","v":0},{"$f":"Influence!I18","v":0},{"$f":"Influence!J18","v":0},{"$f":"Influence!K18","v":0},{"$f":"Influence!L18","v":0},{"$f":"Influence!M18","v":0},{"$f":"Influence!N18","v":0},{"$f":"Influence!O18","v":0},{"$f":"Influence!P18","v":0},{"$f":"IMPORTED!PC$2","v":0},{"$f":"IMPORTED!PV$2","v":0},{"$f":"IMPORTED!QO$2","v":0},{"$f":"IMPORTED!RH$2","v":0},{"$f":"IMPORTED!SA$2","v":0},null,null,0,0,0,0,0,0,0,0,0,0,0,0,0,0,0]
[{"$f":"IF(CELL(\"type\",B33)=\"v\",1,0)","v":1},{"$f":"GROUPS!E19","v":0},{"$f":"Importance!G19","v":0},{"$f":"Positivity!G18","v":0},{"$f":"Time!G19","v":0},0,{"$f":"IF(Helpful!G19=0,1,Helpful!G19)","v":1},9,0,0,null,null,0,{"$f":"Influence!C19","v":0},{"$f":"Influence!D19","v":0},{"$f":"Influence!E19","v":0},{"$f":"Influence!F19","v":0},{"$f":"Influence!G19","v":0},{"$f":"Influence!H19","v":0},{"$f":"Influence!I19","v":0},{"$f":"Influence!J19","v":0},{"$f":"Influence!K19","v":0},{"$f":"Influence!L19","v":0},{"$f":"Influence!M19","v":0},{"$f":"Influence!N19","v":0},{"$f":"Influence!O19","v":0},{"$f":"Influence!P19","v":0},{"$f":"Influence!Q19","v":0},{"$f":"IMPORTED!PW$2","v":0},{"$f":"IMPORTED!QP$2","v":0},{"$f":"IMPORTED!RI$2","v":0},{"$f":"IMPORTED!SB$2","v":0},null,null,0,0,0,0,0,0,0,0,0,0,0,0,0,0,0,0]
[{"$f":"IF(CELL(\"type\",B34)=\"v\",1,0)","v":1},{"$f":"GROUPS!E20","v":0},{"$f":"Importance!G20","v":0},{"$f":"Positivity!G19","v":0},{"$f":"Time!G20","v":0},0,{"$f":"IF(Helpful!G20=0,1,Helpful!G20)","v":1},9,0,0,null,null,0,{"$f":"Influence!C20","v":0},{"$f":"Influence!D20","v":0},{"$f":"Influence!E20","v":0},{"$f":"Influence!F20","v":0},{"$f":"Influence!G20","v":0},{"$f":"Influence!H20","v":0},{"$f":"Influence!I20","v":0},{"$f":"Influence!J20","v":0},{"$f":"Influence!K20","v":0},{"$f":"Influence!L20","v":0},{"$f":"Influence!M20","v":0},{"$f":"Influence!N20","v":0},{"$f":"Influence!O20","v":0},{"$f":"Influence!P20","v":0},{"$f":"Influence!Q20","v":0},{"$f":"Influence!R20","v":0},{"$f":"IMPORTED!QQ$2","v":0},{"$f":"IMPORTED!RJ$2","v":0},{"$f":"IMPORTED!SC$2","v":0},null,null,0,0,0,0,0,0,0,0,0,0,0,0,0,0,0,0,0]
[{"$f":"IF(CELL(\"type\",B35)=\"v\",1,0)","v":1},{"$f":"GROUPS!E21","v":0},{"$f":"Importance!G21","v":0},{"$f":"Positivity!G20","v":0},{"$f":"Time!G21","v":0},0,{"$f":"IF(Helpful!G21=0,1,Helpful!G21)","v":1},9,0,0,null,null,0,{"$f":"Influence!C21","v":0},{"$f":"Influence!D21","v":0},{"$f":"Influence!E21","v":0},{"$f":"Influence!F21","v":0},{"$f":"Influence!G21","v":0},{"$f":"Influence!H21","v":0},{"$f":"Influence!I21","v":0},{"$f":"Influence!J21","v":0},{"$f":"Influence!K21","v":0},{"$f":"Influence!L21","v":0},{"$f":"Influence!M21","v":0},{"$f":"Influence!N21","v":0},{"$f":"Influence!O21","v":0},{"$f":"Influence!P21","v":0},{"$f":"Influence!Q21","v":0},{"$f":"Influence!R21","v":0},{"$f":"Influence!S21","v":0},{"$f":"IMPORTED!RK$2","v":0},{"$f":"IMPORTED!SD$2","v":0},null,null,0,0,0,0,0,0,0,0,0,0,0,0,0,0,0,0,0,0]
[{"$f":"IF(CELL(\"type\",B36)=\"v\",1,0)","v":1},{"$f":"GROUPS!E22","v":0},{"$f":"Importance!G22","v":0},{"$f":"Positivity!G21","v":0},{"$f":"Time!G22","v":0},0,{"$f":"IF(Helpful!G22=0,1,Helpful!G22)","v":1},9,0,0,null,null,0,{"$f":"Influence!C22","v":0},{"$f":"Influence!D22","v":0},{"$f":"Influence!E22","v":0},{"$f":"Influence!F22","v":0},{"$f":"Influence!G22","v":0},{"$f":"Influence!H22","v":0},{"$f":"Influence!I22","v":0},{"$f":"Influence!J22","v":0},{"$f":"Influence!K22","v":0},{"$f":"Influence!L22","v":0},{"$f":"Influence!M22","v":0},{"$f":"Influence!N22","v":0},{"$f":"Influence!O22","v":0},{"$f":"Influence!P22","v":0},{"$f":"Influence!Q22","v":0},{"$f":"Influence!R22","v":0},{"$f":"Influence!S22","v":0},{"$f":"Influence!T22","v":0},{"$f":"IMPORTED!SE$2","v":0},null,null,0,0,0,0,0,0,0,0,0,0,0,0,0,0,0,0,0,0,0]
[{"$f":"IF(CELL(\"type\",B37)=\"v\",1,0)","v":1},{"$f":"GROUPS!E23","v":0},{"$f":"Importance!G23","v":0},{"$f":"Positivity!G22","v":0},{"$f":"Time!G23","v":0},0,{"$f":"IF(Helpful!G23=0,1,Helpful!G23)","v":1},9,0,0,null,null,0,{"$f":"Influence!C23","v":0},{"$f":"Influence!D23","v":0},{"$f":"Influence!E23","v":0},{"$f":"Influence!F23","v":0},{"$f":"Influence!G23","v":0},{"$f":"Influence!H23","v":0},{"$f":"Influence!I23","v":0},{"$f":"Influence!J23","v":0},{"$f":"Influence!K23","v":0},{"$f":"Influence!L23","v":0},{"$f":"Influence!M23","v":0},{"$f":"Influence!N23","v":0},{"$f":"Influence!O23","v":0},{"$f":"Influence!P23","v":0},{"$f":"Influence!Q23","v":0},{"$f":"Influence!R23","v":0},{"$f":"Influence!S23","v":0},{"$f":"Influence!T23","v":0},{"$f":"Influence!U23","v":0},null,null,0,0,0,0,0,0,0,0,0,0,0,0,0,0,0,0,0,0,0,0]
[{"$f":"SUM(A18:A37)","v":13},"MAX",10,10,10,{"$f":"C38*D38*E38","v":1000},1,null,{"$f":"F38/G38","v":1000},null,null,null,null,null,null,null,null,null,null,null,null,{"$f":"IMPORTED!KE$2","v":0}]
[null,null,null,null,null,null,null,null,null,null,null,null,"This table computes the RELATIONSHIP INTERGROUP STRENGTH  X MULTIPLIER of GROUPS RELEVANCE"]
[null,null,null,null,null,null,null,null,null,null,null,null,null,{"$f":"J18","v":1.9030899869919435},{"$f":"J19","v":2},{"$f":"J20","v":2},{"$f":"J21","v":2},{"$f":"J22","v":1.9030899869919435},{"$f":"J23","v":1.6020599913279623},{"$f":"J24","v":2.5932860670204572},{"$f":"J25","v":0},{"$f":"J26","v":0},{"$f":"J27","v":0},{"$f":"J28","v":0},{"$f":"J29","v":0},{"$f":"J30","v":0},{"$f":"J31","v":0},{"$f":"J32","v":0},{"$f":"J33","v":0},{"$f":"J34","v":0},{"$f":"J35","v":0},{"$f":"J36","v":0},{"$f":"J37","v":0}]
[null,null,null,null,null,null,null,null,null,"TABLE 3",null,null,{"$f":"B41","v":0},{"$f":"'Data & Calc'!C28","v":"Friends"},{"$f":"'Data & Calc'!D28","v":"Parents"},{"$f":"'Data & Calc'!E28","v":"Siblings"},{"$f":"'Data & Calc'!F28","v":"Grandparents"},{"$f":"'Data & Calc'!G28","v":"Sports clubs"},{"$f":"'Data & Calc'!H28","v":"Social media group chats"},{"$f":"'Data & Calc'!I28","v":"Colleagues "},{"$f":"'Data & Calc'!J28","v":0},{"$f":"'Data & Calc'!K28","v":0},{"$f":"'Data & Calc'!L28","v":0},{"$f":"'Data & Calc'!M28","v":0},{"$f":"'Data & Calc'!N28","v":0},{"$f":"'Data & Calc'!O28","v":0},{"$f":"'Data & Calc'!P28","v":0},{"$f":"'Data & Calc'!Q28","v":0},{"$f":"'Data & Calc'!R28","v":0},{"$f":"'Data & Calc'!S28","v":0},{"$f":"'Data & Calc'!T28","v":0},{"$f":"'Data & Calc'!U28","v":0},{"$f":"'Data & Calc'!V28","v":0}]
[null,null,null,null,null,null,null,null,null,null,null,{"$f":"J18","v":1.9030899869919435},{"$f":"M18","v":"Friends"}]
[null,null,null,null,null,null,null,null,null,null,null,{"$f":"J19","v":2},{"$f":"M19","v":"Parents"},{"$f":"$N$40*L43*N19","v":7.6123599479677742}]
[null,null,null,null,null,null,null,null,null,null,null,2,"Siblings",{"$f":"$N$40*L44*N20","v":7.6123599479677742},{"$f":"$O$40*L44*O20","v":8}]
[null,null,null,null,null,null,null,null,null,null,null,2,"Grandparents",0,{"$f":"$O$40*L45*O21","v":0},{"$f":"$P$40*L45*P21","v":0}]
[null,null,null,null,null,null,null,null,null,null,null,1.9030899869919435,"Sports clubs",0,{"$f":"$O$40*L46*O21","v":0},0,{"$f":"$Q$40*L46*Q22","v":0}]
[null,null,null,null,null,null,null,null,null,null,null,1.6020599913279623,"Social media group chats",3.048864328056645,0,3.2041199826559246,3.2041199826559246,{"$f":"$R$40*L47*R23","v":3.048864328056645}]
[null,null,null,null,null,null,null,null,null,null,null,2.5932860670204572,"Colleagues ",0,5.1865721340409143,0,0,0,{"$f":"$S$40*L48*S24","v":0}]
[null,null,null,null,null,null,null,null,null,null,null,0,0,0,0,0,0,0,0,{"$f":"$T$40*L49*T25","v":0}]
[null,null,null,null,null,null,null,null,null,null,null,0,0,0,0,0,0,0,0,0,{"$f":"$U$40*L50*U26","v":0}]
[null,null,null,null,null,null,null,null,null,null,null,0,0,0,0,0,0,0,0,0,0,{"$f":"$V$40*L51*V27","v":0}]
[null,null,null,null,null,null,null,null,null,null,null,0,0,0,0,0,0,0,0,0,0,0,{"$f":"$W$40*L52*W28","v":0}]
[null,null,null,null,null,null,null,null,null,null,null,0,0,0,0,0,0,0,0,0,0,0,0,{"$f":"$X$40*L53*X29","v":0}]
[null,null,null,null,null,null,null,null,null,null,null,0,0,0,0,0,0,0,0,0,0,0,0,0,{"$f":"$Y$40*L54*Y30","v":0}]
[null,null,null,null,null,null,null,null,null,null,null,0,0,0,0,0,0,0,0,0,0,0,0,0,0,{"$f":"$Z$40*L55*Z31","v":0}]
[null,null,null,null,null,null,null,null,null,null,null,0,0,0,0,0,0,0,0,0,0,0,0,0,0,{"$f":"$Z$40*L451*Z32","v":0},{"$f":"$AA$40*L56*AA32","v":0}]
[null,null,null,null,null,null,null,null,null,null,null,0,0,0,0,0,0,0,0,0,0,0,0,0,0,{"$f":"$Z$40*L57*Z33","v":0},0,{"$f":"$AB$40*L57*AB33","v":0}]
[null,null,null,null,null,null,null,null,null,null,null,0,0,0,0,0,0,0,0,0,0,0,0,0,0,{"$f":"$Z$40*L58*Z34","v":0},0,{"$f":"$AB$40*L58*AB34","v":0},{"$f":"$AC$40*L58*AC34","v":0}]
[null,null,null,null,null,null,null,null,null,null,null,0,0,0,0,0,0,0,0,0,0,0,0,0,0,{"$f":"$Z$40*L59*Z35","v":0},0,{"$f":"$AB$40*L59*AB35","v":0},{"$f":"$AC$40*L59*AC35","v":0},{"$f":"$AD$40*L59*AD35","v":0}]
[null,null,null,null,null,null,null,null,null,null,null,0,0,0,0,0,0,0,0,0,0,0,0,0,0,{"$f":"$Z$40*L60*Z36","v":0},0,{"$f":"$AB$40*L60*AB36","v":0},{"$f":"$AC$40*L60*AC36","v":0},{"$f":"$AD$40*L60*AD36","v":0},{"$f":"$AE$40*L60*AE36","v":0}]
[null,null,null,null,null,null,null,null,null,null,null,0,0,0,0,0,0,0,0,0,0,0,0,0,0,{"$f":"$Z$40*L61*Z37","v":0},0,{"$f":"$AB$40*L61*AB37","v":0},{"$f":"$AC$40*L61*AC37","v":0},{"$f":"$AD$40*L61*AD37","v":0},{"$f":"$AE$40*L61*AE37","v":0},{"$f":"$AF$40*L61*AF37","v":0}]
[]
[]
[]
[]
[]
[]
[]
[]
[]
[null,"DATA",null,"Add data below…",null,null,"Column1"]
[null,{"$f":"Instructions!H8","v":0},null,null,null,null,"yes"]
[null,{"$f":"Instructions!H9","v":0},null,null,null,null,"no"]
[null,{"$f":"Instructions!H10","v":0}]
[null,{"$f":"Instructions!H11","v":0}]
[]
[]
[null,"Please read the INFORMATION SHEET and IF you agree to participate in the SIM Research Project, please answer the following questions by selecting from the pull down menus."]
[]
[null,"Select from menu"]
[null,"yes","Q1) I confirm that I have read and understood the participant information sheet for the  SIM Research Project and have had the opportunity to ask questions."]
[null,"yes","Q2)I understand that my participation is voluntary in the SIM Colllege Research Projectand that I am free to withdraw at any time, without giving any reason and without my care or legal rights being affected"]
[null,"yes","Q3)I agree to take part in the College SIM Research"]

{"sheet":"Data & Calc","index":10,"n_rows":61,"n_cols":118,"rows_kept":61,"cut":false,"hidden":true,"merged":[]}
["Stakeholder relationship map using Excel",null,null,null,null,null,null,null,null,null,null,null,null,null,null,null,null,null,null,null,null,null,null,null,"Non labelled count=",{"$f":"'Group Data'!A38","v":13},null,null,null,null,null,null,"Weak Relationshisp",null,null,null,null,null,null,null,null,null,null,null,null,null,null,null,null,null,null,null,null,null,null,null,null,null,null,null,null,null,null,null,null,null,null,null,null,null,null,null,null,"Strong Relationship",null,null,null,null,null,null,null,null,null,null,null,null,null,null,null,null,null,null,null,null,null,null,null,null,null,null,null,null,null,null,null,null,null,null,null,null,null,null,null,null,"Highlight relationship - Weak"]
[null,null,null,null,null,null,null,null,null,null,null,null,null,null,null,null,null,null,null,null,null,null,null,null,null,null,null,null,null,null,null,"Stakeholder Relationship Lines",{"$f":"\"Rel\"&AG3","v":"Rel1"},{"$f":"\"Rel\"&AH3","v":"Rel1"},"Rel2","Rel2","Rel3","Rel3","Rel4","Rel4","Rel5","Rel5","Rel6","Rel6","Rel7","Rel7","Rel8","Rel8","Rel9","Rel9","Rel10","Rel10","Rel11","Rel11","Rel12","Rel12","Rel13","Rel13","Rel14","Rel14","Rel15","Rel15","Rel16","Rel16","Rel17","Rel17","Rel18","Rel18","Rel19","Rel19","Rel20","Rel20",null,{"$f":"\"sRel\"&BV3","v":"sRel1"},{"$f":"\"sRel\"&BW3","v":"sRel1"},"sRel2","sRel2","sRel3","sRel3","sRel4","sRel4","sRel5","sRel5","sRel6","sRel6","sRel7","sRel7","sRel8","sRel8","sRel9","sRel9","sRel10","sRel10","sRel11","sRel11","sRel12","sRel12","sRel13","sRel13","sRel14","sRel14","sRel15","sRel15","sRel16","sRel16","sRel17","sRel17","sRel18","sRel18","sRel19","sRel19","sRel20","sRel20"]
[null,"Data",null,null,null,null,null,null,null,null,null,null,null,null,null,null,null,null,null,null,null,null,null,null,"Calculations",null,null,null,"Stakeholder Dots",null,null,null,1,1,2,2,3,3,4,4,5,5,6,6,7,7,8,8,9,9,10,10,11,11,12,12,13,13,14,14,15,15,16,16,17,17,18,18,19,19,20,20,null,1,1,2,2,3,3,4,4,5,5,6,6,7,7,8,8,9,9,10,10,11,11,12,12,13,13,14,14,15,15,16,16,17,17,18,18,19,19,20,20]
[null,"Stakeholders",{"$f":"INDEX(lst.names,COLUMNS($C$3:C$3))","v":"Friends"},{"$f":"INDEX(lst.names,COLUMNS($C$3:D$3))","v":"Parents"},{"$f":"INDEX(lst.names,COLUMNS($C$3:E$3))","v":"Siblings"},{"$f":"INDEX(lst.names,COLUMNS($C$3:F$3))","v":"Grandparents"},{"$f":"INDEX(lst.names,COLUMNS($C$3:G$3))","v":"Sports clubs"},{"$f":"INDEX(lst.names,COLUMNS($C$3:H$3))","v":"Social media group chats"},{"$f":"INDEX(lst.names,COLUMNS($C$3:I$3))","v":"Colleagues "},{"$f":"INDEX(lst.names,COLUMNS($C$3:J$3))","v":0},{"$f":"INDEX(lst.names,COLUMNS($C$3:K$3))","v":0},{"$f":"INDEX(lst.names,COLUMNS($C$3:L$3))","v":0},{"$f":"INDEX(lst.names,COLUMNS($C$3:M$3))","v":0},{"$f":"INDEX(lst.names,COLUMNS($C$3:N$3))","v":0},{"$f":"INDEX(lst.names,COLUMNS($C$3:O$3))","v":0},{"$f":"INDEX(lst.names,COLUMNS($C$3:P$3))","v":0},{"$f":"INDEX(lst.names,COLUMNS($C$3:Q$3))","v":0},{"$f":"INDEX(lst.names,COLUMNS($C$3:R$3))","v":0},{"$f":"INDEX(lst.names,COLUMNS($C$3:S$3))","v":0},{"$f":"INDEX(lst.names,COLUMNS($C$3:T$3))","v":0},{"$f":"INDEX(lst.names,COLUMNS($C$3:U$3))","v":0},{"$f":"INDEX(lst.names,COLUMNS($C$3:V$3))","v":0},null,null,null,null,null,null,"X","Y",null,null,"X",{"$f":"AH2","v":"Rel1"},"X",{"$f":"AJ2","v":"Rel2"},"X",{"$f":"AL2","v":"Rel3"},"X",{"$f":"AN2","v":"Rel4"},"X",{"$f":"AP2","v":"Rel5"},"X",{"$f":"AR2","v":"Rel6"},"X",{"$f":"AT2","v":"Rel7"},"X",{"$f":"AV2","v":"Rel8"},"X",{"$f":"AX2","v":"Rel9"},"X",{"$f":"AZ2","v":"Rel10"},"X",{"$f":"BB2","v":"Rel11"},"X",{"$f":"BD2","v":"Rel12"},"X",{"$f":"BF2","v":"Rel13"},"X",{"$f":"BH2","v":"Rel14"},"X",{"$f":"BJ2","v":"Rel15"},"X",{"$f":"BL2","v":"Rel16"},"X",{"$f":"BN2","v":"Rel17"},"X",{"$f":"BP2","v":"Rel18"},"X",{"$f":"BR2","v":"Rel19"},"X",{"$f":"BT2","v":"Rel20"},null,"X",{"$f":"BW2","v":"sRel1"},"X",{"$f":"BY2","v":"sRel2"},"X",{"$f":"CA2","v":"sRel3"},"X",{"$f":"CC2","v":"sRel4"},"X",{"$f":"CE2","v":"sRel5"},"X",{"$f":"CG2","v":"sRel6"},"X",{"$f":"CI2","v":"sRel7"},"X",{"$f":"CK2","v":"sRel8"},"X",{"$f":"CM2","v":"sRel9"},"X",{"$f":"CO2","v":"sRel10"},"X",{"$f":"CQ2","v":"sRel11"},"X",{"$f":"CS2","v":"sRel12"},"X",{"$f":"CU2","v":"sRel13"},"X",{"$f":"CW2","v":"sRel14"},"X",{"$f":"CY2","v":"sRel15"},"X",{"$f":"DA2","v":"sRel16"},"X",{"$f":"DC2","v":"sRel17"},"X",{"$f":"DE2","v":"sRel18"},"X",{"$f":"DG2","v":"sRel19"},"X",{"$f":"DI2","v":"sRel20"},null,"X","highlight.weak","X","highlight.strong"]
[null,{"$f":"'Group Data'!B18","v":"Friends"},null,null,null,null,null,null,null,null,null,null,null,null,null,null,null,null,null,null,null,null,null,null,"Origin",null,null,1,{"$f":"origin.x + radius*SIN(theta*$AB5)","v":7.8183148246802983},{"$f":"origin.x + radius*COS(theta*$AB5)","v":6.2348980185873355},null,0,{"$f":"IF(OR(MOD($AF5,2)=0,INDEX(relationships,INT($AF5/2)+1,AG$3)<>1),INDEX($AC$5:$AD$24,AG$3,MOD(COLUMNS($AF$3:AG$3),2)+1),INDEX($AC$5:$AD$24,INT($AF5/2)+1,MOD(COLUMNS($AF$3:AG$3),2)+1))","v":7.8183148246802983},{"$f":"IF(OR(MOD($AF5,2)=0,INDEX(relationships,INT($AF5/2)+1,AH$3)<>1),INDEX($AC$5:$AD$24,AH$3,MOD(COLUMNS($AF$3:AH$3),2)+1),INDEX($AC$5:$AD$24,INT($AF5/2)+1,MOD(COLUMNS($AF$3:AH$3),2)+1))","v":6.2348980185873355},{"$f":"IF(OR(MOD($AF5,2)=0,INDEX(relationships,INT($AF5/2)+1,AI$3)<>1),INDEX($AC$5:$AD$24,AI$3,MOD(COLUMNS($AF$3:AI$3),2)+1),INDEX($AC$5:$AD$24,INT($AF5/2)+1,MOD(COLUMNS($AF$3:AI$3),2)+1))","v":9.7492791218182369},{"$f":"IF(OR(MOD($AF5,2)=0,INDEX(relationships,INT($AF5/2)+1,AJ$3)<>1),INDEX($AC$5:$AD$24,AJ$3,MOD(COLUMNS($AF$3:AJ$3),2)+1),INDEX($AC$5:$AD$24,INT($AF5/2)+1,MOD(COLUMNS($AF$3:AJ$3),2)+1))","v":-2.2252093395631434},{"$f":"IF(OR(MOD($AF5,2)=0,INDEX(relationships,INT($AF5/2)+1,AK$3)<>1),INDEX($AC$5:$AD$24,AK$3,MOD(COLUMNS($AF$3:AK$3),2)+1),INDEX($AC$5:$AD$24,INT($AF5/2)+1,MOD(COLUMNS($AF$3:AK$3),2)+1))","v":4.3388373911755824},{"$f":"IF(OR(MOD($AF5,2)=0,INDEX(relationships,INT($AF5/2)+1,AL$3)<>1),INDEX($AC$5:$AD$24,AL$3,MOD(COLUMNS($AF$3:AL$3),2)+1),INDEX($AC$5:$AD$24,INT($AF5/2)+1,MOD(COLUMNS($AF$3:AL$3),2)+1))","v":-9.0096886790241903},{"$f":"IF(OR(MOD($AF5,2)=0,INDEX(relationships,INT($AF5/2)+1,AM$3)<>1),INDEX($AC$5:$AD$24,AM$3,MOD(COLUMNS($AF$3:AM$3),2)+1),INDEX($AC$5:$AD$24,INT($AF5/2)+1,MOD(COLUMNS($AF$3:AM$3),2)+1))","v":-4.3388373911755798},{"$f":"IF(OR(MOD($AF5,2)=0,INDEX(relationships,INT($AF5/2)+1,AN$3)<>1),INDEX($AC$5:$AD$24,AN$3,MOD(COLUMNS($AF$3:AN$3),2)+1),INDEX($AC$5:$AD$24,INT($AF5/2)+1,MOD(COLUMNS($AF$3:AN$3),2)+1))","v":-9.0096886790241921},{"$f":"IF(OR(MOD($AF5,2)=0,INDEX(relationships,INT($AF5/2)+1,AO$3)<>1),INDEX($AC$5:$AD$24,AO$3,MOD(COLUMNS($AF$3:AO$3),2)+1),INDEX($AC$5:$AD$24,INT($AF5/2)+1,MOD(COLUMNS($AF$3:AO$3),2)+1))","v":-9.7492791218182369},{"$f":"IF(OR(MOD($AF5,2)=0,INDEX(relationships,INT($AF5/2)+1,AP$3)<>1),INDEX($AC$5:$AD$24,AP$3,MOD(COLUMNS($AF$3:AP$3),2)+1),INDEX($AC$5:$AD$24,INT($AF5/2)+1,MOD(COLUMNS($AF$3:AP$3),2)+1))","v":-2.225209339563146},{"$f":"IF(OR(MOD($AF5,2)=0,INDEX(relationships,INT($AF5/2)+1,AQ$3)<>1),INDEX($AC$5:$AD$24,AQ$3,MOD(COLUMNS($AF$3:AQ$3),2)+1),INDEX($AC$5:$AD$24,INT($AF5/2)+1,MOD(COLUMNS($AF$3:AQ$3),2)+1))","v":-7.8183148246802991},{"$f":"IF(OR(MOD($AF5,2)=0,INDEX(relationships,INT($AF5/2)+1,AR$3)<>1),INDEX($AC$5:$AD$24,AR$3,MOD(COLUMNS($AF$3:AR$3),2)+1),INDEX($AC$5:$AD$24,INT($AF5/2)+1,MOD(COLUMNS($AF$3:AR$3),2)+1))","v":6.2348980185873337},{"$f":"IF(OR(MOD($AF5,2)=0,INDEX(relationships,INT($AF5/2)+1,AS$3)<>1),INDEX($AC$5:$AD$24,AS$3,MOD(COLUMNS($AF$3:AS$3),2)+1),INDEX($AC$5:$AD$24,INT($AF5/2)+1,MOD(COLUMNS($AF$3:AS$3),2)+1))","v":-2.45029690981724E-15},{"$f":"IF(OR(MOD($AF5,2)=0,INDEX(relationships,INT($AF5/2)+1,AT$3)<>1),INDEX($AC$5:$AD$24,AT$3,MOD(COLUMNS($AF$3:AT$3),2)+1),INDEX($AC$5:$AD$24,INT($AF5/2)+1,MOD(COLUMNS($AF$3:AT$3),2)+1))","v":10},{"$f":"IF(OR(MOD($AF5,2)=0,INDEX(relationships,INT($AF5/2)+1,AU$3)<>1),INDEX($AC$5:$AD$24,AU$3,MOD(COLUMNS($AF$3:AU$3),2)+1),INDEX($AC$5:$AD$24,INT($AF5/2)+1,MOD(COLUMNS($AF$3:AU$3),2)+1))","v":7.8183148246802956},{"$f":"IF(OR(MOD($AF5,2)=0,INDEX(relationships,INT($AF5/2)+1,AV$3)<>1),INDEX($AC$5:$AD$24,AV$3,MOD(COLUMNS($AF$3:AV$3),2)+1),INDEX($AC$5:$AD$24,INT($AF5/2)+1,MOD(COLUMNS($AF$3:AV$3),2)+1))","v":6.2348980185873373},{"$f":"IF(OR(MOD($AF5,2)=0,INDEX(relationships,INT($AF5/2)+1,AW$3)<>1),INDEX($AC$5:$AD$24,AW$3,MOD(COLUMNS($AF$3:AW$3),2)+1),INDEX($AC$5:$AD$24,INT($AF5/2)+1,MOD(COLUMNS($AF$3:AW$3),2)+1))","v":9.7492791218182369},{"$f":"IF(OR(MOD($AF5,2)=0,INDEX(relationships,INT($AF5/2)+1,AX$3)<>1),INDEX($AC$5:$AD$24,AX$3,MOD(COLUMNS($AF$3:AX$3),2)+1),INDEX($AC$5:$AD$24,INT($AF5/2)+1,MOD(COLUMNS($AF$3:AX$3),2)+1))","v":-2.2252093395631407},{"$f":"IF(OR(MOD($AF5,2)=0,INDEX(relationships,INT($AF5/2)+1,AY$3)<>1),INDEX($AC$5:$AD$24,AY$3,MOD(COLUMNS($AF$3:AY$3),2)+1),INDEX($AC$5:$AD$24,INT($AF5/2)+1,MOD(COLUMNS($AF$3:AY$3),2)+1))","v":4.3388373911755842},{"$f":"IF(OR(MOD($AF5,2)=0,INDEX(relationships,INT($AF5/2)+1,AZ$3)<>1),INDEX($AC$5:$AD$24,AZ$3,MOD(COLUMNS($AF$3:AZ$3),2)+1),INDEX($AC$5:$AD$24,INT($AF5/2)+1,MOD(COLUMNS($AF$3:AZ$3),2)+1))","v":-9.0096886790241886},{"$f":"IF(OR(MOD($AF5,2)=0,INDEX(relationships,INT($AF5/2)+1,BA$3)<>1),INDEX($AC$5:$AD$24,BA$3,MOD(COLUMNS($AF$3:BA$3),2)+1),INDEX($AC$5:$AD$24,INT($AF5/2)+1,MOD(COLUMNS($AF$3:BA$3),2)+1))","v":-4.338837391175578},{"$f":"IF(OR(MOD($AF5,2)=0,INDEX(relationships,INT($AF5/2)+1,BB$3)<>1),INDEX($AC$5:$AD$24,BB$3,MOD(COLUMNS($AF$3:BB$3),2)+1),INDEX($AC$5:$AD$24,INT($AF5/2)+1,MOD(COLUMNS($AF$3:BB$3),2)+1))","v":-9.0096886790241921},{"$f":"IF(OR(MOD($AF5,2)=0,INDEX(relationships,INT($AF5/2)+1,BC$3)<>1),INDEX($AC$5:$AD$24,BC$3,MOD(COLUMNS($AF$3:BC$3),2)+1),INDEX($AC$5:$AD$24,INT($AF5/2)+1,MOD(COLUMNS($AF$3:BC$3),2)+1))","v":-9.7492791218182351},{"$f":"IF(OR(MOD($AF5,2)=0,INDEX(relationships,INT($AF5/2)+1,BD$3)<>1),INDEX($AC$5:$AD$24,BD$3,MOD(COLUMNS($AF$3:BD$3),2)+1),INDEX($AC$5:$AD$24,INT($AF5/2)+1,MOD(COLUMNS($AF$3:BD$3),2)+1))","v":-2.2252093395631483},{"$f":"IF(OR(MOD($AF5,2)=0,INDEX(relationships,INT($AF5/2)+1,BE$3)<>1),INDEX($AC$5:$AD$24,BE$3,MOD(COLUMNS($AF$3:BE$3),2)+1),INDEX($AC$5:$AD$24,INT($AF5/2)+1,MOD(COLUMNS($AF$3:BE$3),2)+1))","v":-7.8183148246803018},{"$f":"IF(OR(MOD($AF5,2)=0,INDEX(relationships,INT($AF5/2)+1,BF$3)<>1),INDEX($AC$5:$AD$24,BF$3,MOD(COLUMNS($AF$3:BF$3),2)+1),INDEX($AC$5:$AD$24,INT($AF5/2)+1,MOD(COLUMNS($AF$3:BF$3),2)+1))","v":6.2348980185873319},{"$f":"IF(OR(MOD($AF5,2)=0,INDEX(relationships,INT($AF5/2)+1,BG$3)<>1),INDEX($AC$5:$AD$24,BG$3,MOD(COLUMNS($AF$3:BG$3),2)+1),INDEX($AC$5:$AD$24,INT($AF5/2)+1,MOD(COLUMNS($AF$3:BG$3),2)+1))","v":-4.90059381963448E-15},{"$f":"IF(OR(MOD($AF5,2)=0,INDEX(relationships,INT($AF5/2)+1,BH$3)<>1),INDEX($AC$5:$AD$24,BH$3,MOD(COLUMNS($AF$3:BH$3),2)+1),INDEX($AC$5:$AD$24,INT($AF5/2)+1,MOD(COLUMNS($AF$3:BH$3),2)+1))","v":10},{"$f":"IF(OR(MOD($AF5,2)=0,INDEX(relationships,INT($AF5/2)+1,BI$3)<>1),INDEX($AC$5:$AD$24,BI$3,MOD(COLUMNS($AF$3:BI$3),2)+1),INDEX($AC$5:$AD$24,INT($AF5/2)+1,MOD(COLUMNS($AF$3:BI$3),2)+1))","v":7.8183148246802947},{"$f":"IF(OR(MOD($AF5,2)=0,INDEX(relationships,INT($AF5/2)+1,BJ$3)<>1),INDEX($AC$5:$AD$24,BJ$3,MOD(COLUMNS($AF$3:BJ$3),2)+1),INDEX($AC$5:$AD$24,INT($AF5/2)+1,MOD(COLUMNS($AF$3:BJ$3),2)+1))","v":6.2348980185873391},{"$f":"IF(OR(MOD($AF5,2)=0,INDEX(relationships,INT($AF5/2)+1,BK$3)<>1),INDEX($AC$5:$AD$24,BK$3,MOD(COLUMNS($AF$3:BK$3),2)+1),INDEX($AC$5:$AD$24,INT($AF5/2)+1,MOD(COLUMNS($AF$3:BK$3),2)+1))","v":9.7492791218182369},{"$f":"IF(OR(MOD($AF5,2)=0,INDEX(relationships,INT($AF5/2)+1,BL$3)<>1),INDEX($AC$5:$AD$24,BL$3,MOD(COLUMNS($AF$3:BL$3),2)+1),INDEX($AC$5:$AD$24,INT($AF5/2)+1,MOD(COLUMNS($AF$3:BL$3),2)+1))","v":-2.2252093395631385},{"$f":"IF(OR(MOD($AF5,2)=0,INDEX(relationships,INT($AF5/2)+1,BM$3)<>1),INDEX($AC$5:$AD$24,BM$3,MOD(COLUMNS($AF$3:BM$3),2)+1),INDEX($AC$5:$AD$24,INT($AF5/2)+1,MOD(COLUMNS($AF$3:BM$3),2)+1))","v":4.3388373911755869},{"$f":"IF(OR(MOD($AF5,2)=0,INDEX(relationships,INT($AF5/2)+1,BN$3)<>1),INDEX($AC$5:$AD$24,BN$3,MOD(COLUMNS($AF$3:BN$3),2)+1),INDEX($AC$5:$AD$24,INT($AF5/2)+1,MOD(COLUMNS($AF$3:BN$3),2)+1))","v":-9.0096886790241886},{"$f":"IF(OR(MOD($AF5,2)=0,INDEX(relationships,INT($AF5/2)+1,BO$3)<>1),INDEX($AC$5:$AD$24,BO$3,MOD(COLUMNS($AF$3:BO$3),2)+1),INDEX($AC$5:$AD$24,INT($AF5/2)+1,MOD(COLUMNS($AF$3:BO$3),2)+1))","v":-4.3388373911755753},{"$f":"IF(OR(MOD($AF5,2)=0,INDEX(relationships,INT($AF5/2)+1,BP$3)<>1),INDEX($AC$5:$AD$24,BP$3,MOD(COLUMNS($AF$3:BP$3),2)+1),INDEX($AC$5:$AD$24,INT($AF5/2)+1,MOD(COLUMNS($AF$3:BP$3),2)+1))","v":-9.0096886790241939},{"$f":"IF(OR(MOD($AF5,2)=0,INDEX(relationships,INT($AF5/2)+1,BQ$3)<>1),INDEX($AC$5:$AD$24,BQ$3,MOD(COLUMNS($AF$3:BQ$3),2)+1),INDEX($AC$5:$AD$24,INT($AF5/2)+1,MOD(COLUMNS($AF$3:BQ$3),2)+1))","v":-9.7492791218182351},{"$f":"IF(OR(MOD($AF5,2)=0,INDEX(relationships,INT($AF5/2)+1,BR$3)<>1),INDEX($AC$5:$AD$24,BR$3,MOD(COLUMNS($AF$3:BR$3),2)+1),INDEX($AC$5:$AD$24,INT($AF5/2)+1,MOD(COLUMNS($AF$3:BR$3),2)+1))","v":-2.2252093395631505},{"$f":"IF(OR(MOD($AF5,2)=0,INDEX(relationships,INT($AF5/2)+1,BS$3)<>1),INDEX($AC$5:$AD$24,BS$3,MOD(COLUMNS($AF$3:BS$3),2)+1),INDEX($AC$5:$AD$24,INT($AF5/2)+1,MOD(COLUMNS($AF$3:BS$3),2)+1))","v":-7.8183148246803027},{"$f":"IF(OR(MOD($AF5,2)=0,INDEX(relationships,INT($AF5/2)+1,BT$3)<>1),INDEX($AC$5:$AD$24,BT$3,MOD(COLUMNS($AF$3:BT$3),2)+1),INDEX($AC$5:$AD$24,INT($AF5/2)+1,MOD(COLUMNS($AF$3:BT$3),2)+1))","v":6.2348980185873293},null,{"$f":"IF(OR(MOD($AF5,2)=0,INDEX(relationships,INT($AF5/2)+1,BV$3)<>2),INDEX($AC$5:$AD$24,BV$3,MOD(COLUMNS($BU$3:BV$3),2)+1),INDEX($AC$5:$AD$24,INT($AF5/2)+1,MOD(COLUMNS($BU$3:BV$3),2)+1))","v":7.8183148246802983},{"$f":"IF(OR(MOD($AF5,2)=0,INDEX(relationships,INT($AF5/2)+1,BW$3)<>2),INDEX($AC$5:$AD$24,BW$3,MOD(COLUMNS($BU$3:BW$3),2)+1),INDEX($AC$5:$AD$24,INT($AF5/2)+1,MOD(COLUMNS($BU$3:BW$3),2)+1))","v":6.2348980185873355},{"$f":"IF(OR(MOD($AF5,2)=0,INDEX(relationships,INT($AF5/2)+1,BX$3)<>2),INDEX($AC$5:$AD$24,BX$3,MOD(COLUMNS($BU$3:BX$3),2)+1),INDEX($AC$5:$AD$24,INT($AF5/2)+1,MOD(COLUMNS($BU$3:BX$3),2)+1))","v":9.7492791218182369},{"$f":"IF(OR(MOD($AF5,2)=0,INDEX(relationships,INT($AF5/2)+1,BY$3)<>2),INDEX($AC$5:$AD$24,BY$3,MOD(COLUMNS($BU$3:BY$3),2)+1),INDEX($AC$5:$AD$24,INT($AF5/2)+1,MOD(COLUMNS($BU$3:BY$3),2)+1))","v":-2.2252093395631434},{"$f":"IF(OR(MOD($AF5,2)=0,INDEX(relationships,INT($AF5/2)+1,BZ$3)<>2),INDEX($AC$5:$AD$24,BZ$3,MOD(COLUMNS($BU$3:BZ$3),2)+1),INDEX($AC$5:$AD$24,INT($AF5/2)+1,MOD(COLUMNS($BU$3:BZ$3),2)+1))","v":4.3388373911755824},{"$f":"IF(OR(MOD($AF5,2)=0,INDEX(relationships,INT($AF5/2)+1,CA$3)<>2),INDEX($AC$5:$AD$24,CA$3,MOD(COLUMNS($BU$3:CA$3),2)+1),INDEX($AC$5:$AD$24,INT($AF5/2)+1,MOD(COLUMNS($BU$3:CA$3),2)+1))","v":-9.0096886790241903},{"$f":"IF(OR(MOD($AF5,2)=0,INDEX(relationships,INT($AF5/2)+1,CB$3)<>2),INDEX($AC$5:$AD$24,CB$3,MOD(COLUMNS($BU$3:CB$3),2)+1),INDEX($AC$5:$AD$24,INT($AF5/2)+1,MOD(COLUMNS($BU$3:CB$3),2)+1))","v":-4.3388373911755798},{"$f":"IF(OR(MOD($AF5,2)=0,INDEX(relationships,INT($AF5/2)+1,CC$3)<>2),INDEX($AC$5:$AD$24,CC$3,MOD(COLUMNS($BU$3:CC$3),2)+1),INDEX($AC$5:$AD$24,INT($AF5/2)+1,MOD(COLUMNS($BU$3:CC$3),2)+1))","v":-9.0096886790241921},{"$f":"IF(OR(MOD($AF5,2)=0,INDEX(relationships,INT($AF5/2)+1,CD$3)<>2),INDEX($AC$5:$AD$24,CD$3,MOD(COLUMNS($BU$3:CD$3),2)+1),INDEX($AC$5:$AD$24,INT($AF5/2)+1,MOD(COLUMNS($BU$3:CD$3),2)+1))","v":-9.7492791218182369},{"$f":"IF(OR(MOD($AF5,2)=0,INDEX(relationships,INT($AF5/2)+1,CE$3)<>2),INDEX($AC$5:$AD$24,CE$3,MOD(COLUMNS($BU$3:CE$3),2)+1),INDEX($AC$5:$AD$24,INT($AF5/2)+1,MOD(COLUMNS($BU$3:CE$3),2)+1))","v":-2.225209339563146},{"$f":"IF(OR(MOD($AF5,2)=0,INDEX(relationships,INT($AF5/2)+1,CF$3)<>2),INDEX($AC$5:$AD$24,CF$3,MOD(COLUMNS($BU$3:CF$3),2)+1),INDEX($AC$5:$AD$24,INT($AF5/2)+1,MOD(COLUMNS($BU$3:CF$3),2)+1))","v":-7.8183148246802991},{"$f":"IF(OR(MOD($AF5,2)=0,INDEX(relationships,INT($AF5/2)+1,CG$3)<>2),INDEX($AC$5:$AD$24,CG$3,MOD(COLUMNS($BU$3:CG$3),2)+1),INDEX($AC$5:$AD$24,INT($AF5/2)+1,MOD(COLUMNS($BU$3:CG$3),2)+1))","v":6.2348980185873337},{"$f":"IF(OR(MOD($AF5,2)=0,INDEX(relationships,INT($AF5/2)+1,CH$3)<>2),INDEX($AC$5:$AD$24,CH$3,MOD(COLUMNS($BU$3:CH$3),2)+1),INDEX($AC$5:$AD$24,INT($AF5/2)+1,MOD(COLUMNS($BU$3:CH$3),2)+1))","v":-2.45029690981724E-15},{"$f":"IF(OR(MOD($AF5,2)=0,INDEX(relationships,INT($AF5/2)+1,CI$3)<>2),INDEX($AC$5:$AD$24,CI$3,MOD(COLUMNS($BU$3:CI$3),2)+1),INDEX($AC$5:$AD$24,INT($AF5/2)+1,MOD(COLUMNS($BU$3:CI$3),2)+1))","v":10},{"$f":"IF(OR(MOD($AF5,2)=0,INDEX(relationships,INT($AF5/2)+1,CJ$3)<>2),INDEX($AC$5:$AD$24,CJ$3,MOD(COLUMNS($BU$3:CJ$3),2)+1),INDEX($AC$5:$AD$24,INT($AF5/2)+1,MOD(COLUMNS($BU$3:CJ$3),2)+1))","v":7.8183148246802956},{"$f":"IF(OR(MOD($AF5,2)=0,INDEX(relationships,INT($AF5/2)+1,CK$3)<>2),INDEX($AC$5:$AD$24,CK$3,MOD(COLUMNS($BU$3:CK$3),2)+1),INDEX($AC$5:$AD$24,INT($AF5/2)+1,MOD(COLUMNS($BU$3:CK$3),2)+1))","v":6.2348980185873373},{"$f":"IF(OR(MOD($AF5,2)=0,INDEX(relationships,INT($AF5/2)+1,CL$3)<>2),INDEX($AC$5:$AD$24,CL$3,MOD(COLUMNS($BU$3:CL$3),2)+1),INDEX($AC$5:$AD$24,INT($AF5/2)+1,MOD(COLUMNS($BU$3:CL$3),2)+1))","v":9.7492791218182369},{"$f":"IF(OR(MOD($AF5,2)=0,INDEX(relationships,INT($AF5/2)+1,CM$3)<>2),INDEX($AC$5:$AD$24,CM$3,MOD(COLUMNS($BU$3:CM$3),2)+1),INDEX($AC$5:$AD$24,INT($AF5/2)+1,MOD(COLUMNS($BU$3:CM$3),2)+1))","v":-2.2252093395631407},{"$f":"IF(OR(MOD($AF5,2)=0,INDEX(relationships,INT($AF5/2)+1,CN$3)<>2),INDEX($AC$5:$AD$24,CN$3,MOD(COLUMNS($BU$3:CN$3),2)+1),INDEX($AC$5:$AD$24,INT($AF5/2)+1,MOD(COLUMNS($BU$3:CN$3),2)+1))","v":4.3388373911755842},{"$f":"IF(OR(MOD($AF5,2)=0,INDEX(relationships,INT($AF5/2)+1,CO$3)<>2),INDEX($AC$5:$AD$24,CO$3,MOD(COLUMNS($BU$3:CO$3),2)+1),INDEX($AC$5:$AD$24,INT($AF5/2)+1,MOD(COLUMNS($BU$3:CO$3),2)+1))","v":-9.0096886790241886},{"$f":"IF(OR(MOD($AF5,2)=0,INDEX(relationships,INT($AF5/2)+1,CP$3)<>2),INDEX($AC$5:$AD$24,CP$3,MOD(COLUMNS($BU$3:CP$3),2)+1),INDEX($AC$5:$AD$24,INT($AF5/2)+1,MOD(COLUMNS($BU$3:CP$3),2)+1))","v":-4.338837391175578},{"$f":"IF(OR(MOD($AF5,2)=0,INDEX(relationships,INT($AF5/2)+1,CQ$3)<>2),INDEX($AC$5:$AD$24,CQ$3,MOD(COLUMNS($BU$3:CQ$3),2)+1),INDEX($AC$5:$AD$24,INT($AF5/2)+1,MOD(COLUMNS($BU$3:CQ$3),2)+1))","v":-9.0096886790241921},{"$f":"IF(OR(MOD($AF5,2)=0,INDEX(relationships,INT($AF5/2)+1,CR$3)<>2),INDEX($AC$5:$AD$24,CR$3,MOD(COLUMNS($BU$3:CR$3),2)+1),INDEX($AC$5:$AD$24,INT($AF5/2)+1,MOD(COLUMNS($BU$3:CR$3),2)+1))","v":-9.7492791218182351},{"$f":"IF(OR(MOD($AF5,2)=0,INDEX(relationships,INT($AF5/2)+1,CS$3)<>2),INDEX($AC$5:$AD$24,CS$3,MOD(COLUMNS($BU$3:CS$3),2)+1),INDEX($AC$5:$AD$24,INT($AF5/2)+1,MOD(COLUMNS($BU$3:CS$3),2)+1))","v":-2.2252093395631483},{"$f":"IF(OR(MOD($AF5,2)=0,INDEX(relationships,INT($AF5/2)+1,CT$3)<>2),INDEX($AC$5:$AD$24,CT$3,MOD(COLUMNS($BU$3:CT$3),2)+1),INDEX($AC$5:$AD$24,INT($AF5/2)+1,MOD(COLUMNS($BU$3:CT$3),2)+1))","v":-7.8183148246803018},{"$f":"IF(OR(MOD($AF5,2)=0,INDEX(relationships,INT($AF5/2)+1,CU$3)<>2),INDEX($AC$5:$AD$24,CU$3,MOD(COLUMNS($BU$3:CU$3),2)+1),INDEX($AC$5:$AD$24,INT($AF5/2)+1,MOD(COLUMNS($BU$3:CU$3),2)+1))","v":6.2348980185873319},{"$f":"IF(OR(MOD($AF5,2)=0,INDEX(relationships,INT($AF5/2)+1,CV$3)<>2),INDEX($AC$5:$AD$24,CV$3,MOD(COLUMNS($BU$3:CV$3),2)+1),INDEX($AC$5:$AD$24,INT($AF5/2)+1,MOD(COLUMNS($BU$3:CV$3),2)+1))","v":-4.90059381963448E-15},{"$f":"IF(OR(MOD($AF5,2)=0,INDEX(relationships,INT($AF5/2)+1,CW$3)<>2),INDEX($AC$5:$AD$24,CW$3,MOD(COLUMNS($BU$3:CW$3),2)+1),INDEX($AC$5:$AD$24,INT($AF5/2)+1,MOD(COLUMNS($BU$3:CW$3),2)+1))","v":10},{"$f":"IF(OR(MOD($AF5,2)=0,INDEX(relationships,INT($AF5/2)+1,CX$3)<>2),INDEX($AC$5:$AD$24,CX$3,MOD(COLUMNS($BU$3:CX$3),2)+1),INDEX($AC$5:$AD$24,INT($AF5/2)+1,MOD(COLUMNS($BU$3:CX$3),2)+1))","v":7.8183148246802947},{"$f":"IF(OR(MOD($AF5,2)=0,INDEX(relationships,INT($AF5/2)+1,CY$3)<>2),INDEX($AC$5:$AD$24,CY$3,MOD(COLUMNS($BU$3:CY$3),2)+1),INDEX($AC$5:$AD$24,INT($AF5/2)+1,MOD(COLUMNS($BU$3:CY$3),2)+1))","v":6.2348980185873391},{"$f":"IF(OR(MOD($AF5,2)=0,INDEX(relationships,INT($AF5/2)+1,CZ$3)<>2),INDEX($AC$5:$AD$24,CZ$3,MOD(COLUMNS($BU$3:CZ$3),2)+1),INDEX($AC$5:$AD$24,INT($AF5/2)+1,MOD(COLUMNS($BU$3:CZ$3),2)+1))","v":9.7492791218182369},{"$f":"IF(OR(MOD($AF5,2)=0,INDEX(relationships,INT($AF5/2)+1,DA$3)<>2),INDEX($AC$5:$AD$24,DA$3,MOD(COLUMNS($BU$3:DA$3),2)+1),INDEX($AC$5:$AD$24,INT($AF5/2)+1,MOD(COLUMNS($BU$3:DA$3),2)+1))","v":-2.2252093395631385},{"$f":"IF(OR(MOD($AF5,2)=0,INDEX(relationships,INT($AF5/2)+1,DB$3)<>2),INDEX($AC$5:$AD$24,DB$3,MOD(COLUMNS($BU$3:DB$3),2)+1),INDEX($AC$5:$AD$24,INT($AF5/2)+1,MOD(COLUMNS($BU$3:DB$3),2)+1))","v":4.3388373911755869},{"$f":"IF(OR(MOD($AF5,2)=0,INDEX(relationships,INT($AF5/2)+1,DC$3)<>2),INDEX($AC$5:$AD$24,DC$3,MOD(COLUMNS($BU$3:DC$3),2)+1),INDEX($AC$5:$AD$24,INT($AF5/2)+1,MOD(COLUMNS($BU$3:DC$3),2)+1))","v":-9.0096886790241886},{"$f":"IF(OR(MOD($AF5,2)=0,INDEX(relationships,INT($AF5/2)+1,DD$3)<>2),INDEX($AC$5:$AD$24,DD$3,MOD(COLUMNS($BU$3:DD$3),2)+1),INDEX($AC$5:$AD$24,INT($AF5/2)+1,MOD(COLUMNS($BU$3:DD$3),2)+1))","v":-4.3388373911755753},{"$f":"IF(OR(MOD($AF5,2)=0,INDEX(relationships,INT($AF5/2)+1,DE$3)<>2),INDEX($AC$5:$AD$24,DE$3,MOD(COLUMNS($BU$3:DE$3),2)+1),INDEX($AC$5:$AD$24,INT($AF5/2)+1,MOD(COLUMNS($BU$3:DE$3),2)+1))","v":-9.0096886790241939},{"$f":"IF(OR(MOD($AF5,2)=0,INDEX(relationships,INT($AF5/2)+1,DF$3)<>2),INDEX($AC$5:$AD$24,DF$3,MOD(COLUMNS($BU$3:DF$3),2)+1),INDEX($AC$5:$AD$24,INT($AF5/2)+1,MOD(COLUMNS($BU$3:DF$3),2)+1))","v":-9.7492791218182351},{"$f":"IF(OR(MOD($AF5,2)=0,INDEX(relationships,INT($AF5/2)+1,DG$3)<>2),INDEX($AC$5:$AD$24,DG$3,MOD(COLUMNS($BU$3:DG$3),2)+1),INDEX($AC$5:$AD$24,INT($AF5/2)+1,MOD(COLUMNS($BU$3:DG$3),2)+1))","v":-2.2252093395631505},{"$f":"IF(OR(MOD($AF5,2)=0,INDEX(relationships,INT($AF5/2)+1,DH$3)<>2),INDEX($AC$5:$AD$24,DH$3,MOD(COLUMNS($BU$3:DH$3),2)+1),INDEX($AC$5:$AD$24,INT($AF5/2)+1,MOD(COLUMNS($BU$3:DH$3),2)+1))","v":-7.8183148246803027},{"$f":"IF(OR(MOD($AF5,2)=0,INDEX(relationships,INT($AF5/2)+1,DI$3)<>2),INDEX($AC$5:$AD$24,DI$3,MOD(COLUMNS($BU$3:DI$3),2)+1),INDEX($AC$5:$AD$24,INT($AF5/2)+1,MOD(COLUMNS($BU$3:DI$3),2)+1))","v":6.2348980185873293},null,{"$f":"INDEX($AG5:$BT5,$Z$16*2-1)","v":-2.45029690981724E-15},{"$f":"INDEX($AG5:$BT5,$Z$16*2)","v":10},{"$f":"INDEX($BV5:$DI5,$Z$16*2-1)","v":-2.45029690981724E-15},{"$f":"INDEX($BV5:$DI5,$Z$16*2)","v":10}]
[null,{"$f":"'Group Data'!B19","v":"Parents"},{"$f":"'Group Data'!AJ19","v":2},null,null,null,null,null,null,null,null,null,null,null,null,null,null,null,null,null,null,null,null,null,"x",0,null,2,9.7492791218182369,-2.2252093395631434,null,1,{"$f":"IF(OR(MOD($AF6,2)=0,INDEX(relationships,INT($AF6/2)+1,AG$3)<>1),INDEX($AC$5:$AD$24,AG$3,MOD(COLUMNS($AF$3:AG$3),2)+1),INDEX($AC$5:$AD$24,INT($AF6/2)+1,MOD(COLUMNS($AF$3:AG$3),2)+1))","v":7.8183148246802983},{"$f":"IF(OR(MOD($AF6,2)=0,INDEX(relationships,INT($AF6/2)+1,AH$3)<>1),INDEX($AC$5:$AD$24,AH$3,MOD(COLUMNS($AF$3:AH$3),2)+1),INDEX($AC$5:$AD$24,INT($AF6/2)+1,MOD(COLUMNS($AF$3:AH$3),2)+1))","v":6.2348980185873355},{"$f":"IF(OR(MOD($AF6,2)=0,INDEX(relationships,INT($AF6/2)+1,AI$3)<>1),INDEX($AC$5:$AD$24,AI$3,MOD(COLUMNS($AF$3:AI$3),2)+1),INDEX($AC$5:$AD$24,INT($AF6/2)+1,MOD(COLUMNS($AF$3:AI$3),2)+1))","v":9.7492791218182369},{"$f":"IF(OR(MOD($AF6,2)=0,INDEX(relationships,INT($AF6/2)+1,AJ$3)<>1),INDEX($AC$5:$AD$24,AJ$3,MOD(COLUMNS($AF$3:AJ$3),2)+1),INDEX($AC$5:$AD$24,INT($AF6/2)+1,MOD(COLUMNS($AF$3:AJ$3),2)+1))","v":-2.2252093395631434},{"$f":"IF(OR(MOD($AF6,2)=0,INDEX(relationships,INT($AF6/2)+1,AK$3)<>1),INDEX($AC$5:$AD$24,AK$3,MOD(COLUMNS($AF$3:AK$3),2)+1),INDEX($AC$5:$AD$24,INT($AF6/2)+1,MOD(COLUMNS($AF$3:AK$3),2)+1))","v":4.3388373911755824},{"$f":"IF(OR(MOD($AF6,2)=0,INDEX(relationships,INT($AF6/2)+1,AL$3)<>1),INDEX($AC$5:$AD$24,AL$3,MOD(COLUMNS($AF$3:AL$3),2)+1),INDEX($AC$5:$AD$24,INT($AF6/2)+1,MOD(COLUMNS($AF$3:AL$3),2)+1))","v":-9.0096886790241903},{"$f":"IF(OR(MOD($AF6,2)=0,INDEX(relationships,INT($AF6/2)+1,AM$3)<>1),INDEX($AC$5:$AD$24,AM$3,MOD(COLUMNS($AF$3:AM$3),2)+1),INDEX($AC$5:$AD$24,INT($AF6/2)+1,MOD(COLUMNS($AF$3:AM$3),2)+1))","v":-4.3388373911755798},{"$f":"IF(OR(MOD($AF6,2)=0,INDEX(relationships,INT($AF6/2)+1,AN$3)<>1),INDEX($AC$5:$AD$24,AN$3,MOD(COLUMNS($AF$3:AN$3),2)+1),INDEX($AC$5:$AD$24,INT($AF6/2)+1,MOD(COLUMNS($AF$3:AN$3),2)+1))","v":-9.0096886790241921},{"$f":"IF(OR(MOD($AF6,2)=0,INDEX(relationships,INT($AF6/2)+1,AO$3)<>1),INDEX($AC$5:$AD$24,AO$3,MOD(COLUMNS($AF$3:AO$3),2)+1),INDEX($AC$5:$AD$24,INT($AF6/2)+1,MOD(COLUMNS($AF$3:AO$3),2)+1))","v":-9.7492791218182369},{"$f":"IF(OR(MOD($AF6,2)=0,INDEX(relationships,INT($AF6/2)+1,AP$3)<>1),INDEX($AC$5:$AD$24,AP$3,MOD(COLUMNS($AF$3:AP$3),2)+1),INDEX($AC$5:$AD$24,INT($AF6/2)+1,MOD(COLUMNS($AF$3:AP$3),2)+1))","v":-2.225209339563146},{"$f":"IF(OR(MOD($AF6,2)=0,INDEX(relationships,INT($AF6/2)+1,AQ$3)<>1),INDEX($AC$5:$AD$24,AQ$3,MOD(COLUMNS($AF$3:AQ$3),2)+1),INDEX($AC$5:$AD$24,INT($AF6/2)+1,MOD(COLUMNS($AF$3:AQ$3),2)+1))","v":7.8183148246802983},{"$f":"IF(OR(MOD($AF6,2)=0,INDEX(relationships,INT($AF6/2)+1,AR$3)<>1),INDEX($AC$5:$AD$24,AR$3,MOD(COLUMNS($AF$3:AR$3),2)+1),INDEX($AC$5:$AD$24,INT($AF6/2)+1,MOD(COLUMNS($AF$3:AR$3),2)+1))","v":6.2348980185873355},{"$f":"IF(OR(MOD($AF6,2)=0,INDEX(relationships,INT($AF6/2)+1,AS$3)<>1),INDEX($AC$5:$AD$24,AS$3,MOD(COLUMNS($AF$3:AS$3),2)+1),INDEX($AC$5:$AD$24,INT($AF6/2)+1,MOD(COLUMNS($AF$3:AS$3),2)+1))","v":-2.45029690981724E-15},{"$f":"IF(OR(MOD($AF6,2)=0,INDEX(relationships,INT($AF6/2)+1,AT$3)<>1),INDEX($AC$5:$AD$24,AT$3,MOD(COLUMNS($AF$3:AT$3),2)+1),INDEX($AC$5:$AD$24,INT($AF6/2)+1,MOD(COLUMNS($AF$3:AT$3),2)+1))","v":10},{"$f":"IF(OR(MOD($AF6,2)=0,INDEX(relationships,INT($AF6/2)+1,AU$3)<>1),INDEX($AC$5:$AD$24,AU$3,MOD(COLUMNS($AF$3:AU$3),2)+1),INDEX($AC$5:$AD$24,INT($AF6/2)+1,MOD(COLUMNS($AF$3:AU$3),2)+1))","v":7.8183148246802956},{"$f":"IF(OR(MOD($AF6,2)=0,INDEX(relationships,INT($AF6/2)+1,AV$3)<>1),INDEX($AC$5:$AD$24,AV$3,MOD(COLUMNS($AF$3:AV$3),2)+1),INDEX($AC$5:$AD$24,INT($AF6/2)+1,MOD(COLUMNS($AF$3:AV$3),2)+1))","v":6.2348980185873373},{"$f":"IF(OR(MOD($AF6,2)=0,INDEX(relationships,INT($AF6/2)+1,AW$3)<>1),INDEX($AC$5:$AD$24,AW$3,MOD(COLUMNS($AF$3:AW$3),2)+1),INDEX($AC$5:$AD$24,INT($AF6/2)+1,MOD(COLUMNS($AF$3:AW$3),2)+1))","v":9.7492791218182369},{"$f":"IF(OR(MOD($AF6,2)=0,INDEX(relationships,INT($AF6/2)+1,AX$3)<>1),INDEX($AC$5:$AD$24,AX$3,MOD(COLUMNS($AF$3:AX$3),2)+1),INDEX($AC$5:$AD$24,INT($AF6/2)+1,MOD(COLUMNS($AF$3:AX$3),2)+1))","v":-2.2252093395631407},{"$f":"IF(OR(MOD($AF6,2)=0,INDEX(relationships,INT($AF6/2)+1,AY$3)<>1),INDEX($AC$5:$AD$24,AY$3,MOD(COLUMNS($AF$3:AY$3),2)+1),INDEX($AC$5:$AD$24,INT($AF6/2)+1,MOD(COLUMNS($AF$3:AY$3),2)+1))","v":4.3388373911755842},{"$f":"IF(OR(MOD($AF6,2)=0,INDEX(relationships,INT($AF6/2)+1,AZ$3)<>1),INDEX($AC$5:$AD$24,AZ$3,MOD(COLUMNS($AF$3:AZ$3),2)+1),INDEX($AC$5:$AD$24,INT($AF6/2)+1,MOD(COLUMNS($AF$3:AZ$3),2)+1))","v":-9.0096886790241886},{"$f":"IF(OR(MOD($AF6,2)=0,INDEX(relationships,INT($AF6/2)+1,BA$3)<>1),INDEX($AC$5:$AD$24,BA$3,MOD(COLUMNS($AF$3:BA$3),2)+1),INDEX($AC$5:$AD$24,INT($AF6/2)+1,MOD(COLUMNS($AF$3:BA$3),2)+1))","v":-4.338837391175578},{"$f":"IF(OR(MOD($AF6,2)=0,INDEX(relationships,INT($AF6/2)+1,BB$3)<>1),INDEX($AC$5:$AD$24,BB$3,MOD(COLUMNS($AF$3:BB$3),2)+1),INDEX($AC$5:$AD$24,INT($AF6/2)+1,MOD(COLUMNS($AF$3:BB$3),2)+1))","v":-9.0096886790241921},{"$f":"IF(OR(MOD($AF6,2)=0,INDEX(relationships,INT($AF6/2)+1,BC$3)<>1),INDEX($AC$5:$AD$24,BC$3,MOD(COLUMNS($AF$3:BC$3),2)+1),INDEX($AC$5:$AD$24,INT($AF6/2)+1,MOD(COLUMNS($AF$3:BC$3),2)+1))","v":-9.7492791218182351},{"$f":"IF(OR(MOD($AF6,2)=0,INDEX(relationships,INT($AF6/2)+1,BD$3)<>1),INDEX($AC$5:$AD$24,BD$3,MOD(COLUMNS($AF$3:BD$3),2)+1),INDEX($AC$5:$AD$24,INT($AF6/2)+1,MOD(COLUMNS($AF$3:BD$3),2)+1))","v":-2.2252093395631483},{"$f":"IF(OR(MOD($AF6,2)=0,INDEX(relationships,INT($AF6/2)+1,BE$3)<>1),INDEX($AC$5:$AD$24,BE$3,MOD(COLUMNS($AF$3:BE$3),2)+1),INDEX($AC$5:$AD$24,INT($AF6/2)+1,MOD(COLUMNS($AF$3:BE$3),2)+1))","v":-7.8183148246803018},{"$f":"IF(OR(MOD($AF6,2)=0,INDEX(relationships,INT($AF6/2)+1,BF$3)<>1),INDEX($AC$5:$AD$24,BF$3,MOD(COLUMNS($AF$3:BF$3),2)+1),INDEX($AC$5:$AD$24,INT($AF6/2)+1,MOD(COLUMNS($AF$3:BF$3),2)+1))","v":6.2348980185873319},{"$f":"IF(OR(MOD($AF6,2)=0,INDEX(relationships,INT($AF6/2)+1,BG$3)<>1),INDEX($AC$5:$AD$24,BG$3,MOD(COLUMNS($AF$3:BG$3),2)+1),INDEX($AC$5:$AD$24,INT($AF6/2)+1,MOD(COLUMNS($AF$3:BG$3),2)+1))","v":-4.90059381963448E-15},{"$f":"IF(OR(MOD($AF6,2)=0,INDEX(relationships,INT($AF6/2)+1,BH$3)<>1),INDEX($AC$5:$AD$24,BH$3,MOD(COLUMNS($AF$3:BH$3),2)+1),INDEX($AC$5:$AD$24,INT($AF6/2)+1,MOD(COLUMNS($AF$3:BH$3),2)+1))","v":10},{"$f":"IF(OR(MOD($AF6,2)=0,INDEX(relationships,INT($AF6/2)+1,BI$3)<>1),INDEX($AC$5:$AD$24,BI$3,MOD(COLUMNS($AF$3:BI$3),2)+1),INDEX($AC$5:$AD$24,INT($AF6/2)+1,MOD(COLUMNS($AF$3:BI$3),2)+1))","v":7.8183148246802947},{"$f":"IF(OR(MOD($AF6,2)=0,INDEX(relationships,INT($AF6/2)+1,BJ$3)<>1),INDEX($AC$5:$AD$24,BJ$3,MOD(COLUMNS($AF$3:BJ$3),2)+1),INDEX($AC$5:$AD$24,INT($AF6/2)+1,MOD(COLUMNS($AF$3:BJ$3),2)+1))","v":6.2348980185873391},{"$f":"IF(OR(MOD($AF6,2)=0,INDEX(relationships,INT($AF6/2)+1,BK$3)<>1),INDEX($AC$5:$AD$24,BK$3,MOD(COLUMNS($AF$3:BK$3),2)+1),INDEX($AC$5:$AD$24,INT($AF6/2)+1,MOD(COLUMNS($AF$3:BK$3),2)+1))","v":9.7492791218182369},{"$f":"IF(OR(MOD($AF6,2)=0,INDEX(relationships,INT($AF6/2)+1,BL$3)<>1),INDEX($AC$5:$AD$24,BL$3,MOD(COLUMNS($AF$3:BL$3),2)+1),INDEX($AC$5:$AD$24,INT($AF6/2)+1,MOD(COLUMNS($AF$3:BL$3),2)+1))","v":-2.2252093395631385},{"$f":"IF(OR(MOD($AF6,2)=0,INDEX(relationships,INT($AF6/2)+1,BM$3)<>1),INDEX($AC$5:$AD$24,BM$3,MOD(COLUMNS($AF$3:BM$3),2)+1),INDEX($AC$5:$AD$24,INT($AF6/2)+1,MOD(COLUMNS($AF$3:BM$3),2)+1))","v":4.3388373911755869},{"$f":"IF(OR(MOD($AF6,2)=0,INDEX(relationships,INT($AF6/2)+1,BN$3)<>1),INDEX($AC$5:$AD$24,BN$3,MOD(COLUMNS($AF$3:BN$3),2)+1),INDEX($AC$5:$AD$24,INT($AF6/2)+1,MOD(COLUMNS($AF$3:BN$3),2)+1))","v":-9.0096886790241886},{"$f":"IF(OR(MOD($AF6,2)=0,INDEX(relationships,INT($AF6/2)+1,BO$3)<>1),INDEX($AC$5:$AD$24,BO$3,MOD(COLUMNS($AF$3:BO$3),2)+1),INDEX($AC$5:$AD$24,INT($AF6/2)+1,MOD(COLUMNS($AF$3:BO$3),2)+1))","v":-4.3388373911755753},{"$f":"IF(OR(MOD($AF6,2)=0,INDEX(relationships,INT($AF6/2)+1,BP$3)<>1),INDEX($AC$5:$AD$24,BP$3,MOD(COLUMNS($AF$3:BP$3),2)+1),INDEX($AC$5:$AD$24,INT($AF6/2)+1,MOD(COLUMNS($AF$3:BP$3),2)+1))","v":-9.0096886790241939},{"$f":"IF(OR(MOD($AF6,2)=0,INDEX(relationships,INT($AF6/2)+1,BQ$3)<>1),INDEX($AC$5:$AD$24,BQ$3,MOD(COLUMNS($AF$3:BQ$3),2)+1),INDEX($AC$5:$AD$24,INT($AF6/2)+1,MOD(COLUMNS($AF$3:BQ$3),2)+1))","v":-9.7492791218182351},{"$f":"IF(OR(MOD($AF6,2)=0,INDEX(relationships,INT($AF6/2)+1,BR$3)<>1),INDEX($AC$5:$AD$24,BR$3,MOD(COLUMNS($AF$3:BR$3),2)+1),INDEX($AC$5:$AD$24,INT($AF6/2)+1,MOD(COLUMNS($AF$3:BR$3),2)+1))","v":-2.2252093395631505},{"$f":"IF(OR(MOD($AF6,2)=0,INDEX(relationships,INT($AF6/2)+1,BS$3)<>1),INDEX($AC$5:$AD$24,BS$3,MOD(COLUMNS($AF$3:BS$3),2)+1),INDEX($AC$5:$AD$24,INT($AF6/2)+1,MOD(COLUMNS($AF$3:BS$3),2)+1))","v":-7.8183148246803027},{"$f":"IF(OR(MOD($AF6,2)=0,INDEX(relationships,INT($AF6/2)+1,BT$3)<>1),INDEX($AC$5:$AD$24,BT$3,MOD(COLUMNS($AF$3:BT$3),2)+1),INDEX($AC$5:$AD$24,INT($AF6/2)+1,MOD(COLUMNS($AF$3:BT$3),2)+1))","v":6.2348980185873293},null,{"$f":"IF(OR(MOD($AF6,2)=0,INDEX(relationships,INT($AF6/2)+1,BV$3)<>2),INDEX($AC$5:$AD$24,BV$3,MOD(COLUMNS($BU$3:BV$3),2)+1),INDEX($AC$5:$AD$24,INT($AF6/2)+1,MOD(COLUMNS($BU$3:BV$3),2)+1))","v":7.8183148246802983},{"$f":"IF(OR(MOD($AF6,2)=0,INDEX(relationships,INT($AF6/2)+1,BW$3)<>2),INDEX($AC$5:$AD$24,BW$3,MOD(COLUMNS($BU$3:BW$3),2)+1),INDEX($AC$5:$AD$24,INT($AF6/2)+1,MOD(COLUMNS($BU$3:BW$3),2)+1))","v":6.2348980185873355},{"$f":"IF(OR(MOD($AF6,2)=0,INDEX(relationships,INT($AF6/2)+1,BX$3)<>2),INDEX($AC$5:$AD$24,BX$3,MOD(COLUMNS($BU$3:BX$3),2)+1),INDEX($AC$5:$AD$24,INT($AF6/2)+1,MOD(COLUMNS($BU$3:BX$3),2)+1))","v":7.8183148246802983},{"$f":"IF(OR(MOD($AF6,2)=0,INDEX(relationships,INT($AF6/2)+1,BY$3)<>2),INDEX($AC$5:$AD$24,BY$3,MOD(COLUMNS($BU$3:BY$3),2)+1),INDEX($AC$5:$AD$24,INT($AF6/2)+1,MOD(COLUMNS($BU$3:BY$3),2)+1))","v":6.2348980185873355},{"$f":"IF(OR(MOD($AF6,2)=0,INDEX(relationships,INT($AF6/2)+1,BZ$3)<>2),INDEX($AC$5:$AD$24,BZ$3,MOD(COLUMNS($BU$3:BZ$3),2)+1),INDEX($AC$5:$AD$24,INT($AF6/2)+1,MOD(COLUMNS($BU$3:BZ$3),2)+1))","v":7.8183148246802983},{"$f":"IF(OR(MOD($AF6,2)=0,INDEX(relationships,INT($AF6/2)+1,CA$3)<>2),INDEX($AC$5:$AD$24,CA$3,MOD(COLUMNS($BU$3:CA$3),2)+1),INDEX($AC$5:$AD$24,INT($AF6/2)+1,MOD(COLUMNS($BU$3:CA$3),2)+1))","v":6.2348980185873355},{"$f":"IF(OR(MOD($AF6,2)=0,INDEX(relationships,INT($AF6/2)+1,CB$3)<>2),INDEX($AC$5:$AD$24,CB$3,MOD(COLUMNS($BU$3:CB$3),2)+1),INDEX($AC$5:$AD$24,INT($AF6/2)+1,MOD(COLUMNS($BU$3:CB$3),2)+1))","v":-4.3388373911755798},{"$f":"IF(OR(MOD($AF6,2)=0,INDEX(relationships,INT($AF6/2)+1,CC$3)<>2),INDEX($AC$5:$AD$24,CC$3,MOD(COLUMNS($BU$3:CC$3),2)+1),INDEX($AC$5:$AD$24,INT($AF6/2)+1,MOD(COLUMNS($BU$3:CC$3),2)+1))","v":-9.0096886790241921},{"$f":"IF(OR(MOD($AF6,2)=0,INDEX(relationships,INT($AF6/2)+1,CD$3)<>2),INDEX($AC$5:$AD$24,CD$3,MOD(COLUMNS($BU$3:CD$3),2)+1),INDEX($AC$5:$AD$24,INT($AF6/2)+1,MOD(COLUMNS($BU$3:CD$3),2)+1))","v":-9.7492791218182369},{"$f":"IF(OR(MOD($AF6,2)=0,INDEX(relationships,INT($AF6/2)+1,CE$3)<>2),INDEX($AC$5:$AD$24,CE$3,MOD(COLUMNS($BU$3:CE$3),2)+1),INDEX($AC$5:$AD$24,INT($AF6/2)+1,MOD(COLUMNS($BU$3:CE$3),2)+1))","v":-2.225209339563146},{"$f":"IF(OR(MOD($AF6,2)=0,INDEX(relationships,INT($AF6/2)+1,CF$3)<>2),INDEX($AC$5:$AD$24,CF$3,MOD(COLUMNS($BU$3:CF$3),2)+1),INDEX($AC$5:$AD$24,INT($AF6/2)+1,MOD(COLUMNS($BU$3:CF$3),2)+1))","v":-7.8183148246802991},{"$f":"IF(OR(MOD($AF6,2)=0,INDEX(relationships,INT($AF6/2)+1,CG$3)<>2),INDEX($AC$5:$AD$24,CG$3,MOD(COLUMNS($BU$3:CG$3),2)+1),INDEX($AC$5:$AD$24,INT($AF6/2)+1,MOD(COLUMNS($BU$3:CG$3),2)+1))","v":6.2348980185873337},{"$f":"IF(OR(MOD($AF6,2)=0,INDEX(relationships,INT($AF6/2)+1,CH$3)<>2),INDEX($AC$5:$AD$24,CH$3,MOD(COLUMNS($BU$3:CH$3),2)+1),INDEX($AC$5:$AD$24,INT($AF6/2)+1,MOD(COLUMNS($BU$3:CH$3),2)+1))","v":-2.45029690981724E-15},{"$f":"IF(OR(MOD($AF6,2)=0,INDEX(relationships,INT($AF6/2)+1,CI$3)<>2),INDEX($AC$5:$AD$24,CI$3,MOD(COLUMNS($BU$3:CI$3),2)+1),INDEX($AC$5:$AD$24,INT($AF6/2)+1,MOD(COLUMNS($BU$3:CI$3),2)+1))","v":10},{"$f":"IF(OR(MOD($AF6,2)=0,INDEX(relationships,INT($AF6/2)+1,CJ$3)<>2),INDEX($AC$5:$AD$24,CJ$3,MOD(COLUMNS($BU$3:CJ$3),2)+1),INDEX($AC$5:$AD$24,INT($AF6/2)+1,MOD(COLUMNS($BU$3:CJ$3),2)+1))","v":7.8183148246802956},{"$f":"IF(OR(MOD($AF6,2)=0,INDEX(relationships,INT($AF6/2)+1,CK$3)<>2),INDEX($AC$5:$AD$24,CK$3,MOD(COLUMNS($BU$3:CK$3),2)+1),INDEX($AC$5:$AD$24,INT($AF6/2)+1,MOD(COLUMNS($BU$3:CK$3),2)+1))","v":6.2348980185873373},{"$f":"IF(OR(MOD($AF6,2)=0,INDEX(relationships,INT($AF6/2)+1,CL$3)<>2),INDEX($AC$5:$AD$24,CL$3,MOD(COLUMNS($BU$3:CL$3),2)+1),INDEX($AC$5:$AD$24,INT($AF6/2)+1,MOD(COLUMNS($BU$3:CL$3),2)+1))","v":9.7492791218182369},{"$f":"IF(OR(MOD($AF6,2)=0,INDEX(relationships,INT($AF6/2)+1,CM$3)<>2),INDEX($AC$5:$AD$24,CM$3,MOD(COLUMNS($BU$3:CM$3),2)+1),INDEX($AC$5:$AD$24,INT($AF6/2)+1,MOD(COLUMNS($BU$3:CM$3),2)+1))","v":-2.2252093395631407},{"$f":"IF(OR(MOD($AF6,2)=0,INDEX(relationships,INT($AF6/2)+1,CN$3)<>2),INDEX($AC$5:$AD$24,CN$3,MOD(COLUMNS($BU$3:CN$3),2)+1),INDEX($AC$5:$AD$24,INT($AF6/2)+1,MOD(COLUMNS($BU$3:CN$3),2)+1))","v":4.3388373911755842},{"$f":"IF(OR(MOD($AF6,2)=0,INDEX(relationships,INT($AF6/2)+1,CO$3)<>2),INDEX($AC$5:$AD$24,CO$3,MOD(COLUMNS($BU$3:CO$3),2)+1),INDEX($AC$5:$AD$24,INT($AF6/2)+1,MOD(COLUMNS($BU$3:CO$3),2)+1))","v":-9.0096886790241886},{"$f":"IF(OR(MOD($AF6,2)=0,INDEX(relationships,INT($AF6/2)+1,CP$3)<>2),INDEX($AC$5:$AD$24,CP$3,MOD(COLUMNS($BU$3:CP$3),2)+1),INDEX($AC$5:$AD$24,INT($AF6/2)+1,MOD(COLUMNS($BU$3:CP$3),2)+1))","v":-4.338837391175578},{"$f":"IF(OR(MOD($AF6,2)=0,INDEX(relationships,INT($AF6/2)+1,CQ$3)<>2),INDEX($AC$5:$AD$24,CQ$3,MOD(COLUMNS($BU$3:CQ$3),2)+1),INDEX($AC$5:$AD$24,INT($AF6/2)+1,MOD(COLUMNS($BU$3:CQ$3),2)+1))","v":-9.0096886790241921},{"$f":"IF(OR(MOD($AF6,2)=0,INDEX(relationships,INT($AF6/2)+1,CR$3)<>2),INDEX($AC$5:$AD$24,CR$3,MOD(COLUMNS($BU$3:CR$3),2)+1),INDEX($AC$5:$AD$24,INT($AF6/2)+1,MOD(COLUMNS($BU$3:CR$3),2)+1))","v":-9.7492791218182351},{"$f":"IF(OR(MOD($AF6,2)=0,INDEX(relationships,INT($AF6/2)+1,CS$3)<>2),INDEX($AC$5:$AD$24,CS$3,MOD(COLUMNS($BU$3:CS$3),2)+1),INDEX($AC$5:$AD$24,INT($AF6/2)+1,MOD(COLUMNS($BU$3:CS$3),2)+1))","v":-2.2252093395631483},{"$f":"IF(OR(MOD($AF6,2)=0,INDEX(relationships,INT($AF6/2)+1,CT$3)<>2),INDEX($AC$5:$AD$24,CT$3,MOD(COLUMNS($BU$3:CT$3),2)+1),INDEX($AC$5:$AD$24,INT($AF6/2)+1,MOD(COLUMNS($BU$3:CT$3),2)+1))","v":-7.8183148246803018},{"$f":"IF(OR(MOD($AF6,2)=0,INDEX(relationships,INT($AF6/2)+1,CU$3)<>2),INDEX($AC$5:$AD$24,CU$3,MOD(COLUMNS($BU$3:CU$3),2)+1),INDEX($AC$5:$AD$24,INT($AF6/2)+1,MOD(COLUMNS($BU$3:CU$3),2)+1))","v":6.2348980185873319},{"$f":"IF(OR(MOD($AF6,2)=0,INDEX(relationships,INT($AF6/2)+1,CV$3)<>2),INDEX($AC$5:$AD$24,CV$3,MOD(COLUMNS($BU$3:CV$3),2)+1),INDEX($AC$5:$AD$24,INT($AF6/2)+1,MOD(COLUMNS($BU$3:CV$3),2)+1))","v":-4.90059381963448E-15},{"$f":"IF(OR(MOD($AF6,2)=0,INDEX(relationships,INT($AF6/2)+1,CW$3)<>2),INDEX($AC$5:$AD$24,CW$3,MOD(COLUMNS($BU$3:CW$3),2)+1),INDEX($AC$5:$AD$24,INT($AF6/2)+1,MOD(COLUMNS($BU$3:CW$3),2)+1))","v":10},{"$f":"IF(OR(MOD($AF6,2)=0,INDEX(relationships,INT($AF6/2)+1,CX$3)<>2),INDEX($AC$5:$AD$24,CX$3,MOD(COLUMNS($BU$3:CX$3),2)+1),INDEX($AC$5:$AD$24,INT($AF6/2)+1,MOD(COLUMNS($BU$3:CX$3),2)+1))","v":7.8183148246802947},{"$f":"IF(OR(MOD($AF6,2)=0,INDEX(relationships,INT($AF6/2)+1,CY$3)<>2),INDEX($AC$5:$AD$24,CY$3,MOD(COLUMNS($BU$3:CY$3),2)+1),INDEX($AC$5:$AD$24,INT($AF6/2)+1,MOD(COLUMNS($BU$3:CY$3),2)+1))","v":6.2348980185873391},{"$f":"IF(OR(MOD($AF6,2)=0,INDEX(relationships,INT($AF6/2)+1,CZ$3)<>2),INDEX($AC$5:$AD$24,CZ$3,MOD(COLUMNS($BU$3:CZ$3),2)+1),INDEX($AC$5:$AD$24,INT($AF6/2)+1,MOD(COLUMNS($BU$3:CZ$3),2)+1))","v":9.7492791218182369},{"$f":"IF(OR(MOD($AF6,2)=0,INDEX(relationships,INT($AF6/2)+1,DA$3)<>2),INDEX($AC$5:$AD$24,DA$3,MOD(COLUMNS($BU$3:DA$3),2)+1),INDEX($AC$5:$AD$24,INT($AF6/2)+1,MOD(COLUMNS($BU$3:DA$3),2)+1))","v":-2.2252093395631385},{"$f":"IF(OR(MOD($AF6,2)=0,INDEX(relationships,INT($AF6/2)+1,DB$3)<>2),INDEX($AC$5:$AD$24,DB$3,MOD(COLUMNS($BU$3:DB$3),2)+1),INDEX($AC$5:$AD$24,INT($AF6/2)+1,MOD(COLUMNS($BU$3:DB$3),2)+1))","v":4.3388373911755869},{"$f":"IF(OR(MOD($AF6,2)=0,INDEX(relationships,INT($AF6/2)+1,DC$3)<>2),INDEX($AC$5:$AD$24,DC$3,MOD(COLUMNS($BU$3:DC$3),2)+1),INDEX($AC$5:$AD$24,INT($AF6/2)+1,MOD(COLUMNS($BU$3:DC$3),2)+1))","v":-9.0096886790241886},{"$f":"IF(OR(MOD($AF6,2)=0,INDEX(relationships,INT($AF6/2)+1,DD$3)<>2),INDEX($AC$5:$AD$24,DD$3,MOD(COLUMNS($BU$3:DD$3),2)+1),INDEX($AC$5:$AD$24,INT($AF6/2)+1,MOD(COLUMNS($BU$3:DD$3),2)+1))","v":-4.3388373911755753},{"$f":"IF(OR(MOD($AF6,2)=0,INDEX(relationships,INT($AF6/2)+1,DE$3)<>2),INDEX($AC$5:$AD$24,DE$3,MOD(COLUMNS($BU$3:DE$3),2)+1),INDEX($AC$5:$AD$24,INT($AF6/2)+1,MOD(COLUMNS($BU$3:DE$3),2)+1))","v":-9.0096886790241939},{"$f":"IF(OR(MOD($AF6,2)=0,INDEX(relationships,INT($AF6/2)+1,DF$3)<>2),INDEX($AC$5:$AD$24,DF$3,MOD(COLUMNS($BU$3:DF$3),2)+1),INDEX($AC$5:$AD$24,INT($AF6/2)+1,MOD(COLUMNS($BU$3:DF$3),2)+1))","v":-9.7492791218182351},{"$f":"IF(OR(MOD($AF6,2)=0,INDEX(relationships,INT($AF6/2)+1,DG$3)<>2),INDEX($AC$5:$AD$24,DG$3,MOD(COLUMNS($BU$3:DG$3),2)+1),INDEX($AC$5:$AD$24,INT($AF6/2)+1,MOD(COLUMNS($BU$3:DG$3),2)+1))","v":-2.2252093395631505},{"$f":"IF(OR(MOD($AF6,2)=0,INDEX(relationships,INT($AF6/2)+1,DH$3)<>2),INDEX($AC$5:$AD$24,DH$3,MOD(COLUMNS($BU$3:DH$3),2)+1),INDEX($AC$5:$AD$24,INT($AF6/2)+1,MOD(COLUMNS($BU$3:DH$3),2)+1))","v":-7.8183148246803027},{"$f":"IF(OR(MOD($AF6,2)=0,INDEX(relationships,INT($AF6/2)+1,DI$3)<>2),INDEX($AC$5:$AD$24,DI$3,MOD(COLUMNS($BU$3:DI$3),2)+1),INDEX($AC$5:$AD$24,INT($AF6/2)+1,MOD(COLUMNS($BU$3:DI$3),2)+1))","v":6.2348980185873293},null,{"$f":"INDEX($AG6:$BT6,$Z$16*2-1)","v":-2.45029690981724E-15},{"$f":"INDEX($AG6:$BT6,$Z$16*2)","v":10},{"$f":"INDEX($BV6:$DI6,$Z$16*2-1)","v":-2.45029690981724E-15},{"$f":"INDEX($BV6:$DI6,$Z$16*2)","v":10}]
[null,{"$f":"'Group Data'!B20","v":"Siblings"},{"$f":"'Group Data'!AJ20","v":2},{"$f":"'Group Data'!AK20","v":2},null,null,null,null,null,null,null,null,null,null,null,null,null,null,null,null,null,null,null,null,"y",0,null,3,4.3388373911755824,-9.0096886790241903,null,2,{"$f":"IF(OR(MOD($AF7,2)=0,INDEX(relationships,INT($AF7/2)+1,AG$3)<>1),INDEX($AC$5:$AD$24,AG$3,MOD(COLUMNS($AF$3:AG$3),2)+1),INDEX($AC$5:$AD$24,INT($AF7/2)+1,MOD(COLUMNS($AF$3:AG$3),2)+1))","v":7.8183148246802983},{"$f":"IF(OR(MOD($AF7,2)=0,INDEX(relationships,INT($AF7/2)+1,AH$3)<>1),INDEX($AC$5:$AD$24,AH$3,MOD(COLUMNS($AF$3:AH$3),2)+1),INDEX($AC$5:$AD$24,INT($AF7/2)+1,MOD(COLUMNS($AF$3:AH$3),2)+1))","v":6.2348980185873355},{"$f":"IF(OR(MOD($AF7,2)=0,INDEX(relationships,INT($AF7/2)+1,AI$3)<>1),INDEX($AC$5:$AD$24,AI$3,MOD(COLUMNS($AF$3:AI$3),2)+1),INDEX($AC$5:$AD$24,INT($AF7/2)+1,MOD(COLUMNS($AF$3:AI$3),2)+1))","v":9.7492791218182369},{"$f":"IF(OR(MOD($AF7,2)=0,INDEX(relationships,INT($AF7/2)+1,AJ$3)<>1),INDEX($AC$5:$AD$24,AJ$3,MOD(COLUMNS($AF$3:AJ$3),2)+1),INDEX($AC$5:$AD$24,INT($AF7/2)+1,MOD(COLUMNS($AF$3:AJ$3),2)+1))","v":-2.2252093395631434},{"$f":"IF(OR(MOD($AF7,2)=0,INDEX(relationships,INT($AF7/2)+1,AK$3)<>1),INDEX($AC$5:$AD$24,AK$3,MOD(COLUMNS($AF$3:AK$3),2)+1),INDEX($AC$5:$AD$24,INT($AF7/2)+1,MOD(COLUMNS($AF$3:AK$3),2)+1))","v":4.3388373911755824},{"$f":"IF(OR(MOD($AF7,2)=0,INDEX(relationships,INT($AF7/2)+1,AL$3)<>1),INDEX($AC$5:$AD$24,AL$3,MOD(COLUMNS($AF$3:AL$3),2)+1),INDEX($AC$5:$AD$24,INT($AF7/2)+1,MOD(COLUMNS($AF$3:AL$3),2)+1))","v":-9.0096886790241903},{"$f":"IF(OR(MOD($AF7,2)=0,INDEX(relationships,INT($AF7/2)+1,AM$3)<>1),INDEX($AC$5:$AD$24,AM$3,MOD(COLUMNS($AF$3:AM$3),2)+1),INDEX($AC$5:$AD$24,INT($AF7/2)+1,MOD(COLUMNS($AF$3:AM$3),2)+1))","v":-4.3388373911755798},{"$f":"IF(OR(MOD($AF7,2)=0,INDEX(relationships,INT($AF7/2)+1,AN$3)<>1),INDEX($AC$5:$AD$24,AN$3,MOD(COLUMNS($AF$3:AN$3),2)+1),INDEX($AC$5:$AD$24,INT($AF7/2)+1,MOD(COLUMNS($AF$3:AN$3),2)+1))","v":-9.0096886790241921},{"$f":"IF(OR(MOD($AF7,2)=0,INDEX(relationships,INT($AF7/2)+1,AO$3)<>1),INDEX($AC$5:$AD$24,AO$3,MOD(COLUMNS($AF$3:AO$3),2)+1),INDEX($AC$5:$AD$24,INT($AF7/2)+1,MOD(COLUMNS($AF$3:AO$3),2)+1))","v":-9.7492791218182369},{"$f":"IF(OR(MOD($AF7,2)=0,INDEX(relationships,INT($AF7/2)+1,AP$3)<>1),INDEX($AC$5:$AD$24,AP$3,MOD(COLUMNS($AF$3:AP$3),2)+1),INDEX($AC$5:$AD$24,INT($AF7/2)+1,MOD(COLUMNS($AF$3:AP$3),2)+1))","v":-2.225209339563146},{"$f":"IF(OR(MOD($AF7,2)=0,INDEX(relationships,INT($AF7/2)+1,AQ$3)<>1),INDEX($AC$5:$AD$24,AQ$3,MOD(COLUMNS($AF$3:AQ$3),2)+1),INDEX($AC$5:$AD$24,INT($AF7/2)+1,MOD(COLUMNS($AF$3:AQ$3),2)+1))","v":-7.8183148246802991},{"$f":"IF(OR(MOD($AF7,2)=0,INDEX(relationships,INT($AF7/2)+1,AR$3)<>1),INDEX($AC$5:$AD$24,AR$3,MOD(COLUMNS($AF$3:AR$3),2)+1),INDEX($AC$5:$AD$24,INT($AF7/2)+1,MOD(COLUMNS($AF$3:AR$3),2)+1))","v":6.2348980185873337},{"$f":"IF(OR(MOD($AF7,2)=0,INDEX(relationships,INT($AF7/2)+1,AS$3)<>1),INDEX($AC$5:$AD$24,AS$3,MOD(COLUMNS($AF$3:AS$3),2)+1),INDEX($AC$5:$AD$24,INT($AF7/2)+1,MOD(COLUMNS($AF$3:AS$3),2)+1))","v":-2.45029690981724E-15},{"$f":"IF(OR(MOD($AF7,2)=0,INDEX(relationships,INT($AF7/2)+1,AT$3)<>1),INDEX($AC$5:$AD$24,AT$3,MOD(COLUMNS($AF$3:AT$3),2)+1),INDEX($AC$5:$AD$24,INT($AF7/2)+1,MOD(COLUMNS($AF$3:AT$3),2)+1))","v":10},{"$f":"IF(OR(MOD($AF7,2)=0,INDEX(relationships,INT($AF7/2)+1,AU$3)<>1),INDEX($AC$5:$AD$24,AU$3,MOD(COLUMNS($AF$3:AU$3),2)+1),INDEX($AC$5:$AD$24,INT($AF7/2)+1,MOD(COLUMNS($AF$3:AU$3),2)+1))","v":7.8183148246802956},{"$f":"IF(OR(MOD($AF7,2)=0,INDEX(relationships,INT($AF7/2)+1,AV$3)<>1),INDEX($AC$5:$AD$24,AV$3,MOD(COLUMNS($AF$3:AV$3),2)+1),INDEX($AC$5:$AD$24,INT($AF7/2)+1,MOD(COLUMNS($AF$3:AV$3),2)+1))","v":6.2348980185873373},{"$f":"IF(OR(MOD($AF7,2)=0,INDEX(relationships,INT($AF7/2)+1,AW$3)<>1),INDEX($AC$5:$AD$24,AW$3,MOD(COLUMNS($AF$3:AW$3),2)+1),INDEX($AC$5:$AD$24,INT($AF7/2)+1,MOD(COLUMNS($AF$3:AW$3),2)+1))","v":9.7492791218182369},{"$f":"IF(OR(MOD($AF7,2)=0,INDEX(relationships,INT($AF7/2)+1,AX$3)<>1),INDEX($AC$5:$AD$24,AX$3,MOD(COLUMNS($AF$3:AX$3),2)+1),INDEX($AC$5:$AD$24,INT($AF7/2)+1,MOD(COLUMNS($AF$3:AX$3),2)+1))","v":-2.2252093395631407},{"$f":"IF(OR(MOD($AF7,2)=0,INDEX(relationships,INT($AF7/2)+1,AY$3)<>1),INDEX($AC$5:$AD$24,AY$3,MOD(COLUMNS($AF$3:AY$3),2)+1),INDEX($AC$5:$AD$24,INT($AF7/2)+1,MOD(COLUMNS($AF$3:AY$3),2)+1))","v":4.3388373911755842},{"$f":"IF(OR(MOD($AF7,2)=0,INDEX(relationships,INT($AF7/2)+1,AZ$3)<>1),INDEX($AC$5:$AD$24,AZ$3,MOD(COLUMNS($AF$3:AZ$3),2)+1),INDEX($AC$5:$AD$24,INT($AF7/2)+1,MOD(COLUMNS($AF$3:AZ$3),2)+1))","v":-9.0096886790241886},{"$f":"IF(OR(MOD($AF7,2)=0,INDEX(relationships,INT($AF7/2)+1,BA$3)<>1),INDEX($AC$5:$AD$24,BA$3,MOD(COLUMNS($AF$3:BA$3),2)+1),INDEX($AC$5:$AD$24,INT($AF7/2)+1,MOD(COLUMNS($AF$3:BA$3),2)+1))","v":-4.338837391175578},{"$f":"IF(OR(MOD($AF7,2)=0,INDEX(relationships,INT($AF7/2)+1,BB$3)<>1),INDEX($AC$5:$AD$24,BB$3,MOD(COLUMNS($AF$3:BB$3),2)+1),INDEX($AC$5:$AD$24,INT($AF7/2)+1,MOD(COLUMNS($AF$3:BB$3),2)+1))","v":-9.0096886790241921},{"$f":"IF(OR(MOD($AF7,2)=0,INDEX(relationships,INT($AF7/2)+1,BC$3)<>1),INDEX($AC$5:$AD$24,BC$3,MOD(COLUMNS($AF$3:BC$3),2)+1),INDEX($AC$5:$AD$24,INT($AF7/2)+1,MOD(COLUMNS($AF$3:BC$3),2)+1))","v":-9.7492791218182351},{"$f":"IF(OR(MOD($AF7,2)=0,INDEX(relationships,INT($AF7/2)+1,BD$3)<>1),INDEX($AC$5:$AD$24,BD$3,MOD(COLUMNS($AF$3:BD$3),2)+1),INDEX($AC$5:$AD$24,INT($AF7/2)+1,MOD(COLUMNS($AF$3:BD$3),2)+1))","v":-2.2252093395631483},{"$f":"IF(OR(MOD($AF7,2)=0,INDEX(relationships,INT($AF7/2)+1,BE$3)<>1),INDEX($AC$5:$AD$24,BE$3,MOD(COLUMNS($AF$3:BE$3),2)+1),INDEX($AC$5:$AD$24,INT($AF7/2)+1,MOD(COLUMNS($AF$3:BE$3),2)+1))","v":-7.8183148246803018},{"$f":"IF(OR(MOD($AF7,2)=0,INDEX(relationships,INT($AF7/2)+1,BF$3)<>1),INDEX($AC$5:$AD$24,BF$3,MOD(COLUMNS($AF$3:BF$3),2)+1),INDEX($AC$5:$AD$24,INT($AF7/2)+1,MOD(COLUMNS($AF$3:BF$3),2)+1))","v":6.2348980185873319},{"$f":"IF(OR(MOD($AF7,2)=0,INDEX(relationships,INT($AF7/2)+1,BG$3)<>1),INDEX($AC$5:$AD$24,BG$3,MOD(COLUMNS($AF$3:BG$3),2)+1),INDEX($AC$5:$AD$24,INT($AF7/2)+1,MOD(COLUMNS($AF$3:BG$3),2)+1))","v":-4.90059381963448E-15},{"$f":"IF(OR(MOD($AF7,2)=0,INDEX(relationships,INT($AF7/2)+1,BH$3)<>1),INDEX($AC$5:$AD$24,BH$3,MOD(COLUMNS($AF$3:BH$3),2)+1),INDEX($AC$5:$AD$24,INT($AF7/2)+1,MOD(COLUMNS($AF$3:BH$3),2)+1))","v":10},{"$f":"IF(OR(MOD($AF7,2)=0,INDEX(relationships,INT($AF7/2)+1,BI$3)<>1),INDEX($AC$5:$AD$24,BI$3,MOD(COLUMNS($AF$3:BI$3),2)+1),INDEX($AC$5:$AD$24,INT($AF7/2)+1,MOD(COLUMNS($AF$3:BI$3),2)+1))","v":7.8183148246802947},{"$f":"IF(OR(MOD($AF7,2)=0,INDEX(relationships,INT($AF7/2)+1,BJ$3)<>1),INDEX($AC$5:$AD$24,BJ$3,MOD(COLUMNS($AF$3:BJ$3),2)+1),INDEX($AC$5:$AD$24,INT($AF7/2)+1,MOD(COLUMNS($AF$3:BJ$3),2)+1))","v":6.2348980185873391},{"$f":"IF(OR(MOD($AF7,2)=0,INDEX(relationships,INT($AF7/2)+1,BK$3)<>1),INDEX($AC$5:$AD$24,BK$3,MOD(COLUMNS($AF$3:BK$3),2)+1),INDEX($AC$5:$AD$24,INT($AF7/2)+1,MOD(COLUMNS($AF$3:BK$3),2)+1))","v":9.7492791218182369},{"$f":"IF(OR(MOD($AF7,2)=0,INDEX(relationships,INT($AF7/2)+1,BL$3)<>1),INDEX($AC$5:$AD$24,BL$3,MOD(COLUMNS($AF$3:BL$3),2)+1),INDEX($AC$5:$AD$24,INT($AF7/2)+1,MOD(COLUMNS($AF$3:BL$3),2)+1))","v":-2.2252093395631385},{"$f":"IF(OR(MOD($AF7,2)=0,INDEX(relationships,INT($AF7/2)+1,BM$3)<>1),INDEX($AC$5:$AD$24,BM$3,MOD(COLUMNS($AF$3:BM$3),2)+1),INDEX($AC$5:$AD$24,INT($AF7/2)+1,MOD(COLUMNS($AF$3:BM$3),2)+1))","v":4.3388373911755869},{"$f":"IF(OR(MOD($AF7,2)=0,INDEX(relationships,INT($AF7/2)+1,BN$3)<>1),INDEX($AC$5:$AD$24,BN$3,MOD(COLUMNS($AF$3:BN$3),2)+1),INDEX($AC$5:$AD$24,INT($AF7/2)+1,MOD(COLUMNS($AF$3:BN$3),2)+1))","v":-9.0096886790241886},{"$f":"IF(OR(MOD($AF7,2)=0,INDEX(relationships,INT($AF7/2)+1,BO$3)<>1),INDEX($AC$5:$AD$24,BO$3,MOD(COLUMNS($AF$3:BO$3),2)+1),INDEX($AC$5:$AD$24,INT($AF7/2)+1,MOD(COLUMNS($AF$3:BO$3),2)+1))","v":-4.3388373911755753},{"$f":"IF(OR(MOD($AF7,2)=0,INDEX(relationships,INT($AF7/2)+1,BP$3)<>1),INDEX($AC$5:$AD$24,BP$3,MOD(COLUMNS($AF$3:BP$3),2)+1),INDEX($AC$5:$AD$24,INT($AF7/2)+1,MOD(COLUMNS($AF$3:BP$3),2)+1))","v":-9.0096886790241939},{"$f":"IF(OR(MOD($AF7,2)=0,INDEX(relationships,INT($AF7/2)+1,BQ$3)<>1),INDEX($AC$5:$AD$24,BQ$3,MOD(COLUMNS($AF$3:BQ$3),2)+1),INDEX($AC$5:$AD$24,INT($AF7/2)+1,MOD(COLUMNS($AF$3:BQ$3),2)+1))","v":-9.7492791218182351},{"$f":"IF(OR(MOD($AF7,2)=0,INDEX(relationships,INT($AF7/2)+1,BR$3)<>1),INDEX($AC$5:$AD$24,BR$3,MOD(COLUMNS($AF$3:BR$3),2)+1),INDEX($AC$5:$AD$24,INT($AF7/2)+1,MOD(COLUMNS($AF$3:BR$3),2)+1))","v":-2.2252093395631505},{"$f":"IF(OR(MOD($AF7,2)=0,INDEX(relationships,INT($AF7/2)+1,BS$3)<>1),INDEX($AC$5:$AD$24,BS$3,MOD(COLUMNS($AF$3:BS$3),2)+1),INDEX($AC$5:$AD$24,INT($AF7/2)+1,MOD(COLUMNS($AF$3:BS$3),2)+1))","v":-7.8183148246803027},{"$f":"IF(OR(MOD($AF7,2)=0,INDEX(relationships,INT($AF7/2)+1,BT$3)<>1),INDEX($AC$5:$AD$24,BT$3,MOD(COLUMNS($AF$3:BT$3),2)+1),INDEX($AC$5:$AD$24,INT($AF7/2)+1,MOD(COLUMNS($AF$3:BT$3),2)+1))","v":6.2348980185873293},null,{"$f":"IF(OR(MOD($AF7,2)=0,INDEX(relationships,INT($AF7/2)+1,BV$3)<>2),INDEX($AC$5:$AD$24,BV$3,MOD(COLUMNS($BU$3:BV$3),2)+1),INDEX($AC$5:$AD$24,INT($AF7/2)+1,MOD(COLUMNS($BU$3:BV$3),2)+1))","v":7.8183148246802983},{"$f":"IF(OR(MOD($AF7,2)=0,INDEX(relationships,INT($AF7/2)+1,BW$3)<>2),INDEX($AC$5:$AD$24,BW$3,MOD(COLUMNS($BU$3:BW$3),2)+1),INDEX($AC$5:$AD$24,INT($AF7/2)+1,MOD(COLUMNS($BU$3:BW$3),2)+1))","v":6.2348980185873355},{"$f":"IF(OR(MOD($AF7,2)=0,INDEX(relationships,INT($AF7/2)+1,BX$3)<>2),INDEX($AC$5:$AD$24,BX$3,MOD(COLUMNS($BU$3:BX$3),2)+1),INDEX($AC$5:$AD$24,INT($AF7/2)+1,MOD(COLUMNS($BU$3:BX$3),2)+1))","v":9.7492791218182369},{"$f":"IF(OR(MOD($AF7,2)=0,INDEX(relationships,INT($AF7/2)+1,BY$3)<>2),INDEX($AC$5:$AD$24,BY$3,MOD(COLUMNS($BU$3:BY$3),2)+1),INDEX($AC$5:$AD$24,INT($AF7/2)+1,MOD(COLUMNS($BU$3:BY$3),2)+1))","v":-2.2252093395631434},{"$f":"IF(OR(MOD($AF7,2)=0,INDEX(relationships,INT($AF7/2)+1,BZ$3)<>2),INDEX($AC$5:$AD$24,BZ$3,MOD(COLUMNS($BU$3:BZ$3),2)+1),INDEX($AC$5:$AD$24,INT($AF7/2)+1,MOD(COLUMNS($BU$3:BZ$3),2)+1))","v":4.3388373911755824},{"$f":"IF(OR(MOD($AF7,2)=0,INDEX(relationships,INT($AF7/2)+1,CA$3)<>2),INDEX($AC$5:$AD$24,CA$3,MOD(COLUMNS($BU$3:CA$3),2)+1),INDEX($AC$5:$AD$24,INT($AF7/2)+1,MOD(COLUMNS($BU$3:CA$3),2)+1))","v":-9.0096886790241903},{"$f":"IF(OR(MOD($AF7,2)=0,INDEX(relationships,INT($AF7/2)+1,CB$3)<>2),INDEX($AC$5:$AD$24,CB$3,MOD(COLUMNS($BU$3:CB$3),2)+1),INDEX($AC$5:$AD$24,INT($AF7/2)+1,MOD(COLUMNS($BU$3:CB$3),2)+1))","v":-4.3388373911755798},{"$f":"IF(OR(MOD($AF7,2)=0,INDEX(relationships,INT($AF7/2)+1,CC$3)<>2),INDEX($AC$5:$AD$24,CC$3,MOD(COLUMNS($BU$3:CC$3),2)+1),INDEX($AC$5:$AD$24,INT($AF7/2)+1,MOD(COLUMNS($BU$3:CC$3),2)+1))","v":-9.0096886790241921},{"$f":"IF(OR(MOD($AF7,2)=0,INDEX(relationships,INT($AF7/2)+1,CD$3)<>2),INDEX($AC$5:$AD$24,CD$3,MOD(COLUMNS($BU$3:CD$3),2)+1),INDEX($AC$5:$AD$24,INT($AF7/2)+1,MOD(COLUMNS($BU$3:CD$3),2)+1))","v":-9.7492791218182369},{"$f":"IF(OR(MOD($AF7,2)=0,INDEX(relationships,INT($AF7/2)+1,CE$3)<>2),INDEX($AC$5:$AD$24,CE$3,MOD(COLUMNS($BU$3:CE$3),2)+1),INDEX($AC$5:$AD$24,INT($AF7/2)+1,MOD(COLUMNS($BU$3:CE$3),2)+1))","v":-2.225209339563146},{"$f":"IF(OR(MOD($AF7,2)=0,INDEX(relationships,INT($AF7/2)+1,CF$3)<>2),INDEX($AC$5:$AD$24,CF$3,MOD(COLUMNS($BU$3:CF$3),2)+1),INDEX($AC$5:$AD$24,INT($AF7/2)+1,MOD(COLUMNS($BU$3:CF$3),2)+1))","v":-7.8183148246802991},{"$f":"IF(OR(MOD($AF7,2)=0,INDEX(relationships,INT($AF7/2)+1,CG$3)<>2),INDEX($AC$5:$AD$24,CG$3,MOD(COLUMNS($BU$3:CG$3),2)+1),INDEX($AC$5:$AD$24,INT($AF7/2)+1,MOD(COLUMNS($BU$3:CG$3),2)+1))","v":6.2348980185873337},{"$f":"IF(OR(MOD($AF7,2)=0,INDEX(relationships,INT($AF7/2)+1,CH$3)<>2),INDEX($AC$5:$AD$24,CH$3,MOD(COLUMNS($BU$3:CH$3),2)+1),INDEX($AC$5:$AD$24,INT($AF7/2)+1,MOD(COLUMNS($BU$3:CH$3),2)+1))","v":-2.45029690981724E-15},{"$f":"IF(OR(MOD($AF7,2)=0,INDEX(relationships,INT($AF7/2)+1,CI$3)<>2),INDEX($AC$5:$AD$24,CI$3,MOD(COLUMNS($BU$3:CI$3),2)+1),INDEX($AC$5:$AD$24,INT($AF7/2)+1,MOD(COLUMNS($BU$3:CI$3),2)+1))","v":10},{"$f":"IF(OR(MOD($AF7,2)=0,INDEX(relationships,INT($AF7/2)+1,CJ$3)<>2),INDEX($AC$5:$AD$24,CJ$3,MOD(COLUMNS($BU$3:CJ$3),2)+1),INDEX($AC$5:$AD$24,INT($AF7/2)+1,MOD(COLUMNS($BU$3:CJ$3),2)+1))","v":7.8183148246802956},{"$f":"IF(OR(MOD($AF7,2)=0,INDEX(relationships,INT($AF7/2)+1,CK$3)<>2),INDEX($AC$5:$AD$24,CK$3,MOD(COLUMNS($BU$3:CK$3),2)+1),INDEX($AC$5:$AD$24,INT($AF7/2)+1,MOD(COLUMNS($BU$3:CK$3),2)+1))","v":6.2348980185873373},{"$f":"IF(OR(MOD($AF7,2)=0,INDEX(relationships,INT($AF7/2)+1,CL$3)<>2),INDEX($AC$5:$AD$24,CL$3,MOD(COLUMNS($BU$3:CL$3),2)+1),INDEX($AC$5:$AD$24,INT($AF7/2)+1,MOD(COLUMNS($BU$3:CL$3),2)+1))","v":9.7492791218182369},{"$f":"IF(OR(MOD($AF7,2)=0,INDEX(relationships,INT($AF7/2)+1,CM$3)<>2),INDEX($AC$5:$AD$24,CM$3,MOD(COLUMNS($BU$3:CM$3),2)+1),INDEX($AC$5:$AD$24,INT($AF7/2)+1,MOD(COLUMNS($BU$3:CM$3),2)+1))","v":-2.2252093395631407},{"$f":"IF(OR(MOD($AF7,2)=0,INDEX(relationships,INT($AF7/2)+1,CN$3)<>2),INDEX($AC$5:$AD$24,CN$3,MOD(COLUMNS($BU$3:CN$3),2)+1),INDEX($AC$5:$AD$24,INT($AF7/2)+1,MOD(COLUMNS($BU$3:CN$3),2)+1))","v":4.3388373911755842},{"$f":"IF(OR(MOD($AF7,2)=0,INDEX(relationships,INT($AF7/2)+1,CO$3)<>2),INDEX($AC$5:$AD$24,CO$3,MOD(COLUMNS($BU$3:CO$3),2)+1),INDEX($AC$5:$AD$24,INT($AF7/2)+1,MOD(COLUMNS($BU$3:CO$3),2)+1))","v":-9.0096886790241886},{"$f":"IF(OR(MOD($AF7,2)=0,INDEX(relationships,INT($AF7/2)+1,CP$3)<>2),INDEX($AC$5:$AD$24,CP$3,MOD(COLUMNS($BU$3:CP$3),2)+1),INDEX($AC$5:$AD$24,INT($AF7/2)+1,MOD(COLUMNS($BU$3:CP$3),2)+1))","v":-4.338837391175578},{"$f":"IF(OR(MOD($AF7,2)=0,INDEX(relationships,INT($AF7/2)+1,CQ$3)<>2),INDEX($AC$5:$AD$24,CQ$3,MOD(COLUMNS($BU$3:CQ$3),2)+1),INDEX($AC$5:$AD$24,INT($AF7/2)+1,MOD(COLUMNS($BU$3:CQ$3),2)+1))","v":-9.0096886790241921},{"$f":"IF(OR(MOD($AF7,2)=0,INDEX(relationships,INT($AF7/2)+1,CR$3)<>2),INDEX($AC$5:$AD$24,CR$3,MOD(COLUMNS($BU$3:CR$3),2)+1),INDEX($AC$5:$AD$24,INT($AF7/2)+1,MOD(COLUMNS($BU$3:CR$3),2)+1))","v":-9.7492791218182351},{"$f":"IF(OR(MOD($AF7,2)=0,INDEX(relationships,INT($AF7/2)+1,CS$3)<>2),INDEX($AC$5:$AD$24,CS$3,MOD(COLUMNS($BU$3:CS$3),2)+1),INDEX($AC$5:$AD$24,INT($AF7/2)+1,MOD(COLUMNS($BU$3:CS$3),2)+1))","v":-2.2252093395631483},{"$f":"IF(OR(MOD($AF7,2)=0,INDEX(relationships,INT($AF7/2)+1,CT$3)<>2),INDEX($AC$5:$AD$24,CT$3,MOD(COLUMNS($BU$3:CT$3),2)+1),INDEX($AC$5:$AD$24,INT($AF7/2)+1,MOD(COLUMNS($BU$3:CT$3),2)+1))","v":-7.8183148246803018},{"$f":"IF(OR(MOD($AF7,2)=0,INDEX(relationships,INT($AF7/2)+1,CU$3)<>2),INDEX($AC$5:$AD$24,CU$3,MOD(COLUMNS($BU$3:CU$3),2)+1),INDEX($AC$5:$AD$24,INT($AF7/2)+1,MOD(COLUMNS($BU$3:CU$3),2)+1))","v":6.2348980185873319},{"$f":"IF(OR(MOD($AF7,2)=0,INDEX(relationships,INT($AF7/2)+1,CV$3)<>2),INDEX($AC$5:$AD$24,CV$3,MOD(COLUMNS($BU$3:CV$3),2)+1),INDEX($AC$5:$AD$24,INT($AF7/2)+1,MOD(COLUMNS($BU$3:CV$3),2)+1))","v":-4.90059381963448E-15},{"$f":"IF(OR(MOD($AF7,2)=0,INDEX(relationships,INT($AF7/2)+1,CW$3)<>2),INDEX($AC$5:$AD$24,CW$3,MOD(COLUMNS($BU$3:CW$3),2)+1),INDEX($AC$5:$AD$24,INT($AF7/2)+1,MOD(COLUMNS($BU$3:CW$3),2)+1))","v":10},{"$f":"IF(OR(MOD($AF7,2)=0,INDEX(relationships,INT($AF7/2)+1,CX$3)<>2),INDEX($AC$5:$AD$24,CX$3,MOD(COLUMNS($BU$3:CX$3),2)+1),INDEX($AC$5:$AD$24,INT($AF7/2)+1,MOD(COLUMNS($BU$3:CX$3),2)+1))","v":7.8183148246802947},{"$f":"IF(OR(MOD($AF7,2)=0,INDEX(relationships,INT($AF7/2)+1,CY$3)<>2),INDEX($AC$5:$AD$24,CY$3,MOD(COLUMNS($BU$3:CY$3),2)+1),INDEX($AC$5:$AD$24,INT($AF7/2)+1,MOD(COLUMNS($BU$3:CY$3),2)+1))","v":6.2348980185873391},{"$f":"IF(OR(MOD($AF7,2)=0,INDEX(relationships,INT($AF7/2)+1,CZ$3)<>2),INDEX($AC$5:$AD$24,CZ$3,MOD(COLUMNS($BU$3:CZ$3),2)+1),INDEX($AC$5:$AD$24,INT($AF7/2)+1,MOD(COLUMNS($BU$3:CZ$3),2)+1))","v":9.7492791218182369},{"$f":"IF(OR(MOD($AF7,2)=0,INDEX(relationships,INT($AF7/2)+1,DA$3)<>2),INDEX($AC$5:$AD$24,DA$3,MOD(COLUMNS($BU$3:DA$3),2)+1),INDEX($AC$5:$AD$24,INT($AF7/2)+1,MOD(COLUMNS($BU$3:DA$3),2)+1))","v":-2.2252093395631385},{"$f":"IF(OR(MOD($AF7,2)=0,INDEX(relationships,INT($AF7/2)+1,DB$3)<>2),INDEX($AC$5:$AD$24,DB$3,MOD(COLUMNS($BU$3:DB$3),2)+1),INDEX($AC$5:$AD$24,INT($AF7/2)+1,MOD(COLUMNS($BU$3:DB$3),2)+1))","v":4.3388373911755869},{"$f":"IF(OR(MOD($AF7,2)=0,INDEX(relationships,INT($AF7/2)+1,DC$3)<>2),INDEX($AC$5:$AD$24,DC$3,MOD(COLUMNS($BU$3:DC$3),2)+1),INDEX($AC$5:$AD$24,INT($AF7/2)+1,MOD(COLUMNS($BU$3:DC$3),2)+1))","v":-9.0096886790241886},{"$f":"IF(OR(MOD($AF7,2)=0,INDEX(relationships,INT($AF7/2)+1,DD$3)<>2),INDEX($AC$5:$AD$24,DD$3,MOD(COLUMNS($BU$3:DD$3),2)+1),INDEX($AC$5:$AD$24,INT($AF7/2)+1,MOD(COLUMNS($BU$3:DD$3),2)+1))","v":-4.3388373911755753},{"$f":"IF(OR(MOD($AF7,2)=0,INDEX(relationships,INT($AF7/2)+1,DE$3)<>2),INDEX($AC$5:$AD$24,DE$3,MOD(COLUMNS($BU$3:DE$3),2)+1),INDEX($AC$5:$AD$24,INT($AF7/2)+1,MOD(COLUMNS($BU$3:DE$3),2)+1))","v":-9.0096886790241939},{"$f":"IF(OR(MOD($AF7,2)=0,INDEX(relationships,INT($AF7/2)+1,DF$3)<>2),INDEX($AC$5:$AD$24,DF$3,MOD(COLUMNS($BU$3:DF$3),2)+1),INDEX($AC$5:$AD$24,INT($AF7/2)+1,MOD(COLUMNS($BU$3:DF$3),2)+1))","v":-9.7492791218182351},{"$f":"IF(OR(MOD($AF7,2)=0,INDEX(relationships,INT($AF7/2)+1,DG$3)<>2),INDEX($AC$5:$AD$24,DG$3,MOD(COLUMNS($BU$3:DG$3),2)+1),INDEX($AC$5:$AD$24,INT($AF7/2)+1,MOD(COLUMNS($BU$3:DG$3),2)+1))","v":-2.2252093395631505},{"$f":"IF(OR(MOD($AF7,2)=0,INDEX(relationships,INT($AF7/2)+1,DH$3)<>2),INDEX($AC$5:$AD$24,DH$3,MOD(COLUMNS($BU$3:DH$3),2)+1),INDEX($AC$5:$AD$24,INT($AF7/2)+1,MOD(COLUMNS($BU$3:DH$3),2)+1))","v":-7.8183148246803027},{"$f":"IF(OR(MOD($AF7,2)=0,INDEX(relationships,INT($AF7/2)+1,DI$3)<>2),INDEX($AC$5:$AD$24,DI$3,MOD(COLUMNS($BU$3:DI$3),2)+1),INDEX($AC$5:$AD$24,INT($AF7/2)+1,MOD(COLUMNS($BU$3:DI$3),2)+1))","v":6.2348980185873293},null,-2.45029690981724E-15,10,-2.45029690981724E-15,10]
[null,{"$f":"'Group Data'!B21","v":"Grandparents"},{"$f":"'Group Data'!AJ21","v":0},{"$f":"'Group Data'!AK21","v":0},{"$f":"'Group Data'!AL21","v":0},null,null,null,null,null,null,null,null,null,null,null,null,null,null,null,null,null,null,null,"R",10,null,4,-4.3388373911755798,-9.0096886790241921,null,3,{"$f":"IF(OR(MOD($AF8,2)=0,INDEX(relationships,INT($AF8/2)+1,AG$3)<>1),INDEX($AC$5:$AD$24,AG$3,MOD(COLUMNS($AF$3:AG$3),2)+1),INDEX($AC$5:$AD$24,INT($AF8/2)+1,MOD(COLUMNS($AF$3:AG$3),2)+1))","v":7.8183148246802983},{"$f":"IF(OR(MOD($AF8,2)=0,INDEX(relationships,INT($AF8/2)+1,AH$3)<>1),INDEX($AC$5:$AD$24,AH$3,MOD(COLUMNS($AF$3:AH$3),2)+1),INDEX($AC$5:$AD$24,INT($AF8/2)+1,MOD(COLUMNS($AF$3:AH$3),2)+1))","v":6.2348980185873355},{"$f":"IF(OR(MOD($AF8,2)=0,INDEX(relationships,INT($AF8/2)+1,AI$3)<>1),INDEX($AC$5:$AD$24,AI$3,MOD(COLUMNS($AF$3:AI$3),2)+1),INDEX($AC$5:$AD$24,INT($AF8/2)+1,MOD(COLUMNS($AF$3:AI$3),2)+1))","v":9.7492791218182369},{"$f":"IF(OR(MOD($AF8,2)=0,INDEX(relationships,INT($AF8/2)+1,AJ$3)<>1),INDEX($AC$5:$AD$24,AJ$3,MOD(COLUMNS($AF$3:AJ$3),2)+1),INDEX($AC$5:$AD$24,INT($AF8/2)+1,MOD(COLUMNS($AF$3:AJ$3),2)+1))","v":-2.2252093395631434},{"$f":"IF(OR(MOD($AF8,2)=0,INDEX(relationships,INT($AF8/2)+1,AK$3)<>1),INDEX($AC$5:$AD$24,AK$3,MOD(COLUMNS($AF$3:AK$3),2)+1),INDEX($AC$5:$AD$24,INT($AF8/2)+1,MOD(COLUMNS($AF$3:AK$3),2)+1))","v":4.3388373911755824},{"$f":"IF(OR(MOD($AF8,2)=0,INDEX(relationships,INT($AF8/2)+1,AL$3)<>1),INDEX($AC$5:$AD$24,AL$3,MOD(COLUMNS($AF$3:AL$3),2)+1),INDEX($AC$5:$AD$24,INT($AF8/2)+1,MOD(COLUMNS($AF$3:AL$3),2)+1))","v":-9.0096886790241903},{"$f":"IF(OR(MOD($AF8,2)=0,INDEX(relationships,INT($AF8/2)+1,AM$3)<>1),INDEX($AC$5:$AD$24,AM$3,MOD(COLUMNS($AF$3:AM$3),2)+1),INDEX($AC$5:$AD$24,INT($AF8/2)+1,MOD(COLUMNS($AF$3:AM$3),2)+1))","v":-4.3388373911755798},{"$f":"IF(OR(MOD($AF8,2)=0,INDEX(relationships,INT($AF8/2)+1,AN$3)<>1),INDEX($AC$5:$AD$24,AN$3,MOD(COLUMNS($AF$3:AN$3),2)+1),INDEX($AC$5:$AD$24,INT($AF8/2)+1,MOD(COLUMNS($AF$3:AN$3),2)+1))","v":-9.0096886790241921},{"$f":"IF(OR(MOD($AF8,2)=0,INDEX(relationships,INT($AF8/2)+1,AO$3)<>1),INDEX($AC$5:$AD$24,AO$3,MOD(COLUMNS($AF$3:AO$3),2)+1),INDEX($AC$5:$AD$24,INT($AF8/2)+1,MOD(COLUMNS($AF$3:AO$3),2)+1))","v":-9.7492791218182369},{"$f":"IF(OR(MOD($AF8,2)=0,INDEX(relationships,INT($AF8/2)+1,AP$3)<>1),INDEX($AC$5:$AD$24,AP$3,MOD(COLUMNS($AF$3:AP$3),2)+1),INDEX($AC$5:$AD$24,INT($AF8/2)+1,MOD(COLUMNS($AF$3:AP$3),2)+1))","v":-2.225209339563146},{"$f":"IF(OR(MOD($AF8,2)=0,INDEX(relationships,INT($AF8/2)+1,AQ$3)<>1),INDEX($AC$5:$AD$24,AQ$3,MOD(COLUMNS($AF$3:AQ$3),2)+1),INDEX($AC$5:$AD$24,INT($AF8/2)+1,MOD(COLUMNS($AF$3:AQ$3),2)+1))","v":-7.8183148246802991},{"$f":"IF(OR(MOD($AF8,2)=0,INDEX(relationships,INT($AF8/2)+1,AR$3)<>1),INDEX($AC$5:$AD$24,AR$3,MOD(COLUMNS($AF$3:AR$3),2)+1),INDEX($AC$5:$AD$24,INT($AF8/2)+1,MOD(COLUMNS($AF$3:AR$3),2)+1))","v":6.2348980185873337},{"$f":"IF(OR(MOD($AF8,2)=0,INDEX(relationships,INT($AF8/2)+1,AS$3)<>1),INDEX($AC$5:$AD$24,AS$3,MOD(COLUMNS($AF$3:AS$3),2)+1),INDEX($AC$5:$AD$24,INT($AF8/2)+1,MOD(COLUMNS($AF$3:AS$3),2)+1))","v":-2.45029690981724E-15},{"$f":"IF(OR(MOD($AF8,2)=0,INDEX(relationships,INT($AF8/2)+1,AT$3)<>1),INDEX($AC$5:$AD$24,AT$3,MOD(COLUMNS($AF$3:AT$3),2)+1),INDEX($AC$5:$AD$24,INT($AF8/2)+1,MOD(COLUMNS($AF$3:AT$3),2)+1))","v":10},{"$f":"IF(OR(MOD($AF8,2)=0,INDEX(relationships,INT($AF8/2)+1,AU$3)<>1),INDEX($AC$5:$AD$24,AU$3,MOD(COLUMNS($AF$3:AU$3),2)+1),INDEX($AC$5:$AD$24,INT($AF8/2)+1,MOD(COLUMNS($AF$3:AU$3),2)+1))","v":7.8183148246802956},{"$f":"IF(OR(MOD($AF8,2)=0,INDEX(relationships,INT($AF8/2)+1,AV$3)<>1),INDEX($AC$5:$AD$24,AV$3,MOD(COLUMNS($AF$3:AV$3),2)+1),INDEX($AC$5:$AD$24,INT($AF8/2)+1,MOD(COLUMNS($AF$3:AV$3),2)+1))","v":6.2348980185873373},{"$f":"IF(OR(MOD($AF8,2)=0,INDEX(relationships,INT($AF8/2)+1,AW$3)<>1),INDEX($AC$5:$AD$24,AW$3,MOD(COLUMNS($AF$3:AW$3),2)+1),INDEX($AC$5:$AD$24,INT($AF8/2)+1,MOD(COLUMNS($AF$3:AW$3),2)+1))","v":9.7492791218182369},{"$f":"IF(OR(MOD($AF8,2)=0,INDEX(relationships,INT($AF8/2)+1,AX$3)<>1),INDEX($AC$5:$AD$24,AX$3,MOD(COLUMNS($AF$3:AX$3),2)+1),INDEX($AC$5:$AD$24,INT($AF8/2)+1,MOD(COLUMNS($AF$3:AX$3),2)+1))","v":-2.2252093395631407},{"$f":"IF(OR(MOD($AF8,2)=0,INDEX(relationships,INT($AF8/2)+1,AY$3)<>1),INDEX($AC$5:$AD$24,AY$3,MOD(COLUMNS($AF$3:AY$3),2)+1),INDEX($AC$5:$AD$24,INT($AF8/2)+1,MOD(COLUMNS($AF$3:AY$3),2)+1))","v":4.3388373911755842},{"$f":"IF(OR(MOD($AF8,2)=0,INDEX(relationships,INT($AF8/2)+1,AZ$3)<>1),INDEX($AC$5:$AD$24,AZ$3,MOD(COLUMNS($AF$3:AZ$3),2)+1),INDEX($AC$5:$AD$24,INT($AF8/2)+1,MOD(COLUMNS($AF$3:AZ$3),2)+1))","v":-9.0096886790241886},{"$f":"IF(OR(MOD($AF8,2)=0,INDEX(relationships,INT($AF8/2)+1,BA$3)<>1),INDEX($AC$5:$AD$24,BA$3,MOD(COLUMNS($AF$3:BA$3),2)+1),INDEX($AC$5:$AD$24,INT($AF8/2)+1,MOD(COLUMNS($AF$3:BA$3),2)+1))","v":-4.338837391175578},{"$f":"IF(OR(MOD($AF8,2)=0,INDEX(relationships,INT($AF8/2)+1,BB$3)<>1),INDEX($AC$5:$AD$24,BB$3,MOD(COLUMNS($AF$3:BB$3),2)+1),INDEX($AC$5:$AD$24,INT($AF8/2)+1,MOD(COLUMNS($AF$3:BB$3),2)+1))","v":-9.0096886790241921},{"$f":"IF(OR(MOD($AF8,2)=0,INDEX(relationships,INT($AF8/2)+1,BC$3)<>1),INDEX($AC$5:$AD$24,BC$3,MOD(COLUMNS($AF$3:BC$3),2)+1),INDEX($AC$5:$AD$24,INT($AF8/2)+1,MOD(COLUMNS($AF$3:BC$3),2)+1))","v":-9.7492791218182351},{"$f":"IF(OR(MOD($AF8,2)=0,INDEX(relationships,INT($AF8/2)+1,BD$3)<>1),INDEX($AC$5:$AD$24,BD$3,MOD(COLUMNS($AF$3:BD$3),2)+1),INDEX($AC$5:$AD$24,INT($AF8/2)+1,MOD(COLUMNS($AF$3:BD$3),2)+1))","v":-2.2252093395631483},{"$f":"IF(OR(MOD($AF8,2)=0,INDEX(relationships,INT($AF8/2)+1,BE$3)<>1),INDEX($AC$5:$AD$24,BE$3,MOD(COLUMNS($AF$3:BE$3),2)+1),INDEX($AC$5:$AD$24,INT($AF8/2)+1,MOD(COLUMNS($AF$3:BE$3),2)+1))","v":-7.8183148246803018},{"$f":"IF(OR(MOD($AF8,2)=0,INDEX(relationships,INT($AF8/2)+1,BF$3)<>1),INDEX($AC$5:$AD$24,BF$3,MOD(COLUMNS($AF$3:BF$3),2)+1),INDEX($AC$5:$AD$24,INT($AF8/2)+1,MOD(COLUMNS($AF$3:BF$3),2)+1))","v":6.2348980185873319},{"$f":"IF(OR(MOD($AF8,2)=0,INDEX(relationships,INT($AF8/2)+1,BG$3)<>1),INDEX($AC$5:$AD$24,BG$3,MOD(COLUMNS($AF$3:BG$3),2)+1),INDEX($AC$5:$AD$24,INT($AF8/2)+1,MOD(COLUMNS($AF$3:BG$3),2)+1))","v":-4.90059381963448E-15},{"$f":"IF(OR(MOD($AF8,2)=0,INDEX(relationships,INT($AF8/2)+1,BH$3)<>1),INDEX($AC$5:$AD$24,BH$3,MOD(COLUMNS($AF$3:BH$3),2)+1),INDEX($AC$5:$AD$24,INT($AF8/2)+1,MOD(COLUMNS($AF$3:BH$3),2)+1))","v":10},{"$f":"IF(OR(MOD($AF8,2)=0,INDEX(relationships,INT($AF8/2)+1,BI$3)<>1),INDEX($AC$5:$AD$24,BI$3,MOD(COLUMNS($AF$3:BI$3),2)+1),INDEX($AC$5:$AD$24,INT($AF8/2)+1,MOD(COLUMNS($AF$3:BI$3),2)+1))","v":7.8183148246802947},{"$f":"IF(OR(MOD($AF8,2)=0,INDEX(relationships,INT($AF8/2)+1,BJ$3)<>1),INDEX($AC$5:$AD$24,BJ$3,MOD(COLUMNS($AF$3:BJ$3),2)+1),INDEX($AC$5:$AD$24,INT($AF8/2)+1,MOD(COLUMNS($AF$3:BJ$3),2)+1))","v":6.2348980185873391},{"$f":"IF(OR(MOD($AF8,2)=0,INDEX(relationships,INT($AF8/2)+1,BK$3)<>1),INDEX($AC$5:$AD$24,BK$3,MOD(COLUMNS($AF$3:BK$3),2)+1),INDEX($AC$5:$AD$24,INT($AF8/2)+1,MOD(COLUMNS($AF$3:BK$3),2)+1))","v":9.7492791218182369},{"$f":"IF(OR(MOD($AF8,2)=0,INDEX(relationships,INT($AF8/2)+1,BL$3)<>1),INDEX($AC$5:$AD$24,BL$3,MOD(COLUMNS($AF$3:BL$3),2)+1),INDEX($AC$5:$AD$24,INT($AF8/2)+1,MOD(COLUMNS($AF$3:BL$3),2)+1))","v":-2.2252093395631385},{"$f":"IF(OR(MOD($AF8,2)=0,INDEX(relationships,INT($AF8/2)+1,BM$3)<>1),INDEX($AC$5:$AD$24,BM$3,MOD(COLUMNS($AF$3:BM$3),2)+1),INDEX($AC$5:$AD$24,INT($AF8/2)+1,MOD(COLUMNS($AF$3:BM$3),2)+1))","v":4.3388373911755869},{"$f":"IF(OR(MOD($AF8,2)=0,INDEX(relationships,INT($AF8/2)+1,BN$3)<>1),INDEX($AC$5:$AD$24,BN$3,MOD(COLUMNS($AF$3:BN$3),2)+1),INDEX($AC$5:$AD$24,INT($AF8/2)+1,MOD(COLUMNS($AF$3:BN$3),2)+1))","v":-9.0096886790241886},{"$f":"IF(OR(MOD($AF8,2)=0,INDEX(relationships,INT($AF8/2)+1,BO$3)<>1),INDEX($AC$5:$AD$24,BO$3,MOD(COLUMNS($AF$3:BO$3),2)+1),INDEX($AC$5:$AD$24,INT($AF8/2)+1,MOD(COLUMNS($AF$3:BO$3),2)+1))","v":-4.3388373911755753},{"$f":"IF(OR(MOD($AF8,2)=0,INDEX(relationships,INT($AF8/2)+1,BP$3)<>1),INDEX($AC$5:$AD$24,BP$3,MOD(COLUMNS($AF$3:BP$3),2)+1),INDEX($AC$5:$AD$24,INT($AF8/2)+1,MOD(COLUMNS($AF$3:BP$3),2)+1))","v":-9.0096886790241939},{"$f":"IF(OR(MOD($AF8,2)=0,INDEX(relationships,INT($AF8/2)+1,BQ$3)<>1),INDEX($AC$5:$AD$24,BQ$3,MOD(COLUMNS($AF$3:BQ$3),2)+1),INDEX($AC$5:$AD$24,INT($AF8/2)+1,MOD(COLUMNS($AF$3:BQ$3),2)+1))","v":-9.7492791218182351},{"$f":"IF(OR(MOD($AF8,2)=0,INDEX(relationships,INT($AF8/2)+1,BR$3)<>1),INDEX($AC$5:$AD$24,BR$3,MOD(COLUMNS($AF$3:BR$3),2)+1),INDEX($AC$5:$AD$24,INT($AF8/2)+1,MOD(COLUMNS($AF$3:BR$3),2)+1))","v":-2.2252093395631505},{"$f":"IF(OR(MOD($AF8,2)=0,INDEX(relationships,INT($AF8/2)+1,BS$3)<>1),INDEX($AC$5:$AD$24,BS$3,MOD(COLUMNS($AF$3:BS$3),2)+1),INDEX($AC$5:$AD$24,INT($AF8/2)+1,MOD(COLUMNS($AF$3:BS$3),2)+1))","v":-7.8183148246803027},{"$f":"IF(OR(MOD($AF8,2)=0,INDEX(relationships,INT($AF8/2)+1,BT$3)<>1),INDEX($AC$5:$AD$24,BT$3,MOD(COLUMNS($AF$3:BT$3),2)+1),INDEX($AC$5:$AD$24,INT($AF8/2)+1,MOD(COLUMNS($AF$3:BT$3),2)+1))","v":6.2348980185873293},null,{"$f":"IF(OR(MOD($AF8,2)=0,INDEX(relationships,INT($AF8/2)+1,BV$3)<>2),INDEX($AC$5:$AD$24,BV$3,MOD(COLUMNS($BU$3:BV$3),2)+1),INDEX($AC$5:$AD$24,INT($AF8/2)+1,MOD(COLUMNS($BU$3:BV$3),2)+1))","v":9.7492791218182369},{"$f":"IF(OR(MOD($AF8,2)=0,INDEX(relationships,INT($AF8/2)+1,BW$3)<>2),INDEX($AC$5:$AD$24,BW$3,MOD(COLUMNS($BU$3:BW$3),2)+1),INDEX($AC$5:$AD$24,INT($AF8/2)+1,MOD(COLUMNS($BU$3:BW$3),2)+1))","v":-2.2252093395631434},{"$f":"IF(OR(MOD($AF8,2)=0,INDEX(relationships,INT($AF8/2)+1,BX$3)<>2),INDEX($AC$5:$AD$24,BX$3,MOD(COLUMNS($BU$3:BX$3),2)+1),INDEX($AC$5:$AD$24,INT($AF8/2)+1,MOD(COLUMNS($BU$3:BX$3),2)+1))","v":9.7492791218182369},{"$f":"IF(OR(MOD($AF8,2)=0,INDEX(relationships,INT($AF8/2)+1,BY$3)<>2),INDEX($AC$5:$AD$24,BY$3,MOD(COLUMNS($BU$3:BY$3),2)+1),INDEX($AC$5:$AD$24,INT($AF8/2)+1,MOD(COLUMNS($BU$3:BY$3),2)+1))","v":-2.2252093395631434},{"$f":"IF(OR(MOD($AF8,2)=0,INDEX(relationships,INT($AF8/2)+1,BZ$3)<>2),INDEX($AC$5:$AD$24,BZ$3,MOD(COLUMNS($BU$3:BZ$3),2)+1),INDEX($AC$5:$AD$24,INT($AF8/2)+1,MOD(COLUMNS($BU$3:BZ$3),2)+1))","v":9.7492791218182369},{"$f":"IF(OR(MOD($AF8,2)=0,INDEX(relationships,INT($AF8/2)+1,CA$3)<>2),INDEX($AC$5:$AD$24,CA$3,MOD(COLUMNS($BU$3:CA$3),2)+1),INDEX($AC$5:$AD$24,INT($AF8/2)+1,MOD(COLUMNS($BU$3:CA$3),2)+1))","v":-2.2252093395631434},{"$f":"IF(OR(MOD($AF8,2)=0,INDEX(relationships,INT($AF8/2)+1,CB$3)<>2),INDEX($AC$5:$AD$24,CB$3,MOD(COLUMNS($BU$3:CB$3),2)+1),INDEX($AC$5:$AD$24,INT($AF8/2)+1,MOD(COLUMNS($BU$3:CB$3),2)+1))","v":-4.3388373911755798},{"$f":"IF(OR(MOD($AF8,2)=0,INDEX(relationships,INT($AF8/2)+1,CC$3)<>2),INDEX($AC$5:$AD$24,CC$3,MOD(COLUMNS($BU$3:CC$3),2)+1),INDEX($AC$5:$AD$24,INT($AF8/2)+1,MOD(COLUMNS($BU$3:CC$3),2)+1))","v":-9.0096886790241921},{"$f":"IF(OR(MOD($AF8,2)=0,INDEX(relationships,INT($AF8/2)+1,CD$3)<>2),INDEX($AC$5:$AD$24,CD$3,MOD(COLUMNS($BU$3:CD$3),2)+1),INDEX($AC$5:$AD$24,INT($AF8/2)+1,MOD(COLUMNS($BU$3:CD$3),2)+1))","v":-9.7492791218182369},{"$f":"IF(OR(MOD($AF8,2)=0,INDEX(relationships,INT($AF8/2)+1,CE$3)<>2),INDEX($AC$5:$AD$24,CE$3,MOD(COLUMNS($BU$3:CE$3),2)+1),INDEX($AC$5:$AD$24,INT($AF8/2)+1,MOD(COLUMNS($BU$3:CE$3),2)+1))","v":-2.225209339563146},{"$f":"IF(OR(MOD($AF8,2)=0,INDEX(relationships,INT($AF8/2)+1,CF$3)<>2),INDEX($AC$5:$AD$24,CF$3,MOD(COLUMNS($BU$3:CF$3),2)+1),INDEX($AC$5:$AD$24,INT($AF8/2)+1,MOD(COLUMNS($BU$3:CF$3),2)+1))","v":-7.8183148246802991},{"$f":"IF(OR(MOD($AF8,2)=0,INDEX(relationships,INT($AF8/2)+1,CG$3)<>2),INDEX($AC$5:$AD$24,CG$3,MOD(COLUMNS($BU$3:CG$3),2)+1),INDEX($AC$5:$AD$24,INT($AF8/2)+1,MOD(COLUMNS($BU$3:CG$3),2)+1))","v":6.2348980185873337},{"$f":"IF(OR(MOD($AF8,2)=0,INDEX(relationships,INT($AF8/2)+1,CH$3)<>2),INDEX($AC$5:$AD$24,CH$3,MOD(COLUMNS($BU$3:CH$3),2)+1),INDEX($AC$5:$AD$24,INT($AF8/2)+1,MOD(COLUMNS($BU$3:CH$3),2)+1))","v":9.7492791218182369},{"$f":"IF(OR(MOD($AF8,2)=0,INDEX(relationships,INT($AF8/2)+1,CI$3)<>2),INDEX($AC$5:$AD$24,CI$3,MOD(COLUMNS($BU$3:CI$3),2)+1),INDEX($AC$5:$AD$24,INT($AF8/2)+1,MOD(COLUMNS($BU$3:CI$3),2)+1))","v":-2.2252093395631434},{"$f":"IF(OR(MOD($AF8,2)=0,INDEX(relationships,INT($AF8/2)+1,CJ$3)<>2),INDEX($AC$5:$AD$24,CJ$3,MOD(COLUMNS($BU$3:CJ$3),2)+1),INDEX($AC$5:$AD$24,INT($AF8/2)+1,MOD(COLUMNS($BU$3:CJ$3),2)+1))","v":7.8183148246802956},{"$f":"IF(OR(MOD($AF8,2)=0,INDEX(relationships,INT($AF8/2)+1,CK$3)<>2),INDEX($AC$5:$AD$24,CK$3,MOD(COLUMNS($BU$3:CK$3),2)+1),INDEX($AC$5:$AD$24,INT($AF8/2)+1,MOD(COLUMNS($BU$3:CK$3),2)+1))","v":6.2348980185873373},{"$f":"IF(OR(MOD($AF8,2)=0,INDEX(relationships,INT($AF8/2)+1,CL$3)<>2),INDEX($AC$5:$AD$24,CL$3,MOD(COLUMNS($BU$3:CL$3),2)+1),INDEX($AC$5:$AD$24,INT($AF8/2)+1,MOD(COLUMNS($BU$3:CL$3),2)+1))","v":9.7492791218182369},{"$f":"IF(OR(MOD($AF8,2)=0,INDEX(relationships,INT($AF8/2)+1,CM$3)<>2),INDEX($AC$5:$AD$24,CM$3,MOD(COLUMNS($BU$3:CM$3),2)+1),INDEX($AC$5:$AD$24,INT($AF8/2)+1,MOD(COLUMNS($BU$3:CM$3),2)+1))","v":-2.2252093395631407},{"$f":"IF(OR(MOD($AF8,2)=0,INDEX(relationships,INT($AF8/2)+1,CN$3)<>2),INDEX($AC$5:$AD$24,CN$3,MOD(COLUMNS($BU$3:CN$3),2)+1),INDEX($AC$5:$AD$24,INT($AF8/2)+1,MOD(COLUMNS($BU$3:CN$3),2)+1))","v":4.3388373911755842},{"$f":"IF(OR(MOD($AF8,2)=0,INDEX(relationships,INT($AF8/2)+1,CO$3)<>2),INDEX($AC$5:$AD$24,CO$3,MOD(COLUMNS($BU$3:CO$3),2)+1),INDEX($AC$5:$AD$24,INT($AF8/2)+1,MOD(COLUMNS($BU$3:CO$3),2)+1))","v":-9.0096886790241886},{"$f":"IF(OR(MOD($AF8,2)=0,INDEX(relationships,INT($AF8/2)+1,CP$3)<>2),INDEX($AC$5:$AD$24,CP$3,MOD(COLUMNS($BU$3:CP$3),2)+1),INDEX($AC$5:$AD$24,INT($AF8/2)+1,MOD(COLUMNS($BU$3:CP$3),2)+1))","v":-4.338837391175578},{"$f":"IF(OR(MOD($AF8,2)=0,INDEX(relationships,INT($AF8/2)+1,CQ$3)<>2),INDEX($AC$5:$AD$24,CQ$3,MOD(COLUMNS($BU$3:CQ$3),2)+1),INDEX($AC$5:$AD$24,INT($AF8/2)+1,MOD(COLUMNS($BU$3:CQ$3),2)+1))","v":-9.0096886790241921},{"$f":"IF(OR(MOD($AF8,2)=0,INDEX(relationships,INT($AF8/2)+1,CR$3)<>2),INDEX($AC$5:$AD$24,CR$3,MOD(COLUMNS($BU$3:CR$3),2)+1),INDEX($AC$5:$AD$24,INT($AF8/2)+1,MOD(COLUMNS($BU$3:CR$3),2)+1))","v":-9.7492791218182351},{"$f":"IF(OR(MOD($AF8,2)=0,INDEX(relationships,INT($AF8/2)+1,CS$3)<>2),INDEX($AC$5:$AD$24,CS$3,MOD(COLUMNS($BU$3:CS$3),2)+1),INDEX($AC$5:$AD$24,INT($AF8/2)+1,MOD(COLUMNS($BU$3:CS$3),2)+1))","v":-2.2252093395631483},{"$f":"IF(OR(MOD($AF8,2)=0,INDEX(relationships,INT($AF8/2)+1,CT$3)<>2),INDEX($AC$5:$AD$24,CT$3,MOD(COLUMNS($BU$3:CT$3),2)+1),INDEX($AC$5:$AD$24,INT($AF8/2)+1,MOD(COLUMNS($BU$3:CT$3),2)+1))","v":-7.8183148246803018},{"$f":"IF(OR(MOD($AF8,2)=0,INDEX(relationships,INT($AF8/2)+1,CU$3)<>2),INDEX($AC$5:$AD$24,CU$3,MOD(COLUMNS($BU$3:CU$3),2)+1),INDEX($AC$5:$AD$24,INT($AF8/2)+1,MOD(COLUMNS($BU$3:CU$3),2)+1))","v":6.2348980185873319},{"$f":"IF(OR(MOD($AF8,2)=0,INDEX(relationships,INT($AF8/2)+1,CV$3)<>2),INDEX($AC$5:$AD$24,CV$3,MOD(COLUMNS($BU$3:CV$3),2)+1),INDEX($AC$5:$AD$24,INT($AF8/2)+1,MOD(COLUMNS($BU$3:CV$3),2)+1))","v":-4.90059381963448E-15},{"$f":"IF(OR(MOD($AF8,2)=0,INDEX(relationships,INT($AF8/2)+1,CW$3)<>2),INDEX($AC$5:$AD$24,CW$3,MOD(COLUMNS($BU$3:CW$3),2)+1),INDEX($AC$5:$AD$24,INT($AF8/2)+1,MOD(COLUMNS($BU$3:CW$3),2)+1))","v":10},{"$f":"IF(OR(MOD($AF8,2)=0,INDEX(relationships,INT($AF8/2)+1,CX$3)<>2),INDEX($AC$5:$AD$24,CX$3,MOD(COLUMNS($BU$3:CX$3),2)+1),INDEX($AC$5:$AD$24,INT($AF8/2)+1,MOD(COLUMNS($BU$3:CX$3),2)+1))","v":7.8183148246802947},{"$f":"IF(OR(MOD($AF8,2)=0,INDEX(relationships,INT($AF8/2)+1,CY$3)<>2),INDEX($AC$5:$AD$24,CY$3,MOD(COLUMNS($BU$3:CY$3),2)+1),INDEX($AC$5:$AD$24,INT($AF8/2)+1,MOD(COLUMNS($BU$3:CY$3),2)+1))","v":6.2348980185873391},{"$f":"IF(OR(MOD($AF8,2)=0,INDEX(relationships,INT($AF8/2)+1,CZ$3)<>2),INDEX($AC$5:$AD$24,CZ$3,MOD(COLUMNS($BU$3:CZ$3),2)+1),INDEX($AC$5:$AD$24,INT($AF8/2)+1,MOD(COLUMNS($BU$3:CZ$3),2)+1))","v":9.7492791218182369},{"$f":"IF(OR(MOD($AF8,2)=0,INDEX(relationships,INT($AF8/2)+1,DA$3)<>2),INDEX($AC$5:$AD$24,DA$3,MOD(COLUMNS($BU$3:DA$3),2)+1),INDEX($AC$5:$AD$24,INT($AF8/2)+1,MOD(COLUMNS($BU$3:DA$3),2)+1))","v":-2.2252093395631385},{"$f":"IF(OR(MOD($AF8,2)=0,INDEX(relationships,INT($AF8/2)+1,DB$3)<>2),INDEX($AC$5:$AD$24,DB$3,MOD(COLUMNS($BU$3:DB$3),2)+1),INDEX($AC$5:$AD$24,INT($AF8/2)+1,MOD(COLUMNS($BU$3:DB$3),2)+1))","v":4.3388373911755869},{"$f":"IF(OR(MOD($AF8,2)=0,INDEX(relationships,INT($AF8/2)+1,DC$3)<>2),INDEX($AC$5:$AD$24,DC$3,MOD(COLUMNS($BU$3:DC$3),2)+1),INDEX($AC$5:$AD$24,INT($AF8/2)+1,MOD(COLUMNS($BU$3:DC$3),2)+1))","v":-9.0096886790241886},{"$f":"IF(OR(MOD($AF8,2)=0,INDEX(relationships,INT($AF8/2)+1,DD$3)<>2),INDEX($AC$5:$AD$24,DD$3,MOD(COLUMNS($BU$3:DD$3),2)+1),INDEX($AC$5:$AD$24,INT($AF8/2)+1,MOD(COLUMNS($BU$3:DD$3),2)+1))","v":-4.3388373911755753},{"$f":"IF(OR(MOD($AF8,2)=0,INDEX(relationships,INT($AF8/2)+1,DE$3)<>2),INDEX($AC$5:$AD$24,DE$3,MOD(COLUMNS($BU$3:DE$3),2)+1),INDEX($AC$5:$AD$24,INT($AF8/2)+1,MOD(COLUMNS($BU$3:DE$3),2)+1))","v":-9.0096886790241939},{"$f":"IF(OR(MOD($AF8,2)=0,INDEX(relationships,INT($AF8/2)+1,DF$3)<>2),INDEX($AC$5:$AD$24,DF$3,MOD(COLUMNS($BU$3:DF$3),2)+1),INDEX($AC$5:$AD$24,INT($AF8/2)+1,MOD(COLUMNS($BU$3:DF$3),2)+1))","v":-9.7492791218182351},{"$f":"IF(OR(MOD($AF8,2)=0,INDEX(relationships,INT($AF8/2)+1,DG$3)<>2),INDEX($AC$5:$AD$24,DG$3,MOD(COLUMNS($BU$3:DG$3),2)+1),INDEX($AC$5:$AD$24,INT($AF8/2)+1,MOD(COLUMNS($BU$3:DG$3),2)+1))","v":-2.2252093395631505},{"$f":"IF(OR(MOD($AF8,2)=0,INDEX(relationships,INT($AF8/2)+1,DH$3)<>2),INDEX($AC$5:$AD$24,DH$3,MOD(COLUMNS($BU$3:DH$3),2)+1),INDEX($AC$5:$AD$24,INT($AF8/2)+1,MOD(COLUMNS($BU$3:DH$3),2)+1))","v":-7.8183148246803027},{"$f":"IF(OR(MOD($AF8,2)=0,INDEX(relationships,INT($AF8/2)+1,DI$3)<>2),INDEX($AC$5:$AD$24,DI$3,MOD(COLUMNS($BU$3:DI$3),2)+1),INDEX($AC$5:$AD$24,INT($AF8/2)+1,MOD(COLUMNS($BU$3:DI$3),2)+1))","v":6.2348980185873293},null,-2.45029690981724E-15,10,9.7492791218182369,-2.2252093395631434]
[null,{"$f":"'Group Data'!B22","v":"Sports clubs"},{"$f":"'Group Data'!AJ22","v":0},{"$f":"'Group Data'!AK22","v":0},{"$f":"'Group Data'!AL22","v":0},{"$f":"'Group Data'!AM22","v":0},null,null,null,null,null,null,null,null,null,null,null,null,null,null,null,null,null,null,null,null,null,5,-9.7492791218182369,-2.225209339563146,null,4,{"$f":"IF(OR(MOD($AF9,2)=0,INDEX(relationships,INT($AF9/2)+1,AG$3)<>1),INDEX($AC$5:$AD$24,AG$3,MOD(COLUMNS($AF$3:AG$3),2)+1),INDEX($AC$5:$AD$24,INT($AF9/2)+1,MOD(COLUMNS($AF$3:AG$3),2)+1))","v":7.8183148246802983},{"$f":"IF(OR(MOD($AF9,2)=0,INDEX(relationships,INT($AF9/2)+1,AH$3)<>1),INDEX($AC$5:$AD$24,AH$3,MOD(COLUMNS($AF$3:AH$3),2)+1),INDEX($AC$5:$AD$24,INT($AF9/2)+1,MOD(COLUMNS($AF$3:AH$3),2)+1))","v":6.2348980185873355},{"$f":"IF(OR(MOD($AF9,2)=0,INDEX(relationships,INT($AF9/2)+1,AI$3)<>1),INDEX($AC$5:$AD$24,AI$3,MOD(COLUMNS($AF$3:AI$3),2)+1),INDEX($AC$5:$AD$24,INT($AF9/2)+1,MOD(COLUMNS($AF$3:AI$3),2)+1))","v":9.7492791218182369},{"$f":"IF(OR(MOD($AF9,2)=0,INDEX(relationships,INT($AF9/2)+1,AJ$3)<>1),INDEX($AC$5:$AD$24,AJ$3,MOD(COLUMNS($AF$3:AJ$3),2)+1),INDEX($AC$5:$AD$24,INT($AF9/2)+1,MOD(COLUMNS($AF$3:AJ$3),2)+1))","v":-2.2252093395631434},{"$f":"IF(OR(MOD($AF9,2)=0,INDEX(relationships,INT($AF9/2)+1,AK$3)<>1),INDEX($AC$5:$AD$24,AK$3,MOD(COLUMNS($AF$3:AK$3),2)+1),INDEX($AC$5:$AD$24,INT($AF9/2)+1,MOD(COLUMNS($AF$3:AK$3),2)+1))","v":4.3388373911755824},{"$f":"IF(OR(MOD($AF9,2)=0,INDEX(relationships,INT($AF9/2)+1,AL$3)<>1),INDEX($AC$5:$AD$24,AL$3,MOD(COLUMNS($AF$3:AL$3),2)+1),INDEX($AC$5:$AD$24,INT($AF9/2)+1,MOD(COLUMNS($AF$3:AL$3),2)+1))","v":-9.0096886790241903},{"$f":"IF(OR(MOD($AF9,2)=0,INDEX(relationships,INT($AF9/2)+1,AM$3)<>1),INDEX($AC$5:$AD$24,AM$3,MOD(COLUMNS($AF$3:AM$3),2)+1),INDEX($AC$5:$AD$24,INT($AF9/2)+1,MOD(COLUMNS($AF$3:AM$3),2)+1))","v":-4.3388373911755798},{"$f":"IF(OR(MOD($AF9,2)=0,INDEX(relationships,INT($AF9/2)+1,AN$3)<>1),INDEX($AC$5:$AD$24,AN$3,MOD(COLUMNS($AF$3:AN$3),2)+1),INDEX($AC$5:$AD$24,INT($AF9/2)+1,MOD(COLUMNS($AF$3:AN$3),2)+1))","v":-9.0096886790241921},{"$f":"IF(OR(MOD($AF9,2)=0,INDEX(relationships,INT($AF9/2)+1,AO$3)<>1),INDEX($AC$5:$AD$24,AO$3,MOD(COLUMNS($AF$3:AO$3),2)+1),INDEX($AC$5:$AD$24,INT($AF9/2)+1,MOD(COLUMNS($AF$3:AO$3),2)+1))","v":-9.7492791218182369},{"$f":"IF(OR(MOD($AF9,2)=0,INDEX(relationships,INT($AF9/2)+1,AP$3)<>1),INDEX($AC$5:$AD$24,AP$3,MOD(COLUMNS($AF$3:AP$3),2)+1),INDEX($AC$5:$AD$24,INT($AF9/2)+1,MOD(COLUMNS($AF$3:AP$3),2)+1))","v":-2.225209339563146},{"$f":"IF(OR(MOD($AF9,2)=0,INDEX(relationships,INT($AF9/2)+1,AQ$3)<>1),INDEX($AC$5:$AD$24,AQ$3,MOD(COLUMNS($AF$3:AQ$3),2)+1),INDEX($AC$5:$AD$24,INT($AF9/2)+1,MOD(COLUMNS($AF$3:AQ$3),2)+1))","v":-7.8183148246802991},{"$f":"IF(OR(MOD($AF9,2)=0,INDEX(relationships,INT($AF9/2)+1,AR$3)<>1),INDEX($AC$5:$AD$24,AR$3,MOD(COLUMNS($AF$3:AR$3),2)+1),INDEX($AC$5:$AD$24,INT($AF9/2)+1,MOD(COLUMNS($AF$3:AR$3),2)+1))","v":6.2348980185873337},{"$f":"IF(OR(MOD($AF9,2)=0,INDEX(relationships,INT($AF9/2)+1,AS$3)<>1),INDEX($AC$5:$AD$24,AS$3,MOD(COLUMNS($AF$3:AS$3),2)+1),INDEX($AC$5:$AD$24,INT($AF9/2)+1,MOD(COLUMNS($AF$3:AS$3),2)+1))","v":-2.45029690981724E-15},{"$f":"IF(OR(MOD($AF9,2)=0,INDEX(relationships,INT($AF9/2)+1,AT$3)<>1),INDEX($AC$5:$AD$24,AT$3,MOD(COLUMNS($AF$3:AT$3),2)+1),INDEX($AC$5:$AD$24,INT($AF9/2)+1,MOD(COLUMNS($AF$3:AT$3),2)+1))","v":10},{"$f":"IF(OR(MOD($AF9,2)=0,INDEX(relationships,INT($AF9/2)+1,AU$3)<>1),INDEX($AC$5:$AD$24,AU$3,MOD(COLUMNS($AF$3:AU$3),2)+1),INDEX($AC$5:$AD$24,INT($AF9/2)+1,MOD(COLUMNS($AF$3:AU$3),2)+1))","v":7.8183148246802956},{"$f":"IF(OR(MOD($AF9,2)=0,INDEX(relationships,INT($AF9/2)+1,AV$3)<>1),INDEX($AC$5:$AD$24,AV$3,MOD(COLUMNS($AF$3:AV$3),2)+1),INDEX($AC$5:$AD$24,INT($AF9/2)+1,MOD(COLUMNS($AF$3:AV$3),2)+1))","v":6.2348980185873373},{"$f":"IF(OR(MOD($AF9,2)=0,INDEX(relationships,INT($AF9/2)+1,AW$3)<>1),INDEX($AC$5:$AD$24,AW$3,MOD(COLUMNS($AF$3:AW$3),2)+1),INDEX($AC$5:$AD$24,INT($AF9/2)+1,MOD(COLUMNS($AF$3:AW$3),2)+1))","v":9.7492791218182369},{"$f":"IF(OR(MOD($AF9,2)=0,INDEX(relationships,INT($AF9/2)+1,AX$3)<>1),INDEX($AC$5:$AD$24,AX$3,MOD(COLUMNS($AF$3:AX$3),2)+1),INDEX($AC$5:$AD$24,INT($AF9/2)+1,MOD(COLUMNS($AF$3:AX$3),2)+1))","v":-2.2252093395631407},{"$f":"IF(OR(MOD($AF9,2)=0,INDEX(relationships,INT($AF9/2)+1,AY$3)<>1),INDEX($AC$5:$AD$24,AY$3,MOD(COLUMNS($AF$3:AY$3),2)+1),INDEX($AC$5:$AD$24,INT($AF9/2)+1,MOD(COLUMNS($AF$3:AY$3),2)+1))","v":4.3388373911755842},{"$f":"IF(OR(MOD($AF9,2)=0,INDEX(relationships,INT($AF9/2)+1,AZ$3)<>1),INDEX($AC$5:$AD$24,AZ$3,MOD(COLUMNS($AF$3:AZ$3),2)+1),INDEX($AC$5:$AD$24,INT($AF9/2)+1,MOD(COLUMNS($AF$3:AZ$3),2)+1))","v":-9.0096886790241886},{"$f":"IF(OR(MOD($AF9,2)=0,INDEX(relationships,INT($AF9/2)+1,BA$3)<>1),INDEX($AC$5:$AD$24,BA$3,MOD(COLUMNS($AF$3:BA$3),2)+1),INDEX($AC$5:$AD$24,INT($AF9/2)+1,MOD(COLUMNS($AF$3:BA$3),2)+1))","v":-4.338837391175578},{"$f":"IF(OR(MOD($AF9,2)=0,INDEX(relationships,INT($AF9/2)+1,BB$3)<>1),INDEX($AC$5:$AD$24,BB$3,MOD(COLUMNS($AF$3:BB$3),2)+1),INDEX($AC$5:$AD$24,INT($AF9/2)+1,MOD(COLUMNS($AF$3:BB$3),2)+1))","v":-9.0096886790241921},{"$f":"IF(OR(MOD($AF9,2)=0,INDEX(relationships,INT($AF9/2)+1,BC$3)<>1),INDEX($AC$5:$AD$24,BC$3,MOD(COLUMNS($AF$3:BC$3),2)+1),INDEX($AC$5:$AD$24,INT($AF9/2)+1,MOD(COLUMNS($AF$3:BC$3),2)+1))","v":-9.7492791218182351},{"$f":"IF(OR(MOD($AF9,2)=0,INDEX(relationships,INT($AF9/2)+1,BD$3)<>1),INDEX($AC$5:$AD$24,BD$3,MOD(COLUMNS($AF$3:BD$3),2)+1),INDEX($AC$5:$AD$24,INT($AF9/2)+1,MOD(COLUMNS($AF$3:BD$3),2)+1))","v":-2.2252093395631483},{"$f":"IF(OR(MOD($AF9,2)=0,INDEX(relationships,INT($AF9/2)+1,BE$3)<>1),INDEX($AC$5:$AD$24,BE$3,MOD(COLUMNS($AF$3:BE$3),2)+1),INDEX($AC$5:$AD$24,INT($AF9/2)+1,MOD(COLUMNS($AF$3:BE$3),2)+1))","v":-7.8183148246803018},{"$f":"IF(OR(MOD($AF9,2)=0,INDEX(relationships,INT($AF9/2)+1,BF$3)<>1),INDEX($AC$5:$AD$24,BF$3,MOD(COLUMNS($AF$3:BF$3),2)+1),INDEX($AC$5:$AD$24,INT($AF9/2)+1,MOD(COLUMNS($AF$3:BF$3),2)+1))","v":6.2348980185873319},{"$f":"IF(OR(MOD($AF9,2)=0,INDEX(relationships,INT($AF9/2)+1,BG$3)<>1),INDEX($AC$5:$AD$24,BG$3,MOD(COLUMNS($AF$3:BG$3),2)+1),INDEX($AC$5:$AD$24,INT($AF9/2)+1,MOD(COLUMNS($AF$3:BG$3),2)+1))","v":-4.90059381963448E-15},{"$f":"IF(OR(MOD($AF9,2)=0,INDEX(relationships,INT($AF9/2)+1,BH$3)<>1),INDEX($AC$5:$AD$24,BH$3,MOD(COLUMNS($AF$3:BH$3),2)+1),INDEX($AC$5:$AD$24,INT($AF9/2)+1,MOD(COLUMNS($AF$3:BH$3),2)+1))","v":10},{"$f":"IF(OR(MOD($AF9,2)=0,INDEX(relationships,INT($AF9/2)+1,BI$3)<>1),INDEX($AC$5:$AD$24,BI$3,MOD(COLUMNS($AF$3:BI$3),2)+1),INDEX($AC$5:$AD$24,INT($AF9/2)+1,MOD(COLUMNS($AF$3:BI$3),2)+1))","v":7.8183148246802947},{"$f":"IF(OR(MOD($AF9,2)=0,INDEX(relationships,INT($AF9/2)+1,BJ$3)<>1),INDEX($AC$5:$AD$24,BJ$3,MOD(COLUMNS($AF$3:BJ$3),2)+1),INDEX($AC$5:$AD$24,INT($AF9/2)+1,MOD(COLUMNS($AF$3:BJ$3),2)+1))","v":6.2348980185873391},{"$f":"IF(OR(MOD($AF9,2)=0,INDEX(relationships,INT($AF9/2)+1,BK$3)<>1),INDEX($AC$5:$AD$24,BK$3,MOD(COLUMNS($AF$3:BK$3),2)+1),INDEX($AC$5:$AD$24,INT($AF9/2)+1,MOD(COLUMNS($AF$3:BK$3),2)+1))","v":9.7492791218182369},{"$f":"IF(OR(MOD($AF9,2)=0,INDEX(relationships,INT($AF9/2)+1,BL$3)<>1),INDEX($AC$5:$AD$24,BL$3,MOD(COLUMNS($AF$3:BL$3),2)+1),INDEX($AC$5:$AD$24,INT($AF9/2)+1,MOD(COLUMNS($AF$3:BL$3),2)+1))","v":-2.2252093395631385},{"$f":"IF(OR(MOD($AF9,2)=0,INDEX(relationships,INT($AF9/2)+1,BM$3)<>1),INDEX($AC$5:$AD$24,BM$3,MOD(COLUMNS($AF$3:BM$3),2)+1),INDEX($AC$5:$AD$24,INT($AF9/2)+1,MOD(COLUMNS($AF$3:BM$3),2)+1))","v":4.3388373911755869},{"$f":"IF(OR(MOD($AF9,2)=0,INDEX(relationships,INT($AF9/2)+1,BN$3)<>1),INDEX($AC$5:$AD$24,BN$3,MOD(COLUMNS($AF$3:BN$3),2)+1),INDEX($AC$5:$AD$24,INT($AF9/2)+1,MOD(COLUMNS($AF$3:BN$3),2)+1))","v":-9.0096886790241886},{"$f":"IF(OR(MOD($AF9,2)=0,INDEX(relationships,INT($AF9/2)+1,BO$3)<>1),INDEX($AC$5:$AD$24,BO$3,MOD(COLUMNS($AF$3:BO$3),2)+1),INDEX($AC$5:$AD$24,INT($AF9/2)+1,MOD(COLUMNS($AF$3:BO$3),2)+1))","v":-4.3388373911755753},{"$f":"IF(OR(MOD($AF9,2)=0,INDEX(relationships,INT($AF9/2)+1,BP$3)<>1),INDEX($AC$5:$AD$24,BP$3,MOD(COLUMNS($AF$3:BP$3),2)+1),INDEX($AC$5:$AD$24,INT($AF9/2)+1,MOD(COLUMNS($AF$3:BP$3),2)+1))","v":-9.0096886790241939},{"$f":"IF(OR(MOD($AF9,2)=0,INDEX(relationships,INT($AF9/2)+1,BQ$3)<>1),INDEX($AC$5:$AD$24,BQ$3,MOD(COLUMNS($AF$3:BQ$3),2)+1),INDEX($AC$5:$AD$24,INT($AF9/2)+1,MOD(COLUMNS($AF$3:BQ$3),2)+1))","v":-9.7492791218182351},{"$f":"IF(OR(MOD($AF9,2)=0,INDEX(relationships,INT($AF9/2)+1,BR$3)<>1),INDEX($AC$5:$AD$24,BR$3,MOD(COLUMNS($AF$3:BR$3),2)+1),INDEX($AC$5:$AD$24,INT($AF9/2)+1,MOD(COLUMNS($AF$3:BR$3),2)+1))","v":-2.2252093395631505},{"$f":"IF(OR(MOD($AF9,2)=0,INDEX(relationships,INT($AF9/2)+1,BS$3)<>1),INDEX($AC$5:$AD$24,BS$3,MOD(COLUMNS($AF$3:BS$3),2)+1),INDEX($AC$5:$AD$24,INT($AF9/2)+1,MOD(COLUMNS($AF$3:BS$3),2)+1))","v":-7.8183148246803027},{"$f":"IF(OR(MOD($AF9,2)=0,INDEX(relationships,INT($AF9/2)+1,BT$3)<>1),INDEX($AC$5:$AD$24,BT$3,MOD(COLUMNS($AF$3:BT$3),2)+1),INDEX($AC$5:$AD$24,INT($AF9/2)+1,MOD(COLUMNS($AF$3:BT$3),2)+1))","v":6.2348980185873293},null,{"$f":"IF(OR(MOD($AF9,2)=0,INDEX(relationships,INT($AF9/2)+1,BV$3)<>2),INDEX($AC$5:$AD$24,BV$3,MOD(COLUMNS($BU$3:BV$3),2)+1),INDEX($AC$5:$AD$24,INT($AF9/2)+1,MOD(COLUMNS($BU$3:BV$3),2)+1))","v":7.8183148246802983},{"$f":"IF(OR(MOD($AF9,2)=0,INDEX(relationships,INT($AF9/2)+1,BW$3)<>2),INDEX($AC$5:$AD$24,BW$3,MOD(COLUMNS($BU$3:BW$3),2)+1),INDEX($AC$5:$AD$24,INT($AF9/2)+1,MOD(COLUMNS($BU$3:BW$3),2)+1))","v":6.2348980185873355},{"$f":"IF(OR(MOD($AF9,2)=0,INDEX(relationships,INT($AF9/2)+1,BX$3)<>2),INDEX($AC$5:$AD$24,BX$3,MOD(COLUMNS($BU$3:BX$3),2)+1),INDEX($AC$5:$AD$24,INT($AF9/2)+1,MOD(COLUMNS($BU$3:BX$3),2)+1))","v":9.7492791218182369},{"$f":"IF(OR(MOD($AF9,2)=0,INDEX(relationships,INT($AF9/2)+1,BY$3)<>2),INDEX($AC$5:$AD$24,BY$3,MOD(COLUMNS($BU$3:BY$3),2)+1),INDEX($AC$5:$AD$24,INT($AF9/2)+1,MOD(COLUMNS($BU$3:BY$3),2)+1))","v":-2.2252093395631434},{"$f":"IF(OR(MOD($AF9,2)=0,INDEX(relationships,INT($AF9/2)+1,BZ$3)<>2),INDEX($AC$5:$AD$24,BZ$3,MOD(COLUMNS($BU$3:BZ$3),2)+1),INDEX($AC$5:$AD$24,INT($AF9/2)+1,MOD(COLUMNS($BU$3:BZ$3),2)+1))","v":4.3388373911755824},{"$f":"IF(OR(MOD($AF9,2)=0,INDEX(relationships,INT($AF9/2)+1,CA$3)<>2),INDEX($AC$5:$AD$24,CA$3,MOD(COLUMNS($BU$3:CA$3),2)+1),INDEX($AC$5:$AD$24,INT($AF9/2)+1,MOD(COLUMNS($BU$3:CA$3),2)+1))","v":-9.0096886790241903},{"$f":"IF(OR(MOD($AF9,2)=0,INDEX(relationships,INT($AF9/2)+1,CB$3)<>2),INDEX($AC$5:$AD$24,CB$3,MOD(COLUMNS($BU$3:CB$3),2)+1),INDEX($AC$5:$AD$24,INT($AF9/2)+1,MOD(COLUMNS($BU$3:CB$3),2)+1))","v":-4.3388373911755798},{"$f":"IF(OR(MOD($AF9,2)=0,INDEX(relationships,INT($AF9/2)+1,CC$3)<>2),INDEX($AC$5:$AD$24,CC$3,MOD(COLUMNS($BU$3:CC$3),2)+1),INDEX($AC$5:$AD$24,INT($AF9/2)+1,MOD(COLUMNS($BU$3:CC$3),2)+1))","v":-9.0096886790241921},{"$f":"IF(OR(MOD($AF9,2)=0,INDEX(relationships,INT($AF9/2)+1,CD$3)<>2),INDEX($AC$5:$AD$24,CD$3,MOD(COLUMNS($BU$3:CD$3),2)+1),INDEX($AC$5:$AD$24,INT($AF9/2)+1,MOD(COLUMNS($BU$3:CD$3),2)+1))","v":-9.7492791218182369},{"$f":"IF(OR(MOD($AF9,2)=0,INDEX(relationships,INT($AF9/2)+1,CE$3)<>2),INDEX($AC$5:$AD$24,CE$3,MOD(COLUMNS($BU$3:CE$3),2)+1),INDEX($AC$5:$AD$24,INT($AF9/2)+1,MOD(COLUMNS($BU$3:CE$3),2)+1))","v":-2.225209339563146},{"$f":"IF(OR(MOD($AF9,2)=0,INDEX(relationships,INT($AF9/2)+1,CF$3)<>2),INDEX($AC$5:$AD$24,CF$3,MOD(COLUMNS($BU$3:CF$3),2)+1),INDEX($AC$5:$AD$24,INT($AF9/2)+1,MOD(COLUMNS($BU$3:CF$3),2)+1))","v":-7.8183148246802991},{"$f":"IF(OR(MOD($AF9,2)=0,INDEX(relationships,INT($AF9/2)+1,CG$3)<>2),INDEX($AC$5:$AD$24,CG$3,MOD(COLUMNS($BU$3:CG$3),2)+1),INDEX($AC$5:$AD$24,INT($AF9/2)+1,MOD(COLUMNS($BU$3:CG$3),2)+1))","v":6.2348980185873337},{"$f":"IF(OR(MOD($AF9,2)=0,INDEX(relationships,INT($AF9/2)+1,CH$3)<>2),INDEX($AC$5:$AD$24,CH$3,MOD(COLUMNS($BU$3:CH$3),2)+1),INDEX($AC$5:$AD$24,INT($AF9/2)+1,MOD(COLUMNS($BU$3:CH$3),2)+1))","v":-2.45029690981724E-15},{"$f":"IF(OR(MOD($AF9,2)=0,INDEX(relationships,INT($AF9/2)+1,CI$3)<>2),INDEX($AC$5:$AD$24,CI$3,MOD(COLUMNS($BU$3:CI$3),2)+1),INDEX($AC$5:$AD$24,INT($AF9/2)+1,MOD(COLUMNS($BU$3:CI$3),2)+1))","v":10},{"$f":"IF(OR(MOD($AF9,2)=0,INDEX(relationships,INT($AF9/2)+1,CJ$3)<>2),INDEX($AC$5:$AD$24,CJ$3,MOD(COLUMNS($BU$3:CJ$3),2)+1),INDEX($AC$5:$AD$24,INT($AF9/2)+1,MOD(COLUMNS($BU$3:CJ$3),2)+1))","v":7.8183148246802956},{"$f":"IF(OR(MOD($AF9,2)=0,INDEX(relationships,INT($AF9/2)+1,CK$3)<>2),INDEX($AC$5:$AD$24,CK$3,MOD(COLUMNS($BU$3:CK$3),2)+1),INDEX($AC$5:$AD$24,INT($AF9/2)+1,MOD(COLUMNS($BU$3:CK$3),2)+1))","v":6.2348980185873373},{"$f":"IF(OR(MOD($AF9,2)=0,INDEX(relationships,INT($AF9/2)+1,CL$3)<>2),INDEX($AC$5:$AD$24,CL$3,MOD(COLUMNS($BU$3:CL$3),2)+1),INDEX($AC$5:$AD$24,INT($AF9/2)+1,MOD(COLUMNS($BU$3:CL$3),2)+1))","v":9.7492791218182369},{"$f":"IF(OR(MOD($AF9,2)=0,INDEX(relationships,INT($AF9/2)+1,CM$3)<>2),INDEX($AC$5:$AD$24,CM$3,MOD(COLUMNS($BU$3:CM$3),2)+1),INDEX($AC$5:$AD$24,INT($AF9/2)+1,MOD(COLUMNS($BU$3:CM$3),2)+1))","v":-2.2252093395631407},{"$f":"IF(OR(MOD($AF9,2)=0,INDEX(relationships,INT($AF9/2)+1,CN$3)<>2),INDEX($AC$5:$AD$24,CN$3,MOD(COLUMNS($BU$3:CN$3),2)+1),INDEX($AC$5:$AD$24,INT($AF9/2)+1,MOD(COLUMNS($BU$3:CN$3),2)+1))","v":4.3388373911755842},{"$f":"IF(OR(MOD($AF9,2)=0,INDEX(relationships,INT($AF9/2)+1,CO$3)<>2),INDEX($AC$5:$AD$24,CO$3,MOD(COLUMNS($BU$3:CO$3),2)+1),INDEX($AC$5:$AD$24,INT($AF9/2)+1,MOD(COLUMNS($BU$3:CO$3),2)+1))","v":-9.0096886790241886},{"$f":"IF(OR(MOD($AF9,2)=0,INDEX(relationships,INT($AF9/2)+1,CP$3)<>2),INDEX($AC$5:$AD$24,CP$3,MOD(COLUMNS($BU$3:CP$3),2)+1),INDEX($AC$5:$AD$24,INT($AF9/2)+1,MOD(COLUMNS($BU$3:CP$3),2)+1))","v":-4.338837391175578},{"$f":"IF(OR(MOD($AF9,2)=0,INDEX(relationships,INT($AF9/2)+1,CQ$3)<>2),INDEX($AC$5:$AD$24,CQ$3,MOD(COLUMNS($BU$3:CQ$3),2)+1),INDEX($AC$5:$AD$24,INT($AF9/2)+1,MOD(COLUMNS($BU$3:CQ$3),2)+1))","v":-9.0096886790241921},{"$f":"IF(OR(MOD($AF9,2)=0,INDEX(relationships,INT($AF9/2)+1,CR$3)<>2),INDEX($AC$5:$AD$24,CR$3,MOD(COLUMNS($BU$3:CR$3),2)+1),INDEX($AC$5:$AD$24,INT($AF9/2)+1,MOD(COLUMNS($BU$3:CR$3),2)+1))","v":-9.7492791218182351},{"$f":"IF(OR(MOD($AF9,2)=0,INDEX(relationships,INT($AF9/2)+1,CS$3)<>2),INDEX($AC$5:$AD$24,CS$3,MOD(COLUMNS($BU$3:CS$3),2)+1),INDEX($AC$5:$AD$24,INT($AF9/2)+1,MOD(COLUMNS($BU$3:CS$3),2)+1))","v":-2.2252093395631483},{"$f":"IF(OR(MOD($AF9,2)=0,INDEX(relationships,INT($AF9/2)+1,CT$3)<>2),INDEX($AC$5:$AD$24,CT$3,MOD(COLUMNS($BU$3:CT$3),2)+1),INDEX($AC$5:$AD$24,INT($AF9/2)+1,MOD(COLUMNS($BU$3:CT$3),2)+1))","v":-7.8183148246803018},{"$f":"IF(OR(MOD($AF9,2)=0,INDEX(relationships,INT($AF9/2)+1,CU$3)<>2),INDEX($AC$5:$AD$24,CU$3,MOD(COLUMNS($BU$3:CU$3),2)+1),INDEX($AC$5:$AD$24,INT($AF9/2)+1,MOD(COLUMNS($BU$3:CU$3),2)+1))","v":6.2348980185873319},{"$f":"IF(OR(MOD($AF9,2)=0,INDEX(relationships,INT($AF9/2)+1,CV$3)<>2),INDEX($AC$5:$AD$24,CV$3,MOD(COLUMNS($BU$3:CV$3),2)+1),INDEX($AC$5:$AD$24,INT($AF9/2)+1,MOD(COLUMNS($BU$3:CV$3),2)+1))","v":-4.90059381963448E-15},{"$f":"IF(OR(MOD($AF9,2)=0,INDEX(relationships,INT($AF9/2)+1,CW$3)<>2),INDEX($AC$5:$AD$24,CW$3,MOD(COLUMNS($BU$3:CW$3),2)+1),INDEX($AC$5:$AD$24,INT($AF9/2)+1,MOD(COLUMNS($BU$3:CW$3),2)+1))","v":10},{"$f":"IF(OR(MOD($AF9,2)=0,INDEX(relationships,INT($AF9/2)+1,CX$3)<>2),INDEX($AC$5:$AD$24,CX$3,MOD(COLUMNS($BU$3:CX$3),2)+1),INDEX($AC$5:$AD$24,INT($AF9/2)+1,MOD(COLUMNS($BU$3:CX$3),2)+1))","v":7.8183148246802947},{"$f":"IF(OR(MOD($AF9,2)=0,INDEX(relationships,INT($AF9/2)+1,CY$3)<>2),INDEX($AC$5:$AD$24,CY$3,MOD(COLUMNS($BU$3:CY$3),2)+1),INDEX($AC$5:$AD$24,INT($AF9/2)+1,MOD(COLUMNS($BU$3:CY$3),2)+1))","v":6.2348980185873391},{"$f":"IF(OR(MOD($AF9,2)=0,INDEX(relationships,INT($AF9/2)+1,CZ$3)<>2),INDEX($AC$5:$AD$24,CZ$3,MOD(COLUMNS($BU$3:CZ$3),2)+1),INDEX($AC$5:$AD$24,INT($AF9/2)+1,MOD(COLUMNS($BU$3:CZ$3),2)+1))","v":9.7492791218182369},{"$f":"IF(OR(MOD($AF9,2)=0,INDEX(relationships,INT($AF9/2)+1,DA$3)<>2),INDEX($AC$5:$AD$24,DA$3,MOD(COLUMNS($BU$3:DA$3),2)+1),INDEX($AC$5:$AD$24,INT($AF9/2)+1,MOD(COLUMNS($BU$3:DA$3),2)+1))","v":-2.2252093395631385},{"$f":"IF(OR(MOD($AF9,2)=0,INDEX(relationships,INT($AF9/2)+1,DB$3)<>2),INDEX($AC$5:$AD$24,DB$3,MOD(COLUMNS($BU$3:DB$3),2)+1),INDEX($AC$5:$AD$24,INT($AF9/2)+1,MOD(COLUMNS($BU$3:DB$3),2)+1))","v":4.3388373911755869},{"$f":"IF(OR(MOD($AF9,2)=0,INDEX(relationships,INT($AF9/2)+1,DC$3)<>2),INDEX($AC$5:$AD$24,DC$3,MOD(COLUMNS($BU$3:DC$3),2)+1),INDEX($AC$5:$AD$24,INT($AF9/2)+1,MOD(COLUMNS($BU$3:DC$3),2)+1))","v":-9.0096886790241886},{"$f":"IF(OR(MOD($AF9,2)=0,INDEX(relationships,INT($AF9/2)+1,DD$3)<>2),INDEX($AC$5:$AD$24,DD$3,MOD(COLUMNS($BU$3:DD$3),2)+1),INDEX($AC$5:$AD$24,INT($AF9/2)+1,MOD(COLUMNS($BU$3:DD$3),2)+1))","v":-4.3388373911755753},{"$f":"IF(OR(MOD($AF9,2)=0,INDEX(relationships,INT($AF9/2)+1,DE$3)<>2),INDEX($AC$5:$AD$24,DE$3,MOD(COLUMNS($BU$3:DE$3),2)+1),INDEX($AC$5:$AD$24,INT($AF9/2)+1,MOD(COLUMNS($BU$3:DE$3),2)+1))","v":-9.0096886790241939},{"$f":"IF(OR(MOD($AF9,2)=0,INDEX(relationships,INT($AF9/2)+1,DF$3)<>2),INDEX($AC$5:$AD$24,DF$3,MOD(COLUMNS($BU$3:DF$3),2)+1),INDEX($AC$5:$AD$24,INT($AF9/2)+1,MOD(COLUMNS($BU$3:DF$3),2)+1))","v":-9.7492791218182351},{"$f":"IF(OR(MOD($AF9,2)=0,INDEX(relationships,INT($AF9/2)+1,DG$3)<>2),INDEX($AC$5:$AD$24,DG$3,MOD(COLUMNS($BU$3:DG$3),2)+1),INDEX($AC$5:$AD$24,INT($AF9/2)+1,MOD(COLUMNS($BU$3:DG$3),2)+1))","v":-2.2252093395631505},{"$f":"IF(OR(MOD($AF9,2)=0,INDEX(relationships,INT($AF9/2)+1,DH$3)<>2),INDEX($AC$5:$AD$24,DH$3,MOD(COLUMNS($BU$3:DH$3),2)+1),INDEX($AC$5:$AD$24,INT($AF9/2)+1,MOD(COLUMNS($BU$3:DH$3),2)+1))","v":-7.8183148246803027},{"$f":"IF(OR(MOD($AF9,2)=0,INDEX(relationships,INT($AF9/2)+1,DI$3)<>2),INDEX($AC$5:$AD$24,DI$3,MOD(COLUMNS($BU$3:DI$3),2)+1),INDEX($AC$5:$AD$24,INT($AF9/2)+1,MOD(COLUMNS($BU$3:DI$3),2)+1))","v":6.2348980185873293},null,-2.45029690981724E-15,10,-2.45029690981724E-15,10]
[null,{"$f":"'Group Data'!B23","v":"Social media group chats"},{"$f":"'Group Data'!AJ23","v":1},{"$f":"'Group Data'!AK23","v":0},{"$f":"'Group Data'!AL23","v":1},{"$f":"'Group Data'!AM23","v":1},{"$f":"'Group Data'!AN23","v":1},null,null,null,null,null,null,null,null,null,null,null,null,null,null,null,null,null,"Total stakeholders",{"$f":"20-Z1","v":7},null,6,-7.8183148246802991,6.2348980185873337,null,5,{"$f":"IF(OR(MOD($AF10,2)=0,INDEX(relationships,INT($AF10/2)+1,AG$3)<>1),INDEX($AC$5:$AD$24,AG$3,MOD(COLUMNS($AF$3:AG$3),2)+1),INDEX($AC$5:$AD$24,INT($AF10/2)+1,MOD(COLUMNS($AF$3:AG$3),2)+1))","v":7.8183148246802983},{"$f":"IF(OR(MOD($AF10,2)=0,INDEX(relationships,INT($AF10/2)+1,AH$3)<>1),INDEX($AC$5:$AD$24,AH$3,MOD(COLUMNS($AF$3:AH$3),2)+1),INDEX($AC$5:$AD$24,INT($AF10/2)+1,MOD(COLUMNS($AF$3:AH$3),2)+1))","v":6.2348980185873355},{"$f":"IF(OR(MOD($AF10,2)=0,INDEX(relationships,INT($AF10/2)+1,AI$3)<>1),INDEX($AC$5:$AD$24,AI$3,MOD(COLUMNS($AF$3:AI$3),2)+1),INDEX($AC$5:$AD$24,INT($AF10/2)+1,MOD(COLUMNS($AF$3:AI$3),2)+1))","v":9.7492791218182369},{"$f":"IF(OR(MOD($AF10,2)=0,INDEX(relationships,INT($AF10/2)+1,AJ$3)<>1),INDEX($AC$5:$AD$24,AJ$3,MOD(COLUMNS($AF$3:AJ$3),2)+1),INDEX($AC$5:$AD$24,INT($AF10/2)+1,MOD(COLUMNS($AF$3:AJ$3),2)+1))","v":-2.2252093395631434},{"$f":"IF(OR(MOD($AF10,2)=0,INDEX(relationships,INT($AF10/2)+1,AK$3)<>1),INDEX($AC$5:$AD$24,AK$3,MOD(COLUMNS($AF$3:AK$3),2)+1),INDEX($AC$5:$AD$24,INT($AF10/2)+1,MOD(COLUMNS($AF$3:AK$3),2)+1))","v":4.3388373911755824},{"$f":"IF(OR(MOD($AF10,2)=0,INDEX(relationships,INT($AF10/2)+1,AL$3)<>1),INDEX($AC$5:$AD$24,AL$3,MOD(COLUMNS($AF$3:AL$3),2)+1),INDEX($AC$5:$AD$24,INT($AF10/2)+1,MOD(COLUMNS($AF$3:AL$3),2)+1))","v":-9.0096886790241903},{"$f":"IF(OR(MOD($AF10,2)=0,INDEX(relationships,INT($AF10/2)+1,AM$3)<>1),INDEX($AC$5:$AD$24,AM$3,MOD(COLUMNS($AF$3:AM$3),2)+1),INDEX($AC$5:$AD$24,INT($AF10/2)+1,MOD(COLUMNS($AF$3:AM$3),2)+1))","v":-4.3388373911755798},{"$f":"IF(OR(MOD($AF10,2)=0,INDEX(relationships,INT($AF10/2)+1,AN$3)<>1),INDEX($AC$5:$AD$24,AN$3,MOD(COLUMNS($AF$3:AN$3),2)+1),INDEX($AC$5:$AD$24,INT($AF10/2)+1,MOD(COLUMNS($AF$3:AN$3),2)+1))","v":-9.0096886790241921},{"$f":"IF(OR(MOD($AF10,2)=0,INDEX(relationships,INT($AF10/2)+1,AO$3)<>1),INDEX($AC$5:$AD$24,AO$3,MOD(COLUMNS($AF$3:AO$3),2)+1),INDEX($AC$5:$AD$24,INT($AF10/2)+1,MOD(COLUMNS($AF$3:AO$3),2)+1))","v":-9.7492791218182369},{"$f":"IF(OR(MOD($AF10,2)=0,INDEX(relationships,INT($AF10/2)+1,AP$3)<>1),INDEX($AC$5:$AD$24,AP$3,MOD(COLUMNS($AF$3:AP$3),2)+1),INDEX($AC$5:$AD$24,INT($AF10/2)+1,MOD(COLUMNS($AF$3:AP$3),2)+1))","v":-2.225209339563146},{"$f":"IF(OR(MOD($AF10,2)=0,INDEX(relationships,INT($AF10/2)+1,AQ$3)<>1),INDEX($AC$5:$AD$24,AQ$3,MOD(COLUMNS($AF$3:AQ$3),2)+1),INDEX($AC$5:$AD$24,INT($AF10/2)+1,MOD(COLUMNS($AF$3:AQ$3),2)+1))","v":4.3388373911755824},{"$f":"IF(OR(MOD($AF10,2)=0,INDEX(relationships,INT($AF10/2)+1,AR$3)<>1),INDEX($AC$5:$AD$24,AR$3,MOD(COLUMNS($AF$3:AR$3),2)+1),INDEX($AC$5:$AD$24,INT($AF10/2)+1,MOD(COLUMNS($AF$3:AR$3),2)+1))","v":-9.0096886790241903},{"$f":"IF(OR(MOD($AF10,2)=0,INDEX(relationships,INT($AF10/2)+1,AS$3)<>1),INDEX($AC$5:$AD$24,AS$3,MOD(COLUMNS($AF$3:AS$3),2)+1),INDEX($AC$5:$AD$24,INT($AF10/2)+1,MOD(COLUMNS($AF$3:AS$3),2)+1))","v":-2.45029690981724E-15},{"$f":"IF(OR(MOD($AF10,2)=0,INDEX(relationships,INT($AF10/2)+1,AT$3)<>1),INDEX($AC$5:$AD$24,AT$3,MOD(COLUMNS($AF$3:AT$3),2)+1),INDEX($AC$5:$AD$24,INT($AF10/2)+1,MOD(COLUMNS($AF$3:AT$3),2)+1))","v":10},{"$f":"IF(OR(MOD($AF10,2)=0,INDEX(relationships,INT($AF10/2)+1,AU$3)<>1),INDEX($AC$5:$AD$24,AU$3,MOD(COLUMNS($AF$3:AU$3),2)+1),INDEX($AC$5:$AD$24,INT($AF10/2)+1,MOD(COLUMNS($AF$3:AU$3),2)+1))","v":7.8183148246802956},{"$f":"IF(OR(MOD($AF10,2)=0,INDEX(relationships,INT($AF10/2)+1,AV$3)<>1),INDEX($AC$5:$AD$24,AV$3,MOD(COLUMNS($AF$3:AV$3),2)+1),INDEX($AC$5:$AD$24,INT($AF10/2)+1,MOD(COLUMNS($AF$3:AV$3),2)+1))","v":6.2348980185873373},{"$f":"IF(OR(MOD($AF10,2)=0,INDEX(relationships,INT($AF10/2)+1,AW$3)<>1),INDEX($AC$5:$AD$24,AW$3,MOD(COLUMNS($AF$3:AW$3),2)+1),INDEX($AC$5:$AD$24,INT($AF10/2)+1,MOD(COLUMNS($AF$3:AW$3),2)+1))","v":9.7492791218182369},{"$f":"IF(OR(MOD($AF10,2)=0,INDEX(relationships,INT($AF10/2)+1,AX$3)<>1),INDEX($AC$5:$AD$24,AX$3,MOD(COLUMNS($AF$3:AX$3),2)+1),INDEX($AC$5:$AD$24,INT($AF10/2)+1,MOD(COLUMNS($AF$3:AX$3),2)+1))","v":-2.2252093395631407},{"$f":"IF(OR(MOD($AF10,2)=0,INDEX(relationships,INT($AF10/2)+1,AY$3)<>1),INDEX($AC$5:$AD$24,AY$3,MOD(COLUMNS($AF$3:AY$3),2)+1),INDEX($AC$5:$AD$24,INT($AF10/2)+1,MOD(COLUMNS($AF$3:AY$3),2)+1))","v":4.3388373911755842},{"$f":"IF(OR(MOD($AF10,2)=0,INDEX(relationships,INT($AF10/2)+1,AZ$3)<>1),INDEX($AC$5:$AD$24,AZ$3,MOD(COLUMNS($AF$3:AZ$3),2)+1),INDEX($AC$5:$AD$24,INT($AF10/2)+1,MOD(COLUMNS($AF$3:AZ$3),2)+1))","v":-9.0096886790241886},{"$f":"IF(OR(MOD($AF10,2)=0,INDEX(relationships,INT($AF10/2)+1,BA$3)<>1),INDEX($AC$5:$AD$24,BA$3,MOD(COLUMNS($AF$3:BA$3),2)+1),INDEX($AC$5:$AD$24,INT($AF10/2)+1,MOD(COLUMNS($AF$3:BA$3),2)+1))","v":-4.338837391175578},{"$f":"IF(OR(MOD($AF10,2)=0,INDEX(relationships,INT($AF10/2)+1,BB$3)<>1),INDEX($AC$5:$AD$24,BB$3,MOD(COLUMNS($AF$3:BB$3),2)+1),INDEX($AC$5:$AD$24,INT($AF10/2)+1,MOD(COLUMNS($AF$3:BB$3),2)+1))","v":-9.0096886790241921},{"$f":"IF(OR(MOD($AF10,2)=0,INDEX(relationships,INT($AF10/2)+1,BC$3)<>1),INDEX($AC$5:$AD$24,BC$3,MOD(COLUMNS($AF$3:BC$3),2)+1),INDEX($AC$5:$AD$24,INT($AF10/2)+1,MOD(COLUMNS($AF$3:BC$3),2)+1))","v":-9.7492791218182351},{"$f":"IF(OR(MOD($AF10,2)=0,INDEX(relationships,INT($AF10/2)+1,BD$3)<>1),INDEX($AC$5:$AD$24,BD$3,MOD(COLUMNS($AF$3:BD$3),2)+1),INDEX($AC$5:$AD$24,INT($AF10/2)+1,MOD(COLUMNS($AF$3:BD$3),2)+1))","v":-2.2252093395631483},{"$f":"IF(OR(MOD($AF10,2)=0,INDEX(relationships,INT($AF10/2)+1,BE$3)<>1),INDEX($AC$5:$AD$24,BE$3,MOD(COLUMNS($AF$3:BE$3),2)+1),INDEX($AC$5:$AD$24,INT($AF10/2)+1,MOD(COLUMNS($AF$3:BE$3),2)+1))","v":-7.8183148246803018},{"$f":"IF(OR(MOD($AF10,2)=0,INDEX(relationships,INT($AF10/2)+1,BF$3)<>1),INDEX($AC$5:$AD$24,BF$3,MOD(COLUMNS($AF$3:BF$3),2)+1),INDEX($AC$5:$AD$24,INT($AF10/2)+1,MOD(COLUMNS($AF$3:BF$3),2)+1))","v":6.2348980185873319},{"$f":"IF(OR(MOD($AF10,2)=0,INDEX(relationships,INT($AF10/2)+1,BG$3)<>1),INDEX($AC$5:$AD$24,BG$3,MOD(COLUMNS($AF$3:BG$3),2)+1),INDEX($AC$5:$AD$24,INT($AF10/2)+1,MOD(COLUMNS($AF$3:BG$3),2)+1))","v":-4.90059381963448E-15},{"$f":"IF(OR(MOD($AF10,2)=0,INDEX(relationships,INT($AF10/2)+1,BH$3)<>1),INDEX($AC$5:$AD$24,BH$3,MOD(COLUMNS($AF$3:BH$3),2)+1),INDEX($AC$5:$AD$24,INT($AF10/2)+1,MOD(COLUMNS($AF$3:BH$3),2)+1))","v":10},{"$f":"IF(OR(MOD($AF10,2)=0,INDEX(relationships,INT($AF10/2)+1,BI$3)<>1),INDEX($AC$5:$AD$24,BI$3,MOD(COLUMNS($AF$3:BI$3),2)+1),INDEX($AC$5:$AD$24,INT($AF10/2)+1,MOD(COLUMNS($AF$3:BI$3),2)+1))","v":7.8183148246802947},{"$f":"IF(OR(MOD($AF10,2)=0,INDEX(relationships,INT($AF10/2)+1,BJ$3)<>1),INDEX($AC$5:$AD$24,BJ$3,MOD(COLUMNS($AF$3:BJ$3),2)+1),INDEX($AC$5:$AD$24,INT($AF10/2)+1,MOD(COLUMNS($AF$3:BJ$3),2)+1))","v":6.2348980185873391},{"$f":"IF(OR(MOD($AF10,2)=0,INDEX(relationships,INT($AF10/2)+1,BK$3)<>1),INDEX($AC$5:$AD$24,BK$3,MOD(COLUMNS($AF$3:BK$3),2)+1),INDEX($AC$5:$AD$24,INT($AF10/2)+1,MOD(COLUMNS($AF$3:BK$3),2)+1))","v":9.7492791218182369},{"$f":"IF(OR(MOD($AF10,2)=0,INDEX(relationships,INT($AF10/2)+1,BL$3)<>1),INDEX($AC$5:$AD$24,BL$3,MOD(COLUMNS($AF$3:BL$3),2)+1),INDEX($AC$5:$AD$24,INT($AF10/2)+1,MOD(COLUMNS($AF$3:BL$3),2)+1))","v":-2.2252093395631385},{"$f":"IF(OR(MOD($AF10,2)=0,INDEX(relationships,INT($AF10/2)+1,BM$3)<>1),INDEX($AC$5:$AD$24,BM$3,MOD(COLUMNS($AF$3:BM$3),2)+1),INDEX($AC$5:$AD$24,INT($AF10/2)+1,MOD(COLUMNS($AF$3:BM$3),2)+1))","v":4.3388373911755869},{"$f":"IF(OR(MOD($AF10,2)=0,INDEX(relationships,INT($AF10/2)+1,BN$3)<>1),INDEX($AC$5:$AD$24,BN$3,MOD(COLUMNS($AF$3:BN$3),2)+1),INDEX($AC$5:$AD$24,INT($AF10/2)+1,MOD(COLUMNS($AF$3:BN$3),2)+1))","v":-9.0096886790241886},{"$f":"IF(OR(MOD($AF10,2)=0,INDEX(relationships,INT($AF10/2)+1,BO$3)<>1),INDEX($AC$5:$AD$24,BO$3,MOD(COLUMNS($AF$3:BO$3),2)+1),INDEX($AC$5:$AD$24,INT($AF10/2)+1,MOD(COLUMNS($AF$3:BO$3),2)+1))","v":-4.3388373911755753},{"$f":"IF(OR(MOD($AF10,2)=0,INDEX(relationships,INT($AF10/2)+1,BP$3)<>1),INDEX($AC$5:$AD$24,BP$3,MOD(COLUMNS($AF$3:BP$3),2)+1),INDEX($AC$5:$AD$24,INT($AF10/2)+1,MOD(COLUMNS($AF$3:BP$3),2)+1))","v":-9.0096886790241939},{"$f":"IF(OR(MOD($AF10,2)=0,INDEX(relationships,INT($AF10/2)+1,BQ$3)<>1),INDEX($AC$5:$AD$24,BQ$3,MOD(COLUMNS($AF$3:BQ$3),2)+1),INDEX($AC$5:$AD$24,INT($AF10/2)+1,MOD(COLUMNS($AF$3:BQ$3),2)+1))","v":-9.7492791218182351},{"$f":"IF(OR(MOD($AF10,2)=0,INDEX(relationships,INT($AF10/2)+1,BR$3)<>1),INDEX($AC$5:$AD$24,BR$3,MOD(COLUMNS($AF$3:BR$3),2)+1),INDEX($AC$5:$AD$24,INT($AF10/2)+1,MOD(COLUMNS($AF$3:BR$3),2)+1))","v":-2.2252093395631505},{"$f":"IF(OR(MOD($AF10,2)=0,INDEX(relationships,INT($AF10/2)+1,BS$3)<>1),INDEX($AC$5:$AD$24,BS$3,MOD(COLUMNS($AF$3:BS$3),2)+1),INDEX($AC$5:$AD$24,INT($AF10/2)+1,MOD(COLUMNS($AF$3:BS$3),2)+1))","v":-7.8183148246803027},{"$f":"IF(OR(MOD($AF10,2)=0,INDEX(relationships,INT($AF10/2)+1,BT$3)<>1),INDEX($AC$5:$AD$24,BT$3,MOD(COLUMNS($AF$3:BT$3),2)+1),INDEX($AC$5:$AD$24,INT($AF10/2)+1,MOD(COLUMNS($AF$3:BT$3),2)+1))","v":6.2348980185873293},null,{"$f":"IF(OR(MOD($AF10,2)=0,INDEX(relationships,INT($AF10/2)+1,BV$3)<>2),INDEX($AC$5:$AD$24,BV$3,MOD(COLUMNS($BU$3:BV$3),2)+1),INDEX($AC$5:$AD$24,INT($AF10/2)+1,MOD(COLUMNS($BU$3:BV$3),2)+1))","v":4.3388373911755824},{"$f":"IF(OR(MOD($AF10,2)=0,INDEX(relationships,INT($AF10/2)+1,BW$3)<>2),INDEX($AC$5:$AD$24,BW$3,MOD(COLUMNS($BU$3:BW$3),2)+1),INDEX($AC$5:$AD$24,INT($AF10/2)+1,MOD(COLUMNS($BU$3:BW$3),2)+1))","v":-9.0096886790241903},{"$f":"IF(OR(MOD($AF10,2)=0,INDEX(relationships,INT($AF10/2)+1,BX$3)<>2),INDEX($AC$5:$AD$24,BX$3,MOD(COLUMNS($BU$3:BX$3),2)+1),INDEX($AC$5:$AD$24,INT($AF10/2)+1,MOD(COLUMNS($BU$3:BX$3),2)+1))","v":4.3388373911755824},{"$f":"IF(OR(MOD($AF10,2)=0,INDEX(relationships,INT($AF10/2)+1,BY$3)<>2),INDEX($AC$5:$AD$24,BY$3,MOD(COLUMNS($BU$3:BY$3),2)+1),INDEX($AC$5:$AD$24,INT($AF10/2)+1,MOD(COLUMNS($BU$3:BY$3),2)+1))","v":-9.0096886790241903},{"$f":"IF(OR(MOD($AF10,2)=0,INDEX(relationships,INT($AF10/2)+1,BZ$3)<>2),INDEX($AC$5:$AD$24,BZ$3,MOD(COLUMNS($BU$3:BZ$3),2)+1),INDEX($AC$5:$AD$24,INT($AF10/2)+1,MOD(COLUMNS($BU$3:BZ$3),2)+1))","v":4.3388373911755824},{"$f":"IF(OR(MOD($AF10,2)=0,INDEX(relationships,INT($AF10/2)+1,CA$3)<>2),INDEX($AC$5:$AD$24,CA$3,MOD(COLUMNS($BU$3:CA$3),2)+1),INDEX($AC$5:$AD$24,INT($AF10/2)+1,MOD(COLUMNS($BU$3:CA$3),2)+1))","v":-9.0096886790241903},{"$f":"IF(OR(MOD($AF10,2)=0,INDEX(relationships,INT($AF10/2)+1,CB$3)<>2),INDEX($AC$5:$AD$24,CB$3,MOD(COLUMNS($BU$3:CB$3),2)+1),INDEX($AC$5:$AD$24,INT($AF10/2)+1,MOD(COLUMNS($BU$3:CB$3),2)+1))","v":-4.3388373911755798},{"$f":"IF(OR(MOD($AF10,2)=0,INDEX(relationships,INT($AF10/2)+1,CC$3)<>2),INDEX($AC$5:$AD$24,CC$3,MOD(COLUMNS($BU$3:CC$3),2)+1),INDEX($AC$5:$AD$24,INT($AF10/2)+1,MOD(COLUMNS($BU$3:CC$3),2)+1))","v":-9.0096886790241921},{"$f":"IF(OR(MOD($AF10,2)=0,INDEX(relationships,INT($AF10/2)+1,CD$3)<>2),INDEX($AC$5:$AD$24,CD$3,MOD(COLUMNS($BU$3:CD$3),2)+1),INDEX($AC$5:$AD$24,INT($AF10/2)+1,MOD(COLUMNS($BU$3:CD$3),2)+1))","v":-9.7492791218182369},{"$f":"IF(OR(MOD($AF10,2)=0,INDEX(relationships,INT($AF10/2)+1,CE$3)<>2),INDEX($AC$5:$AD$24,CE$3,MOD(COLUMNS($BU$3:CE$3),2)+1),INDEX($AC$5:$AD$24,INT($AF10/2)+1,MOD(COLUMNS($BU$3:CE$3),2)+1))","v":-2.225209339563146},{"$f":"IF(OR(MOD($AF10,2)=0,INDEX(relationships,INT($AF10/2)+1,CF$3)<>2),INDEX($AC$5:$AD$24,CF$3,MOD(COLUMNS($BU$3:CF$3),2)+1),INDEX($AC$5:$AD$24,INT($AF10/2)+1,MOD(COLUMNS($BU$3:CF$3),2)+1))","v":-7.8183148246802991},{"$f":"IF(OR(MOD($AF10,2)=0,INDEX(relationships,INT($AF10/2)+1,CG$3)<>2),INDEX($AC$5:$AD$24,CG$3,MOD(COLUMNS($BU$3:CG$3),2)+1),INDEX($AC$5:$AD$24,INT($AF10/2)+1,MOD(COLUMNS($BU$3:CG$3),2)+1))","v":6.2348980185873337},{"$f":"IF(OR(MOD($AF10,2)=0,INDEX(relationships,INT($AF10/2)+1,CH$3)<>2),INDEX($AC$5:$AD$24,CH$3,MOD(COLUMNS($BU$3:CH$3),2)+1),INDEX($AC$5:$AD$24,INT($AF10/2)+1,MOD(COLUMNS($BU$3:CH$3),2)+1))","v":-2.45029690981724E-15},{"$f":"IF(OR(MOD($AF10,2)=0,INDEX(relationships,INT($AF10/2)+1,CI$3)<>2),INDEX($AC$5:$AD$24,CI$3,MOD(COLUMNS($BU$3:CI$3),2)+1),INDEX($AC$5:$AD$24,INT($AF10/2)+1,MOD(COLUMNS($BU$3:CI$3),2)+1))","v":10},{"$f":"IF(OR(MOD($AF10,2)=0,INDEX(relationships,INT($AF10/2)+1,CJ$3)<>2),INDEX($AC$5:$AD$24,CJ$3,MOD(COLUMNS($BU$3:CJ$3),2)+1),INDEX($AC$5:$AD$24,INT($AF10/2)+1,MOD(COLUMNS($BU$3:CJ$3),2)+1))","v":7.8183148246802956},{"$f":"IF(OR(MOD($AF10,2)=0,INDEX(relationships,INT($AF10/2)+1,CK$3)<>2),INDEX($AC$5:$AD$24,CK$3,MOD(COLUMNS($BU$3:CK$3),2)+1),INDEX($AC$5:$AD$24,INT($AF10/2)+1,MOD(COLUMNS($BU$3:CK$3),2)+1))","v":6.2348980185873373},{"$f":"IF(OR(MOD($AF10,2)=0,INDEX(relationships,INT($AF10/2)+1,CL$3)<>2),INDEX($AC$5:$AD$24,CL$3,MOD(COLUMNS($BU$3:CL$3),2)+1),INDEX($AC$5:$AD$24,INT($AF10/2)+1,MOD(COLUMNS($BU$3:CL$3),2)+1))","v":9.7492791218182369},{"$f":"IF(OR(MOD($AF10,2)=0,INDEX(relationships,INT($AF10/2)+1,CM$3)<>2),INDEX($AC$5:$AD$24,CM$3,MOD(COLUMNS($BU$3:CM$3),2)+1),INDEX($AC$5:$AD$24,INT($AF10/2)+1,MOD(COLUMNS($BU$3:CM$3),2)+1))","v":-2.2252093395631407},{"$f":"IF(OR(MOD($AF10,2)=0,INDEX(relationships,INT($AF10/2)+1,CN$3)<>2),INDEX($AC$5:$AD$24,CN$3,MOD(COLUMNS($BU$3:CN$3),2)+1),INDEX($AC$5:$AD$24,INT($AF10/2)+1,MOD(COLUMNS($BU$3:CN$3),2)+1))","v":4.3388373911755842},{"$f":"IF(OR(MOD($AF10,2)=0,INDEX(relationships,INT($AF10/2)+1,CO$3)<>2),INDEX($AC$5:$AD$24,CO$3,MOD(COLUMNS($BU$3:CO$3),2)+1),INDEX($AC$5:$AD$24,INT($AF10/2)+1,MOD(COLUMNS($BU$3:CO$3),2)+1))","v":-9.0096886790241886},{"$f":"IF(OR(MOD($AF10,2)=0,INDEX(relationships,INT($AF10/2)+1,CP$3)<>2),INDEX($AC$5:$AD$24,CP$3,MOD(COLUMNS($BU$3:CP$3),2)+1),INDEX($AC$5:$AD$24,INT($AF10/2)+1,MOD(COLUMNS($BU$3:CP$3),2)+1))","v":-4.338837391175578},{"$f":"IF(OR(MOD($AF10,2)=0,INDEX(relationships,INT($AF10/2)+1,CQ$3)<>2),INDEX($AC$5:$AD$24,CQ$3,MOD(COLUMNS($BU$3:CQ$3),2)+1),INDEX($AC$5:$AD$24,INT($AF10/2)+1,MOD(COLUMNS($BU$3:CQ$3),2)+1))","v":-9.0096886790241921},{"$f":"IF(OR(MOD($AF10,2)=0,INDEX(relationships,INT($AF10/2)+1,CR$3)<>2),INDEX($AC$5:$AD$24,CR$3,MOD(COLUMNS($BU$3:CR$3),2)+1),INDEX($AC$5:$AD$24,INT($AF10/2)+1,MOD(COLUMNS($BU$3:CR$3),2)+1))","v":-9.7492791218182351},{"$f":"IF(OR(MOD($AF10,2)=0,INDEX(relationships,INT($AF10/2)+1,CS$3)<>2),INDEX($AC$5:$AD$24,CS$3,MOD(COLUMNS($BU$3:CS$3),2)+1),INDEX($AC$5:$AD$24,INT($AF10/2)+1,MOD(COLUMNS($BU$3:CS$3),2)+1))","v":-2.2252093395631483},{"$f":"IF(OR(MOD($AF10,2)=0,INDEX(relationships,INT($AF10/2)+1,CT$3)<>2),INDEX($AC$5:$AD$24,CT$3,MOD(COLUMNS($BU$3:CT$3),2)+1),INDEX($AC$5:$AD$24,INT($AF10/2)+1,MOD(COLUMNS($BU$3:CT$3),2)+1))","v":-7.8183148246803018},{"$f":"IF(OR(MOD($AF10,2)=0,INDEX(relationships,INT($AF10/2)+1,CU$3)<>2),INDEX($AC$5:$AD$24,CU$3,MOD(COLUMNS($BU$3:CU$3),2)+1),INDEX($AC$5:$AD$24,INT($AF10/2)+1,MOD(COLUMNS($BU$3:CU$3),2)+1))","v":6.2348980185873319},{"$f":"IF(OR(MOD($AF10,2)=0,INDEX(relationships,INT($AF10/2)+1,CV$3)<>2),INDEX($AC$5:$AD$24,CV$3,MOD(COLUMNS($BU$3:CV$3),2)+1),INDEX($AC$5:$AD$24,INT($AF10/2)+1,MOD(COLUMNS($BU$3:CV$3),2)+1))","v":-4.90059381963448E-15},{"$f":"IF(OR(MOD($AF10,2)=0,INDEX(relationships,INT($AF10/2)+1,CW$3)<>2),INDEX($AC$5:$AD$24,CW$3,MOD(COLUMNS($BU$3:CW$3),2)+1),INDEX($AC$5:$AD$24,INT($AF10/2)+1,MOD(COLUMNS($BU$3:CW$3),2)+1))","v":10},{"$f":"IF(OR(MOD($AF10,2)=0,INDEX(relationships,INT($AF10/2)+1,CX$3)<>2),INDEX($AC$5:$AD$24,CX$3,MOD(COLUMNS($BU$3:CX$3),2)+1),INDEX($AC$5:$AD$24,INT($AF10/2)+1,MOD(COLUMNS($BU$3:CX$3),2)+1))","v":7.8183148246802947},{"$f":"IF(OR(MOD($AF10,2)=0,INDEX(relationships,INT($AF10/2)+1,CY$3)<>2),INDEX($AC$5:$AD$24,CY$3,MOD(COLUMNS($BU$3:CY$3),2)+1),INDEX($AC$5:$AD$24,INT($AF10/2)+1,MOD(COLUMNS($BU$3:CY$3),2)+1))","v":6.2348980185873391},{"$f":"IF(OR(MOD($AF10,2)=0,INDEX(relationships,INT($AF10/2)+1,CZ$3)<>2),INDEX($AC$5:$AD$24,CZ$3,MOD(COLUMNS($BU$3:CZ$3),2)+1),INDEX($AC$5:$AD$24,INT($AF10/2)+1,MOD(COLUMNS($BU$3:CZ$3),2)+1))","v":9.7492791218182369},{"$f":"IF(OR(MOD($AF10,2)=0,INDEX(relationships,INT($AF10/2)+1,DA$3)<>2),INDEX($AC$5:$AD$24,DA$3,MOD(COLUMNS($BU$3:DA$3),2)+1),INDEX($AC$5:$AD$24,INT($AF10/2)+1,MOD(COLUMNS($BU$3:DA$3),2)+1))","v":-2.2252093395631385},{"$f":"IF(OR(MOD($AF10,2)=0,INDEX(relationships,INT($AF10/2)+1,DB$3)<>2),INDEX($AC$5:$AD$24,DB$3,MOD(COLUMNS($BU$3:DB$3),2)+1),INDEX($AC$5:$AD$24,INT($AF10/2)+1,MOD(COLUMNS($BU$3:DB$3),2)+1))","v":4.3388373911755869},{"$f":"IF(OR(MOD($AF10,2)=0,INDEX(relationships,INT($AF10/2)+1,DC$3)<>2),INDEX($AC$5:$AD$24,DC$3,MOD(COLUMNS($BU$3:DC$3),2)+1),INDEX($AC$5:$AD$24,INT($AF10/2)+1,MOD(COLUMNS($BU$3:DC$3),2)+1))","v":-9.0096886790241886},{"$f":"IF(OR(MOD($AF10,2)=0,INDEX(relationships,INT($AF10/2)+1,DD$3)<>2),INDEX($AC$5:$AD$24,DD$3,MOD(COLUMNS($BU$3:DD$3),2)+1),INDEX($AC$5:$AD$24,INT($AF10/2)+1,MOD(COLUMNS($BU$3:DD$3),2)+1))","v":-4.3388373911755753},{"$f":"IF(OR(MOD($AF10,2)=0,INDEX(relationships,INT($AF10/2)+1,DE$3)<>2),INDEX($AC$5:$AD$24,DE$3,MOD(COLUMNS($BU$3:DE$3),2)+1),INDEX($AC$5:$AD$24,INT($AF10/2)+1,MOD(COLUMNS($BU$3:DE$3),2)+1))","v":-9.0096886790241939},{"$f":"IF(OR(MOD($AF10,2)=0,INDEX(relationships,INT($AF10/2)+1,DF$3)<>2),INDEX($AC$5:$AD$24,DF$3,MOD(COLUMNS($BU$3:DF$3),2)+1),INDEX($AC$5:$AD$24,INT($AF10/2)+1,MOD(COLUMNS($BU$3:DF$3),2)+1))","v":-9.7492791218182351},{"$f":"IF(OR(MOD($AF10,2)=0,INDEX(relationships,INT($AF10/2)+1,DG$3)<>2),INDEX($AC$5:$AD$24,DG$3,MOD(COLUMNS($BU$3:DG$3),2)+1),INDEX($AC$5:$AD$24,INT($AF10/2)+1,MOD(COLUMNS($BU$3:DG$3),2)+1))","v":-2.2252093395631505},{"$f":"IF(OR(MOD($AF10,2)=0,INDEX(relationships,INT($AF10/2)+1,DH$3)<>2),INDEX($AC$5:$AD$24,DH$3,MOD(COLUMNS($BU$3:DH$3),2)+1),INDEX($AC$5:$AD$24,INT($AF10/2)+1,MOD(COLUMNS($BU$3:DH$3),2)+1))","v":-7.8183148246803027},{"$f":"IF(OR(MOD($AF10,2)=0,INDEX(relationships,INT($AF10/2)+1,DI$3)<>2),INDEX($AC$5:$AD$24,DI$3,MOD(COLUMNS($BU$3:DI$3),2)+1),INDEX($AC$5:$AD$24,INT($AF10/2)+1,MOD(COLUMNS($BU$3:DI$3),2)+1))","v":6.2348980185873293},null,-2.45029690981724E-15,10,-2.45029690981724E-15,10]
[null,{"$f":"'Group Data'!B24","v":"Colleagues "},{"$f":"'Group Data'!AJ24","v":0},{"$f":"'Group Data'!AK24","v":2},{"$f":"'Group Data'!AL24","v":0},{"$f":"'Group Data'!AM24","v":0},{"$f":"'Group Data'!AN24","v":0},{"$f":"'Group Data'!AO24","v":0},null,null,null,null,null,null,null,null,null,null,null,null,null,null,null,null,null,null,null,7,-2.45029690981724E-15,10,null,6,{"$f":"IF(OR(MOD($AF11,2)=0,INDEX(relationships,INT($AF11/2)+1,AG$3)<>1),INDEX($AC$5:$AD$24,AG$3,MOD(COLUMNS($AF$3:AG$3),2)+1),INDEX($AC$5:$AD$24,INT($AF11/2)+1,MOD(COLUMNS($AF$3:AG$3),2)+1))","v":7.8183148246802983},{"$f":"IF(OR(MOD($AF11,2)=0,INDEX(relationships,INT($AF11/2)+1,AH$3)<>1),INDEX($AC$5:$AD$24,AH$3,MOD(COLUMNS($AF$3:AH$3),2)+1),INDEX($AC$5:$AD$24,INT($AF11/2)+1,MOD(COLUMNS($AF$3:AH$3),2)+1))","v":6.2348980185873355},{"$f":"IF(OR(MOD($AF11,2)=0,INDEX(relationships,INT($AF11/2)+1,AI$3)<>1),INDEX($AC$5:$AD$24,AI$3,MOD(COLUMNS($AF$3:AI$3),2)+1),INDEX($AC$5:$AD$24,INT($AF11/2)+1,MOD(COLUMNS($AF$3:AI$3),2)+1))","v":9.7492791218182369},{"$f":"IF(OR(MOD($AF11,2)=0,INDEX(relationships,INT($AF11/2)+1,AJ$3)<>1),INDEX($AC$5:$AD$24,AJ$3,MOD(COLUMNS($AF$3:AJ$3),2)+1),INDEX($AC$5:$AD$24,INT($AF11/2)+1,MOD(COLUMNS($AF$3:AJ$3),2)+1))","v":-2.2252093395631434},{"$f":"IF(OR(MOD($AF11,2)=0,INDEX(relationships,INT($AF11/2)+1,AK$3)<>1),INDEX($AC$5:$AD$24,AK$3,MOD(COLUMNS($AF$3:AK$3),2)+1),INDEX($AC$5:$AD$24,INT($AF11/2)+1,MOD(COLUMNS($AF$3:AK$3),2)+1))","v":4.3388373911755824},{"$f":"IF(OR(MOD($AF11,2)=0,INDEX(relationships,INT($AF11/2)+1,AL$3)<>1),INDEX($AC$5:$AD$24,AL$3,MOD(COLUMNS($AF$3:AL$3),2)+1),INDEX($AC$5:$AD$24,INT($AF11/2)+1,MOD(COLUMNS($AF$3:AL$3),2)+1))","v":-9.0096886790241903},{"$f":"IF(OR(MOD($AF11,2)=0,INDEX(relationships,INT($AF11/2)+1,AM$3)<>1),INDEX($AC$5:$AD$24,AM$3,MOD(COLUMNS($AF$3:AM$3),2)+1),INDEX($AC$5:$AD$24,INT($AF11/2)+1,MOD(COLUMNS($AF$3:AM$3),2)+1))","v":-4.3388373911755798},{"$f":"IF(OR(MOD($AF11,2)=0,INDEX(relationships,INT($AF11/2)+1,AN$3)<>1),INDEX($AC$5:$AD$24,AN$3,MOD(COLUMNS($AF$3:AN$3),2)+1),INDEX($AC$5:$AD$24,INT($AF11/2)+1,MOD(COLUMNS($AF$3:AN$3),2)+1))","v":-9.0096886790241921},{"$f":"IF(OR(MOD($AF11,2)=0,INDEX(relationships,INT($AF11/2)+1,AO$3)<>1),INDEX($AC$5:$AD$24,AO$3,MOD(COLUMNS($AF$3:AO$3),2)+1),INDEX($AC$5:$AD$24,INT($AF11/2)+1,MOD(COLUMNS($AF$3:AO$3),2)+1))","v":-9.7492791218182369},{"$f":"IF(OR(MOD($AF11,2)=0,INDEX(relationships,INT($AF11/2)+1,AP$3)<>1),INDEX($AC$5:$AD$24,AP$3,MOD(COLUMNS($AF$3:AP$3),2)+1),INDEX($AC$5:$AD$24,INT($AF11/2)+1,MOD(COLUMNS($AF$3:AP$3),2)+1))","v":-2.225209339563146},{"$f":"IF(OR(MOD($AF11,2)=0,INDEX(relationships,INT($AF11/2)+1,AQ$3)<>1),INDEX($AC$5:$AD$24,AQ$3,MOD(COLUMNS($AF$3:AQ$3),2)+1),INDEX($AC$5:$AD$24,INT($AF11/2)+1,MOD(COLUMNS($AF$3:AQ$3),2)+1))","v":-7.8183148246802991},{"$f":"IF(OR(MOD($AF11,2)=0,INDEX(relationships,INT($AF11/2)+1,AR$3)<>1),INDEX($AC$5:$AD$24,AR$3,MOD(COLUMNS($AF$3:AR$3),2)+1),INDEX($AC$5:$AD$24,INT($AF11/2)+1,MOD(COLUMNS($AF$3:AR$3),2)+1))","v":6.2348980185873337},{"$f":"IF(OR(MOD($AF11,2)=0,INDEX(relationships,INT($AF11/2)+1,AS$3)<>1),INDEX($AC$5:$AD$24,AS$3,MOD(COLUMNS($AF$3:AS$3),2)+1),INDEX($AC$5:$AD$24,INT($AF11/2)+1,MOD(COLUMNS($AF$3:AS$3),2)+1))","v":-2.45029690981724E-15},{"$f":"IF(OR(MOD($AF11,2)=0,INDEX(relationships,INT($AF11/2)+1,AT$3)<>1),INDEX($AC$5:$AD$24,AT$3,MOD(COLUMNS($AF$3:AT$3),2)+1),INDEX($AC$5:$AD$24,INT($AF11/2)+1,MOD(COLUMNS($AF$3:AT$3),2)+1))","v":10},{"$f":"IF(OR(MOD($AF11,2)=0,INDEX(relationships,INT($AF11/2)+1,AU$3)<>1),INDEX($AC$5:$AD$24,AU$3,MOD(COLUMNS($AF$3:AU$3),2)+1),INDEX($AC$5:$AD$24,INT($AF11/2)+1,MOD(COLUMNS($AF$3:AU$3),2)+1))","v":7.8183148246802956},{"$f":"IF(OR(MOD($AF11,2)=0,INDEX(relationships,INT($AF11/2)+1,AV$3)<>1),INDEX($AC$5:$AD$24,AV$3,MOD(COLUMNS($AF$3:AV$3),2)+1),INDEX($AC$5:$AD$24,INT($AF11/2)+1,MOD(COLUMNS($AF$3:AV$3),2)+1))","v":6.2348980185873373},{"$f":"IF(OR(MOD($AF11,2)=0,INDEX(relationships,INT($AF11/2)+1,AW$3)<>1),INDEX($AC$5:$AD$24,AW$3,MOD(COLUMNS($AF$3:AW$3),2)+1),INDEX($AC$5:$AD$24,INT($AF11/2)+1,MOD(COLUMNS($AF$3:AW$3),2)+1))","v":9.7492791218182369},{"$f":"IF(OR(MOD($AF11,2)=0,INDEX(relationships,INT($AF11/2)+1,AX$3)<>1),INDEX($AC$5:$AD$24,AX$3,MOD(COLUMNS($AF$3:AX$3),2)+1),INDEX($AC$5:$AD$24,INT($AF11/2)+1,MOD(COLUMNS($AF$3:AX$3),2)+1))","v":-2.2252093395631407},{"$f":"IF(OR(MOD($AF11,2)=0,INDEX(relationships,INT($AF11/2)+1,AY$3)<>1),INDEX($AC$5:$AD$24,AY$3,MOD(COLUMNS($AF$3:AY$3),2)+1),INDEX($AC$5:$AD$24,INT($AF11/2)+1,MOD(COLUMNS($AF$3:AY$3),2)+1))","v":4.3388373911755842},{"$f":"IF(OR(MOD($AF11,2)=0,INDEX(relationships,INT($AF11/2)+1,AZ$3)<>1),INDEX($AC$5:$AD$24,AZ$3,MOD(COLUMNS($AF$3:AZ$3),2)+1),INDEX($AC$5:$AD$24,INT($AF11/2)+1,MOD(COLUMNS($AF$3:AZ$3),2)+1))","v":-9.0096886790241886},{"$f":"IF(OR(MOD($AF11,2)=0,INDEX(relationships,INT($AF11/2)+1,BA$3)<>1),INDEX($AC$5:$AD$24,BA$3,MOD(COLUMNS($AF$3:BA$3),2)+1),INDEX($AC$5:$AD$24,INT($AF11/2)+1,MOD(COLUMNS($AF$3:BA$3),2)+1))","v":-4.338837391175578},{"$f":"IF(OR(MOD($AF11,2)=0,INDEX(relationships,INT($AF11/2)+1,BB$3)<>1),INDEX($AC$5:$AD$24,BB$3,MOD(COLUMNS($AF$3:BB$3),2)+1),INDEX($AC$5:$AD$24,INT($AF11/2)+1,MOD(COLUMNS($AF$3:BB$3),2)+1))","v":-9.0096886790241921},{"$f":"IF(OR(MOD($AF11,2)=0,INDEX(relationships,INT($AF11/2)+1,BC$3)<>1),INDEX($AC$5:$AD$24,BC$3,MOD(COLUMNS($AF$3:BC$3),2)+1),INDEX($AC$5:$AD$24,INT($AF11/2)+1,MOD(COLUMNS($AF$3:BC$3),2)+1))","v":-9.7492791218182351},{"$f":"IF(OR(MOD($AF11,2)=0,INDEX(relationships,INT($AF11/2)+1,BD$3)<>1),INDEX($AC$5:$AD$24,BD$3,MOD(COLUMNS($AF$3:BD$3),2)+1),INDEX($AC$5:$AD$24,INT($AF11/2)+1,MOD(COLUMNS($AF$3:BD$3),2)+1))","v":-2.2252093395631483},{"$f":"IF(OR(MOD($AF11,2)=0,INDEX(relationships,INT($AF11/2)+1,BE$3)<>1),INDEX($AC$5:$AD$24,BE$3,MOD(COLUMNS($AF$3:BE$3),2)+1),INDEX($AC$5:$AD$24,INT($AF11/2)+1,MOD(COLUMNS($AF$3:BE$3),2)+1))","v":-7.8183148246803018},{"$f":"IF(OR(MOD($AF11,2)=0,INDEX(relationships,INT($AF11/2)+1,BF$3)<>1),INDEX($AC$5:$AD$24,BF$3,MOD(COLUMNS($AF$3:BF$3),2)+1),INDEX($AC$5:$AD$24,INT($AF11/2)+1,MOD(COLUMNS($AF$3:BF$3),2)+1))","v":6.2348980185873319},{"$f":"IF(OR(MOD($AF11,2)=0,INDEX(relationships,INT($AF11/2)+1,BG$3)<>1),INDEX($AC$5:$AD$24,BG$3,MOD(COLUMNS($AF$3:BG$3),2)+1),INDEX($AC$5:$AD$24,INT($AF11/2)+1,MOD(COLUMNS($AF$3:BG$3),2)+1))","v":-4.90059381963448E-15},{"$f":"IF(OR(MOD($AF11,2)=0,INDEX(relationships,INT($AF11/2)+1,BH$3)<>1),INDEX($AC$5:$AD$24,BH$3,MOD(COLUMNS($AF$3:BH$3),2)+1),INDEX($AC$5:$AD$24,INT($AF11/2)+1,MOD(COLUMNS($AF$3:BH$3),2)+1))","v":10},{"$f":"IF(OR(MOD($AF11,2)=0,INDEX(relationships,INT($AF11/2)+1,BI$3)<>1),INDEX($AC$5:$AD$24,BI$3,MOD(COLUMNS($AF$3:BI$3),2)+1),INDEX($AC$5:$AD$24,INT($AF11/2)+1,MOD(COLUMNS($AF$3:BI$3),2)+1))","v":7.8183148246802947},{"$f":"IF(OR(MOD($AF11,2)=0,INDEX(relationships,INT($AF11/2)+1,BJ$3)<>1),INDEX($AC$5:$AD$24,BJ$3,MOD(COLUMNS($AF$3:BJ$3),2)+1),INDEX($AC$5:$AD$24,INT($AF11/2)+1,MOD(COLUMNS($AF$3:BJ$3),2)+1))","v":6.2348980185873391},{"$f":"IF(OR(MOD($AF11,2)=0,INDEX(relationships,INT($AF11/2)+1,BK$3)<>1),INDEX($AC$5:$AD$24,BK$3,MOD(COLUMNS($AF$3:BK$3),2)+1),INDEX($AC$5:$AD$24,INT($AF11/2)+1,MOD(COLUMNS($AF$3:BK$3),2)+1))","v":9.7492791218182369},{"$f":"IF(OR(MOD($AF11,2)=0,INDEX(relationships,INT($AF11/2)+1,BL$3)<>1),INDEX($AC$5:$AD$24,BL$3,MOD(COLUMNS($AF$3:BL$3),2)+1),INDEX($AC$5:$AD$24,INT($AF11/2)+1,MOD(COLUMNS($AF$3:BL$3),2)+1))","v":-2.2252093395631385},{"$f":"IF(OR(MOD($AF11,2)=0,INDEX(relationships,INT($AF11/2)+1,BM$3)<>1),INDEX($AC$5:$AD$24,BM$3,MOD(COLUMNS($AF$3:BM$3),2)+1),INDEX($AC$5:$AD$24,INT($AF11/2)+1,MOD(COLUMNS($AF$3:BM$3),2)+1))","v":4.3388373911755869},{"$f":"IF(OR(MOD($AF11,2)=0,INDEX(relationships,INT($AF11/2)+1,BN$3)<>1),INDEX($AC$5:$AD$24,BN$3,MOD(COLUMNS($AF$3:BN$3),2)+1),INDEX($AC$5:$AD$24,INT($AF11/2)+1,MOD(COLUMNS($AF$3:BN$3),2)+1))","v":-9.0096886790241886},{"$f":"IF(OR(MOD($AF11,2)=0,INDEX(relationships,INT($AF11/2)+1,BO$3)<>1),INDEX($AC$5:$AD$24,BO$3,MOD(COLUMNS($AF$3:BO$3),2)+1),INDEX($AC$5:$AD$24,INT($AF11/2)+1,MOD(COLUMNS($AF$3:BO$3),2)+1))","v":-4.3388373911755753},{"$f":"IF(OR(MOD($AF11,2)=0,INDEX(relationships,INT($AF11/2)+1,BP$3)<>1),INDEX($AC$5:$AD$24,BP$3,MOD(COLUMNS($AF$3:BP$3),2)+1),INDEX($AC$5:$AD$24,INT($AF11/2)+1,MOD(COLUMNS($AF$3:BP$3),2)+1))","v":-9.0096886790241939},{"$f":"IF(OR(MOD($AF11,2)=0,INDEX(relationships,INT($AF11/2)+1,BQ$3)<>1),INDEX($AC$5:$AD$24,BQ$3,MOD(COLUMNS($AF$3:BQ$3),2)+1),INDEX($AC$5:$AD$24,INT($AF11/2)+1,MOD(COLUMNS($AF$3:BQ$3),2)+1))","v":-9.7492791218182351},{"$f":"IF(OR(MOD($AF11,2)=0,INDEX(relationships,INT($AF11/2)+1,BR$3)<>1),INDEX($AC$5:$AD$24,BR$3,MOD(COLUMNS($AF$3:BR$3),2)+1),INDEX($AC$5:$AD$24,INT($AF11/2)+1,MOD(COLUMNS($AF$3:BR$3),2)+1))","v":-2.2252093395631505},{"$f":"IF(OR(MOD($AF11,2)=0,INDEX(relationships,INT($AF11/2)+1,BS$3)<>1),INDEX($AC$5:$AD$24,BS$3,MOD(COLUMNS($AF$3:BS$3),2)+1),INDEX($AC$5:$AD$24,INT($AF11/2)+1,MOD(COLUMNS($AF$3:BS$3),2)+1))","v":-7.8183148246803027},{"$f":"IF(OR(MOD($AF11,2)=0,INDEX(relationships,INT($AF11/2)+1,BT$3)<>1),INDEX($AC$5:$AD$24,BT$3,MOD(COLUMNS($AF$3:BT$3),2)+1),INDEX($AC$5:$AD$24,INT($AF11/2)+1,MOD(COLUMNS($AF$3:BT$3),2)+1))","v":6.2348980185873293},null,{"$f":"IF(OR(MOD($AF11,2)=0,INDEX(relationships,INT($AF11/2)+1,BV$3)<>2),INDEX($AC$5:$AD$24,BV$3,MOD(COLUMNS($BU$3:BV$3),2)+1),INDEX($AC$5:$AD$24,INT($AF11/2)+1,MOD(COLUMNS($BU$3:BV$3),2)+1))","v":7.8183148246802983},{"$f":"IF(OR(MOD($AF11,2)=0,INDEX(relationships,INT($AF11/2)+1,BW$3)<>2),INDEX($AC$5:$AD$24,BW$3,MOD(COLUMNS($BU$3:BW$3),2)+1),INDEX($AC$5:$AD$24,INT($AF11/2)+1,MOD(COLUMNS($BU$3:BW$3),2)+1))","v":6.2348980185873355},{"$f":"IF(OR(MOD($AF11,2)=0,INDEX(relationships,INT($AF11/2)+1,BX$3)<>2),INDEX($AC$5:$AD$24,BX$3,MOD(COLUMNS($BU$3:BX$3),2)+1),INDEX($AC$5:$AD$24,INT($AF11/2)+1,MOD(COLUMNS($BU$3:BX$3),2)+1))","v":9.7492791218182369},{"$f":"IF(OR(MOD($AF11,2)=0,INDEX(relationships,INT($AF11/2)+1,BY$3)<>2),INDEX($AC$5:$AD$24,BY$3,MOD(COLUMNS($BU$3:BY$3),2)+1),INDEX($AC$5:$AD$24,INT($AF11/2)+1,MOD(COLUMNS($BU$3:BY$3),2)+1))","v":-2.2252093395631434},{"$f":"IF(OR(MOD($AF11,2)=0,INDEX(relationships,INT($AF11/2)+1,BZ$3)<>2),INDEX($AC$5:$AD$24,BZ$3,MOD(COLUMNS($BU$3:BZ$3),2)+1),INDEX($AC$5:$AD$24,INT($AF11/2)+1,MOD(COLUMNS($BU$3:BZ$3),2)+1))","v":4.3388373911755824},{"$f":"IF(OR(MOD($AF11,2)=0,INDEX(relationships,INT($AF11/2)+1,CA$3)<>2),INDEX($AC$5:$AD$24,CA$3,MOD(COLUMNS($BU$3:CA$3),2)+1),INDEX($AC$5:$AD$24,INT($AF11/2)+1,MOD(COLUMNS($BU$3:CA$3),2)+1))","v":-9.0096886790241903},{"$f":"IF(OR(MOD($AF11,2)=0,INDEX(relationships,INT($AF11/2)+1,CB$3)<>2),INDEX($AC$5:$AD$24,CB$3,MOD(COLUMNS($BU$3:CB$3),2)+1),INDEX($AC$5:$AD$24,INT($AF11/2)+1,MOD(COLUMNS($BU$3:CB$3),2)+1))","v":-4.3388373911755798},{"$f":"IF(OR(MOD($AF11,2)=0,INDEX(relationships,INT($AF11/2)+1,CC$3)<>2),INDEX($AC$5:$AD$24,CC$3,MOD(COLUMNS($BU$3:CC$3),2)+1),INDEX($AC$5:$AD$24,INT($AF11/2)+1,MOD(COLUMNS($BU$3:CC$3),2)+1))","v":-9.0096886790241921},{"$f":"IF(OR(MOD($AF11,2)=0,INDEX(relationships,INT($AF11/2)+1,CD$3)<>2),INDEX($AC$5:$AD$24,CD$3,MOD(COLUMNS($BU$3:CD$3),2)+1),INDEX($AC$5:$AD$24,INT($AF11/2)+1,MOD(COLUMNS($BU$3:CD$3),2)+1))","v":-9.7492791218182369},{"$f":"IF(OR(MOD($AF11,2)=0,INDEX(relationships,INT($AF11/2)+1,CE$3)<>2),INDEX($AC$5:$AD$24,CE$3,MOD(COLUMNS($BU$3:CE$3),2)+1),INDEX($AC$5:$AD$24,INT($AF11/2)+1,MOD(COLUMNS($BU$3:CE$3),2)+1))","v":-2.225209339563146},{"$f":"IF(OR(MOD($AF11,2)=0,INDEX(relationships,INT($AF11/2)+1,CF$3)<>2),INDEX($AC$5:$AD$24,CF$3,MOD(COLUMNS($BU$3:CF$3),2)+1),INDEX($AC$5:$AD$24,INT($AF11/2)+1,MOD(COLUMNS($BU$3:CF$3),2)+1))","v":-7.8183148246802991},{"$f":"IF(OR(MOD($AF11,2)=0,INDEX(relationships,INT($AF11/2)+1,CG$3)<>2),INDEX($AC$5:$AD$24,CG$3,MOD(COLUMNS($BU$3:CG$3),2)+1),INDEX($AC$5:$AD$24,INT($AF11/2)+1,MOD(COLUMNS($BU$3:CG$3),2)+1))","v":6.2348980185873337},{"$f":"IF(OR(MOD($AF11,2)=0,INDEX(relationships,INT($AF11/2)+1,CH$3)<>2),INDEX($AC$5:$AD$24,CH$3,MOD(COLUMNS($BU$3:CH$3),2)+1),INDEX($AC$5:$AD$24,INT($AF11/2)+1,MOD(COLUMNS($BU$3:CH$3),2)+1))","v":-2.45029690981724E-15},{"$f":"IF(OR(MOD($AF11,2)=0,INDEX(relationships,INT($AF11/2)+1,CI$3)<>2),INDEX($AC$5:$AD$24,CI$3,MOD(COLUMNS($BU$3:CI$3),2)+1),INDEX($AC$5:$AD$24,INT($AF11/2)+1,MOD(COLUMNS($BU$3:CI$3),2)+1))","v":10},{"$f":"IF(OR(MOD($AF11,2)=0,INDEX(relationships,INT($AF11/2)+1,CJ$3)<>2),INDEX($AC$5:$AD$24,CJ$3,MOD(COLUMNS($BU$3:CJ$3),2)+1),INDEX($AC$5:$AD$24,INT($AF11/2)+1,MOD(COLUMNS($BU$3:CJ$3),2)+1))","v":7.8183148246802956},{"$f":"IF(OR(MOD($AF11,2)=0,INDEX(relationships,INT($AF11/2)+1,CK$3)<>2),INDEX($AC$5:$AD$24,CK$3,MOD(COLUMNS($BU$3:CK$3),2)+1),INDEX($AC$5:$AD$24,INT($AF11/2)+1,MOD(COLUMNS($BU$3:CK$3),2)+1))","v":6.2348980185873373},{"$f":"IF(OR(MOD($AF11,2)=0,INDEX(relationships,INT($AF11/2)+1,CL$3)<>2),INDEX($AC$5:$AD$24,CL$3,MOD(COLUMNS($BU$3:CL$3),2)+1),INDEX($AC$5:$AD$24,INT($AF11/2)+1,MOD(COLUMNS($BU$3:CL$3),2)+1))","v":9.7492791218182369},{"$f":"IF(OR(MOD($AF11,2)=0,INDEX(relationships,INT($AF11/2)+1,CM$3)<>2),INDEX($AC$5:$AD$24,CM$3,MOD(COLUMNS($BU$3:CM$3),2)+1),INDEX($AC$5:$AD$24,INT($AF11/2)+1,MOD(COLUMNS($BU$3:CM$3),2)+1))","v":-2.2252093395631407},{"$f":"IF(OR(MOD($AF11,2)=0,INDEX(relationships,INT($AF11/2)+1,CN$3)<>2),INDEX($AC$5:$AD$24,CN$3,MOD(COLUMNS($BU$3:CN$3),2)+1),INDEX($AC$5:$AD$24,INT($AF11/2)+1,MOD(COLUMNS($BU$3:CN$3),2)+1))","v":4.3388373911755842},{"$f":"IF(OR(MOD($AF11,2)=0,INDEX(relationships,INT($AF11/2)+1,CO$3)<>2),INDEX($AC$5:$AD$24,CO$3,MOD(COLUMNS($BU$3:CO$3),2)+1),INDEX($AC$5:$AD$24,INT($AF11/2)+1,MOD(COLUMNS($BU$3:CO$3),2)+1))","v":-9.0096886790241886},{"$f":"IF(OR(MOD($AF11,2)=0,INDEX(relationships,INT($AF11/2)+1,CP$3)<>2),INDEX($AC$5:$AD$24,CP$3,MOD(COLUMNS($BU$3:CP$3),2)+1),INDEX($AC$5:$AD$24,INT($AF11/2)+1,MOD(COLUMNS($BU$3:CP$3),2)+1))","v":-4.338837391175578},{"$f":"IF(OR(MOD($AF11,2)=0,INDEX(relationships,INT($AF11/2)+1,CQ$3)<>2),INDEX($AC$5:$AD$24,CQ$3,MOD(COLUMNS($BU$3:CQ$3),2)+1),INDEX($AC$5:$AD$24,INT($AF11/2)+1,MOD(COLUMNS($BU$3:CQ$3),2)+1))","v":-9.0096886790241921},{"$f":"IF(OR(MOD($AF11,2)=0,INDEX(relationships,INT($AF11/2)+1,CR$3)<>2),INDEX($AC$5:$AD$24,CR$3,MOD(COLUMNS($BU$3:CR$3),2)+1),INDEX($AC$5:$AD$24,INT($AF11/2)+1,MOD(COLUMNS($BU$3:CR$3),2)+1))","v":-9.7492791218182351},{"$f":"IF(OR(MOD($AF11,2)=0,INDEX(relationships,INT($AF11/2)+1,CS$3)<>2),INDEX($AC$5:$AD$24,CS$3,MOD(COLUMNS($BU$3:CS$3),2)+1),INDEX($AC$5:$AD$24,INT($AF11/2)+1,MOD(COLUMNS($BU$3:CS$3),2)+1))","v":-2.2252093395631483},{"$f":"IF(OR(MOD($AF11,2)=0,INDEX(relationships,INT($AF11/2)+1,CT$3)<>2),INDEX($AC$5:$AD$24,CT$3,MOD(COLUMNS($BU$3:CT$3),2)+1),INDEX($AC$5:$AD$24,INT($AF11/2)+1,MOD(COLUMNS($BU$3:CT$3),2)+1))","v":-7.8183148246803018},{"$f":"IF(OR(MOD($AF11,2)=0,INDEX(relationships,INT($AF11/2)+1,CU$3)<>2),INDEX($AC$5:$AD$24,CU$3,MOD(COLUMNS($BU$3:CU$3),2)+1),INDEX($AC$5:$AD$24,INT($AF11/2)+1,MOD(COLUMNS($BU$3:CU$3),2)+1))","v":6.2348980185873319},{"$f":"IF(OR(MOD($AF11,2)=0,INDEX(relationships,INT($AF11/2)+1,CV$3)<>2),INDEX($AC$5:$AD$24,CV$3,MOD(COLUMNS($BU$3:CV$3),2)+1),INDEX($AC$5:$AD$24,INT($AF11/2)+1,MOD(COLUMNS($BU$3:CV$3),2)+1))","v":-4.90059381963448E-15},{"$f":"IF(OR(MOD($AF11,2)=0,INDEX(relationships,INT($AF11/2)+1,CW$3)<>2),INDEX($AC$5:$AD$24,CW$3,MOD(COLUMNS($BU$3:CW$3),2)+1),INDEX($AC$5:$AD$24,INT($AF11/2)+1,MOD(COLUMNS($BU$3:CW$3),2)+1))","v":10},{"$f":"IF(OR(MOD($AF11,2)=0,INDEX(relationships,INT($AF11/2)+1,CX$3)<>2),INDEX($AC$5:$AD$24,CX$3,MOD(COLUMNS($BU$3:CX$3),2)+1),INDEX($AC$5:$AD$24,INT($AF11/2)+1,MOD(COLUMNS($BU$3:CX$3),2)+1))","v":7.8183148246802947},{"$f":"IF(OR(MOD($AF11,2)=0,INDEX(relationships,INT($AF11/2)+1,CY$3)<>2),INDEX($AC$5:$AD$24,CY$3,MOD(COLUMNS($BU$3:CY$3),2)+1),INDEX($AC$5:$AD$24,INT($AF11/2)+1,MOD(COLUMNS($BU$3:CY$3),2)+1))","v":6.2348980185873391},{"$f":"IF(OR(MOD($AF11,2)=0,INDEX(relationships,INT($AF11/2)+1,CZ$3)<>2),INDEX($AC$5:$AD$24,CZ$3,MOD(COLUMNS($BU$3:CZ$3),2)+1),INDEX($AC$5:$AD$24,INT($AF11/2)+1,MOD(COLUMNS($BU$3:CZ$3),2)+1))","v":9.7492791218182369},{"$f":"IF(OR(MOD($AF11,2)=0,INDEX(relationships,INT($AF11/2)+1,DA$3)<>2),INDEX($AC$5:$AD$24,DA$3,MOD(COLUMNS($BU$3:DA$3),2)+1),INDEX($AC$5:$AD$24,INT($AF11/2)+1,MOD(COLUMNS($BU$3:DA$3),2)+1))","v":-2.2252093395631385},{"$f":"IF(OR(MOD($AF11,2)=0,INDEX(relationships,INT($AF11/2)+1,DB$3)<>2),INDEX($AC$5:$AD$24,DB$3,MOD(COLUMNS($BU$3:DB$3),2)+1),INDEX($AC$5:$AD$24,INT($AF11/2)+1,MOD(COLUMNS($BU$3:DB$3),2)+1))","v":4.3388373911755869},{"$f":"IF(OR(MOD($AF11,2)=0,INDEX(relationships,INT($AF11/2)+1,DC$3)<>2),INDEX($AC$5:$AD$24,DC$3,MOD(COLUMNS($BU$3:DC$3),2)+1),INDEX($AC$5:$AD$24,INT($AF11/2)+1,MOD(COLUMNS($BU$3:DC$3),2)+1))","v":-9.0096886790241886},{"$f":"IF(OR(MOD($AF11,2)=0,INDEX(relationships,INT($AF11/2)+1,DD$3)<>2),INDEX($AC$5:$AD$24,DD$3,MOD(COLUMNS($BU$3:DD$3),2)+1),INDEX($AC$5:$AD$24,INT($AF11/2)+1,MOD(COLUMNS($BU$3:DD$3),2)+1))","v":-4.3388373911755753},{"$f":"IF(OR(MOD($AF11,2)=0,INDEX(relationships,INT($AF11/2)+1,DE$3)<>2),INDEX($AC$5:$AD$24,DE$3,MOD(COLUMNS($BU$3:DE$3),2)+1),INDEX($AC$5:$AD$24,INT($AF11/2)+1,MOD(COLUMNS($BU$3:DE$3),2)+1))","v":-9.0096886790241939},{"$f":"IF(OR(MOD($AF11,2)=0,INDEX(relationships,INT($AF11/2)+1,DF$3)<>2),INDEX($AC$5:$AD$24,DF$3,MOD(COLUMNS($BU$3:DF$3),2)+1),INDEX($AC$5:$AD$24,INT($AF11/2)+1,MOD(COLUMNS($BU$3:DF$3),2)+1))","v":-9.7492791218182351},{"$f":"IF(OR(MOD($AF11,2)=0,INDEX(relationships,INT($AF11/2)+1,DG$3)<>2),INDEX($AC$5:$AD$24,DG$3,MOD(COLUMNS($BU$3:DG$3),2)+1),INDEX($AC$5:$AD$24,INT($AF11/2)+1,MOD(COLUMNS($BU$3:DG$3),2)+1))","v":-2.2252093395631505},{"$f":"IF(OR(MOD($AF11,2)=0,INDEX(relationships,INT($AF11/2)+1,DH$3)<>2),INDEX($AC$5:$AD$24,DH$3,MOD(COLUMNS($BU$3:DH$3),2)+1),INDEX($AC$5:$AD$24,INT($AF11/2)+1,MOD(COLUMNS($BU$3:DH$3),2)+1))","v":-7.8183148246803027},{"$f":"IF(OR(MOD($AF11,2)=0,INDEX(relationships,INT($AF11/2)+1,DI$3)<>2),INDEX($AC$5:$AD$24,DI$3,MOD(COLUMNS($BU$3:DI$3),2)+1),INDEX($AC$5:$AD$24,INT($AF11/2)+1,MOD(COLUMNS($BU$3:DI$3),2)+1))","v":6.2348980185873293},null,-2.45029690981724E-15,10,-2.45029690981724E-15,10]
[null,{"$f":"'Group Data'!B25","v":0},{"$f":"'Group Data'!AJ25","v":0},{"$f":"'Group Data'!AK25","v":0},{"$f":"'Group Data'!AL25","v":0},{"$f":"'Group Data'!AM25","v":0},{"$f":"'Group Data'!AN25","v":0},{"$f":"'Group Data'!AO25","v":0},{"$f":"'Group Data'!AP25","v":0},null,null,null,null,null,null,null,null,null,null,null,null,null,null,null,"Angle",{"$f":"360/Z10","v":51.428571428571431},null,8,7.8183148246802956,6.2348980185873373,null,7,{"$f":"IF(OR(MOD($AF12,2)=0,INDEX(relationships,INT($AF12/2)+1,AG$3)<>1),INDEX($AC$5:$AD$24,AG$3,MOD(COLUMNS($AF$3:AG$3),2)+1),INDEX($AC$5:$AD$24,INT($AF12/2)+1,MOD(COLUMNS($AF$3:AG$3),2)+1))","v":7.8183148246802983},{"$f":"IF(OR(MOD($AF12,2)=0,INDEX(relationships,INT($AF12/2)+1,AH$3)<>1),INDEX($AC$5:$AD$24,AH$3,MOD(COLUMNS($AF$3:AH$3),2)+1),INDEX($AC$5:$AD$24,INT($AF12/2)+1,MOD(COLUMNS($AF$3:AH$3),2)+1))","v":6.2348980185873355},{"$f":"IF(OR(MOD($AF12,2)=0,INDEX(relationships,INT($AF12/2)+1,AI$3)<>1),INDEX($AC$5:$AD$24,AI$3,MOD(COLUMNS($AF$3:AI$3),2)+1),INDEX($AC$5:$AD$24,INT($AF12/2)+1,MOD(COLUMNS($AF$3:AI$3),2)+1))","v":9.7492791218182369},{"$f":"IF(OR(MOD($AF12,2)=0,INDEX(relationships,INT($AF12/2)+1,AJ$3)<>1),INDEX($AC$5:$AD$24,AJ$3,MOD(COLUMNS($AF$3:AJ$3),2)+1),INDEX($AC$5:$AD$24,INT($AF12/2)+1,MOD(COLUMNS($AF$3:AJ$3),2)+1))","v":-2.2252093395631434},{"$f":"IF(OR(MOD($AF12,2)=0,INDEX(relationships,INT($AF12/2)+1,AK$3)<>1),INDEX($AC$5:$AD$24,AK$3,MOD(COLUMNS($AF$3:AK$3),2)+1),INDEX($AC$5:$AD$24,INT($AF12/2)+1,MOD(COLUMNS($AF$3:AK$3),2)+1))","v":4.3388373911755824},{"$f":"IF(OR(MOD($AF12,2)=0,INDEX(relationships,INT($AF12/2)+1,AL$3)<>1),INDEX($AC$5:$AD$24,AL$3,MOD(COLUMNS($AF$3:AL$3),2)+1),INDEX($AC$5:$AD$24,INT($AF12/2)+1,MOD(COLUMNS($AF$3:AL$3),2)+1))","v":-9.0096886790241903},{"$f":"IF(OR(MOD($AF12,2)=0,INDEX(relationships,INT($AF12/2)+1,AM$3)<>1),INDEX($AC$5:$AD$24,AM$3,MOD(COLUMNS($AF$3:AM$3),2)+1),INDEX($AC$5:$AD$24,INT($AF12/2)+1,MOD(COLUMNS($AF$3:AM$3),2)+1))","v":-4.3388373911755798},{"$f":"IF(OR(MOD($AF12,2)=0,INDEX(relationships,INT($AF12/2)+1,AN$3)<>1),INDEX($AC$5:$AD$24,AN$3,MOD(COLUMNS($AF$3:AN$3),2)+1),INDEX($AC$5:$AD$24,INT($AF12/2)+1,MOD(COLUMNS($AF$3:AN$3),2)+1))","v":-9.0096886790241921},{"$f":"IF(OR(MOD($AF12,2)=0,INDEX(relationships,INT($AF12/2)+1,AO$3)<>1),INDEX($AC$5:$AD$24,AO$3,MOD(COLUMNS($AF$3:AO$3),2)+1),INDEX($AC$5:$AD$24,INT($AF12/2)+1,MOD(COLUMNS($AF$3:AO$3),2)+1))","v":-9.7492791218182369},{"$f":"IF(OR(MOD($AF12,2)=0,INDEX(relationships,INT($AF12/2)+1,AP$3)<>1),INDEX($AC$5:$AD$24,AP$3,MOD(COLUMNS($AF$3:AP$3),2)+1),INDEX($AC$5:$AD$24,INT($AF12/2)+1,MOD(COLUMNS($AF$3:AP$3),2)+1))","v":-2.225209339563146},{"$f":"IF(OR(MOD($AF12,2)=0,INDEX(relationships,INT($AF12/2)+1,AQ$3)<>1),INDEX($AC$5:$AD$24,AQ$3,MOD(COLUMNS($AF$3:AQ$3),2)+1),INDEX($AC$5:$AD$24,INT($AF12/2)+1,MOD(COLUMNS($AF$3:AQ$3),2)+1))","v":-4.3388373911755798},{"$f":"IF(OR(MOD($AF12,2)=0,INDEX(relationships,INT($AF12/2)+1,AR$3)<>1),INDEX($AC$5:$AD$24,AR$3,MOD(COLUMNS($AF$3:AR$3),2)+1),INDEX($AC$5:$AD$24,INT($AF12/2)+1,MOD(COLUMNS($AF$3:AR$3),2)+1))","v":-9.0096886790241921},{"$f":"IF(OR(MOD($AF12,2)=0,INDEX(relationships,INT($AF12/2)+1,AS$3)<>1),INDEX($AC$5:$AD$24,AS$3,MOD(COLUMNS($AF$3:AS$3),2)+1),INDEX($AC$5:$AD$24,INT($AF12/2)+1,MOD(COLUMNS($AF$3:AS$3),2)+1))","v":-2.45029690981724E-15},{"$f":"IF(OR(MOD($AF12,2)=0,INDEX(relationships,INT($AF12/2)+1,AT$3)<>1),INDEX($AC$5:$AD$24,AT$3,MOD(COLUMNS($AF$3:AT$3),2)+1),INDEX($AC$5:$AD$24,INT($AF12/2)+1,MOD(COLUMNS($AF$3:AT$3),2)+1))","v":10},{"$f":"IF(OR(MOD($AF12,2)=0,INDEX(relationships,INT($AF12/2)+1,AU$3)<>1),INDEX($AC$5:$AD$24,AU$3,MOD(COLUMNS($AF$3:AU$3),2)+1),INDEX($AC$5:$AD$24,INT($AF12/2)+1,MOD(COLUMNS($AF$3:AU$3),2)+1))","v":7.8183148246802956},{"$f":"IF(OR(MOD($AF12,2)=0,INDEX(relationships,INT($AF12/2)+1,AV$3)<>1),INDEX($AC$5:$AD$24,AV$3,MOD(COLUMNS($AF$3:AV$3),2)+1),INDEX($AC$5:$AD$24,INT($AF12/2)+1,MOD(COLUMNS($AF$3:AV$3),2)+1))","v":6.2348980185873373},{"$f":"IF(OR(MOD($AF12,2)=0,INDEX(relationships,INT($AF12/2)+1,AW$3)<>1),INDEX($AC$5:$AD$24,AW$3,MOD(COLUMNS($AF$3:AW$3),2)+1),INDEX($AC$5:$AD$24,INT($AF12/2)+1,MOD(COLUMNS($AF$3:AW$3),2)+1))","v":9.7492791218182369},{"$f":"IF(OR(MOD($AF12,2)=0,INDEX(relationships,INT($AF12/2)+1,AX$3)<>1),INDEX($AC$5:$AD$24,AX$3,MOD(COLUMNS($AF$3:AX$3),2)+1),INDEX($AC$5:$AD$24,INT($AF12/2)+1,MOD(COLUMNS($AF$3:AX$3),2)+1))","v":-2.2252093395631407},{"$f":"IF(OR(MOD($AF12,2)=0,INDEX(relationships,INT($AF12/2)+1,AY$3)<>1),INDEX($AC$5:$AD$24,AY$3,MOD(COLUMNS($AF$3:AY$3),2)+1),INDEX($AC$5:$AD$24,INT($AF12/2)+1,MOD(COLUMNS($AF$3:AY$3),2)+1))","v":4.3388373911755842},{"$f":"IF(OR(MOD($AF12,2)=0,INDEX(relationships,INT($AF12/2)+1,AZ$3)<>1),INDEX($AC$5:$AD$24,AZ$3,MOD(COLUMNS($AF$3:AZ$3),2)+1),INDEX($AC$5:$AD$24,INT($AF12/2)+1,MOD(COLUMNS($AF$3:AZ$3),2)+1))","v":-9.0096886790241886},{"$f":"IF(OR(MOD($AF12,2)=0,INDEX(relationships,INT($AF12/2)+1,BA$3)<>1),INDEX($AC$5:$AD$24,BA$3,MOD(COLUMNS($AF$3:BA$3),2)+1),INDEX($AC$5:$AD$24,INT($AF12/2)+1,MOD(COLUMNS($AF$3:BA$3),2)+1))","v":-4.338837391175578},{"$f":"IF(OR(MOD($AF12,2)=0,INDEX(relationships,INT($AF12/2)+1,BB$3)<>1),INDEX($AC$5:$AD$24,BB$3,MOD(COLUMNS($AF$3:BB$3),2)+1),INDEX($AC$5:$AD$24,INT($AF12/2)+1,MOD(COLUMNS($AF$3:BB$3),2)+1))","v":-9.0096886790241921},{"$f":"IF(OR(MOD($AF12,2)=0,INDEX(relationships,INT($AF12/2)+1,BC$3)<>1),INDEX($AC$5:$AD$24,BC$3,MOD(COLUMNS($AF$3:BC$3),2)+1),INDEX($AC$5:$AD$24,INT($AF12/2)+1,MOD(COLUMNS($AF$3:BC$3),2)+1))","v":-9.7492791218182351},{"$f":"IF(OR(MOD($AF12,2)=0,INDEX(relationships,INT($AF12/2)+1,BD$3)<>1),INDEX($AC$5:$AD$24,BD$3,MOD(COLUMNS($AF$3:BD$3),2)+1),INDEX($AC$5:$AD$24,INT($AF12/2)+1,MOD(COLUMNS($AF$3:BD$3),2)+1))","v":-2.2252093395631483},{"$f":"IF(OR(MOD($AF12,2)=0,INDEX(relationships,INT($AF12/2)+1,BE$3)<>1),INDEX($AC$5:$AD$24,BE$3,MOD(COLUMNS($AF$3:BE$3),2)+1),INDEX($AC$5:$AD$24,INT($AF12/2)+1,MOD(COLUMNS($AF$3:BE$3),2)+1))","v":-7.8183148246803018},{"$f":"IF(OR(MOD($AF12,2)=0,INDEX(relationships,INT($AF12/2)+1,BF$3)<>1),INDEX($AC$5:$AD$24,BF$3,MOD(COLUMNS($AF$3:BF$3),2)+1),INDEX($AC$5:$AD$24,INT($AF12/2)+1,MOD(COLUMNS($AF$3:BF$3),2)+1))","v":6.2348980185873319},{"$f":"IF(OR(MOD($AF12,2)=0,INDEX(relationships,INT($AF12/2)+1,BG$3)<>1),INDEX($AC$5:$AD$24,BG$3,MOD(COLUMNS($AF$3:BG$3),2)+1),INDEX($AC$5:$AD$24,INT($AF12/2)+1,MOD(COLUMNS($AF$3:BG$3),2)+1))","v":-4.90059381963448E-15},{"$f":"IF(OR(MOD($AF12,2)=0,INDEX(relationships,INT($AF12/2)+1,BH$3)<>1),INDEX($AC$5:$AD$24,BH$3,MOD(COLUMNS($AF$3:BH$3),2)+1),INDEX($AC$5:$AD$24,INT($AF12/2)+1,MOD(COLUMNS($AF$3:BH$3),2)+1))","v":10},{"$f":"IF(OR(MOD($AF12,2)=0,INDEX(relationships,INT($AF12/2)+1,BI$3)<>1),INDEX($AC$5:$AD$24,BI$3,MOD(COLUMNS($AF$3:BI$3),2)+1),INDEX($AC$5:$AD$24,INT($AF12/2)+1,MOD(COLUMNS($AF$3:BI$3),2)+1))","v":7.8183148246802947},{"$f":"IF(OR(MOD($AF12,2)=0,INDEX(relationships,INT($AF12/2)+1,BJ$3)<>1),INDEX($AC$5:$AD$24,BJ$3,MOD(COLUMNS($AF$3:BJ$3),2)+1),INDEX($AC$5:$AD$24,INT($AF12/2)+1,MOD(COLUMNS($AF$3:BJ$3),2)+1))","v":6.2348980185873391},{"$f":"IF(OR(MOD($AF12,2)=0,INDEX(relationships,INT($AF12/2)+1,BK$3)<>1),INDEX($AC$5:$AD$24,BK$3,MOD(COLUMNS($AF$3:BK$3),2)+1),INDEX($AC$5:$AD$24,INT($AF12/2)+1,MOD(COLUMNS($AF$3:BK$3),2)+1))","v":9.7492791218182369},{"$f":"IF(OR(MOD($AF12,2)=0,INDEX(relationships,INT($AF12/2)+1,BL$3)<>1),INDEX($AC$5:$AD$24,BL$3,MOD(COLUMNS($AF$3:BL$3),2)+1),INDEX($AC$5:$AD$24,INT($AF12/2)+1,MOD(COLUMNS($AF$3:BL$3),2)+1))","v":-2.2252093395631385},{"$f":"IF(OR(MOD($AF12,2)=0,INDEX(relationships,INT($AF12/2)+1,BM$3)<>1),INDEX($AC$5:$AD$24,BM$3,MOD(COLUMNS($AF$3:BM$3),2)+1),INDEX($AC$5:$AD$24,INT($AF12/2)+1,MOD(COLUMNS($AF$3:BM$3),2)+1))","v":4.3388373911755869},{"$f":"IF(OR(MOD($AF12,2)=0,INDEX(relationships,INT($AF12/2)+1,BN$3)<>1),INDEX($AC$5:$AD$24,BN$3,MOD(COLUMNS($AF$3:BN$3),2)+1),INDEX($AC$5:$AD$24,INT($AF12/2)+1,MOD(COLUMNS($AF$3:BN$3),2)+1))","v":-9.0096886790241886},{"$f":"IF(OR(MOD($AF12,2)=0,INDEX(relationships,INT($AF12/2)+1,BO$3)<>1),INDEX($AC$5:$AD$24,BO$3,MOD(COLUMNS($AF$3:BO$3),2)+1),INDEX($AC$5:$AD$24,INT($AF12/2)+1,MOD(COLUMNS($AF$3:BO$3),2)+1))","v":-4.3388373911755753},{"$f":"IF(OR(MOD($AF12,2)=0,INDEX(relationships,INT($AF12/2)+1,BP$3)<>1),INDEX($AC$5:$AD$24,BP$3,MOD(COLUMNS($AF$3:BP$3),2)+1),INDEX($AC$5:$AD$24,INT($AF12/2)+1,MOD(COLUMNS($AF$3:BP$3),2)+1))","v":-9.0096886790241939},{"$f":"IF(OR(MOD($AF12,2)=0,INDEX(relationships,INT($AF12/2)+1,BQ$3)<>1),INDEX($AC$5:$AD$24,BQ$3,MOD(COLUMNS($AF$3:BQ$3),2)+1),INDEX($AC$5:$AD$24,INT($AF12/2)+1,MOD(COLUMNS($AF$3:BQ$3),2)+1))","v":-9.7492791218182351},{"$f":"IF(OR(MOD($AF12,2)=0,INDEX(relationships,INT($AF12/2)+1,BR$3)<>1),INDEX($AC$5:$AD$24,BR$3,MOD(COLUMNS($AF$3:BR$3),2)+1),INDEX($AC$5:$AD$24,INT($AF12/2)+1,MOD(COLUMNS($AF$3:BR$3),2)+1))","v":-2.2252093395631505},{"$f":"IF(OR(MOD($AF12,2)=0,INDEX(relationships,INT($AF12/2)+1,BS$3)<>1),INDEX($AC$5:$AD$24,BS$3,MOD(COLUMNS($AF$3:BS$3),2)+1),INDEX($AC$5:$AD$24,INT($AF12/2)+1,MOD(COLUMNS($AF$3:BS$3),2)+1))","v":-7.8183148246803027},{"$f":"IF(OR(MOD($AF12,2)=0,INDEX(relationships,INT($AF12/2)+1,BT$3)<>1),INDEX($AC$5:$AD$24,BT$3,MOD(COLUMNS($AF$3:BT$3),2)+1),INDEX($AC$5:$AD$24,INT($AF12/2)+1,MOD(COLUMNS($AF$3:BT$3),2)+1))","v":6.2348980185873293},null,{"$f":"IF(OR(MOD($AF12,2)=0,INDEX(relationships,INT($AF12/2)+1,BV$3)<>2),INDEX($AC$5:$AD$24,BV$3,MOD(COLUMNS($BU$3:BV$3),2)+1),INDEX($AC$5:$AD$24,INT($AF12/2)+1,MOD(COLUMNS($BU$3:BV$3),2)+1))","v":7.8183148246802983},{"$f":"IF(OR(MOD($AF12,2)=0,INDEX(relationships,INT($AF12/2)+1,BW$3)<>2),INDEX($AC$5:$AD$24,BW$3,MOD(COLUMNS($BU$3:BW$3),2)+1),INDEX($AC$5:$AD$24,INT($AF12/2)+1,MOD(COLUMNS($BU$3:BW$3),2)+1))","v":6.2348980185873355},{"$f":"IF(OR(MOD($AF12,2)=0,INDEX(relationships,INT($AF12/2)+1,BX$3)<>2),INDEX($AC$5:$AD$24,BX$3,MOD(COLUMNS($BU$3:BX$3),2)+1),INDEX($AC$5:$AD$24,INT($AF12/2)+1,MOD(COLUMNS($BU$3:BX$3),2)+1))","v":9.7492791218182369},{"$f":"IF(OR(MOD($AF12,2)=0,INDEX(relationships,INT($AF12/2)+1,BY$3)<>2),INDEX($AC$5:$AD$24,BY$3,MOD(COLUMNS($BU$3:BY$3),2)+1),INDEX($AC$5:$AD$24,INT($AF12/2)+1,MOD(COLUMNS($BU$3:BY$3),2)+1))","v":-2.2252093395631434},{"$f":"IF(OR(MOD($AF12,2)=0,INDEX(relationships,INT($AF12/2)+1,BZ$3)<>2),INDEX($AC$5:$AD$24,BZ$3,MOD(COLUMNS($BU$3:BZ$3),2)+1),INDEX($AC$5:$AD$24,INT($AF12/2)+1,MOD(COLUMNS($BU$3:BZ$3),2)+1))","v":4.3388373911755824},{"$f":"IF(OR(MOD($AF12,2)=0,INDEX(relationships,INT($AF12/2)+1,CA$3)<>2),INDEX($AC$5:$AD$24,CA$3,MOD(COLUMNS($BU$3:CA$3),2)+1),INDEX($AC$5:$AD$24,INT($AF12/2)+1,MOD(COLUMNS($BU$3:CA$3),2)+1))","v":-9.0096886790241903},{"$f":"IF(OR(MOD($AF12,2)=0,INDEX(relationships,INT($AF12/2)+1,CB$3)<>2),INDEX($AC$5:$AD$24,CB$3,MOD(COLUMNS($BU$3:CB$3),2)+1),INDEX($AC$5:$AD$24,INT($AF12/2)+1,MOD(COLUMNS($BU$3:CB$3),2)+1))","v":-4.3388373911755798},{"$f":"IF(OR(MOD($AF12,2)=0,INDEX(relationships,INT($AF12/2)+1,CC$3)<>2),INDEX($AC$5:$AD$24,CC$3,MOD(COLUMNS($BU$3:CC$3),2)+1),INDEX($AC$5:$AD$24,INT($AF12/2)+1,MOD(COLUMNS($BU$3:CC$3),2)+1))","v":-9.0096886790241921},{"$f":"IF(OR(MOD($AF12,2)=0,INDEX(relationships,INT($AF12/2)+1,CD$3)<>2),INDEX($AC$5:$AD$24,CD$3,MOD(COLUMNS($BU$3:CD$3),2)+1),INDEX($AC$5:$AD$24,INT($AF12/2)+1,MOD(COLUMNS($BU$3:CD$3),2)+1))","v":-9.7492791218182369},{"$f":"IF(OR(MOD($AF12,2)=0,INDEX(relationships,INT($AF12/2)+1,CE$3)<>2),INDEX($AC$5:$AD$24,CE$3,MOD(COLUMNS($BU$3:CE$3),2)+1),INDEX($AC$5:$AD$24,INT($AF12/2)+1,MOD(COLUMNS($BU$3:CE$3),2)+1))","v":-2.225209339563146},{"$f":"IF(OR(MOD($AF12,2)=0,INDEX(relationships,INT($AF12/2)+1,CF$3)<>2),INDEX($AC$5:$AD$24,CF$3,MOD(COLUMNS($BU$3:CF$3),2)+1),INDEX($AC$5:$AD$24,INT($AF12/2)+1,MOD(COLUMNS($BU$3:CF$3),2)+1))","v":-7.8183148246802991},{"$f":"IF(OR(MOD($AF12,2)=0,INDEX(relationships,INT($AF12/2)+1,CG$3)<>2),INDEX($AC$5:$AD$24,CG$3,MOD(COLUMNS($BU$3:CG$3),2)+1),INDEX($AC$5:$AD$24,INT($AF12/2)+1,MOD(COLUMNS($BU$3:CG$3),2)+1))","v":6.2348980185873337},{"$f":"IF(OR(MOD($AF12,2)=0,INDEX(relationships,INT($AF12/2)+1,CH$3)<>2),INDEX($AC$5:$AD$24,CH$3,MOD(COLUMNS($BU$3:CH$3),2)+1),INDEX($AC$5:$AD$24,INT($AF12/2)+1,MOD(COLUMNS($BU$3:CH$3),2)+1))","v":-2.45029690981724E-15},{"$f":"IF(OR(MOD($AF12,2)=0,INDEX(relationships,INT($AF12/2)+1,CI$3)<>2),INDEX($AC$5:$AD$24,CI$3,MOD(COLUMNS($BU$3:CI$3),2)+1),INDEX($AC$5:$AD$24,INT($AF12/2)+1,MOD(COLUMNS($BU$3:CI$3),2)+1))","v":10},{"$f":"IF(OR(MOD($AF12,2)=0,INDEX(relationships,INT($AF12/2)+1,CJ$3)<>2),INDEX($AC$5:$AD$24,CJ$3,MOD(COLUMNS($BU$3:CJ$3),2)+1),INDEX($AC$5:$AD$24,INT($AF12/2)+1,MOD(COLUMNS($BU$3:CJ$3),2)+1))","v":7.8183148246802956},{"$f":"IF(OR(MOD($AF12,2)=0,INDEX(relationships,INT($AF12/2)+1,CK$3)<>2),INDEX($AC$5:$AD$24,CK$3,MOD(COLUMNS($BU$3:CK$3),2)+1),INDEX($AC$5:$AD$24,INT($AF12/2)+1,MOD(COLUMNS($BU$3:CK$3),2)+1))","v":6.2348980185873373},{"$f":"IF(OR(MOD($AF12,2)=0,INDEX(relationships,INT($AF12/2)+1,CL$3)<>2),INDEX($AC$5:$AD$24,CL$3,MOD(COLUMNS($BU$3:CL$3),2)+1),INDEX($AC$5:$AD$24,INT($AF12/2)+1,MOD(COLUMNS($BU$3:CL$3),2)+1))","v":9.7492791218182369},{"$f":"IF(OR(MOD($AF12,2)=0,INDEX(relationships,INT($AF12/2)+1,CM$3)<>2),INDEX($AC$5:$AD$24,CM$3,MOD(COLUMNS($BU$3:CM$3),2)+1),INDEX($AC$5:$AD$24,INT($AF12/2)+1,MOD(COLUMNS($BU$3:CM$3),2)+1))","v":-2.2252093395631407},{"$f":"IF(OR(MOD($AF12,2)=0,INDEX(relationships,INT($AF12/2)+1,CN$3)<>2),INDEX($AC$5:$AD$24,CN$3,MOD(COLUMNS($BU$3:CN$3),2)+1),INDEX($AC$5:$AD$24,INT($AF12/2)+1,MOD(COLUMNS($BU$3:CN$3),2)+1))","v":4.3388373911755842},{"$f":"IF(OR(MOD($AF12,2)=0,INDEX(relationships,INT($AF12/2)+1,CO$3)<>2),INDEX($AC$5:$AD$24,CO$3,MOD(COLUMNS($BU$3:CO$3),2)+1),INDEX($AC$5:$AD$24,INT($AF12/2)+1,MOD(COLUMNS($BU$3:CO$3),2)+1))","v":-9.0096886790241886},{"$f":"IF(OR(MOD($AF12,2)=0,INDEX(relationships,INT($AF12/2)+1,CP$3)<>2),INDEX($AC$5:$AD$24,CP$3,MOD(COLUMNS($BU$3:CP$3),2)+1),INDEX($AC$5:$AD$24,INT($AF12/2)+1,MOD(COLUMNS($BU$3:CP$3),2)+1))","v":-4.338837391175578},{"$f":"IF(OR(MOD($AF12,2)=0,INDEX(relationships,INT($AF12/2)+1,CQ$3)<>2),INDEX($AC$5:$AD$24,CQ$3,MOD(COLUMNS($BU$3:CQ$3),2)+1),INDEX($AC$5:$AD$24,INT($AF12/2)+1,MOD(COLUMNS($BU$3:CQ$3),2)+1))","v":-9.0096886790241921},{"$f":"IF(OR(MOD($AF12,2)=0,INDEX(relationships,INT($AF12/2)+1,CR$3)<>2),INDEX($AC$5:$AD$24,CR$3,MOD(COLUMNS($BU$3:CR$3),2)+1),INDEX($AC$5:$AD$24,INT($AF12/2)+1,MOD(COLUMNS($BU$3:CR$3),2)+1))","v":-9.7492791218182351},{"$f":"IF(OR(MOD($AF12,2)=0,INDEX(relationships,INT($AF12/2)+1,CS$3)<>2),INDEX($AC$5:$AD$24,CS$3,MOD(COLUMNS($BU$3:CS$3),2)+1),INDEX($AC$5:$AD$24,INT($AF12/2)+1,MOD(COLUMNS($BU$3:CS$3),2)+1))","v":-2.2252093395631483},{"$f":"IF(OR(MOD($AF12,2)=0,INDEX(relationships,INT($AF12/2)+1,CT$3)<>2),INDEX($AC$5:$AD$24,CT$3,MOD(COLUMNS($BU$3:CT$3),2)+1),INDEX($AC$5:$AD$24,INT($AF12/2)+1,MOD(COLUMNS($BU$3:CT$3),2)+1))","v":-7.8183148246803018},{"$f":"IF(OR(MOD($AF12,2)=0,INDEX(relationships,INT($AF12/2)+1,CU$3)<>2),INDEX($AC$5:$AD$24,CU$3,MOD(COLUMNS($BU$3:CU$3),2)+1),INDEX($AC$5:$AD$24,INT($AF12/2)+1,MOD(COLUMNS($BU$3:CU$3),2)+1))","v":6.2348980185873319},{"$f":"IF(OR(MOD($AF12,2)=0,INDEX(relationships,INT($AF12/2)+1,CV$3)<>2),INDEX($AC$5:$AD$24,CV$3,MOD(COLUMNS($BU$3:CV$3),2)+1),INDEX($AC$5:$AD$24,INT($AF12/2)+1,MOD(COLUMNS($BU$3:CV$3),2)+1))","v":-4.90059381963448E-15},{"$f":"IF(OR(MOD($AF12,2)=0,INDEX(relationships,INT($AF12/2)+1,CW$3)<>2),INDEX($AC$5:$AD$24,CW$3,MOD(COLUMNS($BU$3:CW$3),2)+1),INDEX($AC$5:$AD$24,INT($AF12/2)+1,MOD(COLUMNS($BU$3:CW$3),2)+1))","v":10},{"$f":"IF(OR(MOD($AF12,2)=0,INDEX(relationships,INT($AF12/2)+1,CX$3)<>2),INDEX($AC$5:$AD$24,CX$3,MOD(COLUMNS($BU$3:CX$3),2)+1),INDEX($AC$5:$AD$24,INT($AF12/2)+1,MOD(COLUMNS($BU$3:CX$3),2)+1))","v":7.8183148246802947},{"$f":"IF(OR(MOD($AF12,2)=0,INDEX(relationships,INT($AF12/2)+1,CY$3)<>2),INDEX($AC$5:$AD$24,CY$3,MOD(COLUMNS($BU$3:CY$3),2)+1),INDEX($AC$5:$AD$24,INT($AF12/2)+1,MOD(COLUMNS($BU$3:CY$3),2)+1))","v":6.2348980185873391},{"$f":"IF(OR(MOD($AF12,2)=0,INDEX(relationships,INT($AF12/2)+1,CZ$3)<>2),INDEX($AC$5:$AD$24,CZ$3,MOD(COLUMNS($BU$3:CZ$3),2)+1),INDEX($AC$5:$AD$24,INT($AF12/2)+1,MOD(COLUMNS($BU$3:CZ$3),2)+1))","v":9.7492791218182369},{"$f":"IF(OR(MOD($AF12,2)=0,INDEX(relationships,INT($AF12/2)+1,DA$3)<>2),INDEX($AC$5:$AD$24,DA$3,MOD(COLUMNS($BU$3:DA$3),2)+1),INDEX($AC$5:$AD$24,INT($AF12/2)+1,MOD(COLUMNS($BU$3:DA$3),2)+1))","v":-2.2252093395631385},{"$f":"IF(OR(MOD($AF12,2)=0,INDEX(relationships,INT($AF12/2)+1,DB$3)<>2),INDEX($AC$5:$AD$24,DB$3,MOD(COLUMNS($BU$3:DB$3),2)+1),INDEX($AC$5:$AD$24,INT($AF12/2)+1,MOD(COLUMNS($BU$3:DB$3),2)+1))","v":4.3388373911755869},{"$f":"IF(OR(MOD($AF12,2)=0,INDEX(relationships,INT($AF12/2)+1,DC$3)<>2),INDEX($AC$5:$AD$24,DC$3,MOD(COLUMNS($BU$3:DC$3),2)+1),INDEX($AC$5:$AD$24,INT($AF12/2)+1,MOD(COLUMNS($BU$3:DC$3),2)+1))","v":-9.0096886790241886},{"$f":"IF(OR(MOD($AF12,2)=0,INDEX(relationships,INT($AF12/2)+1,DD$3)<>2),INDEX($AC$5:$AD$24,DD$3,MOD(COLUMNS($BU$3:DD$3),2)+1),INDEX($AC$5:$AD$24,INT($AF12/2)+1,MOD(COLUMNS($BU$3:DD$3),2)+1))","v":-4.3388373911755753},{"$f":"IF(OR(MOD($AF12,2)=0,INDEX(relationships,INT($AF12/2)+1,DE$3)<>2),INDEX($AC$5:$AD$24,DE$3,MOD(COLUMNS($BU$3:DE$3),2)+1),INDEX($AC$5:$AD$24,INT($AF12/2)+1,MOD(COLUMNS($BU$3:DE$3),2)+1))","v":-9.0096886790241939},{"$f":"IF(OR(MOD($AF12,2)=0,INDEX(relationships,INT($AF12/2)+1,DF$3)<>2),INDEX($AC$5:$AD$24,DF$3,MOD(COLUMNS($BU$3:DF$3),2)+1),INDEX($AC$5:$AD$24,INT($AF12/2)+1,MOD(COLUMNS($BU$3:DF$3),2)+1))","v":-9.7492791218182351},{"$f":"IF(OR(MOD($AF12,2)=0,INDEX(relationships,INT($AF12/2)+1,DG$3)<>2),INDEX($AC$5:$AD$24,DG$3,MOD(COLUMNS($BU$3:DG$3),2)+1),INDEX($AC$5:$AD$24,INT($AF12/2)+1,MOD(COLUMNS($BU$3:DG$3),2)+1))","v":-2.2252093395631505},{"$f":"IF(OR(MOD($AF12,2)=0,INDEX(relationships,INT($AF12/2)+1,DH$3)<>2),INDEX($AC$5:$AD$24,DH$3,MOD(COLUMNS($BU$3:DH$3),2)+1),INDEX($AC$5:$AD$24,INT($AF12/2)+1,MOD(COLUMNS($BU$3:DH$3),2)+1))","v":-7.8183148246803027},{"$f":"IF(OR(MOD($AF12,2)=0,INDEX(relationships,INT($AF12/2)+1,DI$3)<>2),INDEX($AC$5:$AD$24,DI$3,MOD(COLUMNS($BU$3:DI$3),2)+1),INDEX($AC$5:$AD$24,INT($AF12/2)+1,MOD(COLUMNS($BU$3:DI$3),2)+1))","v":6.2348980185873293},null,-2.45029690981724E-15,10,-2.45029690981724E-15,10]
[null,{"$f":"'Group Data'!B26","v":0},{"$f":"'Group Data'!AJ26","v":0},{"$f":"'Group Data'!AK26","v":0},{"$f":"'Group Data'!AL26","v":0},{"$f":"'Group Data'!AM26","v":0},{"$f":"'Group Data'!AN26","v":0},{"$f":"'Group Data'!AO26","v":0},{"$f":"'Group Data'!AP26","v":0},{"$f":"'Group Data'!AQ26","v":0},null,null,null,null,null,null,null,null,null,null,null,null,null,null,"Angle (rad)",{"$f":"RADIANS(Z12)","v":0.89759790102565518},null,9,9.7492791218182369,-2.2252093395631407,null,8,{"$f":"IF(OR(MOD($AF13,2)=0,INDEX(relationships,INT($AF13/2)+1,AG$3)<>1),INDEX($AC$5:$AD$24,AG$3,MOD(COLUMNS($AF$3:AG$3),2)+1),INDEX($AC$5:$AD$24,INT($AF13/2)+1,MOD(COLUMNS($AF$3:AG$3),2)+1))","v":7.8183148246802983},{"$f":"IF(OR(MOD($AF13,2)=0,INDEX(relationships,INT($AF13/2)+1,AH$3)<>1),INDEX($AC$5:$AD$24,AH$3,MOD(COLUMNS($AF$3:AH$3),2)+1),INDEX($AC$5:$AD$24,INT($AF13/2)+1,MOD(COLUMNS($AF$3:AH$3),2)+1))","v":6.2348980185873355},{"$f":"IF(OR(MOD($AF13,2)=0,INDEX(relationships,INT($AF13/2)+1,AI$3)<>1),INDEX($AC$5:$AD$24,AI$3,MOD(COLUMNS($AF$3:AI$3),2)+1),INDEX($AC$5:$AD$24,INT($AF13/2)+1,MOD(COLUMNS($AF$3:AI$3),2)+1))","v":9.7492791218182369},{"$f":"IF(OR(MOD($AF13,2)=0,INDEX(relationships,INT($AF13/2)+1,AJ$3)<>1),INDEX($AC$5:$AD$24,AJ$3,MOD(COLUMNS($AF$3:AJ$3),2)+1),INDEX($AC$5:$AD$24,INT($AF13/2)+1,MOD(COLUMNS($AF$3:AJ$3),2)+1))","v":-2.2252093395631434},{"$f":"IF(OR(MOD($AF13,2)=0,INDEX(relationships,INT($AF13/2)+1,AK$3)<>1),INDEX($AC$5:$AD$24,AK$3,MOD(COLUMNS($AF$3:AK$3),2)+1),INDEX($AC$5:$AD$24,INT($AF13/2)+1,MOD(COLUMNS($AF$3:AK$3),2)+1))","v":4.3388373911755824},{"$f":"IF(OR(MOD($AF13,2)=0,INDEX(relationships,INT($AF13/2)+1,AL$3)<>1),INDEX($AC$5:$AD$24,AL$3,MOD(COLUMNS($AF$3:AL$3),2)+1),INDEX($AC$5:$AD$24,INT($AF13/2)+1,MOD(COLUMNS($AF$3:AL$3),2)+1))","v":-9.0096886790241903},{"$f":"IF(OR(MOD($AF13,2)=0,INDEX(relationships,INT($AF13/2)+1,AM$3)<>1),INDEX($AC$5:$AD$24,AM$3,MOD(COLUMNS($AF$3:AM$3),2)+1),INDEX($AC$5:$AD$24,INT($AF13/2)+1,MOD(COLUMNS($AF$3:AM$3),2)+1))","v":-4.3388373911755798},{"$f":"IF(OR(MOD($AF13,2)=0,INDEX(relationships,INT($AF13/2)+1,AN$3)<>1),INDEX($AC$5:$AD$24,AN$3,MOD(COLUMNS($AF$3:AN$3),2)+1),INDEX($AC$5:$AD$24,INT($AF13/2)+1,MOD(COLUMNS($AF$3:AN$3),2)+1))","v":-9.0096886790241921},{"$f":"IF(OR(MOD($AF13,2)=0,INDEX(relationships,INT($AF13/2)+1,AO$3)<>1),INDEX($AC$5:$AD$24,AO$3,MOD(COLUMNS($AF$3:AO$3),2)+1),INDEX($AC$5:$AD$24,INT($AF13/2)+1,MOD(COLUMNS($AF$3:AO$3),2)+1))","v":-9.7492791218182369},{"$f":"IF(OR(MOD($AF13,2)=0,INDEX(relationships,INT($AF13/2)+1,AP$3)<>1),INDEX($AC$5:$AD$24,AP$3,MOD(COLUMNS($AF$3:AP$3),2)+1),INDEX($AC$5:$AD$24,INT($AF13/2)+1,MOD(COLUMNS($AF$3:AP$3),2)+1))","v":-2.225209339563146},{"$f":"IF(OR(MOD($AF13,2)=0,INDEX(relationships,INT($AF13/2)+1,AQ$3)<>1),INDEX($AC$5:$AD$24,AQ$3,MOD(COLUMNS($AF$3:AQ$3),2)+1),INDEX($AC$5:$AD$24,INT($AF13/2)+1,MOD(COLUMNS($AF$3:AQ$3),2)+1))","v":-7.8183148246802991},{"$f":"IF(OR(MOD($AF13,2)=0,INDEX(relationships,INT($AF13/2)+1,AR$3)<>1),INDEX($AC$5:$AD$24,AR$3,MOD(COLUMNS($AF$3:AR$3),2)+1),INDEX($AC$5:$AD$24,INT($AF13/2)+1,MOD(COLUMNS($AF$3:AR$3),2)+1))","v":6.2348980185873337},{"$f":"IF(OR(MOD($AF13,2)=0,INDEX(relationships,INT($AF13/2)+1,AS$3)<>1),INDEX($AC$5:$AD$24,AS$3,MOD(COLUMNS($AF$3:AS$3),2)+1),INDEX($AC$5:$AD$24,INT($AF13/2)+1,MOD(COLUMNS($AF$3:AS$3),2)+1))","v":-2.45029690981724E-15},{"$f":"IF(OR(MOD($AF13,2)=0,INDEX(relationships,INT($AF13/2)+1,AT$3)<>1),INDEX($AC$5:$AD$24,AT$3,MOD(COLUMNS($AF$3:AT$3),2)+1),INDEX($AC$5:$AD$24,INT($AF13/2)+1,MOD(COLUMNS($AF$3:AT$3),2)+1))","v":10},{"$f":"IF(OR(MOD($AF13,2)=0,INDEX(relationships,INT($AF13/2)+1,AU$3)<>1),INDEX($AC$5:$AD$24,AU$3,MOD(COLUMNS($AF$3:AU$3),2)+1),INDEX($AC$5:$AD$24,INT($AF13/2)+1,MOD(COLUMNS($AF$3:AU$3),2)+1))","v":7.8183148246802956},{"$f":"IF(OR(MOD($AF13,2)=0,INDEX(relationships,INT($AF13/2)+1,AV$3)<>1),INDEX($AC$5:$AD$24,AV$3,MOD(COLUMNS($AF$3:AV$3),2)+1),INDEX($AC$5:$AD$24,INT($AF13/2)+1,MOD(COLUMNS($AF$3:AV$3),2)+1))","v":6.2348980185873373},{"$f":"IF(OR(MOD($AF13,2)=0,INDEX(relationships,INT($AF13/2)+1,AW$3)<>1),INDEX($AC$5:$AD$24,AW$3,MOD(COLUMNS($AF$3:AW$3),2)+1),INDEX($AC$5:$AD$24,INT($AF13/2)+1,MOD(COLUMNS($AF$3:AW$3),2)+1))","v":9.7492791218182369},{"$f":"IF(OR(MOD($AF13,2)=0,INDEX(relationships,INT($AF13/2)+1,AX$3)<>1),INDEX($AC$5:$AD$24,AX$3,MOD(COLUMNS($AF$3:AX$3),2)+1),INDEX($AC$5:$AD$24,INT($AF13/2)+1,MOD(COLUMNS($AF$3:AX$3),2)+1))","v":-2.2252093395631407},{"$f":"IF(OR(MOD($AF13,2)=0,INDEX(relationships,INT($AF13/2)+1,AY$3)<>1),INDEX($AC$5:$AD$24,AY$3,MOD(COLUMNS($AF$3:AY$3),2)+1),INDEX($AC$5:$AD$24,INT($AF13/2)+1,MOD(COLUMNS($AF$3:AY$3),2)+1))","v":4.3388373911755842},{"$f":"IF(OR(MOD($AF13,2)=0,INDEX(relationships,INT($AF13/2)+1,AZ$3)<>1),INDEX($AC$5:$AD$24,AZ$3,MOD(COLUMNS($AF$3:AZ$3),2)+1),INDEX($AC$5:$AD$24,INT($AF13/2)+1,MOD(COLUMNS($AF$3:AZ$3),2)+1))","v":-9.0096886790241886},{"$f":"IF(OR(MOD($AF13,2)=0,INDEX(relationships,INT($AF13/2)+1,BA$3)<>1),INDEX($AC$5:$AD$24,BA$3,MOD(COLUMNS($AF$3:BA$3),2)+1),INDEX($AC$5:$AD$24,INT($AF13/2)+1,MOD(COLUMNS($AF$3:BA$3),2)+1))","v":-4.338837391175578},{"$f":"IF(OR(MOD($AF13,2)=0,INDEX(relationships,INT($AF13/2)+1,BB$3)<>1),INDEX($AC$5:$AD$24,BB$3,MOD(COLUMNS($AF$3:BB$3),2)+1),INDEX($AC$5:$AD$24,INT($AF13/2)+1,MOD(COLUMNS($AF$3:BB$3),2)+1))","v":-9.0096886790241921},{"$f":"IF(OR(MOD($AF13,2)=0,INDEX(relationships,INT($AF13/2)+1,BC$3)<>1),INDEX($AC$5:$AD$24,BC$3,MOD(COLUMNS($AF$3:BC$3),2)+1),INDEX($AC$5:$AD$24,INT($AF13/2)+1,MOD(COLUMNS($AF$3:BC$3),2)+1))","v":-9.7492791218182351},{"$f":"IF(OR(MOD($AF13,2)=0,INDEX(relationships,INT($AF13/2)+1,BD$3)<>1),INDEX($AC$5:$AD$24,BD$3,MOD(COLUMNS($AF$3:BD$3),2)+1),INDEX($AC$5:$AD$24,INT($AF13/2)+1,MOD(COLUMNS($AF$3:BD$3),2)+1))","v":-2.2252093395631483},{"$f":"IF(OR(MOD($AF13,2)=0,INDEX(relationships,INT($AF13/2)+1,BE$3)<>1),INDEX($AC$5:$AD$24,BE$3,MOD(COLUMNS($AF$3:BE$3),2)+1),INDEX($AC$5:$AD$24,INT($AF13/2)+1,MOD(COLUMNS($AF$3:BE$3),2)+1))","v":-7.8183148246803018},{"$f":"IF(OR(MOD($AF13,2)=0,INDEX(relationships,INT($AF13/2)+1,BF$3)<>1),INDEX($AC$5:$AD$24,BF$3,MOD(COLUMNS($AF$3:BF$3),2)+1),INDEX($AC$5:$AD$24,INT($AF13/2)+1,MOD(COLUMNS($AF$3:BF$3),2)+1))","v":6.2348980185873319},{"$f":"IF(OR(MOD($AF13,2)=0,INDEX(relationships,INT($AF13/2)+1,BG$3)<>1),INDEX($AC$5:$AD$24,BG$3,MOD(COLUMNS($AF$3:BG$3),2)+1),INDEX($AC$5:$AD$24,INT($AF13/2)+1,MOD(COLUMNS($AF$3:BG$3),2)+1))","v":-4.90059381963448E-15},{"$f":"IF(OR(MOD($AF13,2)=0,INDEX(relationships,INT($AF13/2)+1,BH$3)<>1),INDEX($AC$5:$AD$24,BH$3,MOD(COLUMNS($AF$3:BH$3),2)+1),INDEX($AC$5:$AD$24,INT($AF13/2)+1,MOD(COLUMNS($AF$3:BH$3),2)+1))","v":10},{"$f":"IF(OR(MOD($AF13,2)=0,INDEX(relationships,INT($AF13/2)+1,BI$3)<>1),INDEX($AC$5:$AD$24,BI$3,MOD(COLUMNS($AF$3:BI$3),2)+1),INDEX($AC$5:$AD$24,INT($AF13/2)+1,MOD(COLUMNS($AF$3:BI$3),2)+1))","v":7.8183148246802947},{"$f":"IF(OR(MOD($AF13,2)=0,INDEX(relationships,INT($AF13/2)+1,BJ$3)<>1),INDEX($AC$5:$AD$24,BJ$3,MOD(COLUMNS($AF$3:BJ$3),2)+1),INDEX($AC$5:$AD$24,INT($AF13/2)+1,MOD(COLUMNS($AF$3:BJ$3),2)+1))","v":6.2348980185873391},{"$f":"IF(OR(MOD($AF13,2)=0,INDEX(relationships,INT($AF13/2)+1,BK$3)<>1),INDEX($AC$5:$AD$24,BK$3,MOD(COLUMNS($AF$3:BK$3),2)+1),INDEX($AC$5:$AD$24,INT($AF13/2)+1,MOD(COLUMNS($AF$3:BK$3),2)+1))","v":9.7492791218182369},{"$f":"IF(OR(MOD($AF13,2)=0,INDEX(relationships,INT($AF13/2)+1,BL$3)<>1),INDEX($AC$5:$AD$24,BL$3,MOD(COLUMNS($AF$3:BL$3),2)+1),INDEX($AC$5:$AD$24,INT($AF13/2)+1,MOD(COLUMNS($AF$3:BL$3),2)+1))","v":-2.2252093395631385},{"$f":"IF(OR(MOD($AF13,2)=0,INDEX(relationships,INT($AF13/2)+1,BM$3)<>1),INDEX($AC$5:$AD$24,BM$3,MOD(COLUMNS($AF$3:BM$3),2)+1),INDEX($AC$5:$AD$24,INT($AF13/2)+1,MOD(COLUMNS($AF$3:BM$3),2)+1))","v":4.3388373911755869},{"$f":"IF(OR(MOD($AF13,2)=0,INDEX(relationships,INT($AF13/2)+1,BN$3)<>1),INDEX($AC$5:$AD$24,BN$3,MOD(COLUMNS($AF$3:BN$3),2)+1),INDEX($AC$5:$AD$24,INT($AF13/2)+1,MOD(COLUMNS($AF$3:BN$3),2)+1))","v":-9.0096886790241886},{"$f":"IF(OR(MOD($AF13,2)=0,INDEX(relationships,INT($AF13/2)+1,BO$3)<>1),INDEX($AC$5:$AD$24,BO$3,MOD(COLUMNS($AF$3:BO$3),2)+1),INDEX($AC$5:$AD$24,INT($AF13/2)+1,MOD(COLUMNS($AF$3:BO$3),2)+1))","v":-4.3388373911755753},{"$f":"IF(OR(MOD($AF13,2)=0,INDEX(relationships,INT($AF13/2)+1,BP$3)<>1),INDEX($AC$5:$AD$24,BP$3,MOD(COLUMNS($AF$3:BP$3),2)+1),INDEX($AC$5:$AD$24,INT($AF13/2)+1,MOD(COLUMNS($AF$3:BP$3),2)+1))","v":-9.0096886790241939},{"$f":"IF(OR(MOD($AF13,2)=0,INDEX(relationships,INT($AF13/2)+1,BQ$3)<>1),INDEX($AC$5:$AD$24,BQ$3,MOD(COLUMNS($AF$3:BQ$3),2)+1),INDEX($AC$5:$AD$24,INT($AF13/2)+1,MOD(COLUMNS($AF$3:BQ$3),2)+1))","v":-9.7492791218182351},{"$f":"IF(OR(MOD($AF13,2)=0,INDEX(relationships,INT($AF13/2)+1,BR$3)<>1),INDEX($AC$5:$AD$24,BR$3,MOD(COLUMNS($AF$3:BR$3),2)+1),INDEX($AC$5:$AD$24,INT($AF13/2)+1,MOD(COLUMNS($AF$3:BR$3),2)+1))","v":-2.2252093395631505},{"$f":"IF(OR(MOD($AF13,2)=0,INDEX(relationships,INT($AF13/2)+1,BS$3)<>1),INDEX($AC$5:$AD$24,BS$3,MOD(COLUMNS($AF$3:BS$3),2)+1),INDEX($AC$5:$AD$24,INT($AF13/2)+1,MOD(COLUMNS($AF$3:BS$3),2)+1))","v":-7.8183148246803027},{"$f":"IF(OR(MOD($AF13,2)=0,INDEX(relationships,INT($AF13/2)+1,BT$3)<>1),INDEX($AC$5:$AD$24,BT$3,MOD(COLUMNS($AF$3:BT$3),2)+1),INDEX($AC$5:$AD$24,INT($AF13/2)+1,MOD(COLUMNS($AF$3:BT$3),2)+1))","v":6.2348980185873293},null,{"$f":"IF(OR(MOD($AF13,2)=0,INDEX(relationships,INT($AF13/2)+1,BV$3)<>2),INDEX($AC$5:$AD$24,BV$3,MOD(COLUMNS($BU$3:BV$3),2)+1),INDEX($AC$5:$AD$24,INT($AF13/2)+1,MOD(COLUMNS($BU$3:BV$3),2)+1))","v":7.8183148246802983},{"$f":"IF(OR(MOD($AF13,2)=0,INDEX(relationships,INT($AF13/2)+1,BW$3)<>2),INDEX($AC$5:$AD$24,BW$3,MOD(COLUMNS($BU$3:BW$3),2)+1),INDEX($AC$5:$AD$24,INT($AF13/2)+1,MOD(COLUMNS($BU$3:BW$3),2)+1))","v":6.2348980185873355},{"$f":"IF(OR(MOD($AF13,2)=0,INDEX(relationships,INT($AF13/2)+1,BX$3)<>2),INDEX($AC$5:$AD$24,BX$3,MOD(COLUMNS($BU$3:BX$3),2)+1),INDEX($AC$5:$AD$24,INT($AF13/2)+1,MOD(COLUMNS($BU$3:BX$3),2)+1))","v":9.7492791218182369},{"$f":"IF(OR(MOD($AF13,2)=0,INDEX(relationships,INT($AF13/2)+1,BY$3)<>2),INDEX($AC$5:$AD$24,BY$3,MOD(COLUMNS($BU$3:BY$3),2)+1),INDEX($AC$5:$AD$24,INT($AF13/2)+1,MOD(COLUMNS($BU$3:BY$3),2)+1))","v":-2.2252093395631434},{"$f":"IF(OR(MOD($AF13,2)=0,INDEX(relationships,INT($AF13/2)+1,BZ$3)<>2),INDEX($AC$5:$AD$24,BZ$3,MOD(COLUMNS($BU$3:BZ$3),2)+1),INDEX($AC$5:$AD$24,INT($AF13/2)+1,MOD(COLUMNS($BU$3:BZ$3),2)+1))","v":4.3388373911755824},{"$f":"IF(OR(MOD($AF13,2)=0,INDEX(relationships,INT($AF13/2)+1,CA$3)<>2),INDEX($AC$5:$AD$24,CA$3,MOD(COLUMNS($BU$3:CA$3),2)+1),INDEX($AC$5:$AD$24,INT($AF13/2)+1,MOD(COLUMNS($BU$3:CA$3),2)+1))","v":-9.0096886790241903},{"$f":"IF(OR(MOD($AF13,2)=0,INDEX(relationships,INT($AF13/2)+1,CB$3)<>2),INDEX($AC$5:$AD$24,CB$3,MOD(COLUMNS($BU$3:CB$3),2)+1),INDEX($AC$5:$AD$24,INT($AF13/2)+1,MOD(COLUMNS($BU$3:CB$3),2)+1))","v":-4.3388373911755798},{"$f":"IF(OR(MOD($AF13,2)=0,INDEX(relationships,INT($AF13/2)+1,CC$3)<>2),INDEX($AC$5:$AD$24,CC$3,MOD(COLUMNS($BU$3:CC$3),2)+1),INDEX($AC$5:$AD$24,INT($AF13/2)+1,MOD(COLUMNS($BU$3:CC$3),2)+1))","v":-9.0096886790241921},{"$f":"IF(OR(MOD($AF13,2)=0,INDEX(relationships,INT($AF13/2)+1,CD$3)<>2),INDEX($AC$5:$AD$24,CD$3,MOD(COLUMNS($BU$3:CD$3),2)+1),INDEX($AC$5:$AD$24,INT($AF13/2)+1,MOD(COLUMNS($BU$3:CD$3),2)+1))","v":-9.7492791218182369},{"$f":"IF(OR(MOD($AF13,2)=0,INDEX(relationships,INT($AF13/2)+1,CE$3)<>2),INDEX($AC$5:$AD$24,CE$3,MOD(COLUMNS($BU$3:CE$3),2)+1),INDEX($AC$5:$AD$24,INT($AF13/2)+1,MOD(COLUMNS($BU$3:CE$3),2)+1))","v":-2.225209339563146},{"$f":"IF(OR(MOD($AF13,2)=0,INDEX(relationships,INT($AF13/2)+1,CF$3)<>2),INDEX($AC$5:$AD$24,CF$3,MOD(COLUMNS($BU$3:CF$3),2)+1),INDEX($AC$5:$AD$24,INT($AF13/2)+1,MOD(COLUMNS($BU$3:CF$3),2)+1))","v":-7.8183148246802991},{"$f":"IF(OR(MOD($AF13,2)=0,INDEX(relationships,INT($AF13/2)+1,CG$3)<>2),INDEX($AC$5:$AD$24,CG$3,MOD(COLUMNS($BU$3:CG$3),2)+1),INDEX($AC$5:$AD$24,INT($AF13/2)+1,MOD(COLUMNS($BU$3:CG$3),2)+1))","v":6.2348980185873337},{"$f":"IF(OR(MOD($AF13,2)=0,INDEX(relationships,INT($AF13/2)+1,CH$3)<>2),INDEX($AC$5:$AD$24,CH$3,MOD(COLUMNS($BU$3:CH$3),2)+1),INDEX($AC$5:$AD$24,INT($AF13/2)+1,MOD(COLUMNS($BU$3:CH$3),2)+1))","v":-2.45029690981724E-15},{"$f":"IF(OR(MOD($AF13,2)=0,INDEX(relationships,INT($AF13/2)+1,CI$3)<>2),INDEX($AC$5:$AD$24,CI$3,MOD(COLUMNS($BU$3:CI$3),2)+1),INDEX($AC$5:$AD$24,INT($AF13/2)+1,MOD(COLUMNS($BU$3:CI$3),2)+1))","v":10},{"$f":"IF(OR(MOD($AF13,2)=0,INDEX(relationships,INT($AF13/2)+1,CJ$3)<>2),INDEX($AC$5:$AD$24,CJ$3,MOD(COLUMNS($BU$3:CJ$3),2)+1),INDEX($AC$5:$AD$24,INT($AF13/2)+1,MOD(COLUMNS($BU$3:CJ$3),2)+1))","v":7.8183148246802956},{"$f":"IF(OR(MOD($AF13,2)=0,INDEX(relationships,INT($AF13/2)+1,CK$3)<>2),INDEX($AC$5:$AD$24,CK$3,MOD(COLUMNS($BU$3:CK$3),2)+1),INDEX($AC$5:$AD$24,INT($AF13/2)+1,MOD(COLUMNS($BU$3:CK$3),2)+1))","v":6.2348980185873373},{"$f":"IF(OR(MOD($AF13,2)=0,INDEX(relationships,INT($AF13/2)+1,CL$3)<>2),INDEX($AC$5:$AD$24,CL$3,MOD(COLUMNS($BU$3:CL$3),2)+1),INDEX($AC$5:$AD$24,INT($AF13/2)+1,MOD(COLUMNS($BU$3:CL$3),2)+1))","v":9.7492791218182369},{"$f":"IF(OR(MOD($AF13,2)=0,INDEX(relationships,INT($AF13/2)+1,CM$3)<>2),INDEX($AC$5:$AD$24,CM$3,MOD(COLUMNS($BU$3:CM$3),2)+1),INDEX($AC$5:$AD$24,INT($AF13/2)+1,MOD(COLUMNS($BU$3:CM$3),2)+1))","v":-2.2252093395631407},{"$f":"IF(OR(MOD($AF13,2)=0,INDEX(relationships,INT($AF13/2)+1,CN$3)<>2),INDEX($AC$5:$AD$24,CN$3,MOD(COLUMNS($BU$3:CN$3),2)+1),INDEX($AC$5:$AD$24,INT($AF13/2)+1,MOD(COLUMNS($BU$3:CN$3),2)+1))","v":4.3388373911755842},{"$f":"IF(OR(MOD($AF13,2)=0,INDEX(relationships,INT($AF13/2)+1,CO$3)<>2),INDEX($AC$5:$AD$24,CO$3,MOD(COLUMNS($BU$3:CO$3),2)+1),INDEX($AC$5:$AD$24,INT($AF13/2)+1,MOD(COLUMNS($BU$3:CO$3),2)+1))","v":-9.0096886790241886},{"$f":"IF(OR(MOD($AF13,2)=0,INDEX(relationships,INT($AF13/2)+1,CP$3)<>2),INDEX($AC$5:$AD$24,CP$3,MOD(COLUMNS($BU$3:CP$3),2)+1),INDEX($AC$5:$AD$24,INT($AF13/2)+1,MOD(COLUMNS($BU$3:CP$3),2)+1))","v":-4.338837391175578},{"$f":"IF(OR(MOD($AF13,2)=0,INDEX(relationships,INT($AF13/2)+1,CQ$3)<>2),INDEX($AC$5:$AD$24,CQ$3,MOD(COLUMNS($BU$3:CQ$3),2)+1),INDEX($AC$5:$AD$24,INT($AF13/2)+1,MOD(COLUMNS($BU$3:CQ$3),2)+1))","v":-9.0096886790241921},{"$f":"IF(OR(MOD($AF13,2)=0,INDEX(relationships,INT($AF13/2)+1,CR$3)<>2),INDEX($AC$5:$AD$24,CR$3,MOD(COLUMNS($BU$3:CR$3),2)+1),INDEX($AC$5:$AD$24,INT($AF13/2)+1,MOD(COLUMNS($BU$3:CR$3),2)+1))","v":-9.7492791218182351},{"$f":"IF(OR(MOD($AF13,2)=0,INDEX(relationships,INT($AF13/2)+1,CS$3)<>2),INDEX($AC$5:$AD$24,CS$3,MOD(COLUMNS($BU$3:CS$3),2)+1),INDEX($AC$5:$AD$24,INT($AF13/2)+1,MOD(COLUMNS($BU$3:CS$3),2)+1))","v":-2.2252093395631483},{"$f":"IF(OR(MOD($AF13,2)=0,INDEX(relationships,INT($AF13/2)+1,CT$3)<>2),INDEX($AC$5:$AD$24,CT$3,MOD(COLUMNS($BU$3:CT$3),2)+1),INDEX($AC$5:$AD$24,INT($AF13/2)+1,MOD(COLUMNS($BU$3:CT$3),2)+1))","v":-7.8183148246803018},{"$f":"IF(OR(MOD($AF13,2)=0,INDEX(relationships,INT($AF13/2)+1,CU$3)<>2),INDEX($AC$5:$AD$24,CU$3,MOD(COLUMNS($BU$3:CU$3),2)+1),INDEX($AC$5:$AD$24,INT($AF13/2)+1,MOD(COLUMNS($BU$3:CU$3),2)+1))","v":6.2348980185873319},{"$f":"IF(OR(MOD($AF13,2)=0,INDEX(relationships,INT($AF13/2)+1,CV$3)<>2),INDEX($AC$5:$AD$24,CV$3,MOD(COLUMNS($BU$3:CV$3),2)+1),INDEX($AC$5:$AD$24,INT($AF13/2)+1,MOD(COLUMNS($BU$3:CV$3),2)+1))","v":-4.90059381963448E-15},{"$f":"IF(OR(MOD($AF13,2)=0,INDEX(relationships,INT($AF13/2)+1,CW$3)<>2),INDEX($AC$5:$AD$24,CW$3,MOD(COLUMNS($BU$3:CW$3),2)+1),INDEX($AC$5:$AD$24,INT($AF13/2)+1,MOD(COLUMNS($BU$3:CW$3),2)+1))","v":10},{"$f":"IF(OR(MOD($AF13,2)=0,INDEX(relationships,INT($AF13/2)+1,CX$3)<>2),INDEX($AC$5:$AD$24,CX$3,MOD(COLUMNS($BU$3:CX$3),2)+1),INDEX($AC$5:$AD$24,INT($AF13/2)+1,MOD(COLUMNS($BU$3:CX$3),2)+1))","v":7.8183148246802947},{"$f":"IF(OR(MOD($AF13,2)=0,INDEX(relationships,INT($AF13/2)+1,CY$3)<>2),INDEX($AC$5:$AD$24,CY$3,MOD(COLUMNS($BU$3:CY$3),2)+1),INDEX($AC$5:$AD$24,INT($AF13/2)+1,MOD(COLUMNS($BU$3:CY$3),2)+1))","v":6.2348980185873391},{"$f":"IF(OR(MOD($AF13,2)=0,INDEX(relationships,INT($AF13/2)+1,CZ$3)<>2),INDEX($AC$5:$AD$24,CZ$3,MOD(COLUMNS($BU$3:CZ$3),2)+1),INDEX($AC$5:$AD$24,INT($AF13/2)+1,MOD(COLUMNS($BU$3:CZ$3),2)+1))","v":9.7492791218182369},{"$f":"IF(OR(MOD($AF13,2)=0,INDEX(relationships,INT($AF13/2)+1,DA$3)<>2),INDEX($AC$5:$AD$24,DA$3,MOD(COLUMNS($BU$3:DA$3),2)+1),INDEX($AC$5:$AD$24,INT($AF13/2)+1,MOD(COLUMNS($BU$3:DA$3),2)+1))","v":-2.2252093395631385},{"$f":"IF(OR(MOD($AF13,2)=0,INDEX(relationships,INT($AF13/2)+1,DB$3)<>2),INDEX($AC$5:$AD$24,DB$3,MOD(COLUMNS($BU$3:DB$3),2)+1),INDEX($AC$5:$AD$24,INT($AF13/2)+1,MOD(COLUMNS($BU$3:DB$3),2)+1))","v":4.3388373911755869},{"$f":"IF(OR(MOD($AF13,2)=0,INDEX(relationships,INT($AF13/2)+1,DC$3)<>2),INDEX($AC$5:$AD$24,DC$3,MOD(COLUMNS($BU$3:DC$3),2)+1),INDEX($AC$5:$AD$24,INT($AF13/2)+1,MOD(COLUMNS($BU$3:DC$3),2)+1))","v":-9.0096886790241886},{"$f":"IF(OR(MOD($AF13,2)=0,INDEX(relationships,INT($AF13/2)+1,DD$3)<>2),INDEX($AC$5:$AD$24,DD$3,MOD(COLUMNS($BU$3:DD$3),2)+1),INDEX($AC$5:$AD$24,INT($AF13/2)+1,MOD(COLUMNS($BU$3:DD$3),2)+1))","v":-4.3388373911755753},{"$f":"IF(OR(MOD($AF13,2)=0,INDEX(relationships,INT($AF13/2)+1,DE$3)<>2),INDEX($AC$5:$AD$24,DE$3,MOD(COLUMNS($BU$3:DE$3),2)+1),INDEX($AC$5:$AD$24,INT($AF13/2)+1,MOD(COLUMNS($BU$3:DE$3),2)+1))","v":-9.0096886790241939},{"$f":"IF(OR(MOD($AF13,2)=0,INDEX(relationships,INT($AF13/2)+1,DF$3)<>2),INDEX($AC$5:$AD$24,DF$3,MOD(COLUMNS($BU$3:DF$3),2)+1),INDEX($AC$5:$AD$24,INT($AF13/2)+1,MOD(COLUMNS($BU$3:DF$3),2)+1))","v":-9.7492791218182351},{"$f":"IF(OR(MOD($AF13,2)=0,INDEX(relationships,INT($AF13/2)+1,DG$3)<>2),INDEX($AC$5:$AD$24,DG$3,MOD(COLUMNS($BU$3:DG$3),2)+1),INDEX($AC$5:$AD$24,INT($AF13/2)+1,MOD(COLUMNS($BU$3:DG$3),2)+1))","v":-2.2252093395631505},{"$f":"IF(OR(MOD($AF13,2)=0,INDEX(relationships,INT($AF13/2)+1,DH$3)<>2),INDEX($AC$5:$AD$24,DH$3,MOD(COLUMNS($BU$3:DH$3),2)+1),INDEX($AC$5:$AD$24,INT($AF13/2)+1,MOD(COLUMNS($BU$3:DH$3),2)+1))","v":-7.8183148246803027},{"$f":"IF(OR(MOD($AF13,2)=0,INDEX(relationships,INT($AF13/2)+1,DI$3)<>2),INDEX($AC$5:$AD$24,DI$3,MOD(COLUMNS($BU$3:DI$3),2)+1),INDEX($AC$5:$AD$24,INT($AF13/2)+1,MOD(COLUMNS($BU$3:DI$3),2)+1))","v":6.2348980185873293},null,-2.45029690981724E-15,10,-2.45029690981724E-15,10]
[null,{"$f":"'Group Data'!B27","v":0},{"$f":"'Group Data'!AJ27","v":0},{"$f":"'Group Data'!AK27","v":0},{"$f":"'Group Data'!AL27","v":0},{"$f":"'Group Data'!AM27","v":0},{"$f":"'Group Data'!AN27","v":0},{"$f":"'Group Data'!AO27","v":0},{"$f":"'Group Data'!AP27","v":0},{"$f":"'Group Data'!AQ27","v":0},{"$f":"'Group Data'!AR27","v":0},null,null,null,null,null,null,null,null,null,null,null,null,null,null,null,null,10,4.3388373911755842,-9.0096886790241886,null,9,{"$f":"IF(OR(MOD($AF14,2)=0,INDEX(relationships,INT($AF14/2)+1,AG$3)<>1),INDEX($AC$5:$AD$24,AG$3,MOD(COLUMNS($AF$3:AG$3),2)+1),INDEX($AC$5:$AD$24,INT($AF14/2)+1,MOD(COLUMNS($AF$3:AG$3),2)+1))","v":7.8183148246802983},{"$f":"IF(OR(MOD($AF14,2)=0,INDEX(relationships,INT($AF14/2)+1,AH$3)<>1),INDEX($AC$5:$AD$24,AH$3,MOD(COLUMNS($AF$3:AH$3),2)+1),INDEX($AC$5:$AD$24,INT($AF14/2)+1,MOD(COLUMNS($AF$3:AH$3),2)+1))","v":6.2348980185873355},{"$f":"IF(OR(MOD($AF14,2)=0,INDEX(relationships,INT($AF14/2)+1,AI$3)<>1),INDEX($AC$5:$AD$24,AI$3,MOD(COLUMNS($AF$3:AI$3),2)+1),INDEX($AC$5:$AD$24,INT($AF14/2)+1,MOD(COLUMNS($AF$3:AI$3),2)+1))","v":9.7492791218182369},{"$f":"IF(OR(MOD($AF14,2)=0,INDEX(relationships,INT($AF14/2)+1,AJ$3)<>1),INDEX($AC$5:$AD$24,AJ$3,MOD(COLUMNS($AF$3:AJ$3),2)+1),INDEX($AC$5:$AD$24,INT($AF14/2)+1,MOD(COLUMNS($AF$3:AJ$3),2)+1))","v":-2.2252093395631434},{"$f":"IF(OR(MOD($AF14,2)=0,INDEX(relationships,INT($AF14/2)+1,AK$3)<>1),INDEX($AC$5:$AD$24,AK$3,MOD(COLUMNS($AF$3:AK$3),2)+1),INDEX($AC$5:$AD$24,INT($AF14/2)+1,MOD(COLUMNS($AF$3:AK$3),2)+1))","v":4.3388373911755824},{"$f":"IF(OR(MOD($AF14,2)=0,INDEX(relationships,INT($AF14/2)+1,AL$3)<>1),INDEX($AC$5:$AD$24,AL$3,MOD(COLUMNS($AF$3:AL$3),2)+1),INDEX($AC$5:$AD$24,INT($AF14/2)+1,MOD(COLUMNS($AF$3:AL$3),2)+1))","v":-9.0096886790241903},{"$f":"IF(OR(MOD($AF14,2)=0,INDEX(relationships,INT($AF14/2)+1,AM$3)<>1),INDEX($AC$5:$AD$24,AM$3,MOD(COLUMNS($AF$3:AM$3),2)+1),INDEX($AC$5:$AD$24,INT($AF14/2)+1,MOD(COLUMNS($AF$3:AM$3),2)+1))","v":-4.3388373911755798},{"$f":"IF(OR(MOD($AF14,2)=0,INDEX(relationships,INT($AF14/2)+1,AN$3)<>1),INDEX($AC$5:$AD$24,AN$3,MOD(COLUMNS($AF$3:AN$3),2)+1),INDEX($AC$5:$AD$24,INT($AF14/2)+1,MOD(COLUMNS($AF$3:AN$3),2)+1))","v":-9.0096886790241921},{"$f":"IF(OR(MOD($AF14,2)=0,INDEX(relationships,INT($AF14/2)+1,AO$3)<>1),INDEX($AC$5:$AD$24,AO$3,MOD(COLUMNS($AF$3:AO$3),2)+1),INDEX($AC$5:$AD$24,INT($AF14/2)+1,MOD(COLUMNS($AF$3:AO$3),2)+1))","v":-9.7492791218182369},{"$f":"IF(OR(MOD($AF14,2)=0,INDEX(relationships,INT($AF14/2)+1,AP$3)<>1),INDEX($AC$5:$AD$24,AP$3,MOD(COLUMNS($AF$3:AP$3),2)+1),INDEX($AC$5:$AD$24,INT($AF14/2)+1,MOD(COLUMNS($AF$3:AP$3),2)+1))","v":-2.225209339563146},{"$f":"IF(OR(MOD($AF14,2)=0,INDEX(relationships,INT($AF14/2)+1,AQ$3)<>1),INDEX($AC$5:$AD$24,AQ$3,MOD(COLUMNS($AF$3:AQ$3),2)+1),INDEX($AC$5:$AD$24,INT($AF14/2)+1,MOD(COLUMNS($AF$3:AQ$3),2)+1))","v":-9.7492791218182369},{"$f":"IF(OR(MOD($AF14,2)=0,INDEX(relationships,INT($AF14/2)+1,AR$3)<>1),INDEX($AC$5:$AD$24,AR$3,MOD(COLUMNS($AF$3:AR$3),2)+1),INDEX($AC$5:$AD$24,INT($AF14/2)+1,MOD(COLUMNS($AF$3:AR$3),2)+1))","v":-2.225209339563146},{"$f":"IF(OR(MOD($AF14,2)=0,INDEX(relationships,INT($AF14/2)+1,AS$3)<>1),INDEX($AC$5:$AD$24,AS$3,MOD(COLUMNS($AF$3:AS$3),2)+1),INDEX($AC$5:$AD$24,INT($AF14/2)+1,MOD(COLUMNS($AF$3:AS$3),2)+1))","v":-2.45029690981724E-15},{"$f":"IF(OR(MOD($AF14,2)=0,INDEX(relationships,INT($AF14/2)+1,AT$3)<>1),INDEX($AC$5:$AD$24,AT$3,MOD(COLUMNS($AF$3:AT$3),2)+1),INDEX($AC$5:$AD$24,INT($AF14/2)+1,MOD(COLUMNS($AF$3:AT$3),2)+1))","v":10},{"$f":"IF(OR(MOD($AF14,2)=0,INDEX(relationships,INT($AF14/2)+1,AU$3)<>1),INDEX($AC$5:$AD$24,AU$3,MOD(COLUMNS($AF$3:AU$3),2)+1),INDEX($AC$5:$AD$24,INT($AF14/2)+1,MOD(COLUMNS($AF$3:AU$3),2)+1))","v":7.8183148246802956},{"$f":"IF(OR(MOD($AF14,2)=0,INDEX(relationships,INT($AF14/2)+1,AV$3)<>1),INDEX($AC$5:$AD$24,AV$3,MOD(COLUMNS($AF$3:AV$3),2)+1),INDEX($AC$5:$AD$24,INT($AF14/2)+1,MOD(COLUMNS($AF$3:AV$3),2)+1))","v":6.2348980185873373},{"$f":"IF(OR(MOD($AF14,2)=0,INDEX(relationships,INT($AF14/2)+1,AW$3)<>1),INDEX($AC$5:$AD$24,AW$3,MOD(COLUMNS($AF$3:AW$3),2)+1),INDEX($AC$5:$AD$24,INT($AF14/2)+1,MOD(COLUMNS($AF$3:AW$3),2)+1))","v":9.7492791218182369},{"$f":"IF(OR(MOD($AF14,2)=0,INDEX(relationships,INT($AF14/2)+1,AX$3)<>1),INDEX($AC$5:$AD$24,AX$3,MOD(COLUMNS($AF$3:AX$3),2)+1),INDEX($AC$5:$AD$24,INT($AF14/2)+1,MOD(COLUMNS($AF$3:AX$3),2)+1))","v":-2.2252093395631407},{"$f":"IF(OR(MOD($AF14,2)=0,INDEX(relationships,INT($AF14/2)+1,AY$3)<>1),INDEX($AC$5:$AD$24,AY$3,MOD(COLUMNS($AF$3:AY$3),2)+1),INDEX($AC$5:$AD$24,INT($AF14/2)+1,MOD(COLUMNS($AF$3:AY$3),2)+1))","v":4.3388373911755842},{"$f":"IF(OR(MOD($AF14,2)=0,INDEX(relationships,INT($AF14/2)+1,AZ$3)<>1),INDEX($AC$5:$AD$24,AZ$3,MOD(COLUMNS($AF$3:AZ$3),2)+1),INDEX($AC$5:$AD$24,INT($AF14/2)+1,MOD(COLUMNS($AF$3:AZ$3),2)+1))","v":-9.0096886790241886},{"$f":"IF(OR(MOD($AF14,2)=0,INDEX(relationships,INT($AF14/2)+1,BA$3)<>1),INDEX($AC$5:$AD$24,BA$3,MOD(COLUMNS($AF$3:BA$3),2)+1),INDEX($AC$5:$AD$24,INT($AF14/2)+1,MOD(COLUMNS($AF$3:BA$3),2)+1))","v":-4.338837391175578},{"$f":"IF(OR(MOD($AF14,2)=0,INDEX(relationships,INT($AF14/2)+1,BB$3)<>1),INDEX($AC$5:$AD$24,BB$3,MOD(COLUMNS($AF$3:BB$3),2)+1),INDEX($AC$5:$AD$24,INT($AF14/2)+1,MOD(COLUMNS($AF$3:BB$3),2)+1))","v":-9.0096886790241921},{"$f":"IF(OR(MOD($AF14,2)=0,INDEX(relationships,INT($AF14/2)+1,BC$3)<>1),INDEX($AC$5:$AD$24,BC$3,MOD(COLUMNS($AF$3:BC$3),2)+1),INDEX($AC$5:$AD$24,INT($AF14/2)+1,MOD(COLUMNS($AF$3:BC$3),2)+1))","v":-9.7492791218182351},{"$f":"IF(OR(MOD($AF14,2)=0,INDEX(relationships,INT($AF14/2)+1,BD$3)<>1),INDEX($AC$5:$AD$24,BD$3,MOD(COLUMNS($AF$3:BD$3),2)+1),INDEX($AC$5:$AD$24,INT($AF14/2)+1,MOD(COLUMNS($AF$3:BD$3),2)+1))","v":-2.2252093395631483},{"$f":"IF(OR(MOD($AF14,2)=0,INDEX(relationships,INT($AF14/2)+1,BE$3)<>1),INDEX($AC$5:$AD$24,BE$3,MOD(COLUMNS($AF$3:BE$3),2)+1),INDEX($AC$5:$AD$24,INT($AF14/2)+1,MOD(COLUMNS($AF$3:BE$3),2)+1))","v":-7.8183148246803018},{"$f":"IF(OR(MOD($AF14,2)=0,INDEX(relationships,INT($AF14/2)+1,BF$3)<>1),INDEX($AC$5:$AD$24,BF$3,MOD(COLUMNS($AF$3:BF$3),2)+1),INDEX($AC$5:$AD$24,INT($AF14/2)+1,MOD(COLUMNS($AF$3:BF$3),2)+1))","v":6.2348980185873319},{"$f":"IF(OR(MOD($AF14,2)=0,INDEX(relationships,INT($AF14/2)+1,BG$3)<>1),INDEX($AC$5:$AD$24,BG$3,MOD(COLUMNS($AF$3:BG$3),2)+1),INDEX($AC$5:$AD$24,INT($AF14/2)+1,MOD(COLUMNS($AF$3:BG$3),2)+1))","v":-4.90059381963448E-15},{"$f":"IF(OR(MOD($AF14,2)=0,INDEX(relationships,INT($AF14/2)+1,BH$3)<>1),INDEX($AC$5:$AD$24,BH$3,MOD(COLUMNS($AF$3:BH$3),2)+1),INDEX($AC$5:$AD$24,INT($AF14/2)+1,MOD(COLUMNS($AF$3:BH$3),2)+1))","v":10},{"$f":"IF(OR(MOD($AF14,2)=0,INDEX(relationships,INT($AF14/2)+1,BI$3)<>1),INDEX($AC$5:$AD$24,BI$3,MOD(COLUMNS($AF$3:BI$3),2)+1),INDEX($AC$5:$AD$24,INT($AF14/2)+1,MOD(COLUMNS($AF$3:BI$3),2)+1))","v":7.8183148246802947},{"$f":"IF(OR(MOD($AF14,2)=0,INDEX(relationships,INT($AF14/2)+1,BJ$3)<>1),INDEX($AC$5:$AD$24,BJ$3,MOD(COLUMNS($AF$3:BJ$3),2)+1),INDEX($AC$5:$AD$24,INT($AF14/2)+1,MOD(COLUMNS($AF$3:BJ$3),2)+1))","v":6.2348980185873391},{"$f":"IF(OR(MOD($AF14,2)=0,INDEX(relationships,INT($AF14/2)+1,BK$3)<>1),INDEX($AC$5:$AD$24,BK$3,MOD(COLUMNS($AF$3:BK$3),2)+1),INDEX($AC$5:$AD$24,INT($AF14/2)+1,MOD(COLUMNS($AF$3:BK$3),2)+1))","v":9.7492791218182369},{"$f":"IF(OR(MOD($AF14,2)=0,INDEX(relationships,INT($AF14/2)+1,BL$3)<>1),INDEX($AC$5:$AD$24,BL$3,MOD(COLUMNS($AF$3:BL$3),2)+1),INDEX($AC$5:$AD$24,INT($AF14/2)+1,MOD(COLUMNS($AF$3:BL$3),2)+1))","v":-2.2252093395631385},{"$f":"IF(OR(MOD($AF14,2)=0,INDEX(relationships,INT($AF14/2)+1,BM$3)<>1),INDEX($AC$5:$AD$24,BM$3,MOD(COLUMNS($AF$3:BM$3),2)+1),INDEX($AC$5:$AD$24,INT($AF14/2)+1,MOD(COLUMNS($AF$3:BM$3),2)+1))","v":4.3388373911755869},{"$f":"IF(OR(MOD($AF14,2)=0,INDEX(relationships,INT($AF14/2)+1,BN$3)<>1),INDEX($AC$5:$AD$24,BN$3,MOD(COLUMNS($AF$3:BN$3),2)+1),INDEX($AC$5:$AD$24,INT($AF14/2)+1,MOD(COLUMNS($AF$3:BN$3),2)+1))","v":-9.0096886790241886},{"$f":"IF(OR(MOD($AF14,2)=0,INDEX(relationships,INT($AF14/2)+1,BO$3)<>1),INDEX($AC$5:$AD$24,BO$3,MOD(COLUMNS($AF$3:BO$3),2)+1),INDEX($AC$5:$AD$24,INT($AF14/2)+1,MOD(COLUMNS($AF$3:BO$3),2)+1))","v":-4.3388373911755753},{"$f":"IF(OR(MOD($AF14,2)=0,INDEX(relationships,INT($AF14/2)+1,BP$3)<>1),INDEX($AC$5:$AD$24,BP$3,MOD(COLUMNS($AF$3:BP$3),2)+1),INDEX($AC$5:$AD$24,INT($AF14/2)+1,MOD(COLUMNS($AF$3:BP$3),2)+1))","v":-9.0096886790241939},{"$f":"IF(OR(MOD($AF14,2)=0,INDEX(relationships,INT($AF14/2)+1,BQ$3)<>1),INDEX($AC$5:$AD$24,BQ$3,MOD(COLUMNS($AF$3:BQ$3),2)+1),INDEX($AC$5:$AD$24,INT($AF14/2)+1,MOD(COLUMNS($AF$3:BQ$3),2)+1))","v":-9.7492791218182351},{"$f":"IF(OR(MOD($AF14,2)=0,INDEX(relationships,INT($AF14/2)+1,BR$3)<>1),INDEX($AC$5:$AD$24,BR$3,MOD(COLUMNS($AF$3:BR$3),2)+1),INDEX($AC$5:$AD$24,INT($AF14/2)+1,MOD(COLUMNS($AF$3:BR$3),2)+1))","v":-2.2252093395631505},{"$f":"IF(OR(MOD($AF14,2)=0,INDEX(relationships,INT($AF14/2)+1,BS$3)<>1),INDEX($AC$5:$AD$24,BS$3,MOD(COLUMNS($AF$3:BS$3),2)+1),INDEX($AC$5:$AD$24,INT($AF14/2)+1,MOD(COLUMNS($AF$3:BS$3),2)+1))","v":-7.8183148246803027},{"$f":"IF(OR(MOD($AF14,2)=0,INDEX(relationships,INT($AF14/2)+1,BT$3)<>1),INDEX($AC$5:$AD$24,BT$3,MOD(COLUMNS($AF$3:BT$3),2)+1),INDEX($AC$5:$AD$24,INT($AF14/2)+1,MOD(COLUMNS($AF$3:BT$3),2)+1))","v":6.2348980185873293},null,{"$f":"IF(OR(MOD($AF14,2)=0,INDEX(relationships,INT($AF14/2)+1,BV$3)<>2),INDEX($AC$5:$AD$24,BV$3,MOD(COLUMNS($BU$3:BV$3),2)+1),INDEX($AC$5:$AD$24,INT($AF14/2)+1,MOD(COLUMNS($BU$3:BV$3),2)+1))","v":7.8183148246802983},{"$f":"IF(OR(MOD($AF14,2)=0,INDEX(relationships,INT($AF14/2)+1,BW$3)<>2),INDEX($AC$5:$AD$24,BW$3,MOD(COLUMNS($BU$3:BW$3),2)+1),INDEX($AC$5:$AD$24,INT($AF14/2)+1,MOD(COLUMNS($BU$3:BW$3),2)+1))","v":6.2348980185873355},{"$f":"IF(OR(MOD($AF14,2)=0,INDEX(relationships,INT($AF14/2)+1,BX$3)<>2),INDEX($AC$5:$AD$24,BX$3,MOD(COLUMNS($BU$3:BX$3),2)+1),INDEX($AC$5:$AD$24,INT($AF14/2)+1,MOD(COLUMNS($BU$3:BX$3),2)+1))","v":9.7492791218182369},{"$f":"IF(OR(MOD($AF14,2)=0,INDEX(relationships,INT($AF14/2)+1,BY$3)<>2),INDEX($AC$5:$AD$24,BY$3,MOD(COLUMNS($BU$3:BY$3),2)+1),INDEX($AC$5:$AD$24,INT($AF14/2)+1,MOD(COLUMNS($BU$3:BY$3),2)+1))","v":-2.2252093395631434},{"$f":"IF(OR(MOD($AF14,2)=0,INDEX(relationships,INT($AF14/2)+1,BZ$3)<>2),INDEX($AC$5:$AD$24,BZ$3,MOD(COLUMNS($BU$3:BZ$3),2)+1),INDEX($AC$5:$AD$24,INT($AF14/2)+1,MOD(COLUMNS($BU$3:BZ$3),2)+1))","v":4.3388373911755824},{"$f":"IF(OR(MOD($AF14,2)=0,INDEX(relationships,INT($AF14/2)+1,CA$3)<>2),INDEX($AC$5:$AD$24,CA$3,MOD(COLUMNS($BU$3:CA$3),2)+1),INDEX($AC$5:$AD$24,INT($AF14/2)+1,MOD(COLUMNS($BU$3:CA$3),2)+1))","v":-9.0096886790241903},{"$f":"IF(OR(MOD($AF14,2)=0,INDEX(relationships,INT($AF14/2)+1,CB$3)<>2),INDEX($AC$5:$AD$24,CB$3,MOD(COLUMNS($BU$3:CB$3),2)+1),INDEX($AC$5:$AD$24,INT($AF14/2)+1,MOD(COLUMNS($BU$3:CB$3),2)+1))","v":-4.3388373911755798},{"$f":"IF(OR(MOD($AF14,2)=0,INDEX(relationships,INT($AF14/2)+1,CC$3)<>2),INDEX($AC$5:$AD$24,CC$3,MOD(COLUMNS($BU$3:CC$3),2)+1),INDEX($AC$5:$AD$24,INT($AF14/2)+1,MOD(COLUMNS($BU$3:CC$3),2)+1))","v":-9.0096886790241921},{"$f":"IF(OR(MOD($AF14,2)=0,INDEX(relationships,INT($AF14/2)+1,CD$3)<>2),INDEX($AC$5:$AD$24,CD$3,MOD(COLUMNS($BU$3:CD$3),2)+1),INDEX($AC$5:$AD$24,INT($AF14/2)+1,MOD(COLUMNS($BU$3:CD$3),2)+1))","v":-9.7492791218182369},{"$f":"IF(OR(MOD($AF14,2)=0,INDEX(relationships,INT($AF14/2)+1,CE$3)<>2),INDEX($AC$5:$AD$24,CE$3,MOD(COLUMNS($BU$3:CE$3),2)+1),INDEX($AC$5:$AD$24,INT($AF14/2)+1,MOD(COLUMNS($BU$3:CE$3),2)+1))","v":-2.225209339563146},{"$f":"IF(OR(MOD($AF14,2)=0,INDEX(relationships,INT($AF14/2)+1,CF$3)<>2),INDEX($AC$5:$AD$24,CF$3,MOD(COLUMNS($BU$3:CF$3),2)+1),INDEX($AC$5:$AD$24,INT($AF14/2)+1,MOD(COLUMNS($BU$3:CF$3),2)+1))","v":-7.8183148246802991},{"$f":"IF(OR(MOD($AF14,2)=0,INDEX(relationships,INT($AF14/2)+1,CG$3)<>2),INDEX($AC$5:$AD$24,CG$3,MOD(COLUMNS($BU$3:CG$3),2)+1),INDEX($AC$5:$AD$24,INT($AF14/2)+1,MOD(COLUMNS($BU$3:CG$3),2)+1))","v":6.2348980185873337},{"$f":"IF(OR(MOD($AF14,2)=0,INDEX(relationships,INT($AF14/2)+1,CH$3)<>2),INDEX($AC$5:$AD$24,CH$3,MOD(COLUMNS($BU$3:CH$3),2)+1),INDEX($AC$5:$AD$24,INT($AF14/2)+1,MOD(COLUMNS($BU$3:CH$3),2)+1))","v":-2.45029690981724E-15},{"$f":"IF(OR(MOD($AF14,2)=0,INDEX(relationships,INT($AF14/2)+1,CI$3)<>2),INDEX($AC$5:$AD$24,CI$3,MOD(COLUMNS($BU$3:CI$3),2)+1),INDEX($AC$5:$AD$24,INT($AF14/2)+1,MOD(COLUMNS($BU$3:CI$3),2)+1))","v":10},{"$f":"IF(OR(MOD($AF14,2)=0,INDEX(relationships,INT($AF14/2)+1,CJ$3)<>2),INDEX($AC$5:$AD$24,CJ$3,MOD(COLUMNS($BU$3:CJ$3),2)+1),INDEX($AC$5:$AD$24,INT($AF14/2)+1,MOD(COLUMNS($BU$3:CJ$3),2)+1))","v":7.8183148246802956},{"$f":"IF(OR(MOD($AF14,2)=0,INDEX(relationships,INT($AF14/2)+1,CK$3)<>2),INDEX($AC$5:$AD$24,CK$3,MOD(COLUMNS($BU$3:CK$3),2)+1),INDEX($AC$5:$AD$24,INT($AF14/2)+1,MOD(COLUMNS($BU$3:CK$3),2)+1))","v":6.2348980185873373},{"$f":"IF(OR(MOD($AF14,2)=0,INDEX(relationships,INT($AF14/2)+1,CL$3)<>2),INDEX($AC$5:$AD$24,CL$3,MOD(COLUMNS($BU$3:CL$3),2)+1),INDEX($AC$5:$AD$24,INT($AF14/2)+1,MOD(COLUMNS($BU$3:CL$3),2)+1))","v":9.7492791218182369},{"$f":"IF(OR(MOD($AF14,2)=0,INDEX(relationships,INT($AF14/2)+1,CM$3)<>2),INDEX($AC$5:$AD$24,CM$3,MOD(COLUMNS($BU$3:CM$3),2)+1),INDEX($AC$5:$AD$24,INT($AF14/2)+1,MOD(COLUMNS($BU$3:CM$3),2)+1))","v":-2.2252093395631407},{"$f":"IF(OR(MOD($AF14,2)=0,INDEX(relationships,INT($AF14/2)+1,CN$3)<>2),INDEX($AC$5:$AD$24,CN$3,MOD(COLUMNS($BU$3:CN$3),2)+1),INDEX($AC$5:$AD$24,INT($AF14/2)+1,MOD(COLUMNS($BU$3:CN$3),2)+1))","v":4.3388373911755842},{"$f":"IF(OR(MOD($AF14,2)=0,INDEX(relationships,INT($AF14/2)+1,CO$3)<>2),INDEX($AC$5:$AD$24,CO$3,MOD(COLUMNS($BU$3:CO$3),2)+1),INDEX($AC$5:$AD$24,INT($AF14/2)+1,MOD(COLUMNS($BU$3:CO$3),2)+1))","v":-9.0096886790241886},{"$f":"IF(OR(MOD($AF14,2)=0,INDEX(relationships,INT($AF14/2)+1,CP$3)<>2),INDEX($AC$5:$AD$24,CP$3,MOD(COLUMNS($BU$3:CP$3),2)+1),INDEX($AC$5:$AD$24,INT($AF14/2)+1,MOD(COLUMNS($BU$3:CP$3),2)+1))","v":-4.338837391175578},{"$f":"IF(OR(MOD($AF14,2)=0,INDEX(relationships,INT($AF14/2)+1,CQ$3)<>2),INDEX($AC$5:$AD$24,CQ$3,MOD(COLUMNS($BU$3:CQ$3),2)+1),INDEX($AC$5:$AD$24,INT($AF14/2)+1,MOD(COLUMNS($BU$3:CQ$3),2)+1))","v":-9.0096886790241921},{"$f":"IF(OR(MOD($AF14,2)=0,INDEX(relationships,INT($AF14/2)+1,CR$3)<>2),INDEX($AC$5:$AD$24,CR$3,MOD(COLUMNS($BU$3:CR$3),2)+1),INDEX($AC$5:$AD$24,INT($AF14/2)+1,MOD(COLUMNS($BU$3:CR$3),2)+1))","v":-9.7492791218182351},{"$f":"IF(OR(MOD($AF14,2)=0,INDEX(relationships,INT($AF14/2)+1,CS$3)<>2),INDEX($AC$5:$AD$24,CS$3,MOD(COLUMNS($BU$3:CS$3),2)+1),INDEX($AC$5:$AD$24,INT($AF14/2)+1,MOD(COLUMNS($BU$3:CS$3),2)+1))","v":-2.2252093395631483},{"$f":"IF(OR(MOD($AF14,2)=0,INDEX(relationships,INT($AF14/2)+1,CT$3)<>2),INDEX($AC$5:$AD$24,CT$3,MOD(COLUMNS($BU$3:CT$3),2)+1),INDEX($AC$5:$AD$24,INT($AF14/2)+1,MOD(COLUMNS($BU$3:CT$3),2)+1))","v":-7.8183148246803018},{"$f":"IF(OR(MOD($AF14,2)=0,INDEX(relationships,INT($AF14/2)+1,CU$3)<>2),INDEX($AC$5:$AD$24,CU$3,MOD(COLUMNS($BU$3:CU$3),2)+1),INDEX($AC$5:$AD$24,INT($AF14/2)+1,MOD(COLUMNS($BU$3:CU$3),2)+1))","v":6.2348980185873319},{"$f":"IF(OR(MOD($AF14,2)=0,INDEX(relationships,INT($AF14/2)+1,CV$3)<>2),INDEX($AC$5:$AD$24,CV$3,MOD(COLUMNS($BU$3:CV$3),2)+1),INDEX($AC$5:$AD$24,INT($AF14/2)+1,MOD(COLUMNS($BU$3:CV$3),2)+1))","v":-4.90059381963448E-15},{"$f":"IF(OR(MOD($AF14,2)=0,INDEX(relationships,INT($AF14/2)+1,CW$3)<>2),INDEX($AC$5:$AD$24,CW$3,MOD(COLUMNS($BU$3:CW$3),2)+1),INDEX($AC$5:$AD$24,INT($AF14/2)+1,MOD(COLUMNS($BU$3:CW$3),2)+1))","v":10},{"$f":"IF(OR(MOD($AF14,2)=0,INDEX(relationships,INT($AF14/2)+1,CX$3)<>2),INDEX($AC$5:$AD$24,CX$3,MOD(COLUMNS($BU$3:CX$3),2)+1),INDEX($AC$5:$AD$24,INT($AF14/2)+1,MOD(COLUMNS($BU$3:CX$3),2)+1))","v":7.8183148246802947},{"$f":"IF(OR(MOD($AF14,2)=0,INDEX(relationships,INT($AF14/2)+1,CY$3)<>2),INDEX($AC$5:$AD$24,CY$3,MOD(COLUMNS($BU$3:CY$3),2)+1),INDEX($AC$5:$AD$24,INT($AF14/2)+1,MOD(COLUMNS($BU$3:CY$3),2)+1))","v":6.2348980185873391},{"$f":"IF(OR(MOD($AF14,2)=0,INDEX(relationships,INT($AF14/2)+1,CZ$3)<>2),INDEX($AC$5:$AD$24,CZ$3,MOD(COLUMNS($BU$3:CZ$3),2)+1),INDEX($AC$5:$AD$24,INT($AF14/2)+1,MOD(COLUMNS($BU$3:CZ$3),2)+1))","v":9.7492791218182369},{"$f":"IF(OR(MOD($AF14,2)=0,INDEX(relationships,INT($AF14/2)+1,DA$3)<>2),INDEX($AC$5:$AD$24,DA$3,MOD(COLUMNS($BU$3:DA$3),2)+1),INDEX($AC$5:$AD$24,INT($AF14/2)+1,MOD(COLUMNS($BU$3:DA$3),2)+1))","v":-2.2252093395631385},{"$f":"IF(OR(MOD($AF14,2)=0,INDEX(relationships,INT($AF14/2)+1,DB$3)<>2),INDEX($AC$5:$AD$24,DB$3,MOD(COLUMNS($BU$3:DB$3),2)+1),INDEX($AC$5:$AD$24,INT($AF14/2)+1,MOD(COLUMNS($BU$3:DB$3),2)+1))","v":4.3388373911755869},{"$f":"IF(OR(MOD($AF14,2)=0,INDEX(relationships,INT($AF14/2)+1,DC$3)<>2),INDEX($AC$5:$AD$24,DC$3,MOD(COLUMNS($BU$3:DC$3),2)+1),INDEX($AC$5:$AD$24,INT($AF14/2)+1,MOD(COLUMNS($BU$3:DC$3),2)+1))","v":-9.0096886790241886},{"$f":"IF(OR(MOD($AF14,2)=0,INDEX(relationships,INT($AF14/2)+1,DD$3)<>2),INDEX($AC$5:$AD$24,DD$3,MOD(COLUMNS($BU$3:DD$3),2)+1),INDEX($AC$5:$AD$24,INT($AF14/2)+1,MOD(COLUMNS($BU$3:DD$3),2)+1))","v":-4.3388373911755753},{"$f":"IF(OR(MOD($AF14,2)=0,INDEX(relationships,INT($AF14/2)+1,DE$3)<>2),INDEX($AC$5:$AD$24,DE$3,MOD(COLUMNS($BU$3:DE$3),2)+1),INDEX($AC$5:$AD$24,INT($AF14/2)+1,MOD(COLUMNS($BU$3:DE$3),2)+1))","v":-9.0096886790241939},{"$f":"IF(OR(MOD($AF14,2)=0,INDEX(relationships,INT($AF14/2)+1,DF$3)<>2),INDEX($AC$5:$AD$24,DF$3,MOD(COLUMNS($BU$3:DF$3),2)+1),INDEX($AC$5:$AD$24,INT($AF14/2)+1,MOD(COLUMNS($BU$3:DF$3),2)+1))","v":-9.7492791218182351},{"$f":"IF(OR(MOD($AF14,2)=0,INDEX(relationships,INT($AF14/2)+1,DG$3)<>2),INDEX($AC$5:$AD$24,DG$3,MOD(COLUMNS($BU$3:DG$3),2)+1),INDEX($AC$5:$AD$24,INT($AF14/2)+1,MOD(COLUMNS($BU$3:DG$3),2)+1))","v":-2.2252093395631505},{"$f":"IF(OR(MOD($AF14,2)=0,INDEX(relationships,INT($AF14/2)+1,DH$3)<>2),INDEX($AC$5:$AD$24,DH$3,MOD(COLUMNS($BU$3:DH$3),2)+1),INDEX($AC$5:$AD$24,INT($AF14/2)+1,MOD(COLUMNS($BU$3:DH$3),2)+1))","v":-7.8183148246803027},{"$f":"IF(OR(MOD($AF14,2)=0,INDEX(relationships,INT($AF14/2)+1,DI$3)<>2),INDEX($AC$5:$AD$24,DI$3,MOD(COLUMNS($BU$3:DI$3),2)+1),INDEX($AC$5:$AD$24,INT($AF14/2)+1,MOD(COLUMNS($BU$3:DI$3),2)+1))","v":6.2348980185873293},null,-2.45029690981724E-15,10,-2.45029690981724E-15,10]
[null,{"$f":"'Group Data'!B28","v":0},{"$f":"'Group Data'!AJ28","v":0},{"$f":"'Group Data'!AK28","v":0},{"$f":"'Group Data'!AL28","v":0},{"$f":"'Group Data'!AM28","v":0},{"$f":"'Group Data'!AN28","v":0},{"$f":"'Group Data'!AO28","v":0},{"$f":"'Group Data'!AP28","v":0},{"$f":"'Group Data'!AQ28","v":0},{"$f":"'Group Data'!AR28","v":0},{"$f":"'Group Data'!AS28","v":0},null,null,null,null,null,null,null,null,null,null,null,null,"Selected Person",{"$f":"sel.person","v":"Colleagues "},null,11,-4.338837391175578,-9.0096886790241921,null,10,{"$f":"IF(OR(MOD($AF15,2)=0,INDEX(relationships,INT($AF15/2)+1,AG$3)<>1),INDEX($AC$5:$AD$24,AG$3,MOD(COLUMNS($AF$3:AG$3),2)+1),INDEX($AC$5:$AD$24,INT($AF15/2)+1,MOD(COLUMNS($AF$3:AG$3),2)+1))","v":7.8183148246802983},{"$f":"IF(OR(MOD($AF15,2)=0,INDEX(relationships,INT($AF15/2)+1,AH$3)<>1),INDEX($AC$5:$AD$24,AH$3,MOD(COLUMNS($AF$3:AH$3),2)+1),INDEX($AC$5:$AD$24,INT($AF15/2)+1,MOD(COLUMNS($AF$3:AH$3),2)+1))","v":6.2348980185873355},{"$f":"IF(OR(MOD($AF15,2)=0,INDEX(relationships,INT($AF15/2)+1,AI$3)<>1),INDEX($AC$5:$AD$24,AI$3,MOD(COLUMNS($AF$3:AI$3),2)+1),INDEX($AC$5:$AD$24,INT($AF15/2)+1,MOD(COLUMNS($AF$3:AI$3),2)+1))","v":9.7492791218182369},{"$f":"IF(OR(MOD($AF15,2)=0,INDEX(relationships,INT($AF15/2)+1,AJ$3)<>1),INDEX($AC$5:$AD$24,AJ$3,MOD(COLUMNS($AF$3:AJ$3),2)+1),INDEX($AC$5:$AD$24,INT($AF15/2)+1,MOD(COLUMNS($AF$3:AJ$3),2)+1))","v":-2.2252093395631434},{"$f":"IF(OR(MOD($AF15,2)=0,INDEX(relationships,INT($AF15/2)+1,AK$3)<>1),INDEX($AC$5:$AD$24,AK$3,MOD(COLUMNS($AF$3:AK$3),2)+1),INDEX($AC$5:$AD$24,INT($AF15/2)+1,MOD(COLUMNS($AF$3:AK$3),2)+1))","v":4.3388373911755824},{"$f":"IF(OR(MOD($AF15,2)=0,INDEX(relationships,INT($AF15/2)+1,AL$3)<>1),INDEX($AC$5:$AD$24,AL$3,MOD(COLUMNS($AF$3:AL$3),2)+1),INDEX($AC$5:$AD$24,INT($AF15/2)+1,MOD(COLUMNS($AF$3:AL$3),2)+1))","v":-9.0096886790241903},{"$f":"IF(OR(MOD($AF15,2)=0,INDEX(relationships,INT($AF15/2)+1,AM$3)<>1),INDEX($AC$5:$AD$24,AM$3,MOD(COLUMNS($AF$3:AM$3),2)+1),INDEX($AC$5:$AD$24,INT($AF15/2)+1,MOD(COLUMNS($AF$3:AM$3),2)+1))","v":-4.3388373911755798},{"$f":"IF(OR(MOD($AF15,2)=0,INDEX(relationships,INT($AF15/2)+1,AN$3)<>1),INDEX($AC$5:$AD$24,AN$3,MOD(COLUMNS($AF$3:AN$3),2)+1),INDEX($AC$5:$AD$24,INT($AF15/2)+1,MOD(COLUMNS($AF$3:AN$3),2)+1))","v":-9.0096886790241921},{"$f":"IF(OR(MOD($AF15,2)=0,INDEX(relationships,INT($AF15/2)+1,AO$3)<>1),INDEX($AC$5:$AD$24,AO$3,MOD(COLUMNS($AF$3:AO$3),2)+1),INDEX($AC$5:$AD$24,INT($AF15/2)+1,MOD(COLUMNS($AF$3:AO$3),2)+1))","v":-9.7492791218182369},{"$f":"IF(OR(MOD($AF15,2)=0,INDEX(relationships,INT($AF15/2)+1,AP$3)<>1),INDEX($AC$5:$AD$24,AP$3,MOD(COLUMNS($AF$3:AP$3),2)+1),INDEX($AC$5:$AD$24,INT($AF15/2)+1,MOD(COLUMNS($AF$3:AP$3),2)+1))","v":-2.225209339563146},{"$f":"IF(OR(MOD($AF15,2)=0,INDEX(relationships,INT($AF15/2)+1,AQ$3)<>1),INDEX($AC$5:$AD$24,AQ$3,MOD(COLUMNS($AF$3:AQ$3),2)+1),INDEX($AC$5:$AD$24,INT($AF15/2)+1,MOD(COLUMNS($AF$3:AQ$3),2)+1))","v":-7.8183148246802991},{"$f":"IF(OR(MOD($AF15,2)=0,INDEX(relationships,INT($AF15/2)+1,AR$3)<>1),INDEX($AC$5:$AD$24,AR$3,MOD(COLUMNS($AF$3:AR$3),2)+1),INDEX($AC$5:$AD$24,INT($AF15/2)+1,MOD(COLUMNS($AF$3:AR$3),2)+1))","v":6.2348980185873337},{"$f":"IF(OR(MOD($AF15,2)=0,INDEX(relationships,INT($AF15/2)+1,AS$3)<>1),INDEX($AC$5:$AD$24,AS$3,MOD(COLUMNS($AF$3:AS$3),2)+1),INDEX($AC$5:$AD$24,INT($AF15/2)+1,MOD(COLUMNS($AF$3:AS$3),2)+1))","v":-2.45029690981724E-15},{"$f":"IF(OR(MOD($AF15,2)=0,INDEX(relationships,INT($AF15/2)+1,AT$3)<>1),INDEX($AC$5:$AD$24,AT$3,MOD(COLUMNS($AF$3:AT$3),2)+1),INDEX($AC$5:$AD$24,INT($AF15/2)+1,MOD(COLUMNS($AF$3:AT$3),2)+1))","v":10},{"$f":"IF(OR(MOD($AF15,2)=0,INDEX(relationships,INT($AF15/2)+1,AU$3)<>1),INDEX($AC$5:$AD$24,AU$3,MOD(COLUMNS($AF$3:AU$3),2)+1),INDEX($AC$5:$AD$24,INT($AF15/2)+1,MOD(COLUMNS($AF$3:AU$3),2)+1))","v":7.8183148246802956},{"$f":"IF(OR(MOD($AF15,2)=0,INDEX(relationships,INT($AF15/2)+1,AV$3)<>1),INDEX($AC$5:$AD$24,AV$3,MOD(COLUMNS($AF$3:AV$3),2)+1),INDEX($AC$5:$AD$24,INT($AF15/2)+1,MOD(COLUMNS($AF$3:AV$3),2)+1))","v":6.2348980185873373},{"$f":"IF(OR(MOD($AF15,2)=0,INDEX(relationships,INT($AF15/2)+1,AW$3)<>1),INDEX($AC$5:$AD$24,AW$3,MOD(COLUMNS($AF$3:AW$3),2)+1),INDEX($AC$5:$AD$24,INT($AF15/2)+1,MOD(COLUMNS($AF$3:AW$3),2)+1))","v":9.7492791218182369},{"$f":"IF(OR(MOD($AF15,2)=0,INDEX(relationships,INT($AF15/2)+1,AX$3)<>1),INDEX($AC$5:$AD$24,AX$3,MOD(COLUMNS($AF$3:AX$3),2)+1),INDEX($AC$5:$AD$24,INT($AF15/2)+1,MOD(COLUMNS($AF$3:AX$3),2)+1))","v":-2.2252093395631407},{"$f":"IF(OR(MOD($AF15,2)=0,INDEX(relationships,INT($AF15/2)+1,AY$3)<>1),INDEX($AC$5:$AD$24,AY$3,MOD(COLUMNS($AF$3:AY$3),2)+1),INDEX($AC$5:$AD$24,INT($AF15/2)+1,MOD(COLUMNS($AF$3:AY$3),2)+1))","v":4.3388373911755842},{"$f":"IF(OR(MOD($AF15,2)=0,INDEX(relationships,INT($AF15/2)+1,AZ$3)<>1),INDEX($AC$5:$AD$24,AZ$3,MOD(COLUMNS($AF$3:AZ$3),2)+1),INDEX($AC$5:$AD$24,INT($AF15/2)+1,MOD(COLUMNS($AF$3:AZ$3),2)+1))","v":-9.0096886790241886},{"$f":"IF(OR(MOD($AF15,2)=0,INDEX(relationships,INT($AF15/2)+1,BA$3)<>1),INDEX($AC$5:$AD$24,BA$3,MOD(COLUMNS($AF$3:BA$3),2)+1),INDEX($AC$5:$AD$24,INT($AF15/2)+1,MOD(COLUMNS($AF$3:BA$3),2)+1))","v":-4.338837391175578},{"$f":"IF(OR(MOD($AF15,2)=0,INDEX(relationships,INT($AF15/2)+1,BB$3)<>1),INDEX($AC$5:$AD$24,BB$3,MOD(COLUMNS($AF$3:BB$3),2)+1),INDEX($AC$5:$AD$24,INT($AF15/2)+1,MOD(COLUMNS($AF$3:BB$3),2)+1))","v":-9.0096886790241921},{"$f":"IF(OR(MOD($AF15,2)=0,INDEX(relationships,INT($AF15/2)+1,BC$3)<>1),INDEX($AC$5:$AD$24,BC$3,MOD(COLUMNS($AF$3:BC$3),2)+1),INDEX($AC$5:$AD$24,INT($AF15/2)+1,MOD(COLUMNS($AF$3:BC$3),2)+1))","v":-9.7492791218182351},{"$f":"IF(OR(MOD($AF15,2)=0,INDEX(relationships,INT($AF15/2)+1,BD$3)<>1),INDEX($AC$5:$AD$24,BD$3,MOD(COLUMNS($AF$3:BD$3),2)+1),INDEX($AC$5:$AD$24,INT($AF15/2)+1,MOD(COLUMNS($AF$3:BD$3),2)+1))","v":-2.2252093395631483},{"$f":"IF(OR(MOD($AF15,2)=0,INDEX(relationships,INT($AF15/2)+1,BE$3)<>1),INDEX($AC$5:$AD$24,BE$3,MOD(COLUMNS($AF$3:BE$3),2)+1),INDEX($AC$5:$AD$24,INT($AF15/2)+1,MOD(COLUMNS($AF$3:BE$3),2)+1))","v":-7.8183148246803018},{"$f":"IF(OR(MOD($AF15,2)=0,INDEX(relationships,INT($AF15/2)+1,BF$3)<>1),INDEX($AC$5:$AD$24,BF$3,MOD(COLUMNS($AF$3:BF$3),2)+1),INDEX($AC$5:$AD$24,INT($AF15/2)+1,MOD(COLUMNS($AF$3:BF$3),2)+1))","v":6.2348980185873319},{"$f":"IF(OR(MOD($AF15,2)=0,INDEX(relationships,INT($AF15/2)+1,BG$3)<>1),INDEX($AC$5:$AD$24,BG$3,MOD(COLUMNS($AF$3:BG$3),2)+1),INDEX($AC$5:$AD$24,INT($AF15/2)+1,MOD(COLUMNS($AF$3:BG$3),2)+1))","v":-4.90059381963448E-15},{"$f":"IF(OR(MOD($AF15,2)=0,INDEX(relationships,INT($AF15/2)+1,BH$3)<>1),INDEX($AC$5:$AD$24,BH$3,MOD(COLUMNS($AF$3:BH$3),2)+1),INDEX($AC$5:$AD$24,INT($AF15/2)+1,MOD(COLUMNS($AF$3:BH$3),2)+1))","v":10},{"$f":"IF(OR(MOD($AF15,2)=0,INDEX(relationships,INT($AF15/2)+1,BI$3)<>1),INDEX($AC$5:$AD$24,BI$3,MOD(COLUMNS($AF$3:BI$3),2)+1),INDEX($AC$5:$AD$24,INT($AF15/2)+1,MOD(COLUMNS($AF$3:BI$3),2)+1))","v":7.8183148246802947},{"$f":"IF(OR(MOD($AF15,2)=0,INDEX(relationships,INT($AF15/2)+1,BJ$3)<>1),INDEX($AC$5:$AD$24,BJ$3,MOD(COLUMNS($AF$3:BJ$3),2)+1),INDEX($AC$5:$AD$24,INT($AF15/2)+1,MOD(COLUMNS($AF$3:BJ$3),2)+1))","v":6.2348980185873391},{"$f":"IF(OR(MOD($AF15,2)=0,INDEX(relationships,INT($AF15/2)+1,BK$3)<>1),INDEX($AC$5:$AD$24,BK$3,MOD(COLUMNS($AF$3:BK$3),2)+1),INDEX($AC$5:$AD$24,INT($AF15/2)+1,MOD(COLUMNS($AF$3:BK$3),2)+1))","v":9.7492791218182369},{"$f":"IF(OR(MOD($AF15,2)=0,INDEX(relationships,INT($AF15/2)+1,BL$3)<>1),INDEX($AC$5:$AD$24,BL$3,MOD(COLUMNS($AF$3:BL$3),2)+1),INDEX($AC$5:$AD$24,INT($AF15/2)+1,MOD(COLUMNS($AF$3:BL$3),2)+1))","v":-2.2252093395631385},{"$f":"IF(OR(MOD($AF15,2)=0,INDEX(relationships,INT($AF15/2)+1,BM$3)<>1),INDEX($AC$5:$AD$24,BM$3,MOD(COLUMNS($AF$3:BM$3),2)+1),INDEX($AC$5:$AD$24,INT($AF15/2)+1,MOD(COLUMNS($AF$3:BM$3),2)+1))","v":4.3388373911755869},{"$f":"IF(OR(MOD($AF15,2)=0,INDEX(relationships,INT($AF15/2)+1,BN$3)<>1),INDEX($AC$5:$AD$24,BN$3,MOD(COLUMNS($AF$3:BN$3),2)+1),INDEX($AC$5:$AD$24,INT($AF15/2)+1,MOD(COLUMNS($AF$3:BN$3),2)+1))","v":-9.0096886790241886},{"$f":"IF(OR(MOD($AF15,2)=0,INDEX(relationships,INT($AF15/2)+1,BO$3)<>1),INDEX($AC$5:$AD$24,BO$3,MOD(COLUMNS($AF$3:BO$3),2)+1),INDEX($AC$5:$AD$24,INT($AF15/2)+1,MOD(COLUMNS($AF$3:BO$3),2)+1))","v":-4.3388373911755753},{"$f":"IF(OR(MOD($AF15,2)=0,INDEX(relationships,INT($AF15/2)+1,BP$3)<>1),INDEX($AC$5:$AD$24,BP$3,MOD(COLUMNS($AF$3:BP$3),2)+1),INDEX($AC$5:$AD$24,INT($AF15/2)+1,MOD(COLUMNS($AF$3:BP$3),2)+1))","v":-9.0096886790241939},{"$f":"IF(OR(MOD($AF15,2)=0,INDEX(relationships,INT($AF15/2)+1,BQ$3)<>1),INDEX($AC$5:$AD$24,BQ$3,MOD(COLUMNS($AF$3:BQ$3),2)+1),INDEX($AC$5:$AD$24,INT($AF15/2)+1,MOD(COLUMNS($AF$3:BQ$3),2)+1))","v":-9.7492791218182351},{"$f":"IF(OR(MOD($AF15,2)=0,INDEX(relationships,INT($AF15/2)+1,BR$3)<>1),INDEX($AC$5:$AD$24,BR$3,MOD(COLUMNS($AF$3:BR$3),2)+1),INDEX($AC$5:$AD$24,INT($AF15/2)+1,MOD(COLUMNS($AF$3:BR$3),2)+1))","v":-2.2252093395631505},{"$f":"IF(OR(MOD($AF15,2)=0,INDEX(relationships,INT($AF15/2)+1,BS$3)<>1),INDEX($AC$5:$AD$24,BS$3,MOD(COLUMNS($AF$3:BS$3),2)+1),INDEX($AC$5:$AD$24,INT($AF15/2)+1,MOD(COLUMNS($AF$3:BS$3),2)+1))","v":-7.8183148246803027},{"$f":"IF(OR(MOD($AF15,2)=0,INDEX(relationships,INT($AF15/2)+1,BT$3)<>1),INDEX($AC$5:$AD$24,BT$3,MOD(COLUMNS($AF$3:BT$3),2)+1),INDEX($AC$5:$AD$24,INT($AF15/2)+1,MOD(COLUMNS($AF$3:BT$3),2)+1))","v":6.2348980185873293},null,{"$f":"IF(OR(MOD($AF15,2)=0,INDEX(relationships,INT($AF15/2)+1,BV$3)<>2),INDEX($AC$5:$AD$24,BV$3,MOD(COLUMNS($BU$3:BV$3),2)+1),INDEX($AC$5:$AD$24,INT($AF15/2)+1,MOD(COLUMNS($BU$3:BV$3),2)+1))","v":7.8183148246802983},{"$f":"IF(OR(MOD($AF15,2)=0,INDEX(relationships,INT($AF15/2)+1,BW$3)<>2),INDEX($AC$5:$AD$24,BW$3,MOD(COLUMNS($BU$3:BW$3),2)+1),INDEX($AC$5:$AD$24,INT($AF15/2)+1,MOD(COLUMNS($BU$3:BW$3),2)+1))","v":6.2348980185873355},{"$f":"IF(OR(MOD($AF15,2)=0,INDEX(relationships,INT($AF15/2)+1,BX$3)<>2),INDEX($AC$5:$AD$24,BX$3,MOD(COLUMNS($BU$3:BX$3),2)+1),INDEX($AC$5:$AD$24,INT($AF15/2)+1,MOD(COLUMNS($BU$3:BX$3),2)+1))","v":9.7492791218182369},{"$f":"IF(OR(MOD($AF15,2)=0,INDEX(relationships,INT($AF15/2)+1,BY$3)<>2),INDEX($AC$5:$AD$24,BY$3,MOD(COLUMNS($BU$3:BY$3),2)+1),INDEX($AC$5:$AD$24,INT($AF15/2)+1,MOD(COLUMNS($BU$3:BY$3),2)+1))","v":-2.2252093395631434},{"$f":"IF(OR(MOD($AF15,2)=0,INDEX(relationships,INT($AF15/2)+1,BZ$3)<>2),INDEX($AC$5:$AD$24,BZ$3,MOD(COLUMNS($BU$3:BZ$3),2)+1),INDEX($AC$5:$AD$24,INT($AF15/2)+1,MOD(COLUMNS($BU$3:BZ$3),2)+1))","v":4.3388373911755824},{"$f":"IF(OR(MOD($AF15,2)=0,INDEX(relationships,INT($AF15/2)+1,CA$3)<>2),INDEX($AC$5:$AD$24,CA$3,MOD(COLUMNS($BU$3:CA$3),2)+1),INDEX($AC$5:$AD$24,INT($AF15/2)+1,MOD(COLUMNS($BU$3:CA$3),2)+1))","v":-9.0096886790241903},{"$f":"IF(OR(MOD($AF15,2)=0,INDEX(relationships,INT($AF15/2)+1,CB$3)<>2),INDEX($AC$5:$AD$24,CB$3,MOD(COLUMNS($BU$3:CB$3),2)+1),INDEX($AC$5:$AD$24,INT($AF15/2)+1,MOD(COLUMNS($BU$3:CB$3),2)+1))","v":-4.3388373911755798},{"$f":"IF(OR(MOD($AF15,2)=0,INDEX(relationships,INT($AF15/2)+1,CC$3)<>2),INDEX($AC$5:$AD$24,CC$3,MOD(COLUMNS($BU$3:CC$3),2)+1),INDEX($AC$5:$AD$24,INT($AF15/2)+1,MOD(COLUMNS($BU$3:CC$3),2)+1))","v":-9.0096886790241921},{"$f":"IF(OR(MOD($AF15,2)=0,INDEX(relationships,INT($AF15/2)+1,CD$3)<>2),INDEX($AC$5:$AD$24,CD$3,MOD(COLUMNS($BU$3:CD$3),2)+1),INDEX($AC$5:$AD$24,INT($AF15/2)+1,MOD(COLUMNS($BU$3:CD$3),2)+1))","v":-9.7492791218182369},{"$f":"IF(OR(MOD($AF15,2)=0,INDEX(relationships,INT($AF15/2)+1,CE$3)<>2),INDEX($AC$5:$AD$24,CE$3,MOD(COLUMNS($BU$3:CE$3),2)+1),INDEX($AC$5:$AD$24,INT($AF15/2)+1,MOD(COLUMNS($BU$3:CE$3),2)+1))","v":-2.225209339563146},{"$f":"IF(OR(MOD($AF15,2)=0,INDEX(relationships,INT($AF15/2)+1,CF$3)<>2),INDEX($AC$5:$AD$24,CF$3,MOD(COLUMNS($BU$3:CF$3),2)+1),INDEX($AC$5:$AD$24,INT($AF15/2)+1,MOD(COLUMNS($BU$3:CF$3),2)+1))","v":-7.8183148246802991},{"$f":"IF(OR(MOD($AF15,2)=0,INDEX(relationships,INT($AF15/2)+1,CG$3)<>2),INDEX($AC$5:$AD$24,CG$3,MOD(COLUMNS($BU$3:CG$3),2)+1),INDEX($AC$5:$AD$24,INT($AF15/2)+1,MOD(COLUMNS($BU$3:CG$3),2)+1))","v":6.2348980185873337},{"$f":"IF(OR(MOD($AF15,2)=0,INDEX(relationships,INT($AF15/2)+1,CH$3)<>2),INDEX($AC$5:$AD$24,CH$3,MOD(COLUMNS($BU$3:CH$3),2)+1),INDEX($AC$5:$AD$24,INT($AF15/2)+1,MOD(COLUMNS($BU$3:CH$3),2)+1))","v":-2.45029690981724E-15},{"$f":"IF(OR(MOD($AF15,2)=0,INDEX(relationships,INT($AF15/2)+1,CI$3)<>2),INDEX($AC$5:$AD$24,CI$3,MOD(COLUMNS($BU$3:CI$3),2)+1),INDEX($AC$5:$AD$24,INT($AF15/2)+1,MOD(COLUMNS($BU$3:CI$3),2)+1))","v":10},{"$f":"IF(OR(MOD($AF15,2)=0,INDEX(relationships,INT($AF15/2)+1,CJ$3)<>2),INDEX($AC$5:$AD$24,CJ$3,MOD(COLUMNS($BU$3:CJ$3),2)+1),INDEX($AC$5:$AD$24,INT($AF15/2)+1,MOD(COLUMNS($BU$3:CJ$3),2)+1))","v":7.8183148246802956},{"$f":"IF(OR(MOD($AF15,2)=0,INDEX(relationships,INT($AF15/2)+1,CK$3)<>2),INDEX($AC$5:$AD$24,CK$3,MOD(COLUMNS($BU$3:CK$3),2)+1),INDEX($AC$5:$AD$24,INT($AF15/2)+1,MOD(COLUMNS($BU$3:CK$3),2)+1))","v":6.2348980185873373},{"$f":"IF(OR(MOD($AF15,2)=0,INDEX(relationships,INT($AF15/2)+1,CL$3)<>2),INDEX($AC$5:$AD$24,CL$3,MOD(COLUMNS($BU$3:CL$3),2)+1),INDEX($AC$5:$AD$24,INT($AF15/2)+1,MOD(COLUMNS($BU$3:CL$3),2)+1))","v":9.7492791218182369},{"$f":"IF(OR(MOD($AF15,2)=0,INDEX(relationships,INT($AF15/2)+1,CM$3)<>2),INDEX($AC$5:$AD$24,CM$3,MOD(COLUMNS($BU$3:CM$3),2)+1),INDEX($AC$5:$AD$24,INT($AF15/2)+1,MOD(COLUMNS($BU$3:CM$3),2)+1))","v":-2.2252093395631407},{"$f":"IF(OR(MOD($AF15,2)=0,INDEX(relationships,INT($AF15/2)+1,CN$3)<>2),INDEX($AC$5:$AD$24,CN$3,MOD(COLUMNS($BU$3:CN$3),2)+1),INDEX($AC$5:$AD$24,INT($AF15/2)+1,MOD(COLUMNS($BU$3:CN$3),2)+1))","v":4.3388373911755842},{"$f":"IF(OR(MOD($AF15,2)=0,INDEX(relationships,INT($AF15/2)+1,CO$3)<>2),INDEX($AC$5:$AD$24,CO$3,MOD(COLUMNS($BU$3:CO$3),2)+1),INDEX($AC$5:$AD$24,INT($AF15/2)+1,MOD(COLUMNS($BU$3:CO$3),2)+1))","v":-9.0096886790241886},{"$f":"IF(OR(MOD($AF15,2)=0,INDEX(relationships,INT($AF15/2)+1,CP$3)<>2),INDEX($AC$5:$AD$24,CP$3,MOD(COLUMNS($BU$3:CP$3),2)+1),INDEX($AC$5:$AD$24,INT($AF15/2)+1,MOD(COLUMNS($BU$3:CP$3),2)+1))","v":-4.338837391175578},{"$f":"IF(OR(MOD($AF15,2)=0,INDEX(relationships,INT($AF15/2)+1,CQ$3)<>2),INDEX($AC$5:$AD$24,CQ$3,MOD(COLUMNS($BU$3:CQ$3),2)+1),INDEX($AC$5:$AD$24,INT($AF15/2)+1,MOD(COLUMNS($BU$3:CQ$3),2)+1))","v":-9.0096886790241921},{"$f":"IF(OR(MOD($AF15,2)=0,INDEX(relationships,INT($AF15/2)+1,CR$3)<>2),INDEX($AC$5:$AD$24,CR$3,MOD(COLUMNS($BU$3:CR$3),2)+1),INDEX($AC$5:$AD$24,INT($AF15/2)+1,MOD(COLUMNS($BU$3:CR$3),2)+1))","v":-9.7492791218182351},{"$f":"IF(OR(MOD($AF15,2)=0,INDEX(relationships,INT($AF15/2)+1,CS$3)<>2),INDEX($AC$5:$AD$24,CS$3,MOD(COLUMNS($BU$3:CS$3),2)+1),INDEX($AC$5:$AD$24,INT($AF15/2)+1,MOD(COLUMNS($BU$3:CS$3),2)+1))","v":-2.2252093395631483},{"$f":"IF(OR(MOD($AF15,2)=0,INDEX(relationships,INT($AF15/2)+1,CT$3)<>2),INDEX($AC$5:$AD$24,CT$3,MOD(COLUMNS($BU$3:CT$3),2)+1),INDEX($AC$5:$AD$24,INT($AF15/2)+1,MOD(COLUMNS($BU$3:CT$3),2)+1))","v":-7.8183148246803018},{"$f":"IF(OR(MOD($AF15,2)=0,INDEX(relationships,INT($AF15/2)+1,CU$3)<>2),INDEX($AC$5:$AD$24,CU$3,MOD(COLUMNS($BU$3:CU$3),2)+1),INDEX($AC$5:$AD$24,INT($AF15/2)+1,MOD(COLUMNS($BU$3:CU$3),2)+1))","v":6.2348980185873319},{"$f":"IF(OR(MOD($AF15,2)=0,INDEX(relationships,INT($AF15/2)+1,CV$3)<>2),INDEX($AC$5:$AD$24,CV$3,MOD(COLUMNS($BU$3:CV$3),2)+1),INDEX($AC$5:$AD$24,INT($AF15/2)+1,MOD(COLUMNS($BU$3:CV$3),2)+1))","v":-4.90059381963448E-15},{"$f":"IF(OR(MOD($AF15,2)=0,INDEX(relationships,INT($AF15/2)+1,CW$3)<>2),INDEX($AC$5:$AD$24,CW$3,MOD(COLUMNS($BU$3:CW$3),2)+1),INDEX($AC$5:$AD$24,INT($AF15/2)+1,MOD(COLUMNS($BU$3:CW$3),2)+1))","v":10},{"$f":"IF(OR(MOD($AF15,2)=0,INDEX(relationships,INT($AF15/2)+1,CX$3)<>2),INDEX($AC$5:$AD$24,CX$3,MOD(COLUMNS($BU$3:CX$3),2)+1),INDEX($AC$5:$AD$24,INT($AF15/2)+1,MOD(COLUMNS($BU$3:CX$3),2)+1))","v":7.8183148246802947},{"$f":"IF(OR(MOD($AF15,2)=0,INDEX(relationships,INT($AF15/2)+1,CY$3)<>2),INDEX($AC$5:$AD$24,CY$3,MOD(COLUMNS($BU$3:CY$3),2)+1),INDEX($AC$5:$AD$24,INT($AF15/2)+1,MOD(COLUMNS($BU$3:CY$3),2)+1))","v":6.2348980185873391},{"$f":"IF(OR(MOD($AF15,2)=0,INDEX(relationships,INT($AF15/2)+1,CZ$3)<>2),INDEX($AC$5:$AD$24,CZ$3,MOD(COLUMNS($BU$3:CZ$3),2)+1),INDEX($AC$5:$AD$24,INT($AF15/2)+1,MOD(COLUMNS($BU$3:CZ$3),2)+1))","v":9.7492791218182369},{"$f":"IF(OR(MOD($AF15,2)=0,INDEX(relationships,INT($AF15/2)+1,DA$3)<>2),INDEX($AC$5:$AD$24,DA$3,MOD(COLUMNS($BU$3:DA$3),2)+1),INDEX($AC$5:$AD$24,INT($AF15/2)+1,MOD(COLUMNS($BU$3:DA$3),2)+1))","v":-2.2252093395631385},{"$f":"IF(OR(MOD($AF15,2)=0,INDEX(relationships,INT($AF15/2)+1,DB$3)<>2),INDEX($AC$5:$AD$24,DB$3,MOD(COLUMNS($BU$3:DB$3),2)+1),INDEX($AC$5:$AD$24,INT($AF15/2)+1,MOD(COLUMNS($BU$3:DB$3),2)+1))","v":4.3388373911755869},{"$f":"IF(OR(MOD($AF15,2)=0,INDEX(relationships,INT($AF15/2)+1,DC$3)<>2),INDEX($AC$5:$AD$24,DC$3,MOD(COLUMNS($BU$3:DC$3),2)+1),INDEX($AC$5:$AD$24,INT($AF15/2)+1,MOD(COLUMNS($BU$3:DC$3),2)+1))","v":-9.0096886790241886},{"$f":"IF(OR(MOD($AF15,2)=0,INDEX(relationships,INT($AF15/2)+1,DD$3)<>2),INDEX($AC$5:$AD$24,DD$3,MOD(COLUMNS($BU$3:DD$3),2)+1),INDEX($AC$5:$AD$24,INT($AF15/2)+1,MOD(COLUMNS($BU$3:DD$3),2)+1))","v":-4.3388373911755753},{"$f":"IF(OR(MOD($AF15,2)=0,INDEX(relationships,INT($AF15/2)+1,DE$3)<>2),INDEX($AC$5:$AD$24,DE$3,MOD(COLUMNS($BU$3:DE$3),2)+1),INDEX($AC$5:$AD$24,INT($AF15/2)+1,MOD(COLUMNS($BU$3:DE$3),2)+1))","v":-9.0096886790241939},{"$f":"IF(OR(MOD($AF15,2)=0,INDEX(relationships,INT($AF15/2)+1,DF$3)<>2),INDEX($AC$5:$AD$24,DF$3,MOD(COLUMNS($BU$3:DF$3),2)+1),INDEX($AC$5:$AD$24,INT($AF15/2)+1,MOD(COLUMNS($BU$3:DF$3),2)+1))","v":-9.7492791218182351},{"$f":"IF(OR(MOD($AF15,2)=0,INDEX(relationships,INT($AF15/2)+1,DG$3)<>2),INDEX($AC$5:$AD$24,DG$3,MOD(COLUMNS($BU$3:DG$3),2)+1),INDEX($AC$5:$AD$24,INT($AF15/2)+1,MOD(COLUMNS($BU$3:DG$3),2)+1))","v":-2.2252093395631505},{"$f":"IF(OR(MOD($AF15,2)=0,INDEX(relationships,INT($AF15/2)+1,DH$3)<>2),INDEX($AC$5:$AD$24,DH$3,MOD(COLUMNS($BU$3:DH$3),2)+1),INDEX($AC$5:$AD$24,INT($AF15/2)+1,MOD(COLUMNS($BU$3:DH$3),2)+1))","v":-7.8183148246803027},{"$f":"IF(OR(MOD($AF15,2)=0,INDEX(relationships,INT($AF15/2)+1,DI$3)<>2),INDEX($AC$5:$AD$24,DI$3,MOD(COLUMNS($BU$3:DI$3),2)+1),INDEX($AC$5:$AD$24,INT($AF15/2)+1,MOD(COLUMNS($BU$3:DI$3),2)+1))","v":6.2348980185873293},null,-2.45029690981724E-15,10,-2.45029690981724E-15,10]
[null,{"$f":"'Group Data'!B29","v":0},{"$f":"'Group Data'!AJ29","v":0},{"$f":"'Group Data'!AK29","v":0},{"$f":"'Group Data'!AL29","v":0},{"$f":"'Group Data'!AM29","v":0},{"$f":"'Group Data'!AN29","v":0},{"$f":"'Group Data'!AO29","v":0},{"$f":"'Group Data'!AP29","v":0},{"$f":"'Group Data'!AQ29","v":0},{"$f":"'Group Data'!AR29","v":0},{"$f":"'Group Data'!AS29","v":0},{"$f":"'Group Data'!AT29","v":0},null,null,null,null,null,null,null,null,null,null,null,"Selected Person ID",{"$f":"MATCH(Z15,lst.names,0)","v":7},null,12,-9.7492791218182351,-2.2252093395631483,null,11,{"$f":"IF(OR(MOD($AF16,2)=0,INDEX(relationships,INT($AF16/2)+1,AG$3)<>1),INDEX($AC$5:$AD$24,AG$3,MOD(COLUMNS($AF$3:AG$3),2)+1),INDEX($AC$5:$AD$24,INT($AF16/2)+1,MOD(COLUMNS($AF$3:AG$3),2)+1))","v":-7.8183148246802991},{"$f":"IF(OR(MOD($AF16,2)=0,INDEX(relationships,INT($AF16/2)+1,AH$3)<>1),INDEX($AC$5:$AD$24,AH$3,MOD(COLUMNS($AF$3:AH$3),2)+1),INDEX($AC$5:$AD$24,INT($AF16/2)+1,MOD(COLUMNS($AF$3:AH$3),2)+1))","v":6.2348980185873337},{"$f":"IF(OR(MOD($AF16,2)=0,INDEX(relationships,INT($AF16/2)+1,AI$3)<>1),INDEX($AC$5:$AD$24,AI$3,MOD(COLUMNS($AF$3:AI$3),2)+1),INDEX($AC$5:$AD$24,INT($AF16/2)+1,MOD(COLUMNS($AF$3:AI$3),2)+1))","v":9.7492791218182369},{"$f":"IF(OR(MOD($AF16,2)=0,INDEX(relationships,INT($AF16/2)+1,AJ$3)<>1),INDEX($AC$5:$AD$24,AJ$3,MOD(COLUMNS($AF$3:AJ$3),2)+1),INDEX($AC$5:$AD$24,INT($AF16/2)+1,MOD(COLUMNS($AF$3:AJ$3),2)+1))","v":-2.2252093395631434},{"$f":"IF(OR(MOD($AF16,2)=0,INDEX(relationships,INT($AF16/2)+1,AK$3)<>1),INDEX($AC$5:$AD$24,AK$3,MOD(COLUMNS($AF$3:AK$3),2)+1),INDEX($AC$5:$AD$24,INT($AF16/2)+1,MOD(COLUMNS($AF$3:AK$3),2)+1))","v":-7.8183148246802991},{"$f":"IF(OR(MOD($AF16,2)=0,INDEX(relationships,INT($AF16/2)+1,AL$3)<>1),INDEX($AC$5:$AD$24,AL$3,MOD(COLUMNS($AF$3:AL$3),2)+1),INDEX($AC$5:$AD$24,INT($AF16/2)+1,MOD(COLUMNS($AF$3:AL$3),2)+1))","v":6.2348980185873337},{"$f":"IF(OR(MOD($AF16,2)=0,INDEX(relationships,INT($AF16/2)+1,AM$3)<>1),INDEX($AC$5:$AD$24,AM$3,MOD(COLUMNS($AF$3:AM$3),2)+1),INDEX($AC$5:$AD$24,INT($AF16/2)+1,MOD(COLUMNS($AF$3:AM$3),2)+1))","v":-7.8183148246802991},{"$f":"IF(OR(MOD($AF16,2)=0,INDEX(relationships,INT($AF16/2)+1,AN$3)<>1),INDEX($AC$5:$AD$24,AN$3,MOD(COLUMNS($AF$3:AN$3),2)+1),INDEX($AC$5:$AD$24,INT($AF16/2)+1,MOD(COLUMNS($AF$3:AN$3),2)+1))","v":6.2348980185873337},{"$f":"IF(OR(MOD($AF16,2)=0,INDEX(relationships,INT($AF16/2)+1,AO$3)<>1),INDEX($AC$5:$AD$24,AO$3,MOD(COLUMNS($AF$3:AO$3),2)+1),INDEX($AC$5:$AD$24,INT($AF16/2)+1,MOD(COLUMNS($AF$3:AO$3),2)+1))","v":-7.8183148246802991},{"$f":"IF(OR(MOD($AF16,2)=0,INDEX(relationships,INT($AF16/2)+1,AP$3)<>1),INDEX($AC$5:$AD$24,AP$3,MOD(COLUMNS($AF$3:AP$3),2)+1),INDEX($AC$5:$AD$24,INT($AF16/2)+1,MOD(COLUMNS($AF$3:AP$3),2)+1))","v":6.2348980185873337},{"$f":"IF(OR(MOD($AF16,2)=0,INDEX(relationships,INT($AF16/2)+1,AQ$3)<>1),INDEX($AC$5:$AD$24,AQ$3,MOD(COLUMNS($AF$3:AQ$3),2)+1),INDEX($AC$5:$AD$24,INT($AF16/2)+1,MOD(COLUMNS($AF$3:AQ$3),2)+1))","v":-7.8183148246802991},{"$f":"IF(OR(MOD($AF16,2)=0,INDEX(relationships,INT($AF16/2)+1,AR$3)<>1),INDEX($AC$5:$AD$24,AR$3,MOD(COLUMNS($AF$3:AR$3),2)+1),INDEX($AC$5:$AD$24,INT($AF16/2)+1,MOD(COLUMNS($AF$3:AR$3),2)+1))","v":6.2348980185873337},{"$f":"IF(OR(MOD($AF16,2)=0,INDEX(relationships,INT($AF16/2)+1,AS$3)<>1),INDEX($AC$5:$AD$24,AS$3,MOD(COLUMNS($AF$3:AS$3),2)+1),INDEX($AC$5:$AD$24,INT($AF16/2)+1,MOD(COLUMNS($AF$3:AS$3),2)+1))","v":-2.45029690981724E-15},{"$f":"IF(OR(MOD($AF16,2)=0,INDEX(relationships,INT($AF16/2)+1,AT$3)<>1),INDEX($AC$5:$AD$24,AT$3,MOD(COLUMNS($AF$3:AT$3),2)+1),INDEX($AC$5:$AD$24,INT($AF16/2)+1,MOD(COLUMNS($AF$3:AT$3),2)+1))","v":10},{"$f":"IF(OR(MOD($AF16,2)=0,INDEX(relationships,INT($AF16/2)+1,AU$3)<>1),INDEX($AC$5:$AD$24,AU$3,MOD(COLUMNS($AF$3:AU$3),2)+1),INDEX($AC$5:$AD$24,INT($AF16/2)+1,MOD(COLUMNS($AF$3:AU$3),2)+1))","v":7.8183148246802956},{"$f":"IF(OR(MOD($AF16,2)=0,INDEX(relationships,INT($AF16/2)+1,AV$3)<>1),INDEX($AC$5:$AD$24,AV$3,MOD(COLUMNS($AF$3:AV$3),2)+1),INDEX($AC$5:$AD$24,INT($AF16/2)+1,MOD(COLUMNS($AF$3:AV$3),2)+1))","v":6.2348980185873373},{"$f":"IF(OR(MOD($AF16,2)=0,INDEX(relationships,INT($AF16/2)+1,AW$3)<>1),INDEX($AC$5:$AD$24,AW$3,MOD(COLUMNS($AF$3:AW$3),2)+1),INDEX($AC$5:$AD$24,INT($AF16/2)+1,MOD(COLUMNS($AF$3:AW$3),2)+1))","v":9.7492791218182369},{"$f":"IF(OR(MOD($AF16,2)=0,INDEX(relationships,INT($AF16/2)+1,AX$3)<>1),INDEX($AC$5:$AD$24,AX$3,MOD(COLUMNS($AF$3:AX$3),2)+1),INDEX($AC$5:$AD$24,INT($AF16/2)+1,MOD(COLUMNS($AF$3:AX$3),2)+1))","v":-2.2252093395631407},{"$f":"IF(OR(MOD($AF16,2)=0,INDEX(relationships,INT($AF16/2)+1,AY$3)<>1),INDEX($AC$5:$AD$24,AY$3,MOD(COLUMNS($AF$3:AY$3),2)+1),INDEX($AC$5:$AD$24,INT($AF16/2)+1,MOD(COLUMNS($AF$3:AY$3),2)+1))","v":4.3388373911755842},{"$f":"IF(OR(MOD($AF16,2)=0,INDEX(relationships,INT($AF16/2)+1,AZ$3)<>1),INDEX($AC$5:$AD$24,AZ$3,MOD(COLUMNS($AF$3:AZ$3),2)+1),INDEX($AC$5:$AD$24,INT($AF16/2)+1,MOD(COLUMNS($AF$3:AZ$3),2)+1))","v":-9.0096886790241886},{"$f":"IF(OR(MOD($AF16,2)=0,INDEX(relationships,INT($AF16/2)+1,BA$3)<>1),INDEX($AC$5:$AD$24,BA$3,MOD(COLUMNS($AF$3:BA$3),2)+1),INDEX($AC$5:$AD$24,INT($AF16/2)+1,MOD(COLUMNS($AF$3:BA$3),2)+1))","v":-4.338837391175578},{"$f":"IF(OR(MOD($AF16,2)=0,INDEX(relationships,INT($AF16/2)+1,BB$3)<>1),INDEX($AC$5:$AD$24,BB$3,MOD(COLUMNS($AF$3:BB$3),2)+1),INDEX($AC$5:$AD$24,INT($AF16/2)+1,MOD(COLUMNS($AF$3:BB$3),2)+1))","v":-9.0096886790241921},{"$f":"IF(OR(MOD($AF16,2)=0,INDEX(relationships,INT($AF16/2)+1,BC$3)<>1),INDEX($AC$5:$AD$24,BC$3,MOD(COLUMNS($AF$3:BC$3),2)+1),INDEX($AC$5:$AD$24,INT($AF16/2)+1,MOD(COLUMNS($AF$3:BC$3),2)+1))","v":-9.7492791218182351},{"$f":"IF(OR(MOD($AF16,2)=0,INDEX(relationships,INT($AF16/2)+1,BD$3)<>1),INDEX($AC$5:$AD$24,BD$3,MOD(COLUMNS($AF$3:BD$3),2)+1),INDEX($AC$5:$AD$24,INT($AF16/2)+1,MOD(COLUMNS($AF$3:BD$3),2)+1))","v":-2.2252093395631483},{"$f":"IF(OR(MOD($AF16,2)=0,INDEX(relationships,INT($AF16/2)+1,BE$3)<>1),INDEX($AC$5:$AD$24,BE$3,MOD(COLUMNS($AF$3:BE$3),2)+1),INDEX($AC$5:$AD$24,INT($AF16/2)+1,MOD(COLUMNS($AF$3:BE$3),2)+1))","v":-7.8183148246803018},{"$f":"IF(OR(MOD($AF16,2)=0,INDEX(relationships,INT($AF16/2)+1,BF$3)<>1),INDEX($AC$5:$AD$24,BF$3,MOD(COLUMNS($AF$3:BF$3),2)+1),INDEX($AC$5:$AD$24,INT($AF16/2)+1,MOD(COLUMNS($AF$3:BF$3),2)+1))","v":6.2348980185873319},{"$f":"IF(OR(MOD($AF16,2)=0,INDEX(relationships,INT($AF16/2)+1,BG$3)<>1),INDEX($AC$5:$AD$24,BG$3,MOD(COLUMNS($AF$3:BG$3),2)+1),INDEX($AC$5:$AD$24,INT($AF16/2)+1,MOD(COLUMNS($AF$3:BG$3),2)+1))","v":-4.90059381963448E-15},{"$f":"IF(OR(MOD($AF16,2)=0,INDEX(relationships,INT($AF16/2)+1,BH$3)<>1),INDEX($AC$5:$AD$24,BH$3,MOD(COLUMNS($AF$3:BH$3),2)+1),INDEX($AC$5:$AD$24,INT($AF16/2)+1,MOD(COLUMNS($AF$3:BH$3),2)+1))","v":10},{"$f":"IF(OR(MOD($AF16,2)=0,INDEX(relationships,INT($AF16/2)+1,BI$3)<>1),INDEX($AC$5:$AD$24,BI$3,MOD(COLUMNS($AF$3:BI$3),2)+1),INDEX($AC$5:$AD$24,INT($AF16/2)+1,MOD(COLUMNS($AF$3:BI$3),2)+1))","v":7.8183148246802947},{"$f":"IF(OR(MOD($AF16,2)=0,INDEX(relationships,INT($AF16/2)+1,BJ$3)<>1),INDEX($AC$5:$AD$24,BJ$3,MOD(COLUMNS($AF$3:BJ$3),2)+1),INDEX($AC$5:$AD$24,INT($AF16/2)+1,MOD(COLUMNS($AF$3:BJ$3),2)+1))","v":6.2348980185873391},{"$f":"IF(OR(MOD($AF16,2)=0,INDEX(relationships,INT($AF16/2)+1,BK$3)<>1),INDEX($AC$5:$AD$24,BK$3,MOD(COLUMNS($AF$3:BK$3),2)+1),INDEX($AC$5:$AD$24,INT($AF16/2)+1,MOD(COLUMNS($AF$3:BK$3),2)+1))","v":9.7492791218182369},{"$f":"IF(OR(MOD($AF16,2)=0,INDEX(relationships,INT($AF16/2)+1,BL$3)<>1),INDEX($AC$5:$AD$24,BL$3,MOD(COLUMNS($AF$3:BL$3),2)+1),INDEX($AC$5:$AD$24,INT($AF16/2)+1,MOD(COLUMNS($AF$3:BL$3),2)+1))","v":-2.2252093395631385},{"$f":"IF(OR(MOD($AF16,2)=0,INDEX(relationships,INT($AF16/2)+1,BM$3)<>1),INDEX($AC$5:$AD$24,BM$3,MOD(COLUMNS($AF$3:BM$3),2)+1),INDEX($AC$5:$AD$24,INT($AF16/2)+1,MOD(COLUMNS($AF$3:BM$3),2)+1))","v":4.3388373911755869},{"$f":"IF(OR(MOD($AF16,2)=0,INDEX(relationships,INT($AF16/2)+1,BN$3)<>1),INDEX($AC$5:$AD$24,BN$3,MOD(COLUMNS($AF$3:BN$3),2)+1),INDEX($AC$5:$AD$24,INT($AF16/2)+1,MOD(COLUMNS($AF$3:BN$3),2)+1))","v":-9.0096886790241886},{"$f":"IF(OR(MOD($AF16,2)=0,INDEX(relationships,INT($AF16/2)+1,BO$3)<>1),INDEX($AC$5:$AD$24,BO$3,MOD(COLUMNS($AF$3:BO$3),2)+1),INDEX($AC$5:$AD$24,INT($AF16/2)+1,MOD(COLUMNS($AF$3:BO$3),2)+1))","v":-4.3388373911755753},{"$f":"IF(OR(MOD($AF16,2)=0,INDEX(relationships,INT($AF16/2)+1,BP$3)<>1),INDEX($AC$5:$AD$24,BP$3,MOD(COLUMNS($AF$3:BP$3),2)+1),INDEX($AC$5:$AD$24,INT($AF16/2)+1,MOD(COLUMNS($AF$3:BP$3),2)+1))","v":-9.0096886790241939},{"$f":"IF(OR(MOD($AF16,2)=0,INDEX(relationships,INT($AF16/2)+1,BQ$3)<>1),INDEX($AC$5:$AD$24,BQ$3,MOD(COLUMNS($AF$3:BQ$3),2)+1),INDEX($AC$5:$AD$24,INT($AF16/2)+1,MOD(COLUMNS($AF$3:BQ$3),2)+1))","v":-9.7492791218182351},{"$f":"IF(OR(MOD($AF16,2)=0,INDEX(relationships,INT($AF16/2)+1,BR$3)<>1),INDEX($AC$5:$AD$24,BR$3,MOD(COLUMNS($AF$3:BR$3),2)+1),INDEX($AC$5:$AD$24,INT($AF16/2)+1,MOD(COLUMNS($AF$3:BR$3),2)+1))","v":-2.2252093395631505},{"$f":"IF(OR(MOD($AF16,2)=0,INDEX(relationships,INT($AF16/2)+1,BS$3)<>1),INDEX($AC$5:$AD$24,BS$3,MOD(COLUMNS($AF$3:BS$3),2)+1),INDEX($AC$5:$AD$24,INT($AF16/2)+1,MOD(COLUMNS($AF$3:BS$3),2)+1))","v":-7.8183148246803027},{"$f":"IF(OR(MOD($AF16,2)=0,INDEX(relationships,INT($AF16/2)+1,BT$3)<>1),INDEX($AC$5:$AD$24,BT$3,MOD(COLUMNS($AF$3:BT$3),2)+1),INDEX($AC$5:$AD$24,INT($AF16/2)+1,MOD(COLUMNS($AF$3:BT$3),2)+1))","v":6.2348980185873293},null,{"$f":"IF(OR(MOD($AF16,2)=0,INDEX(relationships,INT($AF16/2)+1,BV$3)<>2),INDEX($AC$5:$AD$24,BV$3,MOD(COLUMNS($BU$3:BV$3),2)+1),INDEX($AC$5:$AD$24,INT($AF16/2)+1,MOD(COLUMNS($BU$3:BV$3),2)+1))","v":7.8183148246802983},{"$f":"IF(OR(MOD($AF16,2)=0,INDEX(relationships,INT($AF16/2)+1,BW$3)<>2),INDEX($AC$5:$AD$24,BW$3,MOD(COLUMNS($BU$3:BW$3),2)+1),INDEX($AC$5:$AD$24,INT($AF16/2)+1,MOD(COLUMNS($BU$3:BW$3),2)+1))","v":6.2348980185873355},{"$f":"IF(OR(MOD($AF16,2)=0,INDEX(relationships,INT($AF16/2)+1,BX$3)<>2),INDEX($AC$5:$AD$24,BX$3,MOD(COLUMNS($BU$3:BX$3),2)+1),INDEX($AC$5:$AD$24,INT($AF16/2)+1,MOD(COLUMNS($BU$3:BX$3),2)+1))","v":9.7492791218182369},{"$f":"IF(OR(MOD($AF16,2)=0,INDEX(relationships,INT($AF16/2)+1,BY$3)<>2),INDEX($AC$5:$AD$24,BY$3,MOD(COLUMNS($BU$3:BY$3),2)+1),INDEX($AC$5:$AD$24,INT($AF16/2)+1,MOD(COLUMNS($BU$3:BY$3),2)+1))","v":-2.2252093395631434},{"$f":"IF(OR(MOD($AF16,2)=0,INDEX(relationships,INT($AF16/2)+1,BZ$3)<>2),INDEX($AC$5:$AD$24,BZ$3,MOD(COLUMNS($BU$3:BZ$3),2)+1),INDEX($AC$5:$AD$24,INT($AF16/2)+1,MOD(COLUMNS($BU$3:BZ$3),2)+1))","v":4.3388373911755824},{"$f":"IF(OR(MOD($AF16,2)=0,INDEX(relationships,INT($AF16/2)+1,CA$3)<>2),INDEX($AC$5:$AD$24,CA$3,MOD(COLUMNS($BU$3:CA$3),2)+1),INDEX($AC$5:$AD$24,INT($AF16/2)+1,MOD(COLUMNS($BU$3:CA$3),2)+1))","v":-9.0096886790241903},{"$f":"IF(OR(MOD($AF16,2)=0,INDEX(relationships,INT($AF16/2)+1,CB$3)<>2),INDEX($AC$5:$AD$24,CB$3,MOD(COLUMNS($BU$3:CB$3),2)+1),INDEX($AC$5:$AD$24,INT($AF16/2)+1,MOD(COLUMNS($BU$3:CB$3),2)+1))","v":-4.3388373911755798},{"$f":"IF(OR(MOD($AF16,2)=0,INDEX(relationships,INT($AF16/2)+1,CC$3)<>2),INDEX($AC$5:$AD$24,CC$3,MOD(COLUMNS($BU$3:CC$3),2)+1),INDEX($AC$5:$AD$24,INT($AF16/2)+1,MOD(COLUMNS($BU$3:CC$3),2)+1))","v":-9.0096886790241921},{"$f":"IF(OR(MOD($AF16,2)=0,INDEX(relationships,INT($AF16/2)+1,CD$3)<>2),INDEX($AC$5:$AD$24,CD$3,MOD(COLUMNS($BU$3:CD$3),2)+1),INDEX($AC$5:$AD$24,INT($AF16/2)+1,MOD(COLUMNS($BU$3:CD$3),2)+1))","v":-9.7492791218182369},{"$f":"IF(OR(MOD($AF16,2)=0,INDEX(relationships,INT($AF16/2)+1,CE$3)<>2),INDEX($AC$5:$AD$24,CE$3,MOD(COLUMNS($BU$3:CE$3),2)+1),INDEX($AC$5:$AD$24,INT($AF16/2)+1,MOD(COLUMNS($BU$3:CE$3),2)+1))","v":-2.225209339563146},{"$f":"IF(OR(MOD($AF16,2)=0,INDEX(relationships,INT($AF16/2)+1,CF$3)<>2),INDEX($AC$5:$AD$24,CF$3,MOD(COLUMNS($BU$3:CF$3),2)+1),INDEX($AC$5:$AD$24,INT($AF16/2)+1,MOD(COLUMNS($BU$3:CF$3),2)+1))","v":-7.8183148246802991},{"$f":"IF(OR(MOD($AF16,2)=0,INDEX(relationships,INT($AF16/2)+1,CG$3)<>2),INDEX($AC$5:$AD$24,CG$3,MOD(COLUMNS($BU$3:CG$3),2)+1),INDEX($AC$5:$AD$24,INT($AF16/2)+1,MOD(COLUMNS($BU$3:CG$3),2)+1))","v":6.2348980185873337},{"$f":"IF(OR(MOD($AF16,2)=0,INDEX(relationships,INT($AF16/2)+1,CH$3)<>2),INDEX($AC$5:$AD$24,CH$3,MOD(COLUMNS($BU$3:CH$3),2)+1),INDEX($AC$5:$AD$24,INT($AF16/2)+1,MOD(COLUMNS($BU$3:CH$3),2)+1))","v":-2.45029690981724E-15},{"$f":"IF(OR(MOD($AF16,2)=0,INDEX(relationships,INT($AF16/2)+1,CI$3)<>2),INDEX($AC$5:$AD$24,CI$3,MOD(COLUMNS($BU$3:CI$3),2)+1),INDEX($AC$5:$AD$24,INT($AF16/2)+1,MOD(COLUMNS($BU$3:CI$3),2)+1))","v":10},{"$f":"IF(OR(MOD($AF16,2)=0,INDEX(relationships,INT($AF16/2)+1,CJ$3)<>2),INDEX($AC$5:$AD$24,CJ$3,MOD(COLUMNS($BU$3:CJ$3),2)+1),INDEX($AC$5:$AD$24,INT($AF16/2)+1,MOD(COLUMNS($BU$3:CJ$3),2)+1))","v":7.8183148246802956},{"$f":"IF(OR(MOD($AF16,2)=0,INDEX(relationships,INT($AF16/2)+1,CK$3)<>2),INDEX($AC$5:$AD$24,CK$3,MOD(COLUMNS($BU$3:CK$3),2)+1),INDEX($AC$5:$AD$24,INT($AF16/2)+1,MOD(COLUMNS($BU$3:CK$3),2)+1))","v":6.2348980185873373},{"$f":"IF(OR(MOD($AF16,2)=0,INDEX(relationships,INT($AF16/2)+1,CL$3)<>2),INDEX($AC$5:$AD$24,CL$3,MOD(COLUMNS($BU$3:CL$3),2)+1),INDEX($AC$5:$AD$24,INT($AF16/2)+1,MOD(COLUMNS($BU$3:CL$3),2)+1))","v":9.7492791218182369},{"$f":"IF(OR(MOD($AF16,2)=0,INDEX(relationships,INT($AF16/2)+1,CM$3)<>2),INDEX($AC$5:$AD$24,CM$3,MOD(COLUMNS($BU$3:CM$3),2)+1),INDEX($AC$5:$AD$24,INT($AF16/2)+1,MOD(COLUMNS($BU$3:CM$3),2)+1))","v":-2.2252093395631407},{"$f":"IF(OR(MOD($AF16,2)=0,INDEX(relationships,INT($AF16/2)+1,CN$3)<>2),INDEX($AC$5:$AD$24,CN$3,MOD(COLUMNS($BU$3:CN$3),2)+1),INDEX($AC$5:$AD$24,INT($AF16/2)+1,MOD(COLUMNS($BU$3:CN$3),2)+1))","v":4.3388373911755842},{"$f":"IF(OR(MOD($AF16,2)=0,INDEX(relationships,INT($AF16/2)+1,CO$3)<>2),INDEX($AC$5:$AD$24,CO$3,MOD(COLUMNS($BU$3:CO$3),2)+1),INDEX($AC$5:$AD$24,INT($AF16/2)+1,MOD(COLUMNS($BU$3:CO$3),2)+1))","v":-9.0096886790241886},{"$f":"IF(OR(MOD($AF16,2)=0,INDEX(relationships,INT($AF16/2)+1,CP$3)<>2),INDEX($AC$5:$AD$24,CP$3,MOD(COLUMNS($BU$3:CP$3),2)+1),INDEX($AC$5:$AD$24,INT($AF16/2)+1,MOD(COLUMNS($BU$3:CP$3),2)+1))","v":-4.338837391175578},{"$f":"IF(OR(MOD($AF16,2)=0,INDEX(relationships,INT($AF16/2)+1,CQ$3)<>2),INDEX($AC$5:$AD$24,CQ$3,MOD(COLUMNS($BU$3:CQ$3),2)+1),INDEX($AC$5:$AD$24,INT($AF16/2)+1,MOD(COLUMNS($BU$3:CQ$3),2)+1))","v":-9.0096886790241921},{"$f":"IF(OR(MOD($AF16,2)=0,INDEX(relationships,INT($AF16/2)+1,CR$3)<>2),INDEX($AC$5:$AD$24,CR$3,MOD(COLUMNS($BU$3:CR$3),2)+1),INDEX($AC$5:$AD$24,INT($AF16/2)+1,MOD(COLUMNS($BU$3:CR$3),2)+1))","v":-9.7492791218182351},{"$f":"IF(OR(MOD($AF16,2)=0,INDEX(relationships,INT($AF16/2)+1,CS$3)<>2),INDEX($AC$5:$AD$24,CS$3,MOD(COLUMNS($BU$3:CS$3),2)+1),INDEX($AC$5:$AD$24,INT($AF16/2)+1,MOD(COLUMNS($BU$3:CS$3),2)+1))","v":-2.2252093395631483},{"$f":"IF(OR(MOD($AF16,2)=0,INDEX(relationships,INT($AF16/2)+1,CT$3)<>2),INDEX($AC$5:$AD$24,CT$3,MOD(COLUMNS($BU$3:CT$3),2)+1),INDEX($AC$5:$AD$24,INT($AF16/2)+1,MOD(COLUMNS($BU$3:CT$3),2)+1))","v":-7.8183148246803018},{"$f":"IF(OR(MOD($AF16,2)=0,INDEX(relationships,INT($AF16/2)+1,CU$3)<>2),INDEX($AC$5:$AD$24,CU$3,MOD(COLUMNS($BU$3:CU$3),2)+1),INDEX($AC$5:$AD$24,INT($AF16/2)+1,MOD(COLUMNS($BU$3:CU$3),2)+1))","v":6.2348980185873319},{"$f":"IF(OR(MOD($AF16,2)=0,INDEX(relationships,INT($AF16/2)+1,CV$3)<>2),INDEX($AC$5:$AD$24,CV$3,MOD(COLUMNS($BU$3:CV$3),2)+1),INDEX($AC$5:$AD$24,INT($AF16/2)+1,MOD(COLUMNS($BU$3:CV$3),2)+1))","v":-4.90059381963448E-15},{"$f":"IF(OR(MOD($AF16,2)=0,INDEX(relationships,INT($AF16/2)+1,CW$3)<>2),INDEX($AC$5:$AD$24,CW$3,MOD(COLUMNS($BU$3:CW$3),2)+1),INDEX($AC$5:$AD$24,INT($AF16/2)+1,MOD(COLUMNS($BU$3:CW$3),2)+1))","v":10},{"$f":"IF(OR(MOD($AF16,2)=0,INDEX(relationships,INT($AF16/2)+1,CX$3)<>2),INDEX($AC$5:$AD$24,CX$3,MOD(COLUMNS($BU$3:CX$3),2)+1),INDEX($AC$5:$AD$24,INT($AF16/2)+1,MOD(COLUMNS($BU$3:CX$3),2)+1))","v":7.8183148246802947},{"$f":"IF(OR(MOD($AF16,2)=0,INDEX(relationships,INT($AF16/2)+1,CY$3)<>2),INDEX($AC$5:$AD$24,CY$3,MOD(COLUMNS($BU$3:CY$3),2)+1),INDEX($AC$5:$AD$24,INT($AF16/2)+1,MOD(COLUMNS($BU$3:CY$3),2)+1))","v":6.2348980185873391},{"$f":"IF(OR(MOD($AF16,2)=0,INDEX(relationships,INT($AF16/2)+1,CZ$3)<>2),INDEX($AC$5:$AD$24,CZ$3,MOD(COLUMNS($BU$3:CZ$3),2)+1),INDEX($AC$5:$AD$24,INT($AF16/2)+1,MOD(COLUMNS($BU$3:CZ$3),2)+1))","v":9.7492791218182369},{"$f":"IF(OR(MOD($AF16,2)=0,INDEX(relationships,INT($AF16/2)+1,DA$3)<>2),INDEX($AC$5:$AD$24,DA$3,MOD(COLUMNS($BU$3:DA$3),2)+1),INDEX($AC$5:$AD$24,INT($AF16/2)+1,MOD(COLUMNS($BU$3:DA$3),2)+1))","v":-2.2252093395631385},{"$f":"IF(OR(MOD($AF16,2)=0,INDEX(relationships,INT($AF16/2)+1,DB$3)<>2),INDEX($AC$5:$AD$24,DB$3,MOD(COLUMNS($BU$3:DB$3),2)+1),INDEX($AC$5:$AD$24,INT($AF16/2)+1,MOD(COLUMNS($BU$3:DB$3),2)+1))","v":4.3388373911755869},{"$f":"IF(OR(MOD($AF16,2)=0,INDEX(relationships,INT($AF16/2)+1,DC$3)<>2),INDEX($AC$5:$AD$24,DC$3,MOD(COLUMNS($BU$3:DC$3),2)+1),INDEX($AC$5:$AD$24,INT($AF16/2)+1,MOD(COLUMNS($BU$3:DC$3),2)+1))","v":-9.0096886790241886},{"$f":"IF(OR(MOD($AF16,2)=0,INDEX(relationships,INT($AF16/2)+1,DD$3)<>2),INDEX($AC$5:$AD$24,DD$3,MOD(COLUMNS($BU$3:DD$3),2)+1),INDEX($AC$5:$AD$24,INT($AF16/2)+1,MOD(COLUMNS($BU$3:DD$3),2)+1))","v":-4.3388373911755753},{"$f":"IF(OR(MOD($AF16,2)=0,INDEX(relationships,INT($AF16/2)+1,DE$3)<>2),INDEX($AC$5:$AD$24,DE$3,MOD(COLUMNS($BU$3:DE$3),2)+1),INDEX($AC$5:$AD$24,INT($AF16/2)+1,MOD(COLUMNS($BU$3:DE$3),2)+1))","v":-9.0096886790241939},{"$f":"IF(OR(MOD($AF16,2)=0,INDEX(relationships,INT($AF16/2)+1,DF$3)<>2),INDEX($AC$5:$AD$24,DF$3,MOD(COLUMNS($BU$3:DF$3),2)+1),INDEX($AC$5:$AD$24,INT($AF16/2)+1,MOD(COLUMNS($BU$3:DF$3),2)+1))","v":-9.7492791218182351},{"$f":"IF(OR(MOD($AF16,2)=0,INDEX(relationships,INT($AF16/2)+1,DG$3)<>2),INDEX($AC$5:$AD$24,DG$3,MOD(COLUMNS($BU$3:DG$3),2)+1),INDEX($AC$5:$AD$24,INT($AF16/2)+1,MOD(COLUMNS($BU$3:DG$3),2)+1))","v":-2.2252093395631505},{"$f":"IF(OR(MOD($AF16,2)=0,INDEX(relationships,INT($AF16/2)+1,DH$3)<>2),INDEX($AC$5:$AD$24,DH$3,MOD(COLUMNS($BU$3:DH$3),2)+1),INDEX($AC$5:$AD$24,INT($AF16/2)+1,MOD(COLUMNS($BU$3:DH$3),2)+1))","v":-7.8183148246803027},{"$f":"IF(OR(MOD($AF16,2)=0,INDEX(relationships,INT($AF16/2)+1,DI$3)<>2),INDEX($AC$5:$AD$24,DI$3,MOD(COLUMNS($BU$3:DI$3),2)+1),INDEX($AC$5:$AD$24,INT($AF16/2)+1,MOD(COLUMNS($BU$3:DI$3),2)+1))","v":6.2348980185873293},null,-2.45029690981724E-15,10,-2.45029690981724E-15,10]
[null,{"$f":"'Group Data'!B30","v":0},{"$f":"'Group Data'!AJ30","v":0},{"$f":"'Group Data'!AK30","v":0},{"$f":"'Group Data'!AL30","v":0},{"$f":"'Group Data'!AM30","v":0},{"$f":"'Group Data'!AN30","v":0},{"$f":"'Group Data'!AO30","v":0},{"$f":"'Group Data'!AP30","v":0},{"$f":"'Group Data'!AQ30","v":0},{"$f":"'Group Data'!AR30","v":0},{"$f":"'Group Data'!AS30","v":0},{"$f":"'Group Data'!AT30","v":0},{"$f":"'Group Data'!AU30","v":0},null,null,null,null,null,null,null,null,null,null,null,null,null,13,-7.8183148246803018,6.2348980185873319,null,12,{"$f":"IF(OR(MOD($AF17,2)=0,INDEX(relationships,INT($AF17/2)+1,AG$3)<>1),INDEX($AC$5:$AD$24,AG$3,MOD(COLUMNS($AF$3:AG$3),2)+1),INDEX($AC$5:$AD$24,INT($AF17/2)+1,MOD(COLUMNS($AF$3:AG$3),2)+1))","v":7.8183148246802983},{"$f":"IF(OR(MOD($AF17,2)=0,INDEX(relationships,INT($AF17/2)+1,AH$3)<>1),INDEX($AC$5:$AD$24,AH$3,MOD(COLUMNS($AF$3:AH$3),2)+1),INDEX($AC$5:$AD$24,INT($AF17/2)+1,MOD(COLUMNS($AF$3:AH$3),2)+1))","v":6.2348980185873355},{"$f":"IF(OR(MOD($AF17,2)=0,INDEX(relationships,INT($AF17/2)+1,AI$3)<>1),INDEX($AC$5:$AD$24,AI$3,MOD(COLUMNS($AF$3:AI$3),2)+1),INDEX($AC$5:$AD$24,INT($AF17/2)+1,MOD(COLUMNS($AF$3:AI$3),2)+1))","v":9.7492791218182369},{"$f":"IF(OR(MOD($AF17,2)=0,INDEX(relationships,INT($AF17/2)+1,AJ$3)<>1),INDEX($AC$5:$AD$24,AJ$3,MOD(COLUMNS($AF$3:AJ$3),2)+1),INDEX($AC$5:$AD$24,INT($AF17/2)+1,MOD(COLUMNS($AF$3:AJ$3),2)+1))","v":-2.2252093395631434},{"$f":"IF(OR(MOD($AF17,2)=0,INDEX(relationships,INT($AF17/2)+1,AK$3)<>1),INDEX($AC$5:$AD$24,AK$3,MOD(COLUMNS($AF$3:AK$3),2)+1),INDEX($AC$5:$AD$24,INT($AF17/2)+1,MOD(COLUMNS($AF$3:AK$3),2)+1))","v":4.3388373911755824},{"$f":"IF(OR(MOD($AF17,2)=0,INDEX(relationships,INT($AF17/2)+1,AL$3)<>1),INDEX($AC$5:$AD$24,AL$3,MOD(COLUMNS($AF$3:AL$3),2)+1),INDEX($AC$5:$AD$24,INT($AF17/2)+1,MOD(COLUMNS($AF$3:AL$3),2)+1))","v":-9.0096886790241903},{"$f":"IF(OR(MOD($AF17,2)=0,INDEX(relationships,INT($AF17/2)+1,AM$3)<>1),INDEX($AC$5:$AD$24,AM$3,MOD(COLUMNS($AF$3:AM$3),2)+1),INDEX($AC$5:$AD$24,INT($AF17/2)+1,MOD(COLUMNS($AF$3:AM$3),2)+1))","v":-4.3388373911755798},{"$f":"IF(OR(MOD($AF17,2)=0,INDEX(relationships,INT($AF17/2)+1,AN$3)<>1),INDEX($AC$5:$AD$24,AN$3,MOD(COLUMNS($AF$3:AN$3),2)+1),INDEX($AC$5:$AD$24,INT($AF17/2)+1,MOD(COLUMNS($AF$3:AN$3),2)+1))","v":-9.0096886790241921},{"$f":"IF(OR(MOD($AF17,2)=0,INDEX(relationships,INT($AF17/2)+1,AO$3)<>1),INDEX($AC$5:$AD$24,AO$3,MOD(COLUMNS($AF$3:AO$3),2)+1),INDEX($AC$5:$AD$24,INT($AF17/2)+1,MOD(COLUMNS($AF$3:AO$3),2)+1))","v":-9.7492791218182369},{"$f":"IF(OR(MOD($AF17,2)=0,INDEX(relationships,INT($AF17/2)+1,AP$3)<>1),INDEX($AC$5:$AD$24,AP$3,MOD(COLUMNS($AF$3:AP$3),2)+1),INDEX($AC$5:$AD$24,INT($AF17/2)+1,MOD(COLUMNS($AF$3:AP$3),2)+1))","v":-2.225209339563146},{"$f":"IF(OR(MOD($AF17,2)=0,INDEX(relationships,INT($AF17/2)+1,AQ$3)<>1),INDEX($AC$5:$AD$24,AQ$3,MOD(COLUMNS($AF$3:AQ$3),2)+1),INDEX($AC$5:$AD$24,INT($AF17/2)+1,MOD(COLUMNS($AF$3:AQ$3),2)+1))","v":-7.8183148246802991},{"$f":"IF(OR(MOD($AF17,2)=0,INDEX(relationships,INT($AF17/2)+1,AR$3)<>1),INDEX($AC$5:$AD$24,AR$3,MOD(COLUMNS($AF$3:AR$3),2)+1),INDEX($AC$5:$AD$24,INT($AF17/2)+1,MOD(COLUMNS($AF$3:AR$3),2)+1))","v":6.2348980185873337},{"$f":"IF(OR(MOD($AF17,2)=0,INDEX(relationships,INT($AF17/2)+1,AS$3)<>1),INDEX($AC$5:$AD$24,AS$3,MOD(COLUMNS($AF$3:AS$3),2)+1),INDEX($AC$5:$AD$24,INT($AF17/2)+1,MOD(COLUMNS($AF$3:AS$3),2)+1))","v":-2.45029690981724E-15},{"$f":"IF(OR(MOD($AF17,2)=0,INDEX(relationships,INT($AF17/2)+1,AT$3)<>1),INDEX($AC$5:$AD$24,AT$3,MOD(COLUMNS($AF$3:AT$3),2)+1),INDEX($AC$5:$AD$24,INT($AF17/2)+1,MOD(COLUMNS($AF$3:AT$3),2)+1))","v":10},{"$f":"IF(OR(MOD($AF17,2)=0,INDEX(relationships,INT($AF17/2)+1,AU$3)<>1),INDEX($AC$5:$AD$24,AU$3,MOD(COLUMNS($AF$3:AU$3),2)+1),INDEX($AC$5:$AD$24,INT($AF17/2)+1,MOD(COLUMNS($AF$3:AU$3),2)+1))","v":7.8183148246802956},{"$f":"IF(OR(MOD($AF17,2)=0,INDEX(relationships,INT($AF17/2)+1,AV$3)<>1),INDEX($AC$5:$AD$24,AV$3,MOD(COLUMNS($AF$3:AV$3),2)+1),INDEX($AC$5:$AD$24,INT($AF17/2)+1,MOD(COLUMNS($AF$3:AV$3),2)+1))","v":6.2348980185873373},{"$f":"IF(OR(MOD($AF17,2)=0,INDEX(relationships,INT($AF17/2)+1,AW$3)<>1),INDEX($AC$5:$AD$24,AW$3,MOD(COLUMNS($AF$3:AW$3),2)+1),INDEX($AC$5:$AD$24,INT($AF17/2)+1,MOD(COLUMNS($AF$3:AW$3),2)+1))","v":9.7492791218182369},{"$f":"IF(OR(MOD($AF17,2)=0,INDEX(relationships,INT($AF17/2)+1,AX$3)<>1),INDEX($AC$5:$AD$24,AX$3,MOD(COLUMNS($AF$3:AX$3),2)+1),INDEX($AC$5:$AD$24,INT($AF17/2)+1,MOD(COLUMNS($AF$3:AX$3),2)+1))","v":-2.2252093395631407},{"$f":"IF(OR(MOD($AF17,2)=0,INDEX(relationships,INT($AF17/2)+1,AY$3)<>1),INDEX($AC$5:$AD$24,AY$3,MOD(COLUMNS($AF$3:AY$3),2)+1),INDEX($AC$5:$AD$24,INT($AF17/2)+1,MOD(COLUMNS($AF$3:AY$3),2)+1))","v":4.3388373911755842},{"$f":"IF(OR(MOD($AF17,2)=0,INDEX(relationships,INT($AF17/2)+1,AZ$3)<>1),INDEX($AC$5:$AD$24,AZ$3,MOD(COLUMNS($AF$3:AZ$3),2)+1),INDEX($AC$5:$AD$24,INT($AF17/2)+1,MOD(COLUMNS($AF$3:AZ$3),2)+1))","v":-9.0096886790241886},{"$f":"IF(OR(MOD($AF17,2)=0,INDEX(relationships,INT($AF17/2)+1,BA$3)<>1),INDEX($AC$5:$AD$24,BA$3,MOD(COLUMNS($AF$3:BA$3),2)+1),INDEX($AC$5:$AD$24,INT($AF17/2)+1,MOD(COLUMNS($AF$3:BA$3),2)+1))","v":-4.338837391175578},{"$f":"IF(OR(MOD($AF17,2)=0,INDEX(relationships,INT($AF17/2)+1,BB$3)<>1),INDEX($AC$5:$AD$24,BB$3,MOD(COLUMNS($AF$3:BB$3),2)+1),INDEX($AC$5:$AD$24,INT($AF17/2)+1,MOD(COLUMNS($AF$3:BB$3),2)+1))","v":-9.0096886790241921},{"$f":"IF(OR(MOD($AF17,2)=0,INDEX(relationships,INT($AF17/2)+1,BC$3)<>1),INDEX($AC$5:$AD$24,BC$3,MOD(COLUMNS($AF$3:BC$3),2)+1),INDEX($AC$5:$AD$24,INT($AF17/2)+1,MOD(COLUMNS($AF$3:BC$3),2)+1))","v":-9.7492791218182351},{"$f":"IF(OR(MOD($AF17,2)=0,INDEX(relationships,INT($AF17/2)+1,BD$3)<>1),INDEX($AC$5:$AD$24,BD$3,MOD(COLUMNS($AF$3:BD$3),2)+1),INDEX($AC$5:$AD$24,INT($AF17/2)+1,MOD(COLUMNS($AF$3:BD$3),2)+1))","v":-2.2252093395631483},{"$f":"IF(OR(MOD($AF17,2)=0,INDEX(relationships,INT($AF17/2)+1,BE$3)<>1),INDEX($AC$5:$AD$24,BE$3,MOD(COLUMNS($AF$3:BE$3),2)+1),INDEX($AC$5:$AD$24,INT($AF17/2)+1,MOD(COLUMNS($AF$3:BE$3),2)+1))","v":-7.8183148246803018},{"$f":"IF(OR(MOD($AF17,2)=0,INDEX(relationships,INT($AF17/2)+1,BF$3)<>1),INDEX($AC$5:$AD$24,BF$3,MOD(COLUMNS($AF$3:BF$3),2)+1),INDEX($AC$5:$AD$24,INT($AF17/2)+1,MOD(COLUMNS($AF$3:BF$3),2)+1))","v":6.2348980185873319},{"$f":"IF(OR(MOD($AF17,2)=0,INDEX(relationships,INT($AF17/2)+1,BG$3)<>1),INDEX($AC$5:$AD$24,BG$3,MOD(COLUMNS($AF$3:BG$3),2)+1),INDEX($AC$5:$AD$24,INT($AF17/2)+1,MOD(COLUMNS($AF$3:BG$3),2)+1))","v":-4.90059381963448E-15},{"$f":"IF(OR(MOD($AF17,2)=0,INDEX(relationships,INT($AF17/2)+1,BH$3)<>1),INDEX($AC$5:$AD$24,BH$3,MOD(COLUMNS($AF$3:BH$3),2)+1),INDEX($AC$5:$AD$24,INT($AF17/2)+1,MOD(COLUMNS($AF$3:BH$3),2)+1))","v":10},{"$f":"IF(OR(MOD($AF17,2)=0,INDEX(relationships,INT($AF17/2)+1,BI$3)<>1),INDEX($AC$5:$AD$24,BI$3,MOD(COLUMNS($AF$3:BI$3),2)+1),INDEX($AC$5:$AD$24,INT($AF17/2)+1,MOD(COLUMNS($AF$3:BI$3),2)+1))","v":7.8183148246802947},{"$f":"IF(OR(MOD($AF17,2)=0,INDEX(relationships,INT($AF17/2)+1,BJ$3)<>1),INDEX($AC$5:$AD$24,BJ$3,MOD(COLUMNS($AF$3:BJ$3),2)+1),INDEX($AC$5:$AD$24,INT($AF17/2)+1,MOD(COLUMNS($AF$3:BJ$3),2)+1))","v":6.2348980185873391},{"$f":"IF(OR(MOD($AF17,2)=0,INDEX(relationships,INT($AF17/2)+1,BK$3)<>1),INDEX($AC$5:$AD$24,BK$3,MOD(COLUMNS($AF$3:BK$3),2)+1),INDEX($AC$5:$AD$24,INT($AF17/2)+1,MOD(COLUMNS($AF$3:BK$3),2)+1))","v":9.7492791218182369},{"$f":"IF(OR(MOD($AF17,2)=0,INDEX(relationships,INT($AF17/2)+1,BL$3)<>1),INDEX($AC$5:$AD$24,BL$3,MOD(COLUMNS($AF$3:BL$3),2)+1),INDEX($AC$5:$AD$24,INT($AF17/2)+1,MOD(COLUMNS($AF$3:BL$3),2)+1))","v":-2.2252093395631385},{"$f":"IF(OR(MOD($AF17,2)=0,INDEX(relationships,INT($AF17/2)+1,BM$3)<>1),INDEX($AC$5:$AD$24,BM$3,MOD(COLUMNS($AF$3:BM$3),2)+1),INDEX($AC$5:$AD$24,INT($AF17/2)+1,MOD(COLUMNS($AF$3:BM$3),2)+1))","v":4.3388373911755869},{"$f":"IF(OR(MOD($AF17,2)=0,INDEX(relationships,INT($AF17/2)+1,BN$3)<>1),INDEX($AC$5:$AD$24,BN$3,MOD(COLUMNS($AF$3:BN$3),2)+1),INDEX($AC$5:$AD$24,INT($AF17/2)+1,MOD(COLUMNS($AF$3:BN$3),2)+1))","v":-9.0096886790241886},{"$f":"IF(OR(MOD($AF17,2)=0,INDEX(relationships,INT($AF17/2)+1,BO$3)<>1),INDEX($AC$5:$AD$24,BO$3,MOD(COLUMNS($AF$3:BO$3),2)+1),INDEX($AC$5:$AD$24,INT($AF17/2)+1,MOD(COLUMNS($AF$3:BO$3),2)+1))","v":-4.3388373911755753},{"$f":"IF(OR(MOD($AF17,2)=0,INDEX(relationships,INT($AF17/2)+1,BP$3)<>1),INDEX($AC$5:$AD$24,BP$3,MOD(COLUMNS($AF$3:BP$3),2)+1),INDEX($AC$5:$AD$24,INT($AF17/2)+1,MOD(COLUMNS($AF$3:BP$3),2)+1))","v":-9.0096886790241939},{"$f":"IF(OR(MOD($AF17,2)=0,INDEX(relationships,INT($AF17/2)+1,BQ$3)<>1),INDEX($AC$5:$AD$24,BQ$3,MOD(COLUMNS($AF$3:BQ$3),2)+1),INDEX($AC$5:$AD$24,INT($AF17/2)+1,MOD(COLUMNS($AF$3:BQ$3),2)+1))","v":-9.7492791218182351},{"$f":"IF(OR(MOD($AF17,2)=0,INDEX(relationships,INT($AF17/2)+1,BR$3)<>1),INDEX($AC$5:$AD$24,BR$3,MOD(COLUMNS($AF$3:BR$3),2)+1),INDEX($AC$5:$AD$24,INT($AF17/2)+1,MOD(COLUMNS($AF$3:BR$3),2)+1))","v":-2.2252093395631505},{"$f":"IF(OR(MOD($AF17,2)=0,INDEX(relationships,INT($AF17/2)+1,BS$3)<>1),INDEX($AC$5:$AD$24,BS$3,MOD(COLUMNS($AF$3:BS$3),2)+1),INDEX($AC$5:$AD$24,INT($AF17/2)+1,MOD(COLUMNS($AF$3:BS$3),2)+1))","v":-7.8183148246803027},{"$f":"IF(OR(MOD($AF17,2)=0,INDEX(relationships,INT($AF17/2)+1,BT$3)<>1),INDEX($AC$5:$AD$24,BT$3,MOD(COLUMNS($AF$3:BT$3),2)+1),INDEX($AC$5:$AD$24,INT($AF17/2)+1,MOD(COLUMNS($AF$3:BT$3),2)+1))","v":6.2348980185873293},null,{"$f":"IF(OR(MOD($AF17,2)=0,INDEX(relationships,INT($AF17/2)+1,BV$3)<>2),INDEX($AC$5:$AD$24,BV$3,MOD(COLUMNS($BU$3:BV$3),2)+1),INDEX($AC$5:$AD$24,INT($AF17/2)+1,MOD(COLUMNS($BU$3:BV$3),2)+1))","v":7.8183148246802983},{"$f":"IF(OR(MOD($AF17,2)=0,INDEX(relationships,INT($AF17/2)+1,BW$3)<>2),INDEX($AC$5:$AD$24,BW$3,MOD(COLUMNS($BU$3:BW$3),2)+1),INDEX($AC$5:$AD$24,INT($AF17/2)+1,MOD(COLUMNS($BU$3:BW$3),2)+1))","v":6.2348980185873355},{"$f":"IF(OR(MOD($AF17,2)=0,INDEX(relationships,INT($AF17/2)+1,BX$3)<>2),INDEX($AC$5:$AD$24,BX$3,MOD(COLUMNS($BU$3:BX$3),2)+1),INDEX($AC$5:$AD$24,INT($AF17/2)+1,MOD(COLUMNS($BU$3:BX$3),2)+1))","v":9.7492791218182369},{"$f":"IF(OR(MOD($AF17,2)=0,INDEX(relationships,INT($AF17/2)+1,BY$3)<>2),INDEX($AC$5:$AD$24,BY$3,MOD(COLUMNS($BU$3:BY$3),2)+1),INDEX($AC$5:$AD$24,INT($AF17/2)+1,MOD(COLUMNS($BU$3:BY$3),2)+1))","v":-2.2252093395631434},{"$f":"IF(OR(MOD($AF17,2)=0,INDEX(relationships,INT($AF17/2)+1,BZ$3)<>2),INDEX($AC$5:$AD$24,BZ$3,MOD(COLUMNS($BU$3:BZ$3),2)+1),INDEX($AC$5:$AD$24,INT($AF17/2)+1,MOD(COLUMNS($BU$3:BZ$3),2)+1))","v":4.3388373911755824},{"$f":"IF(OR(MOD($AF17,2)=0,INDEX(relationships,INT($AF17/2)+1,CA$3)<>2),INDEX($AC$5:$AD$24,CA$3,MOD(COLUMNS($BU$3:CA$3),2)+1),INDEX($AC$5:$AD$24,INT($AF17/2)+1,MOD(COLUMNS($BU$3:CA$3),2)+1))","v":-9.0096886790241903},{"$f":"IF(OR(MOD($AF17,2)=0,INDEX(relationships,INT($AF17/2)+1,CB$3)<>2),INDEX($AC$5:$AD$24,CB$3,MOD(COLUMNS($BU$3:CB$3),2)+1),INDEX($AC$5:$AD$24,INT($AF17/2)+1,MOD(COLUMNS($BU$3:CB$3),2)+1))","v":-4.3388373911755798},{"$f":"IF(OR(MOD($AF17,2)=0,INDEX(relationships,INT($AF17/2)+1,CC$3)<>2),INDEX($AC$5:$AD$24,CC$3,MOD(COLUMNS($BU$3:CC$3),2)+1),INDEX($AC$5:$AD$24,INT($AF17/2)+1,MOD(COLUMNS($BU$3:CC$3),2)+1))","v":-9.0096886790241921},{"$f":"IF(OR(MOD($AF17,2)=0,INDEX(relationships,INT($AF17/2)+1,CD$3)<>2),INDEX($AC$5:$AD$24,CD$3,MOD(COLUMNS($BU$3:CD$3),2)+1),INDEX($AC$5:$AD$24,INT($AF17/2)+1,MOD(COLUMNS($BU$3:CD$3),2)+1))","v":-9.7492791218182369},{"$f":"IF(OR(MOD($AF17,2)=0,INDEX(relationships,INT($AF17/2)+1,CE$3)<>2),INDEX($AC$5:$AD$24,CE$3,MOD(COLUMNS($BU$3:CE$3),2)+1),INDEX($AC$5:$AD$24,INT($AF17/2)+1,MOD(COLUMNS($BU$3:CE$3),2)+1))","v":-2.225209339563146},{"$f":"IF(OR(MOD($AF17,2)=0,INDEX(relationships,INT($AF17/2)+1,CF$3)<>2),INDEX($AC$5:$AD$24,CF$3,MOD(COLUMNS($BU$3:CF$3),2)+1),INDEX($AC$5:$AD$24,INT($AF17/2)+1,MOD(COLUMNS($BU$3:CF$3),2)+1))","v":-7.8183148246802991},{"$f":"IF(OR(MOD($AF17,2)=0,INDEX(relationships,INT($AF17/2)+1,CG$3)<>2),INDEX($AC$5:$AD$24,CG$3,MOD(COLUMNS($BU$3:CG$3),2)+1),INDEX($AC$5:$AD$24,INT($AF17/2)+1,MOD(COLUMNS($BU$3:CG$3),2)+1))","v":6.2348980185873337},{"$f":"IF(OR(MOD($AF17,2)=0,INDEX(relationships,INT($AF17/2)+1,CH$3)<>2),INDEX($AC$5:$AD$24,CH$3,MOD(COLUMNS($BU$3:CH$3),2)+1),INDEX($AC$5:$AD$24,INT($AF17/2)+1,MOD(COLUMNS($BU$3:CH$3),2)+1))","v":-2.45029690981724E-15},{"$f":"IF(OR(MOD($AF17,2)=0,INDEX(relationships,INT($AF17/2)+1,CI$3)<>2),INDEX($AC$5:$AD$24,CI$3,MOD(COLUMNS($BU$3:CI$3),2)+1),INDEX($AC$5:$AD$24,INT($AF17/2)+1,MOD(COLUMNS($BU$3:CI$3),2)+1))","v":10},{"$f":"IF(OR(MOD($AF17,2)=0,INDEX(relationships,INT($AF17/2)+1,CJ$3)<>2),INDEX($AC$5:$AD$24,CJ$3,MOD(COLUMNS($BU$3:CJ$3),2)+1),INDEX($AC$5:$AD$24,INT($AF17/2)+1,MOD(COLUMNS($BU$3:CJ$3),2)+1))","v":7.8183148246802956},{"$f":"IF(OR(MOD($AF17,2)=0,INDEX(relationships,INT($AF17/2)+1,CK$3)<>2),INDEX($AC$5:$AD$24,CK$3,MOD(COLUMNS($BU$3:CK$3),2)+1),INDEX($AC$5:$AD$24,INT($AF17/2)+1,MOD(COLUMNS($BU$3:CK$3),2)+1))","v":6.2348980185873373},{"$f":"IF(OR(MOD($AF17,2)=0,INDEX(relationships,INT($AF17/2)+1,CL$3)<>2),INDEX($AC$5:$AD$24,CL$3,MOD(COLUMNS($BU$3:CL$3),2)+1),INDEX($AC$5:$AD$24,INT($AF17/2)+1,MOD(COLUMNS($BU$3:CL$3),2)+1))","v":9.7492791218182369},{"$f":"IF(OR(MOD($AF17,2)=0,INDEX(relationships,INT($AF17/2)+1,CM$3)<>2),INDEX($AC$5:$AD$24,CM$3,MOD(COLUMNS($BU$3:CM$3),2)+1),INDEX($AC$5:$AD$24,INT($AF17/2)+1,MOD(COLUMNS($BU$3:CM$3),2)+1))","v":-2.2252093395631407},{"$f":"IF(OR(MOD($AF17,2)=0,INDEX(relationships,INT($AF17/2)+1,CN$3)<>2),INDEX($AC$5:$AD$24,CN$3,MOD(COLUMNS($BU$3:CN$3),2)+1),INDEX($AC$5:$AD$24,INT($AF17/2)+1,MOD(COLUMNS($BU$3:CN$3),2)+1))","v":4.3388373911755842},{"$f":"IF(OR(MOD($AF17,2)=0,INDEX(relationships,INT($AF17/2)+1,CO$3)<>2),INDEX($AC$5:$AD$24,CO$3,MOD(COLUMNS($BU$3:CO$3),2)+1),INDEX($AC$5:$AD$24,INT($AF17/2)+1,MOD(COLUMNS($BU$3:CO$3),2)+1))","v":-9.0096886790241886},{"$f":"IF(OR(MOD($AF17,2)=0,INDEX(relationships,INT($AF17/2)+1,CP$3)<>2),INDEX($AC$5:$AD$24,CP$3,MOD(COLUMNS($BU$3:CP$3),2)+1),INDEX($AC$5:$AD$24,INT($AF17/2)+1,MOD(COLUMNS($BU$3:CP$3),2)+1))","v":-4.338837391175578},{"$f":"IF(OR(MOD($AF17,2)=0,INDEX(relationships,INT($AF17/2)+1,CQ$3)<>2),INDEX($AC$5:$AD$24,CQ$3,MOD(COLUMNS($BU$3:CQ$3),2)+1),INDEX($AC$5:$AD$24,INT($AF17/2)+1,MOD(COLUMNS($BU$3:CQ$3),2)+1))","v":-9.0096886790241921},{"$f":"IF(OR(MOD($AF17,2)=0,INDEX(relationships,INT($AF17/2)+1,CR$3)<>2),INDEX($AC$5:$AD$24,CR$3,MOD(COLUMNS($BU$3:CR$3),2)+1),INDEX($AC$5:$AD$24,INT($AF17/2)+1,MOD(COLUMNS($BU$3:CR$3),2)+1))","v":-9.7492791218182351},{"$f":"IF(OR(MOD($AF17,2)=0,INDEX(relationships,INT($AF17/2)+1,CS$3)<>2),INDEX($AC$5:$AD$24,CS$3,MOD(COLUMNS($BU$3:CS$3),2)+1),INDEX($AC$5:$AD$24,INT($AF17/2)+1,MOD(COLUMNS($BU$3:CS$3),2)+1))","v":-2.2252093395631483},{"$f":"IF(OR(MOD($AF17,2)=0,INDEX(relationships,INT($AF17/2)+1,CT$3)<>2),INDEX($AC$5:$AD$24,CT$3,MOD(COLUMNS($BU$3:CT$3),2)+1),INDEX($AC$5:$AD$24,INT($AF17/2)+1,MOD(COLUMNS($BU$3:CT$3),2)+1))","v":-7.8183148246803018},{"$f":"IF(OR(MOD($AF17,2)=0,INDEX(relationships,INT($AF17/2)+1,CU$3)<>2),INDEX($AC$5:$AD$24,CU$3,MOD(COLUMNS($BU$3:CU$3),2)+1),INDEX($AC$5:$AD$24,INT($AF17/2)+1,MOD(COLUMNS($BU$3:CU$3),2)+1))","v":6.2348980185873319},{"$f":"IF(OR(MOD($AF17,2)=0,INDEX(relationships,INT($AF17/2)+1,CV$3)<>2),INDEX($AC$5:$AD$24,CV$3,MOD(COLUMNS($BU$3:CV$3),2)+1),INDEX($AC$5:$AD$24,INT($AF17/2)+1,MOD(COLUMNS($BU$3:CV$3),2)+1))","v":-4.90059381963448E-15},{"$f":"IF(OR(MOD($AF17,2)=0,INDEX(relationships,INT($AF17/2)+1,CW$3)<>2),INDEX($AC$5:$AD$24,CW$3,MOD(COLUMNS($BU$3:CW$3),2)+1),INDEX($AC$5:$AD$24,INT($AF17/2)+1,MOD(COLUMNS($BU$3:CW$3),2)+1))","v":10},{"$f":"IF(OR(MOD($AF17,2)=0,INDEX(relationships,INT($AF17/2)+1,CX$3)<>2),INDEX($AC$5:$AD$24,CX$3,MOD(COLUMNS($BU$3:CX$3),2)+1),INDEX($AC$5:$AD$24,INT($AF17/2)+1,MOD(COLUMNS($BU$3:CX$3),2)+1))","v":7.8183148246802947},{"$f":"IF(OR(MOD($AF17,2)=0,INDEX(relationships,INT($AF17/2)+1,CY$3)<>2),INDEX($AC$5:$AD$24,CY$3,MOD(COLUMNS($BU$3:CY$3),2)+1),INDEX($AC$5:$AD$24,INT($AF17/2)+1,MOD(COLUMNS($BU$3:CY$3),2)+1))","v":6.2348980185873391},{"$f":"IF(OR(MOD($AF17,2)=0,INDEX(relationships,INT($AF17/2)+1,CZ$3)<>2),INDEX($AC$5:$AD$24,CZ$3,MOD(COLUMNS($BU$3:CZ$3),2)+1),INDEX($AC$5:$AD$24,INT($AF17/2)+1,MOD(COLUMNS($BU$3:CZ$3),2)+1))","v":9.7492791218182369},{"$f":"IF(OR(MOD($AF17,2)=0,INDEX(relationships,INT($AF17/2)+1,DA$3)<>2),INDEX($AC$5:$AD$24,DA$3,MOD(COLUMNS($BU$3:DA$3),2)+1),INDEX($AC$5:$AD$24,INT($AF17/2)+1,MOD(COLUMNS($BU$3:DA$3),2)+1))","v":-2.2252093395631385},{"$f":"IF(OR(MOD($AF17,2)=0,INDEX(relationships,INT($AF17/2)+1,DB$3)<>2),INDEX($AC$5:$AD$24,DB$3,MOD(COLUMNS($BU$3:DB$3),2)+1),INDEX($AC$5:$AD$24,INT($AF17/2)+1,MOD(COLUMNS($BU$3:DB$3),2)+1))","v":4.3388373911755869},{"$f":"IF(OR(MOD($AF17,2)=0,INDEX(relationships,INT($AF17/2)+1,DC$3)<>2),INDEX($AC$5:$AD$24,DC$3,MOD(COLUMNS($BU$3:DC$3),2)+1),INDEX($AC$5:$AD$24,INT($AF17/2)+1,MOD(COLUMNS($BU$3:DC$3),2)+1))","v":-9.0096886790241886},{"$f":"IF(OR(MOD($AF17,2)=0,INDEX(relationships,INT($AF17/2)+1,DD$3)<>2),INDEX($AC$5:$AD$24,DD$3,MOD(COLUMNS($BU$3:DD$3),2)+1),INDEX($AC$5:$AD$24,INT($AF17/2)+1,MOD(COLUMNS($BU$3:DD$3),2)+1))","v":-4.3388373911755753},{"$f":"IF(OR(MOD($AF17,2)=0,INDEX(relationships,INT($AF17/2)+1,DE$3)<>2),INDEX($AC$5:$AD$24,DE$3,MOD(COLUMNS($BU$3:DE$3),2)+1),INDEX($AC$5:$AD$24,INT($AF17/2)+1,MOD(COLUMNS($BU$3:DE$3),2)+1))","v":-9.0096886790241939},{"$f":"IF(OR(MOD($AF17,2)=0,INDEX(relationships,INT($AF17/2)+1,DF$3)<>2),INDEX($AC$5:$AD$24,DF$3,MOD(COLUMNS($BU$3:DF$3),2)+1),INDEX($AC$5:$AD$24,INT($AF17/2)+1,MOD(COLUMNS($BU$3:DF$3),2)+1))","v":-9.7492791218182351},{"$f":"IF(OR(MOD($AF17,2)=0,INDEX(relationships,INT($AF17/2)+1,DG$3)<>2),INDEX($AC$5:$AD$24,DG$3,MOD(COLUMNS($BU$3:DG$3),2)+1),INDEX($AC$5:$AD$24,INT($AF17/2)+1,MOD(COLUMNS($BU$3:DG$3),2)+1))","v":-2.2252093395631505},{"$f":"IF(OR(MOD($AF17,2)=0,INDEX(relationships,INT($AF17/2)+1,DH$3)<>2),INDEX($AC$5:$AD$24,DH$3,MOD(COLUMNS($BU$3:DH$3),2)+1),INDEX($AC$5:$AD$24,INT($AF17/2)+1,MOD(COLUMNS($BU$3:DH$3),2)+1))","v":-7.8183148246803027},{"$f":"IF(OR(MOD($AF17,2)=0,INDEX(relationships,INT($AF17/2)+1,DI$3)<>2),INDEX($AC$5:$AD$24,DI$3,MOD(COLUMNS($BU$3:DI$3),2)+1),INDEX($AC$5:$AD$24,INT($AF17/2)+1,MOD(COLUMNS($BU$3:DI$3),2)+1))","v":6.2348980185873293},null,-2.45029690981724E-15,10,-2.45029690981724E-15,10]
[null,{"$f":"'Group Data'!B31","v":0},{"$f":"'Group Data'!AJ31","v":0},{"$f":"'Group Data'!AK31","v":0},{"$f":"'Group Data'!AL31","v":0},{"$f":"'Group Data'!AM31","v":0},{"$f":"'Group Data'!AN31","v":0},{"$f":"'Group Data'!AO31","v":0},{"$f":"'Group Data'!AP31","v":0},{"$f":"'Group Data'!AQ31","v":0},{"$f":"'Group Data'!AR31","v":0},{"$f":"'Group Data'!AS31","v":0},{"$f":"'Group Data'!AT31","v":0},{"$f":"'Group Data'!AU31","v":0},{"$f":"'Group Data'!AV31","v":0},null,null,null,null,null,null,null,null,null,"Legend Label",{"$f":"\"All\"&CHAR(10)&IF(Z15=\"\",\"None\",Z15)&\" highlighted\"","v":"All\nColleagues  highlighted"},null,14,-4.90059381963448E-15,10,null,13,{"$f":"IF(OR(MOD($AF18,2)=0,INDEX(relationships,INT($AF18/2)+1,AG$3)<>1),INDEX($AC$5:$AD$24,AG$3,MOD(COLUMNS($AF$3:AG$3),2)+1),INDEX($AC$5:$AD$24,INT($AF18/2)+1,MOD(COLUMNS($AF$3:AG$3),2)+1))","v":7.8183148246802983},{"$f":"IF(OR(MOD($AF18,2)=0,INDEX(relationships,INT($AF18/2)+1,AH$3)<>1),INDEX($AC$5:$AD$24,AH$3,MOD(COLUMNS($AF$3:AH$3),2)+1),INDEX($AC$5:$AD$24,INT($AF18/2)+1,MOD(COLUMNS($AF$3:AH$3),2)+1))","v":6.2348980185873355},{"$f":"IF(OR(MOD($AF18,2)=0,INDEX(relationships,INT($AF18/2)+1,AI$3)<>1),INDEX($AC$5:$AD$24,AI$3,MOD(COLUMNS($AF$3:AI$3),2)+1),INDEX($AC$5:$AD$24,INT($AF18/2)+1,MOD(COLUMNS($AF$3:AI$3),2)+1))","v":9.7492791218182369},{"$f":"IF(OR(MOD($AF18,2)=0,INDEX(relationships,INT($AF18/2)+1,AJ$3)<>1),INDEX($AC$5:$AD$24,AJ$3,MOD(COLUMNS($AF$3:AJ$3),2)+1),INDEX($AC$5:$AD$24,INT($AF18/2)+1,MOD(COLUMNS($AF$3:AJ$3),2)+1))","v":-2.2252093395631434},{"$f":"IF(OR(MOD($AF18,2)=0,INDEX(relationships,INT($AF18/2)+1,AK$3)<>1),INDEX($AC$5:$AD$24,AK$3,MOD(COLUMNS($AF$3:AK$3),2)+1),INDEX($AC$5:$AD$24,INT($AF18/2)+1,MOD(COLUMNS($AF$3:AK$3),2)+1))","v":4.3388373911755824},{"$f":"IF(OR(MOD($AF18,2)=0,INDEX(relationships,INT($AF18/2)+1,AL$3)<>1),INDEX($AC$5:$AD$24,AL$3,MOD(COLUMNS($AF$3:AL$3),2)+1),INDEX($AC$5:$AD$24,INT($AF18/2)+1,MOD(COLUMNS($AF$3:AL$3),2)+1))","v":-9.0096886790241903},{"$f":"IF(OR(MOD($AF18,2)=0,INDEX(relationships,INT($AF18/2)+1,AM$3)<>1),INDEX($AC$5:$AD$24,AM$3,MOD(COLUMNS($AF$3:AM$3),2)+1),INDEX($AC$5:$AD$24,INT($AF18/2)+1,MOD(COLUMNS($AF$3:AM$3),2)+1))","v":-4.3388373911755798},{"$f":"IF(OR(MOD($AF18,2)=0,INDEX(relationships,INT($AF18/2)+1,AN$3)<>1),INDEX($AC$5:$AD$24,AN$3,MOD(COLUMNS($AF$3:AN$3),2)+1),INDEX($AC$5:$AD$24,INT($AF18/2)+1,MOD(COLUMNS($AF$3:AN$3),2)+1))","v":-9.0096886790241921},{"$f":"IF(OR(MOD($AF18,2)=0,INDEX(relationships,INT($AF18/2)+1,AO$3)<>1),INDEX($AC$5:$AD$24,AO$3,MOD(COLUMNS($AF$3:AO$3),2)+1),INDEX($AC$5:$AD$24,INT($AF18/2)+1,MOD(COLUMNS($AF$3:AO$3),2)+1))","v":-9.7492791218182369},{"$f":"IF(OR(MOD($AF18,2)=0,INDEX(relationships,INT($AF18/2)+1,AP$3)<>1),INDEX($AC$5:$AD$24,AP$3,MOD(COLUMNS($AF$3:AP$3),2)+1),INDEX($AC$5:$AD$24,INT($AF18/2)+1,MOD(COLUMNS($AF$3:AP$3),2)+1))","v":-2.225209339563146},{"$f":"IF(OR(MOD($AF18,2)=0,INDEX(relationships,INT($AF18/2)+1,AQ$3)<>1),INDEX($AC$5:$AD$24,AQ$3,MOD(COLUMNS($AF$3:AQ$3),2)+1),INDEX($AC$5:$AD$24,INT($AF18/2)+1,MOD(COLUMNS($AF$3:AQ$3),2)+1))","v":-7.8183148246802991},{"$f":"IF(OR(MOD($AF18,2)=0,INDEX(relationships,INT($AF18/2)+1,AR$3)<>1),INDEX($AC$5:$AD$24,AR$3,MOD(COLUMNS($AF$3:AR$3),2)+1),INDEX($AC$5:$AD$24,INT($AF18/2)+1,MOD(COLUMNS($AF$3:AR$3),2)+1))","v":6.2348980185873337},{"$f":"IF(OR(MOD($AF18,2)=0,INDEX(relationships,INT($AF18/2)+1,AS$3)<>1),INDEX($AC$5:$AD$24,AS$3,MOD(COLUMNS($AF$3:AS$3),2)+1),INDEX($AC$5:$AD$24,INT($AF18/2)+1,MOD(COLUMNS($AF$3:AS$3),2)+1))","v":-2.45029690981724E-15},{"$f":"IF(OR(MOD($AF18,2)=0,INDEX(relationships,INT($AF18/2)+1,AT$3)<>1),INDEX($AC$5:$AD$24,AT$3,MOD(COLUMNS($AF$3:AT$3),2)+1),INDEX($AC$5:$AD$24,INT($AF18/2)+1,MOD(COLUMNS($AF$3:AT$3),2)+1))","v":10},{"$f":"IF(OR(MOD($AF18,2)=0,INDEX(relationships,INT($AF18/2)+1,AU$3)<>1),INDEX($AC$5:$AD$24,AU$3,MOD(COLUMNS($AF$3:AU$3),2)+1),INDEX($AC$5:$AD$24,INT($AF18/2)+1,MOD(COLUMNS($AF$3:AU$3),2)+1))","v":7.8183148246802956},{"$f":"IF(OR(MOD($AF18,2)=0,INDEX(relationships,INT($AF18/2)+1,AV$3)<>1),INDEX($AC$5:$AD$24,AV$3,MOD(COLUMNS($AF$3:AV$3),2)+1),INDEX($AC$5:$AD$24,INT($AF18/2)+1,MOD(COLUMNS($AF$3:AV$3),2)+1))","v":6.2348980185873373},{"$f":"IF(OR(MOD($AF18,2)=0,INDEX(relationships,INT($AF18/2)+1,AW$3)<>1),INDEX($AC$5:$AD$24,AW$3,MOD(COLUMNS($AF$3:AW$3),2)+1),INDEX($AC$5:$AD$24,INT($AF18/2)+1,MOD(COLUMNS($AF$3:AW$3),2)+1))","v":9.7492791218182369},{"$f":"IF(OR(MOD($AF18,2)=0,INDEX(relationships,INT($AF18/2)+1,AX$3)<>1),INDEX($AC$5:$AD$24,AX$3,MOD(COLUMNS($AF$3:AX$3),2)+1),INDEX($AC$5:$AD$24,INT($AF18/2)+1,MOD(COLUMNS($AF$3:AX$3),2)+1))","v":-2.2252093395631407},{"$f":"IF(OR(MOD($AF18,2)=0,INDEX(relationships,INT($AF18/2)+1,AY$3)<>1),INDEX($AC$5:$AD$24,AY$3,MOD(COLUMNS($AF$3:AY$3),2)+1),INDEX($AC$5:$AD$24,INT($AF18/2)+1,MOD(COLUMNS($AF$3:AY$3),2)+1))","v":4.3388373911755842},{"$f":"IF(OR(MOD($AF18,2)=0,INDEX(relationships,INT($AF18/2)+1,AZ$3)<>1),INDEX($AC$5:$AD$24,AZ$3,MOD(COLUMNS($AF$3:AZ$3),2)+1),INDEX($AC$5:$AD$24,INT($AF18/2)+1,MOD(COLUMNS($AF$3:AZ$3),2)+1))","v":-9.0096886790241886},{"$f":"IF(OR(MOD($AF18,2)=0,INDEX(relationships,INT($AF18/2)+1,BA$3)<>1),INDEX($AC$5:$AD$24,BA$3,MOD(COLUMNS($AF$3:BA$3),2)+1),INDEX($AC$5:$AD$24,INT($AF18/2)+1,MOD(COLUMNS($AF$3:BA$3),2)+1))","v":-4.338837391175578},{"$f":"IF(OR(MOD($AF18,2)=0,INDEX(relationships,INT($AF18/2)+1,BB$3)<>1),INDEX($AC$5:$AD$24,BB$3,MOD(COLUMNS($AF$3:BB$3),2)+1),INDEX($AC$5:$AD$24,INT($AF18/2)+1,MOD(COLUMNS($AF$3:BB$3),2)+1))","v":-9.0096886790241921},{"$f":"IF(OR(MOD($AF18,2)=0,INDEX(relationships,INT($AF18/2)+1,BC$3)<>1),INDEX($AC$5:$AD$24,BC$3,MOD(COLUMNS($AF$3:BC$3),2)+1),INDEX($AC$5:$AD$24,INT($AF18/2)+1,MOD(COLUMNS($AF$3:BC$3),2)+1))","v":-9.7492791218182351},{"$f":"IF(OR(MOD($AF18,2)=0,INDEX(relationships,INT($AF18/2)+1,BD$3)<>1),INDEX($AC$5:$AD$24,BD$3,MOD(COLUMNS($AF$3:BD$3),2)+1),INDEX($AC$5:$AD$24,INT($AF18/2)+1,MOD(COLUMNS($AF$3:BD$3),2)+1))","v":-2.2252093395631483},{"$f":"IF(OR(MOD($AF18,2)=0,INDEX(relationships,INT($AF18/2)+1,BE$3)<>1),INDEX($AC$5:$AD$24,BE$3,MOD(COLUMNS($AF$3:BE$3),2)+1),INDEX($AC$5:$AD$24,INT($AF18/2)+1,MOD(COLUMNS($AF$3:BE$3),2)+1))","v":-7.8183148246803018},{"$f":"IF(OR(MOD($AF18,2)=0,INDEX(relationships,INT($AF18/2)+1,BF$3)<>1),INDEX($AC$5:$AD$24,BF$3,MOD(COLUMNS($AF$3:BF$3),2)+1),INDEX($AC$5:$AD$24,INT($AF18/2)+1,MOD(COLUMNS($AF$3:BF$3),2)+1))","v":6.2348980185873319},{"$f":"IF(OR(MOD($AF18,2)=0,INDEX(relationships,INT($AF18/2)+1,BG$3)<>1),INDEX($AC$5:$AD$24,BG$3,MOD(COLUMNS($AF$3:BG$3),2)+1),INDEX($AC$5:$AD$24,INT($AF18/2)+1,MOD(COLUMNS($AF$3:BG$3),2)+1))","v":-4.90059381963448E-15},{"$f":"IF(OR(MOD($AF18,2)=0,INDEX(relationships,INT($AF18/2)+1,BH$3)<>1),INDEX($AC$5:$AD$24,BH$3,MOD(COLUMNS($AF$3:BH$3),2)+1),INDEX($AC$5:$AD$24,INT($AF18/2)+1,MOD(COLUMNS($AF$3:BH$3),2)+1))","v":10},{"$f":"IF(OR(MOD($AF18,2)=0,INDEX(relationships,INT($AF18/2)+1,BI$3)<>1),INDEX($AC$5:$AD$24,BI$3,MOD(COLUMNS($AF$3:BI$3),2)+1),INDEX($AC$5:$AD$24,INT($AF18/2)+1,MOD(COLUMNS($AF$3:BI$3),2)+1))","v":7.8183148246802947},{"$f":"IF(OR(MOD($AF18,2)=0,INDEX(relationships,INT($AF18/2)+1,BJ$3)<>1),INDEX($AC$5:$AD$24,BJ$3,MOD(COLUMNS($AF$3:BJ$3),2)+1),INDEX($AC$5:$AD$24,INT($AF18/2)+1,MOD(COLUMNS($AF$3:BJ$3),2)+1))","v":6.2348980185873391},{"$f":"IF(OR(MOD($AF18,2)=0,INDEX(relationships,INT($AF18/2)+1,BK$3)<>1),INDEX($AC$5:$AD$24,BK$3,MOD(COLUMNS($AF$3:BK$3),2)+1),INDEX($AC$5:$AD$24,INT($AF18/2)+1,MOD(COLUMNS($AF$3:BK$3),2)+1))","v":9.7492791218182369},{"$f":"IF(OR(MOD($AF18,2)=0,INDEX(relationships,INT($AF18/2)+1,BL$3)<>1),INDEX($AC$5:$AD$24,BL$3,MOD(COLUMNS($AF$3:BL$3),2)+1),INDEX($AC$5:$AD$24,INT($AF18/2)+1,MOD(COLUMNS($AF$3:BL$3),2)+1))","v":-2.2252093395631385},{"$f":"IF(OR(MOD($AF18,2)=0,INDEX(relationships,INT($AF18/2)+1,BM$3)<>1),INDEX($AC$5:$AD$24,BM$3,MOD(COLUMNS($AF$3:BM$3),2)+1),INDEX($AC$5:$AD$24,INT($AF18/2)+1,MOD(COLUMNS($AF$3:BM$3),2)+1))","v":4.3388373911755869},{"$f":"IF(OR(MOD($AF18,2)=0,INDEX(relationships,INT($AF18/2)+1,BN$3)<>1),INDEX($AC$5:$AD$24,BN$3,MOD(COLUMNS($AF$3:BN$3),2)+1),INDEX($AC$5:$AD$24,INT($AF18/2)+1,MOD(COLUMNS($AF$3:BN$3),2)+1))","v":-9.0096886790241886},{"$f":"IF(OR(MOD($AF18,2)=0,INDEX(relationships,INT($AF18/2)+1,BO$3)<>1),INDEX($AC$5:$AD$24,BO$3,MOD(COLUMNS($AF$3:BO$3),2)+1),INDEX($AC$5:$AD$24,INT($AF18/2)+1,MOD(COLUMNS($AF$3:BO$3),2)+1))","v":-4.3388373911755753},{"$f":"IF(OR(MOD($AF18,2)=0,INDEX(relationships,INT($AF18/2)+1,BP$3)<>1),INDEX($AC$5:$AD$24,BP$3,MOD(COLUMNS($AF$3:BP$3),2)+1),INDEX($AC$5:$AD$24,INT($AF18/2)+1,MOD(COLUMNS($AF$3:BP$3),2)+1))","v":-9.0096886790241939},{"$f":"IF(OR(MOD($AF18,2)=0,INDEX(relationships,INT($AF18/2)+1,BQ$3)<>1),INDEX($AC$5:$AD$24,BQ$3,MOD(COLUMNS($AF$3:BQ$3),2)+1),INDEX($AC$5:$AD$24,INT($AF18/2)+1,MOD(COLUMNS($AF$3:BQ$3),2)+1))","v":-9.7492791218182351},{"$f":"IF(OR(MOD($AF18,2)=0,INDEX(relationships,INT($AF18/2)+1,BR$3)<>1),INDEX($AC$5:$AD$24,BR$3,MOD(COLUMNS($AF$3:BR$3),2)+1),INDEX($AC$5:$AD$24,INT($AF18/2)+1,MOD(COLUMNS($AF$3:BR$3),2)+1))","v":-2.2252093395631505},{"$f":"IF(OR(MOD($AF18,2)=0,INDEX(relationships,INT($AF18/2)+1,BS$3)<>1),INDEX($AC$5:$AD$24,BS$3,MOD(COLUMNS($AF$3:BS$3),2)+1),INDEX($AC$5:$AD$24,INT($AF18/2)+1,MOD(COLUMNS($AF$3:BS$3),2)+1))","v":-7.8183148246803027},{"$f":"IF(OR(MOD($AF18,2)=0,INDEX(relationships,INT($AF18/2)+1,BT$3)<>1),INDEX($AC$5:$AD$24,BT$3,MOD(COLUMNS($AF$3:BT$3),2)+1),INDEX($AC$5:$AD$24,INT($AF18/2)+1,MOD(COLUMNS($AF$3:BT$3),2)+1))","v":6.2348980185873293},null,{"$f":"IF(OR(MOD($AF18,2)=0,INDEX(relationships,INT($AF18/2)+1,BV$3)<>2),INDEX($AC$5:$AD$24,BV$3,MOD(COLUMNS($BU$3:BV$3),2)+1),INDEX($AC$5:$AD$24,INT($AF18/2)+1,MOD(COLUMNS($BU$3:BV$3),2)+1))","v":7.8183148246802983},{"$f":"IF(OR(MOD($AF18,2)=0,INDEX(relationships,INT($AF18/2)+1,BW$3)<>2),INDEX($AC$5:$AD$24,BW$3,MOD(COLUMNS($BU$3:BW$3),2)+1),INDEX($AC$5:$AD$24,INT($AF18/2)+1,MOD(COLUMNS($BU$3:BW$3),2)+1))","v":6.2348980185873355},{"$f":"IF(OR(MOD($AF18,2)=0,INDEX(relationships,INT($AF18/2)+1,BX$3)<>2),INDEX($AC$5:$AD$24,BX$3,MOD(COLUMNS($BU$3:BX$3),2)+1),INDEX($AC$5:$AD$24,INT($AF18/2)+1,MOD(COLUMNS($BU$3:BX$3),2)+1))","v":-2.45029690981724E-15},{"$f":"IF(OR(MOD($AF18,2)=0,INDEX(relationships,INT($AF18/2)+1,BY$3)<>2),INDEX($AC$5:$AD$24,BY$3,MOD(COLUMNS($BU$3:BY$3),2)+1),INDEX($AC$5:$AD$24,INT($AF18/2)+1,MOD(COLUMNS($BU$3:BY$3),2)+1))","v":10},{"$f":"IF(OR(MOD($AF18,2)=0,INDEX(relationships,INT($AF18/2)+1,BZ$3)<>2),INDEX($AC$5:$AD$24,BZ$3,MOD(COLUMNS($BU$3:BZ$3),2)+1),INDEX($AC$5:$AD$24,INT($AF18/2)+1,MOD(COLUMNS($BU$3:BZ$3),2)+1))","v":4.3388373911755824},{"$f":"IF(OR(MOD($AF18,2)=0,INDEX(relationships,INT($AF18/2)+1,CA$3)<>2),INDEX($AC$5:$AD$24,CA$3,MOD(COLUMNS($BU$3:CA$3),2)+1),INDEX($AC$5:$AD$24,INT($AF18/2)+1,MOD(COLUMNS($BU$3:CA$3),2)+1))","v":-9.0096886790241903},{"$f":"IF(OR(MOD($AF18,2)=0,INDEX(relationships,INT($AF18/2)+1,CB$3)<>2),INDEX($AC$5:$AD$24,CB$3,MOD(COLUMNS($BU$3:CB$3),2)+1),INDEX($AC$5:$AD$24,INT($AF18/2)+1,MOD(COLUMNS($BU$3:CB$3),2)+1))","v":-4.3388373911755798},{"$f":"IF(OR(MOD($AF18,2)=0,INDEX(relationships,INT($AF18/2)+1,CC$3)<>2),INDEX($AC$5:$AD$24,CC$3,MOD(COLUMNS($BU$3:CC$3),2)+1),INDEX($AC$5:$AD$24,INT($AF18/2)+1,MOD(COLUMNS($BU$3:CC$3),2)+1))","v":-9.0096886790241921},{"$f":"IF(OR(MOD($AF18,2)=0,INDEX(relationships,INT($AF18/2)+1,CD$3)<>2),INDEX($AC$5:$AD$24,CD$3,MOD(COLUMNS($BU$3:CD$3),2)+1),INDEX($AC$5:$AD$24,INT($AF18/2)+1,MOD(COLUMNS($BU$3:CD$3),2)+1))","v":-9.7492791218182369},{"$f":"IF(OR(MOD($AF18,2)=0,INDEX(relationships,INT($AF18/2)+1,CE$3)<>2),INDEX($AC$5:$AD$24,CE$3,MOD(COLUMNS($BU$3:CE$3),2)+1),INDEX($AC$5:$AD$24,INT($AF18/2)+1,MOD(COLUMNS($BU$3:CE$3),2)+1))","v":-2.225209339563146},{"$f":"IF(OR(MOD($AF18,2)=0,INDEX(relationships,INT($AF18/2)+1,CF$3)<>2),INDEX($AC$5:$AD$24,CF$3,MOD(COLUMNS($BU$3:CF$3),2)+1),INDEX($AC$5:$AD$24,INT($AF18/2)+1,MOD(COLUMNS($BU$3:CF$3),2)+1))","v":-7.8183148246802991},{"$f":"IF(OR(MOD($AF18,2)=0,INDEX(relationships,INT($AF18/2)+1,CG$3)<>2),INDEX($AC$5:$AD$24,CG$3,MOD(COLUMNS($BU$3:CG$3),2)+1),INDEX($AC$5:$AD$24,INT($AF18/2)+1,MOD(COLUMNS($BU$3:CG$3),2)+1))","v":6.2348980185873337},{"$f":"IF(OR(MOD($AF18,2)=0,INDEX(relationships,INT($AF18/2)+1,CH$3)<>2),INDEX($AC$5:$AD$24,CH$3,MOD(COLUMNS($BU$3:CH$3),2)+1),INDEX($AC$5:$AD$24,INT($AF18/2)+1,MOD(COLUMNS($BU$3:CH$3),2)+1))","v":-2.45029690981724E-15},{"$f":"IF(OR(MOD($AF18,2)=0,INDEX(relationships,INT($AF18/2)+1,CI$3)<>2),INDEX($AC$5:$AD$24,CI$3,MOD(COLUMNS($BU$3:CI$3),2)+1),INDEX($AC$5:$AD$24,INT($AF18/2)+1,MOD(COLUMNS($BU$3:CI$3),2)+1))","v":10},{"$f":"IF(OR(MOD($AF18,2)=0,INDEX(relationships,INT($AF18/2)+1,CJ$3)<>2),INDEX($AC$5:$AD$24,CJ$3,MOD(COLUMNS($BU$3:CJ$3),2)+1),INDEX($AC$5:$AD$24,INT($AF18/2)+1,MOD(COLUMNS($BU$3:CJ$3),2)+1))","v":7.8183148246802956},{"$f":"IF(OR(MOD($AF18,2)=0,INDEX(relationships,INT($AF18/2)+1,CK$3)<>2),INDEX($AC$5:$AD$24,CK$3,MOD(COLUMNS($BU$3:CK$3),2)+1),INDEX($AC$5:$AD$24,INT($AF18/2)+1,MOD(COLUMNS($BU$3:CK$3),2)+1))","v":6.2348980185873373},{"$f":"IF(OR(MOD($AF18,2)=0,INDEX(relationships,INT($AF18/2)+1,CL$3)<>2),INDEX($AC$5:$AD$24,CL$3,MOD(COLUMNS($BU$3:CL$3),2)+1),INDEX($AC$5:$AD$24,INT($AF18/2)+1,MOD(COLUMNS($BU$3:CL$3),2)+1))","v":9.7492791218182369},{"$f":"IF(OR(MOD($AF18,2)=0,INDEX(relationships,INT($AF18/2)+1,CM$3)<>2),INDEX($AC$5:$AD$24,CM$3,MOD(COLUMNS($BU$3:CM$3),2)+1),INDEX($AC$5:$AD$24,INT($AF18/2)+1,MOD(COLUMNS($BU$3:CM$3),2)+1))","v":-2.2252093395631407},{"$f":"IF(OR(MOD($AF18,2)=0,INDEX(relationships,INT($AF18/2)+1,CN$3)<>2),INDEX($AC$5:$AD$24,CN$3,MOD(COLUMNS($BU$3:CN$3),2)+1),INDEX($AC$5:$AD$24,INT($AF18/2)+1,MOD(COLUMNS($BU$3:CN$3),2)+1))","v":4.3388373911755842},{"$f":"IF(OR(MOD($AF18,2)=0,INDEX(relationships,INT($AF18/2)+1,CO$3)<>2),INDEX($AC$5:$AD$24,CO$3,MOD(COLUMNS($BU$3:CO$3),2)+1),INDEX($AC$5:$AD$24,INT($AF18/2)+1,MOD(COLUMNS($BU$3:CO$3),2)+1))","v":-9.0096886790241886},{"$f":"IF(OR(MOD($AF18,2)=0,INDEX(relationships,INT($AF18/2)+1,CP$3)<>2),INDEX($AC$5:$AD$24,CP$3,MOD(COLUMNS($BU$3:CP$3),2)+1),INDEX($AC$5:$AD$24,INT($AF18/2)+1,MOD(COLUMNS($BU$3:CP$3),2)+1))","v":-4.338837391175578},{"$f":"IF(OR(MOD($AF18,2)=0,INDEX(relationships,INT($AF18/2)+1,CQ$3)<>2),INDEX($AC$5:$AD$24,CQ$3,MOD(COLUMNS($BU$3:CQ$3),2)+1),INDEX($AC$5:$AD$24,INT($AF18/2)+1,MOD(COLUMNS($BU$3:CQ$3),2)+1))","v":-9.0096886790241921},{"$f":"IF(OR(MOD($AF18,2)=0,INDEX(relationships,INT($AF18/2)+1,CR$3)<>2),INDEX($AC$5:$AD$24,CR$3,MOD(COLUMNS($BU$3:CR$3),2)+1),INDEX($AC$5:$AD$24,INT($AF18/2)+1,MOD(COLUMNS($BU$3:CR$3),2)+1))","v":-9.7492791218182351},{"$f":"IF(OR(MOD($AF18,2)=0,INDEX(relationships,INT($AF18/2)+1,CS$3)<>2),INDEX($AC$5:$AD$24,CS$3,MOD(COLUMNS($BU$3:CS$3),2)+1),INDEX($AC$5:$AD$24,INT($AF18/2)+1,MOD(COLUMNS($BU$3:CS$3),2)+1))","v":-2.2252093395631483},{"$f":"IF(OR(MOD($AF18,2)=0,INDEX(relationships,INT($AF18/2)+1,CT$3)<>2),INDEX($AC$5:$AD$24,CT$3,MOD(COLUMNS($BU$3:CT$3),2)+1),INDEX($AC$5:$AD$24,INT($AF18/2)+1,MOD(COLUMNS($BU$3:CT$3),2)+1))","v":-7.8183148246803018},{"$f":"IF(OR(MOD($AF18,2)=0,INDEX(relationships,INT($AF18/2)+1,CU$3)<>2),INDEX($AC$5:$AD$24,CU$3,MOD(COLUMNS($BU$3:CU$3),2)+1),INDEX($AC$5:$AD$24,INT($AF18/2)+1,MOD(COLUMNS($BU$3:CU$3),2)+1))","v":6.2348980185873319},{"$f":"IF(OR(MOD($AF18,2)=0,INDEX(relationships,INT($AF18/2)+1,CV$3)<>2),INDEX($AC$5:$AD$24,CV$3,MOD(COLUMNS($BU$3:CV$3),2)+1),INDEX($AC$5:$AD$24,INT($AF18/2)+1,MOD(COLUMNS($BU$3:CV$3),2)+1))","v":-4.90059381963448E-15},{"$f":"IF(OR(MOD($AF18,2)=0,INDEX(relationships,INT($AF18/2)+1,CW$3)<>2),INDEX($AC$5:$AD$24,CW$3,MOD(COLUMNS($BU$3:CW$3),2)+1),INDEX($AC$5:$AD$24,INT($AF18/2)+1,MOD(COLUMNS($BU$3:CW$3),2)+1))","v":10},{"$f":"IF(OR(MOD($AF18,2)=0,INDEX(relationships,INT($AF18/2)+1,CX$3)<>2),INDEX($AC$5:$AD$24,CX$3,MOD(COLUMNS($BU$3:CX$3),2)+1),INDEX($AC$5:$AD$24,INT($AF18/2)+1,MOD(COLUMNS($BU$3:CX$3),2)+1))","v":7.8183148246802947},{"$f":"IF(OR(MOD($AF18,2)=0,INDEX(relationships,INT($AF18/2)+1,CY$3)<>2),INDEX($AC$5:$AD$24,CY$3,MOD(COLUMNS($BU$3:CY$3),2)+1),INDEX($AC$5:$AD$24,INT($AF18/2)+1,MOD(COLUMNS($BU$3:CY$3),2)+1))","v":6.2348980185873391},{"$f":"IF(OR(MOD($AF18,2)=0,INDEX(relationships,INT($AF18/2)+1,CZ$3)<>2),INDEX($AC$5:$AD$24,CZ$3,MOD(COLUMNS($BU$3:CZ$3),2)+1),INDEX($AC$5:$AD$24,INT($AF18/2)+1,MOD(COLUMNS($BU$3:CZ$3),2)+1))","v":9.7492791218182369},{"$f":"IF(OR(MOD($AF18,2)=0,INDEX(relationships,INT($AF18/2)+1,DA$3)<>2),INDEX($AC$5:$AD$24,DA$3,MOD(COLUMNS($BU$3:DA$3),2)+1),INDEX($AC$5:$AD$24,INT($AF18/2)+1,MOD(COLUMNS($BU$3:DA$3),2)+1))","v":-2.2252093395631385},{"$f":"IF(OR(MOD($AF18,2)=0,INDEX(relationships,INT($AF18/2)+1,DB$3)<>2),INDEX($AC$5:$AD$24,DB$3,MOD(COLUMNS($BU$3:DB$3),2)+1),INDEX($AC$5:$AD$24,INT($AF18/2)+1,MOD(COLUMNS($BU$3:DB$3),2)+1))","v":4.3388373911755869},{"$f":"IF(OR(MOD($AF18,2)=0,INDEX(relationships,INT($AF18/2)+1,DC$3)<>2),INDEX($AC$5:$AD$24,DC$3,MOD(COLUMNS($BU$3:DC$3),2)+1),INDEX($AC$5:$AD$24,INT($AF18/2)+1,MOD(COLUMNS($BU$3:DC$3),2)+1))","v":-9.0096886790241886},{"$f":"IF(OR(MOD($AF18,2)=0,INDEX(relationships,INT($AF18/2)+1,DD$3)<>2),INDEX($AC$5:$AD$24,DD$3,MOD(COLUMNS($BU$3:DD$3),2)+1),INDEX($AC$5:$AD$24,INT($AF18/2)+1,MOD(COLUMNS($BU$3:DD$3),2)+1))","v":-4.3388373911755753},{"$f":"IF(OR(MOD($AF18,2)=0,INDEX(relationships,INT($AF18/2)+1,DE$3)<>2),INDEX($AC$5:$AD$24,DE$3,MOD(COLUMNS($BU$3:DE$3),2)+1),INDEX($AC$5:$AD$24,INT($AF18/2)+1,MOD(COLUMNS($BU$3:DE$3),2)+1))","v":-9.0096886790241939},{"$f":"IF(OR(MOD($AF18,2)=0,INDEX(relationships,INT($AF18/2)+1,DF$3)<>2),INDEX($AC$5:$AD$24,DF$3,MOD(COLUMNS($BU$3:DF$3),2)+1),INDEX($AC$5:$AD$24,INT($AF18/2)+1,MOD(COLUMNS($BU$3:DF$3),2)+1))","v":-9.7492791218182351},{"$f":"IF(OR(MOD($AF18,2)=0,INDEX(relationships,INT($AF18/2)+1,DG$3)<>2),INDEX($AC$5:$AD$24,DG$3,MOD(COLUMNS($BU$3:DG$3),2)+1),INDEX($AC$5:$AD$24,INT($AF18/2)+1,MOD(COLUMNS($BU$3:DG$3),2)+1))","v":-2.2252093395631505},{"$f":"IF(OR(MOD($AF18,2)=0,INDEX(relationships,INT($AF18/2)+1,DH$3)<>2),INDEX($AC$5:$AD$24,DH$3,MOD(COLUMNS($BU$3:DH$3),2)+1),INDEX($AC$5:$AD$24,INT($AF18/2)+1,MOD(COLUMNS($BU$3:DH$3),2)+1))","v":-7.8183148246803027},{"$f":"IF(OR(MOD($AF18,2)=0,INDEX(relationships,INT($AF18/2)+1,DI$3)<>2),INDEX($AC$5:$AD$24,DI$3,MOD(COLUMNS($BU$3:DI$3),2)+1),INDEX($AC$5:$AD$24,INT($AF18/2)+1,MOD(COLUMNS($BU$3:DI$3),2)+1))","v":6.2348980185873293},null,-2.45029690981724E-15,10,-2.45029690981724E-15,10]
[null,{"$f":"'Group Data'!B32","v":0},{"$f":"'Group Data'!AJ32","v":0},{"$f":"'Group Data'!AK32","v":0},{"$f":"'Group Data'!AL32","v":0},{"$f":"'Group Data'!AM32","v":0},{"$f":"'Group Data'!AN32","v":0},{"$f":"'Group Data'!AO32","v":0},{"$f":"'Group Data'!AP32","v":0},{"$f":"'Group Data'!AQ32","v":0},{"$f":"'Group Data'!AR32","v":0},{"$f":"'Group Data'!AS32","v":0},{"$f":"'Group Data'!AT32","v":0},{"$f":"'Group Data'!AU32","v":0},{"$f":"'Group Data'!AV32","v":0},{"$f":"'Group Data'!AW32","v":0},null,null,null,null,null,null,null,null,null,null,null,15,7.8183148246802947,6.2348980185873391,null,14,{"$f":"IF(OR(MOD($AF19,2)=0,INDEX(relationships,INT($AF19/2)+1,AG$3)<>1),INDEX($AC$5:$AD$24,AG$3,MOD(COLUMNS($AF$3:AG$3),2)+1),INDEX($AC$5:$AD$24,INT($AF19/2)+1,MOD(COLUMNS($AF$3:AG$3),2)+1))","v":7.8183148246802983},{"$f":"IF(OR(MOD($AF19,2)=0,INDEX(relationships,INT($AF19/2)+1,AH$3)<>1),INDEX($AC$5:$AD$24,AH$3,MOD(COLUMNS($AF$3:AH$3),2)+1),INDEX($AC$5:$AD$24,INT($AF19/2)+1,MOD(COLUMNS($AF$3:AH$3),2)+1))","v":6.2348980185873355},{"$f":"IF(OR(MOD($AF19,2)=0,INDEX(relationships,INT($AF19/2)+1,AI$3)<>1),INDEX($AC$5:$AD$24,AI$3,MOD(COLUMNS($AF$3:AI$3),2)+1),INDEX($AC$5:$AD$24,INT($AF19/2)+1,MOD(COLUMNS($AF$3:AI$3),2)+1))","v":9.7492791218182369},{"$f":"IF(OR(MOD($AF19,2)=0,INDEX(relationships,INT($AF19/2)+1,AJ$3)<>1),INDEX($AC$5:$AD$24,AJ$3,MOD(COLUMNS($AF$3:AJ$3),2)+1),INDEX($AC$5:$AD$24,INT($AF19/2)+1,MOD(COLUMNS($AF$3:AJ$3),2)+1))","v":-2.2252093395631434},{"$f":"IF(OR(MOD($AF19,2)=0,INDEX(relationships,INT($AF19/2)+1,AK$3)<>1),INDEX($AC$5:$AD$24,AK$3,MOD(COLUMNS($AF$3:AK$3),2)+1),INDEX($AC$5:$AD$24,INT($AF19/2)+1,MOD(COLUMNS($AF$3:AK$3),2)+1))","v":4.3388373911755824},{"$f":"IF(OR(MOD($AF19,2)=0,INDEX(relationships,INT($AF19/2)+1,AL$3)<>1),INDEX($AC$5:$AD$24,AL$3,MOD(COLUMNS($AF$3:AL$3),2)+1),INDEX($AC$5:$AD$24,INT($AF19/2)+1,MOD(COLUMNS($AF$3:AL$3),2)+1))","v":-9.0096886790241903},{"$f":"IF(OR(MOD($AF19,2)=0,INDEX(relationships,INT($AF19/2)+1,AM$3)<>1),INDEX($AC$5:$AD$24,AM$3,MOD(COLUMNS($AF$3:AM$3),2)+1),INDEX($AC$5:$AD$24,INT($AF19/2)+1,MOD(COLUMNS($AF$3:AM$3),2)+1))","v":-4.3388373911755798},{"$f":"IF(OR(MOD($AF19,2)=0,INDEX(relationships,INT($AF19/2)+1,AN$3)<>1),INDEX($AC$5:$AD$24,AN$3,MOD(COLUMNS($AF$3:AN$3),2)+1),INDEX($AC$5:$AD$24,INT($AF19/2)+1,MOD(COLUMNS($AF$3:AN$3),2)+1))","v":-9.0096886790241921},{"$f":"IF(OR(MOD($AF19,2)=0,INDEX(relationships,INT($AF19/2)+1,AO$3)<>1),INDEX($AC$5:$AD$24,AO$3,MOD(COLUMNS($AF$3:AO$3),2)+1),INDEX($AC$5:$AD$24,INT($AF19/2)+1,MOD(COLUMNS($AF$3:AO$3),2)+1))","v":-9.7492791218182369},{"$f":"IF(OR(MOD($AF19,2)=0,INDEX(relationships,INT($AF19/2)+1,AP$3)<>1),INDEX($AC$5:$AD$24,AP$3,MOD(COLUMNS($AF$3:AP$3),2)+1),INDEX($AC$5:$AD$24,INT($AF19/2)+1,MOD(COLUMNS($AF$3:AP$3),2)+1))","v":-2.225209339563146},{"$f":"IF(OR(MOD($AF19,2)=0,INDEX(relationships,INT($AF19/2)+1,AQ$3)<>1),INDEX($AC$5:$AD$24,AQ$3,MOD(COLUMNS($AF$3:AQ$3),2)+1),INDEX($AC$5:$AD$24,INT($AF19/2)+1,MOD(COLUMNS($AF$3:AQ$3),2)+1))","v":-7.8183148246802991},{"$f":"IF(OR(MOD($AF19,2)=0,INDEX(relationships,INT($AF19/2)+1,AR$3)<>1),INDEX($AC$5:$AD$24,AR$3,MOD(COLUMNS($AF$3:AR$3),2)+1),INDEX($AC$5:$AD$24,INT($AF19/2)+1,MOD(COLUMNS($AF$3:AR$3),2)+1))","v":6.2348980185873337},{"$f":"IF(OR(MOD($AF19,2)=0,INDEX(relationships,INT($AF19/2)+1,AS$3)<>1),INDEX($AC$5:$AD$24,AS$3,MOD(COLUMNS($AF$3:AS$3),2)+1),INDEX($AC$5:$AD$24,INT($AF19/2)+1,MOD(COLUMNS($AF$3:AS$3),2)+1))","v":-2.45029690981724E-15},{"$f":"IF(OR(MOD($AF19,2)=0,INDEX(relationships,INT($AF19/2)+1,AT$3)<>1),INDEX($AC$5:$AD$24,AT$3,MOD(COLUMNS($AF$3:AT$3),2)+1),INDEX($AC$5:$AD$24,INT($AF19/2)+1,MOD(COLUMNS($AF$3:AT$3),2)+1))","v":10},{"$f":"IF(OR(MOD($AF19,2)=0,INDEX(relationships,INT($AF19/2)+1,AU$3)<>1),INDEX($AC$5:$AD$24,AU$3,MOD(COLUMNS($AF$3:AU$3),2)+1),INDEX($AC$5:$AD$24,INT($AF19/2)+1,MOD(COLUMNS($AF$3:AU$3),2)+1))","v":7.8183148246802956},{"$f":"IF(OR(MOD($AF19,2)=0,INDEX(relationships,INT($AF19/2)+1,AV$3)<>1),INDEX($AC$5:$AD$24,AV$3,MOD(COLUMNS($AF$3:AV$3),2)+1),INDEX($AC$5:$AD$24,INT($AF19/2)+1,MOD(COLUMNS($AF$3:AV$3),2)+1))","v":6.2348980185873373},{"$f":"IF(OR(MOD($AF19,2)=0,INDEX(relationships,INT($AF19/2)+1,AW$3)<>1),INDEX($AC$5:$AD$24,AW$3,MOD(COLUMNS($AF$3:AW$3),2)+1),INDEX($AC$5:$AD$24,INT($AF19/2)+1,MOD(COLUMNS($AF$3:AW$3),2)+1))","v":9.7492791218182369},{"$f":"IF(OR(MOD($AF19,2)=0,INDEX(relationships,INT($AF19/2)+1,AX$3)<>1),INDEX($AC$5:$AD$24,AX$3,MOD(COLUMNS($AF$3:AX$3),2)+1),INDEX($AC$5:$AD$24,INT($AF19/2)+1,MOD(COLUMNS($AF$3:AX$3),2)+1))","v":-2.2252093395631407},{"$f":"IF(OR(MOD($AF19,2)=0,INDEX(relationships,INT($AF19/2)+1,AY$3)<>1),INDEX($AC$5:$AD$24,AY$3,MOD(COLUMNS($AF$3:AY$3),2)+1),INDEX($AC$5:$AD$24,INT($AF19/2)+1,MOD(COLUMNS($AF$3:AY$3),2)+1))","v":4.3388373911755842},{"$f":"IF(OR(MOD($AF19,2)=0,INDEX(relationships,INT($AF19/2)+1,AZ$3)<>1),INDEX($AC$5:$AD$24,AZ$3,MOD(COLUMNS($AF$3:AZ$3),2)+1),INDEX($AC$5:$AD$24,INT($AF19/2)+1,MOD(COLUMNS($AF$3:AZ$3),2)+1))","v":-9.0096886790241886},{"$f":"IF(OR(MOD($AF19,2)=0,INDEX(relationships,INT($AF19/2)+1,BA$3)<>1),INDEX($AC$5:$AD$24,BA$3,MOD(COLUMNS($AF$3:BA$3),2)+1),INDEX($AC$5:$AD$24,INT($AF19/2)+1,MOD(COLUMNS($AF$3:BA$3),2)+1))","v":-4.338837391175578},{"$f":"IF(OR(MOD($AF19,2)=0,INDEX(relationships,INT($AF19/2)+1,BB$3)<>1),INDEX($AC$5:$AD$24,BB$3,MOD(COLUMNS($AF$3:BB$3),2)+1),INDEX($AC$5:$AD$24,INT($AF19/2)+1,MOD(COLUMNS($AF$3:BB$3),2)+1))","v":-9.0096886790241921},{"$f":"IF(OR(MOD($AF19,2)=0,INDEX(relationships,INT($AF19/2)+1,BC$3)<>1),INDEX($AC$5:$AD$24,BC$3,MOD(COLUMNS($AF$3:BC$3),2)+1),INDEX($AC$5:$AD$24,INT($AF19/2)+1,MOD(COLUMNS($AF$3:BC$3),2)+1))","v":-9.7492791218182351},{"$f":"IF(OR(MOD($AF19,2)=0,INDEX(relationships,INT($AF19/2)+1,BD$3)<>1),INDEX($AC$5:$AD$24,BD$3,MOD(COLUMNS($AF$3:BD$3),2)+1),INDEX($AC$5:$AD$24,INT($AF19/2)+1,MOD(COLUMNS($AF$3:BD$3),2)+1))","v":-2.2252093395631483},{"$f":"IF(OR(MOD($AF19,2)=0,INDEX(relationships,INT($AF19/2)+1,BE$3)<>1),INDEX($AC$5:$AD$24,BE$3,MOD(COLUMNS($AF$3:BE$3),2)+1),INDEX($AC$5:$AD$24,INT($AF19/2)+1,MOD(COLUMNS($AF$3:BE$3),2)+1))","v":-7.8183148246803018},{"$f":"IF(OR(MOD($AF19,2)=0,INDEX(relationships,INT($AF19/2)+1,BF$3)<>1),INDEX($AC$5:$AD$24,BF$3,MOD(COLUMNS($AF$3:BF$3),2)+1),INDEX($AC$5:$AD$24,INT($AF19/2)+1,MOD(COLUMNS($AF$3:BF$3),2)+1))","v":6.2348980185873319},{"$f":"IF(OR(MOD($AF19,2)=0,INDEX(relationships,INT($AF19/2)+1,BG$3)<>1),INDEX($AC$5:$AD$24,BG$3,MOD(COLUMNS($AF$3:BG$3),2)+1),INDEX($AC$5:$AD$24,INT($AF19/2)+1,MOD(COLUMNS($AF$3:BG$3),2)+1))","v":-4.90059381963448E-15},{"$f":"IF(OR(MOD($AF19,2)=0,INDEX(relationships,INT($AF19/2)+1,BH$3)<>1),INDEX($AC$5:$AD$24,BH$3,MOD(COLUMNS($AF$3:BH$3),2)+1),INDEX($AC$5:$AD$24,INT($AF19/2)+1,MOD(COLUMNS($AF$3:BH$3),2)+1))","v":10},{"$f":"IF(OR(MOD($AF19,2)=0,INDEX(relationships,INT($AF19/2)+1,BI$3)<>1),INDEX($AC$5:$AD$24,BI$3,MOD(COLUMNS($AF$3:BI$3),2)+1),INDEX($AC$5:$AD$24,INT($AF19/2)+1,MOD(COLUMNS($AF$3:BI$3),2)+1))","v":7.8183148246802947},{"$f":"IF(OR(MOD($AF19,2)=0,INDEX(relationships,INT($AF19/2)+1,BJ$3)<>1),INDEX($AC$5:$AD$24,BJ$3,MOD(COLUMNS($AF$3:BJ$3),2)+1),INDEX($AC$5:$AD$24,INT($AF19/2)+1,MOD(COLUMNS($AF$3:BJ$3),2)+1))","v":6.2348980185873391},{"$f":"IF(OR(MOD($AF19,2)=0,INDEX(relationships,INT($AF19/2)+1,BK$3)<>1),INDEX($AC$5:$AD$24,BK$3,MOD(COLUMNS($AF$3:BK$3),2)+1),INDEX($AC$5:$AD$24,INT($AF19/2)+1,MOD(COLUMNS($AF$3:BK$3),2)+1))","v":9.7492791218182369},{"$f":"IF(OR(MOD($AF19,2)=0,INDEX(relationships,INT($AF19/2)+1,BL$3)<>1),INDEX($AC$5:$AD$24,BL$3,MOD(COLUMNS($AF$3:BL$3),2)+1),INDEX($AC$5:$AD$24,INT($AF19/2)+1,MOD(COLUMNS($AF$3:BL$3),2)+1))","v":-2.2252093395631385},{"$f":"IF(OR(MOD($AF19,2)=0,INDEX(relationships,INT($AF19/2)+1,BM$3)<>1),INDEX($AC$5:$AD$24,BM$3,MOD(COLUMNS($AF$3:BM$3),2)+1),INDEX($AC$5:$AD$24,INT($AF19/2)+1,MOD(COLUMNS($AF$3:BM$3),2)+1))","v":4.3388373911755869},{"$f":"IF(OR(MOD($AF19,2)=0,INDEX(relationships,INT($AF19/2)+1,BN$3)<>1),INDEX($AC$5:$AD$24,BN$3,MOD(COLUMNS($AF$3:BN$3),2)+1),INDEX($AC$5:$AD$24,INT($AF19/2)+1,MOD(COLUMNS($AF$3:BN$3),2)+1))","v":-9.0096886790241886},{"$f":"IF(OR(MOD($AF19,2)=0,INDEX(relationships,INT($AF19/2)+1,BO$3)<>1),INDEX($AC$5:$AD$24,BO$3,MOD(COLUMNS($AF$3:BO$3),2)+1),INDEX($AC$5:$AD$24,INT($AF19/2)+1,MOD(COLUMNS($AF$3:BO$3),2)+1))","v":-4.3388373911755753},{"$f":"IF(OR(MOD($AF19,2)=0,INDEX(relationships,INT($AF19/2)+1,BP$3)<>1),INDEX($AC$5:$AD$24,BP$3,MOD(COLUMNS($AF$3:BP$3),2)+1),INDEX($AC$5:$AD$24,INT($AF19/2)+1,MOD(COLUMNS($AF$3:BP$3),2)+1))","v":-9.0096886790241939},{"$f":"IF(OR(MOD($AF19,2)=0,INDEX(relationships,INT($AF19/2)+1,BQ$3)<>1),INDEX($AC$5:$AD$24,BQ$3,MOD(COLUMNS($AF$3:BQ$3),2)+1),INDEX($AC$5:$AD$24,INT($AF19/2)+1,MOD(COLUMNS($AF$3:BQ$3),2)+1))","v":-9.7492791218182351},{"$f":"IF(OR(MOD($AF19,2)=0,INDEX(relationships,INT($AF19/2)+1,BR$3)<>1),INDEX($AC$5:$AD$24,BR$3,MOD(COLUMNS($AF$3:BR$3),2)+1),INDEX($AC$5:$AD$24,INT($AF19/2)+1,MOD(COLUMNS($AF$3:BR$3),2)+1))","v":-2.2252093395631505},{"$f":"IF(OR(MOD($AF19,2)=0,INDEX(relationships,INT($AF19/2)+1,BS$3)<>1),INDEX($AC$5:$AD$24,BS$3,MOD(COLUMNS($AF$3:BS$3),2)+1),INDEX($AC$5:$AD$24,INT($AF19/2)+1,MOD(COLUMNS($AF$3:BS$3),2)+1))","v":-7.8183148246803027},{"$f":"IF(OR(MOD($AF19,2)=0,INDEX(relationships,INT($AF19/2)+1,BT$3)<>1),INDEX($AC$5:$AD$24,BT$3,MOD(COLUMNS($AF$3:BT$3),2)+1),INDEX($AC$5:$AD$24,INT($AF19/2)+1,MOD(COLUMNS($AF$3:BT$3),2)+1))","v":6.2348980185873293},null,{"$f":"IF(OR(MOD($AF19,2)=0,INDEX(relationships,INT($AF19/2)+1,BV$3)<>2),INDEX($AC$5:$AD$24,BV$3,MOD(COLUMNS($BU$3:BV$3),2)+1),INDEX($AC$5:$AD$24,INT($AF19/2)+1,MOD(COLUMNS($BU$3:BV$3),2)+1))","v":7.8183148246802983},{"$f":"IF(OR(MOD($AF19,2)=0,INDEX(relationships,INT($AF19/2)+1,BW$3)<>2),INDEX($AC$5:$AD$24,BW$3,MOD(COLUMNS($BU$3:BW$3),2)+1),INDEX($AC$5:$AD$24,INT($AF19/2)+1,MOD(COLUMNS($BU$3:BW$3),2)+1))","v":6.2348980185873355},{"$f":"IF(OR(MOD($AF19,2)=0,INDEX(relationships,INT($AF19/2)+1,BX$3)<>2),INDEX($AC$5:$AD$24,BX$3,MOD(COLUMNS($BU$3:BX$3),2)+1),INDEX($AC$5:$AD$24,INT($AF19/2)+1,MOD(COLUMNS($BU$3:BX$3),2)+1))","v":9.7492791218182369},{"$f":"IF(OR(MOD($AF19,2)=0,INDEX(relationships,INT($AF19/2)+1,BY$3)<>2),INDEX($AC$5:$AD$24,BY$3,MOD(COLUMNS($BU$3:BY$3),2)+1),INDEX($AC$5:$AD$24,INT($AF19/2)+1,MOD(COLUMNS($BU$3:BY$3),2)+1))","v":-2.2252093395631434},{"$f":"IF(OR(MOD($AF19,2)=0,INDEX(relationships,INT($AF19/2)+1,BZ$3)<>2),INDEX($AC$5:$AD$24,BZ$3,MOD(COLUMNS($BU$3:BZ$3),2)+1),INDEX($AC$5:$AD$24,INT($AF19/2)+1,MOD(COLUMNS($BU$3:BZ$3),2)+1))","v":4.3388373911755824},{"$f":"IF(OR(MOD($AF19,2)=0,INDEX(relationships,INT($AF19/2)+1,CA$3)<>2),INDEX($AC$5:$AD$24,CA$3,MOD(COLUMNS($BU$3:CA$3),2)+1),INDEX($AC$5:$AD$24,INT($AF19/2)+1,MOD(COLUMNS($BU$3:CA$3),2)+1))","v":-9.0096886790241903},{"$f":"IF(OR(MOD($AF19,2)=0,INDEX(relationships,INT($AF19/2)+1,CB$3)<>2),INDEX($AC$5:$AD$24,CB$3,MOD(COLUMNS($BU$3:CB$3),2)+1),INDEX($AC$5:$AD$24,INT($AF19/2)+1,MOD(COLUMNS($BU$3:CB$3),2)+1))","v":-4.3388373911755798},{"$f":"IF(OR(MOD($AF19,2)=0,INDEX(relationships,INT($AF19/2)+1,CC$3)<>2),INDEX($AC$5:$AD$24,CC$3,MOD(COLUMNS($BU$3:CC$3),2)+1),INDEX($AC$5:$AD$24,INT($AF19/2)+1,MOD(COLUMNS($BU$3:CC$3),2)+1))","v":-9.0096886790241921},{"$f":"IF(OR(MOD($AF19,2)=0,INDEX(relationships,INT($AF19/2)+1,CD$3)<>2),INDEX($AC$5:$AD$24,CD$3,MOD(COLUMNS($BU$3:CD$3),2)+1),INDEX($AC$5:$AD$24,INT($AF19/2)+1,MOD(COLUMNS($BU$3:CD$3),2)+1))","v":-9.7492791218182369},{"$f":"IF(OR(MOD($AF19,2)=0,INDEX(relationships,INT($AF19/2)+1,CE$3)<>2),INDEX($AC$5:$AD$24,CE$3,MOD(COLUMNS($BU$3:CE$3),2)+1),INDEX($AC$5:$AD$24,INT($AF19/2)+1,MOD(COLUMNS($BU$3:CE$3),2)+1))","v":-2.225209339563146},{"$f":"IF(OR(MOD($AF19,2)=0,INDEX(relationships,INT($AF19/2)+1,CF$3)<>2),INDEX($AC$5:$AD$24,CF$3,MOD(COLUMNS($BU$3:CF$3),2)+1),INDEX($AC$5:$AD$24,INT($AF19/2)+1,MOD(COLUMNS($BU$3:CF$3),2)+1))","v":-7.8183148246802991},{"$f":"IF(OR(MOD($AF19,2)=0,INDEX(relationships,INT($AF19/2)+1,CG$3)<>2),INDEX($AC$5:$AD$24,CG$3,MOD(COLUMNS($BU$3:CG$3),2)+1),INDEX($AC$5:$AD$24,INT($AF19/2)+1,MOD(COLUMNS($BU$3:CG$3),2)+1))","v":6.2348980185873337},{"$f":"IF(OR(MOD($AF19,2)=0,INDEX(relationships,INT($AF19/2)+1,CH$3)<>2),INDEX($AC$5:$AD$24,CH$3,MOD(COLUMNS($BU$3:CH$3),2)+1),INDEX($AC$5:$AD$24,INT($AF19/2)+1,MOD(COLUMNS($BU$3:CH$3),2)+1))","v":-2.45029690981724E-15},{"$f":"IF(OR(MOD($AF19,2)=0,INDEX(relationships,INT($AF19/2)+1,CI$3)<>2),INDEX($AC$5:$AD$24,CI$3,MOD(COLUMNS($BU$3:CI$3),2)+1),INDEX($AC$5:$AD$24,INT($AF19/2)+1,MOD(COLUMNS($BU$3:CI$3),2)+1))","v":10},{"$f":"IF(OR(MOD($AF19,2)=0,INDEX(relationships,INT($AF19/2)+1,CJ$3)<>2),INDEX($AC$5:$AD$24,CJ$3,MOD(COLUMNS($BU$3:CJ$3),2)+1),INDEX($AC$5:$AD$24,INT($AF19/2)+1,MOD(COLUMNS($BU$3:CJ$3),2)+1))","v":7.8183148246802956},{"$f":"IF(OR(MOD($AF19,2)=0,INDEX(relationships,INT($AF19/2)+1,CK$3)<>2),INDEX($AC$5:$AD$24,CK$3,MOD(COLUMNS($BU$3:CK$3),2)+1),INDEX($AC$5:$AD$24,INT($AF19/2)+1,MOD(COLUMNS($BU$3:CK$3),2)+1))","v":6.2348980185873373},{"$f":"IF(OR(MOD($AF19,2)=0,INDEX(relationships,INT($AF19/2)+1,CL$3)<>2),INDEX($AC$5:$AD$24,CL$3,MOD(COLUMNS($BU$3:CL$3),2)+1),INDEX($AC$5:$AD$24,INT($AF19/2)+1,MOD(COLUMNS($BU$3:CL$3),2)+1))","v":9.7492791218182369},{"$f":"IF(OR(MOD($AF19,2)=0,INDEX(relationships,INT($AF19/2)+1,CM$3)<>2),INDEX($AC$5:$AD$24,CM$3,MOD(COLUMNS($BU$3:CM$3),2)+1),INDEX($AC$5:$AD$24,INT($AF19/2)+1,MOD(COLUMNS($BU$3:CM$3),2)+1))","v":-2.2252093395631407},{"$f":"IF(OR(MOD($AF19,2)=0,INDEX(relationships,INT($AF19/2)+1,CN$3)<>2),INDEX($AC$5:$AD$24,CN$3,MOD(COLUMNS($BU$3:CN$3),2)+1),INDEX($AC$5:$AD$24,INT($AF19/2)+1,MOD(COLUMNS($BU$3:CN$3),2)+1))","v":4.3388373911755842},{"$f":"IF(OR(MOD($AF19,2)=0,INDEX(relationships,INT($AF19/2)+1,CO$3)<>2),INDEX($AC$5:$AD$24,CO$3,MOD(COLUMNS($BU$3:CO$3),2)+1),INDEX($AC$5:$AD$24,INT($AF19/2)+1,MOD(COLUMNS($BU$3:CO$3),2)+1))","v":-9.0096886790241886},{"$f":"IF(OR(MOD($AF19,2)=0,INDEX(relationships,INT($AF19/2)+1,CP$3)<>2),INDEX($AC$5:$AD$24,CP$3,MOD(COLUMNS($BU$3:CP$3),2)+1),INDEX($AC$5:$AD$24,INT($AF19/2)+1,MOD(COLUMNS($BU$3:CP$3),2)+1))","v":-4.338837391175578},{"$f":"IF(OR(MOD($AF19,2)=0,INDEX(relationships,INT($AF19/2)+1,CQ$3)<>2),INDEX($AC$5:$AD$24,CQ$3,MOD(COLUMNS($BU$3:CQ$3),2)+1),INDEX($AC$5:$AD$24,INT($AF19/2)+1,MOD(COLUMNS($BU$3:CQ$3),2)+1))","v":-9.0096886790241921},{"$f":"IF(OR(MOD($AF19,2)=0,INDEX(relationships,INT($AF19/2)+1,CR$3)<>2),INDEX($AC$5:$AD$24,CR$3,MOD(COLUMNS($BU$3:CR$3),2)+1),INDEX($AC$5:$AD$24,INT($AF19/2)+1,MOD(COLUMNS($BU$3:CR$3),2)+1))","v":-9.7492791218182351},{"$f":"IF(OR(MOD($AF19,2)=0,INDEX(relationships,INT($AF19/2)+1,CS$3)<>2),INDEX($AC$5:$AD$24,CS$3,MOD(COLUMNS($BU$3:CS$3),2)+1),INDEX($AC$5:$AD$24,INT($AF19/2)+1,MOD(COLUMNS($BU$3:CS$3),2)+1))","v":-2.2252093395631483},{"$f":"IF(OR(MOD($AF19,2)=0,INDEX(relationships,INT($AF19/2)+1,CT$3)<>2),INDEX($AC$5:$AD$24,CT$3,MOD(COLUMNS($BU$3:CT$3),2)+1),INDEX($AC$5:$AD$24,INT($AF19/2)+1,MOD(COLUMNS($BU$3:CT$3),2)+1))","v":-7.8183148246803018},{"$f":"IF(OR(MOD($AF19,2)=0,INDEX(relationships,INT($AF19/2)+1,CU$3)<>2),INDEX($AC$5:$AD$24,CU$3,MOD(COLUMNS($BU$3:CU$3),2)+1),INDEX($AC$5:$AD$24,INT($AF19/2)+1,MOD(COLUMNS($BU$3:CU$3),2)+1))","v":6.2348980185873319},{"$f":"IF(OR(MOD($AF19,2)=0,INDEX(relationships,INT($AF19/2)+1,CV$3)<>2),INDEX($AC$5:$AD$24,CV$3,MOD(COLUMNS($BU$3:CV$3),2)+1),INDEX($AC$5:$AD$24,INT($AF19/2)+1,MOD(COLUMNS($BU$3:CV$3),2)+1))","v":-4.90059381963448E-15},{"$f":"IF(OR(MOD($AF19,2)=0,INDEX(relationships,INT($AF19/2)+1,CW$3)<>2),INDEX($AC$5:$AD$24,CW$3,MOD(COLUMNS($BU$3:CW$3),2)+1),INDEX($AC$5:$AD$24,INT($AF19/2)+1,MOD(COLUMNS($BU$3:CW$3),2)+1))","v":10},{"$f":"IF(OR(MOD($AF19,2)=0,INDEX(relationships,INT($AF19/2)+1,CX$3)<>2),INDEX($AC$5:$AD$24,CX$3,MOD(COLUMNS($BU$3:CX$3),2)+1),INDEX($AC$5:$AD$24,INT($AF19/2)+1,MOD(COLUMNS($BU$3:CX$3),2)+1))","v":7.8183148246802947},{"$f":"IF(OR(MOD($AF19,2)=0,INDEX(relationships,INT($AF19/2)+1,CY$3)<>2),INDEX($AC$5:$AD$24,CY$3,MOD(COLUMNS($BU$3:CY$3),2)+1),INDEX($AC$5:$AD$24,INT($AF19/2)+1,MOD(COLUMNS($BU$3:CY$3),2)+1))","v":6.2348980185873391},{"$f":"IF(OR(MOD($AF19,2)=0,INDEX(relationships,INT($AF19/2)+1,CZ$3)<>2),INDEX($AC$5:$AD$24,CZ$3,MOD(COLUMNS($BU$3:CZ$3),2)+1),INDEX($AC$5:$AD$24,INT($AF19/2)+1,MOD(COLUMNS($BU$3:CZ$3),2)+1))","v":9.7492791218182369},{"$f":"IF(OR(MOD($AF19,2)=0,INDEX(relationships,INT($AF19/2)+1,DA$3)<>2),INDEX($AC$5:$AD$24,DA$3,MOD(COLUMNS($BU$3:DA$3),2)+1),INDEX($AC$5:$AD$24,INT($AF19/2)+1,MOD(COLUMNS($BU$3:DA$3),2)+1))","v":-2.2252093395631385},{"$f":"IF(OR(MOD($AF19,2)=0,INDEX(relationships,INT($AF19/2)+1,DB$3)<>2),INDEX($AC$5:$AD$24,DB$3,MOD(COLUMNS($BU$3:DB$3),2)+1),INDEX($AC$5:$AD$24,INT($AF19/2)+1,MOD(COLUMNS($BU$3:DB$3),2)+1))","v":4.3388373911755869},{"$f":"IF(OR(MOD($AF19,2)=0,INDEX(relationships,INT($AF19/2)+1,DC$3)<>2),INDEX($AC$5:$AD$24,DC$3,MOD(COLUMNS($BU$3:DC$3),2)+1),INDEX($AC$5:$AD$24,INT($AF19/2)+1,MOD(COLUMNS($BU$3:DC$3),2)+1))","v":-9.0096886790241886},{"$f":"IF(OR(MOD($AF19,2)=0,INDEX(relationships,INT($AF19/2)+1,DD$3)<>2),INDEX($AC$5:$AD$24,DD$3,MOD(COLUMNS($BU$3:DD$3),2)+1),INDEX($AC$5:$AD$24,INT($AF19/2)+1,MOD(COLUMNS($BU$3:DD$3),2)+1))","v":-4.3388373911755753},{"$f":"IF(OR(MOD($AF19,2)=0,INDEX(relationships,INT($AF19/2)+1,DE$3)<>2),INDEX($AC$5:$AD$24,DE$3,MOD(COLUMNS($BU$3:DE$3),2)+1),INDEX($AC$5:$AD$24,INT($AF19/2)+1,MOD(COLUMNS($BU$3:DE$3),2)+1))","v":-9.0096886790241939},{"$f":"IF(OR(MOD($AF19,2)=0,INDEX(relationships,INT($AF19/2)+1,DF$3)<>2),INDEX($AC$5:$AD$24,DF$3,MOD(COLUMNS($BU$3:DF$3),2)+1),INDEX($AC$5:$AD$24,INT($AF19/2)+1,MOD(COLUMNS($BU$3:DF$3),2)+1))","v":-9.7492791218182351},{"$f":"IF(OR(MOD($AF19,2)=0,INDEX(relationships,INT($AF19/2)+1,DG$3)<>2),INDEX($AC$5:$AD$24,DG$3,MOD(COLUMNS($BU$3:DG$3),2)+1),INDEX($AC$5:$AD$24,INT($AF19/2)+1,MOD(COLUMNS($BU$3:DG$3),2)+1))","v":-2.2252093395631505},{"$f":"IF(OR(MOD($AF19,2)=0,INDEX(relationships,INT($AF19/2)+1,DH$3)<>2),INDEX($AC$5:$AD$24,DH$3,MOD(COLUMNS($BU$3:DH$3),2)+1),INDEX($AC$5:$AD$24,INT($AF19/2)+1,MOD(COLUMNS($BU$3:DH$3),2)+1))","v":-7.8183148246803027},{"$f":"IF(OR(MOD($AF19,2)=0,INDEX(relationships,INT($AF19/2)+1,DI$3)<>2),INDEX($AC$5:$AD$24,DI$3,MOD(COLUMNS($BU$3:DI$3),2)+1),INDEX($AC$5:$AD$24,INT($AF19/2)+1,MOD(COLUMNS($BU$3:DI$3),2)+1))","v":6.2348980185873293},null,-2.45029690981724E-15,10,-2.45029690981724E-15,10]
[null,{"$f":"'Group Data'!B33","v":0},{"$f":"'Group Data'!AJ33","v":0},{"$f":"'Group Data'!AK33","v":0},{"$f":"'Group Data'!AL33","v":0},{"$f":"'Group Data'!AM33","v":0},{"$f":"'Group Data'!AN33","v":0},{"$f":"'Group Data'!AO33","v":0},{"$f":"'Group Data'!AP33","v":0},{"$f":"'Group Data'!AQ33","v":0},{"$f":"'Group Data'!AR33","v":0},{"$f":"'Group Data'!AS33","v":0},{"$f":"'Group Data'!AT33","v":0},{"$f":"'Group Data'!AU33","v":0},{"$f":"'Group Data'!AV33","v":0},{"$f":"'Group Data'!AW33","v":0},{"$f":"'Group Data'!AX33","v":0},null,null,null,null,null,null,null,"Selection Summary",null,null,16,9.7492791218182369,-2.2252093395631385,null,15,{"$f":"IF(OR(MOD($AF20,2)=0,INDEX(relationships,INT($AF20/2)+1,AG$3)<>1),INDEX($AC$5:$AD$24,AG$3,MOD(COLUMNS($AF$3:AG$3),2)+1),INDEX($AC$5:$AD$24,INT($AF20/2)+1,MOD(COLUMNS($AF$3:AG$3),2)+1))","v":7.8183148246802983},{"$f":"IF(OR(MOD($AF20,2)=0,INDEX(relationships,INT($AF20/2)+1,AH$3)<>1),INDEX($AC$5:$AD$24,AH$3,MOD(COLUMNS($AF$3:AH$3),2)+1),INDEX($AC$5:$AD$24,INT($AF20/2)+1,MOD(COLUMNS($AF$3:AH$3),2)+1))","v":6.2348980185873355},{"$f":"IF(OR(MOD($AF20,2)=0,INDEX(relationships,INT($AF20/2)+1,AI$3)<>1),INDEX($AC$5:$AD$24,AI$3,MOD(COLUMNS($AF$3:AI$3),2)+1),INDEX($AC$5:$AD$24,INT($AF20/2)+1,MOD(COLUMNS($AF$3:AI$3),2)+1))","v":9.7492791218182369},{"$f":"IF(OR(MOD($AF20,2)=0,INDEX(relationships,INT($AF20/2)+1,AJ$3)<>1),INDEX($AC$5:$AD$24,AJ$3,MOD(COLUMNS($AF$3:AJ$3),2)+1),INDEX($AC$5:$AD$24,INT($AF20/2)+1,MOD(COLUMNS($AF$3:AJ$3),2)+1))","v":-2.2252093395631434},{"$f":"IF(OR(MOD($AF20,2)=0,INDEX(relationships,INT($AF20/2)+1,AK$3)<>1),INDEX($AC$5:$AD$24,AK$3,MOD(COLUMNS($AF$3:AK$3),2)+1),INDEX($AC$5:$AD$24,INT($AF20/2)+1,MOD(COLUMNS($AF$3:AK$3),2)+1))","v":4.3388373911755824},{"$f":"IF(OR(MOD($AF20,2)=0,INDEX(relationships,INT($AF20/2)+1,AL$3)<>1),INDEX($AC$5:$AD$24,AL$3,MOD(COLUMNS($AF$3:AL$3),2)+1),INDEX($AC$5:$AD$24,INT($AF20/2)+1,MOD(COLUMNS($AF$3:AL$3),2)+1))","v":-9.0096886790241903},{"$f":"IF(OR(MOD($AF20,2)=0,INDEX(relationships,INT($AF20/2)+1,AM$3)<>1),INDEX($AC$5:$AD$24,AM$3,MOD(COLUMNS($AF$3:AM$3),2)+1),INDEX($AC$5:$AD$24,INT($AF20/2)+1,MOD(COLUMNS($AF$3:AM$3),2)+1))","v":-4.3388373911755798},{"$f":"IF(OR(MOD($AF20,2)=0,INDEX(relationships,INT($AF20/2)+1,AN$3)<>1),INDEX($AC$5:$AD$24,AN$3,MOD(COLUMNS($AF$3:AN$3),2)+1),INDEX($AC$5:$AD$24,INT($AF20/2)+1,MOD(COLUMNS($AF$3:AN$3),2)+1))","v":-9.0096886790241921},{"$f":"IF(OR(MOD($AF20,2)=0,INDEX(relationships,INT($AF20/2)+1,AO$3)<>1),INDEX($AC$5:$AD$24,AO$3,MOD(COLUMNS($AF$3:AO$3),2)+1),INDEX($AC$5:$AD$24,INT($AF20/2)+1,MOD(COLUMNS($AF$3:AO$3),2)+1))","v":-9.7492791218182369},{"$f":"IF(OR(MOD($AF20,2)=0,INDEX(relationships,INT($AF20/2)+1,AP$3)<>1),INDEX($AC$5:$AD$24,AP$3,MOD(COLUMNS($AF$3:AP$3),2)+1),INDEX($AC$5:$AD$24,INT($AF20/2)+1,MOD(COLUMNS($AF$3:AP$3),2)+1))","v":-2.225209339563146},{"$f":"IF(OR(MOD($AF20,2)=0,INDEX(relationships,INT($AF20/2)+1,AQ$3)<>1),INDEX($AC$5:$AD$24,AQ$3,MOD(COLUMNS($AF$3:AQ$3),2)+1),INDEX($AC$5:$AD$24,INT($AF20/2)+1,MOD(COLUMNS($AF$3:AQ$3),2)+1))","v":-7.8183148246802991},{"$f":"IF(OR(MOD($AF20,2)=0,INDEX(relationships,INT($AF20/2)+1,AR$3)<>1),INDEX($AC$5:$AD$24,AR$3,MOD(COLUMNS($AF$3:AR$3),2)+1),INDEX($AC$5:$AD$24,INT($AF20/2)+1,MOD(COLUMNS($AF$3:AR$3),2)+1))","v":6.2348980185873337},{"$f":"IF(OR(MOD($AF20,2)=0,INDEX(relationships,INT($AF20/2)+1,AS$3)<>1),INDEX($AC$5:$AD$24,AS$3,MOD(COLUMNS($AF$3:AS$3),2)+1),INDEX($AC$5:$AD$24,INT($AF20/2)+1,MOD(COLUMNS($AF$3:AS$3),2)+1))","v":-2.45029690981724E-15},{"$f":"IF(OR(MOD($AF20,2)=0,INDEX(relationships,INT($AF20/2)+1,AT$3)<>1),INDEX($AC$5:$AD$24,AT$3,MOD(COLUMNS($AF$3:AT$3),2)+1),INDEX($AC$5:$AD$24,INT($AF20/2)+1,MOD(COLUMNS($AF$3:AT$3),2)+1))","v":10},{"$f":"IF(OR(MOD($AF20,2)=0,INDEX(relationships,INT($AF20/2)+1,AU$3)<>1),INDEX($AC$5:$AD$24,AU$3,MOD(COLUMNS($AF$3:AU$3),2)+1),INDEX($AC$5:$AD$24,INT($AF20/2)+1,MOD(COLUMNS($AF$3:AU$3),2)+1))","v":7.8183148246802956},{"$f":"IF(OR(MOD($AF20,2)=0,INDEX(relationships,INT($AF20/2)+1,AV$3)<>1),INDEX($AC$5:$AD$24,AV$3,MOD(COLUMNS($AF$3:AV$3),2)+1),INDEX($AC$5:$AD$24,INT($AF20/2)+1,MOD(COLUMNS($AF$3:AV$3),2)+1))","v":6.2348980185873373},{"$f":"IF(OR(MOD($AF20,2)=0,INDEX(relationships,INT($AF20/2)+1,AW$3)<>1),INDEX($AC$5:$AD$24,AW$3,MOD(COLUMNS($AF$3:AW$3),2)+1),INDEX($AC$5:$AD$24,INT($AF20/2)+1,MOD(COLUMNS($AF$3:AW$3),2)+1))","v":9.7492791218182369},{"$f":"IF(OR(MOD($AF20,2)=0,INDEX(relationships,INT($AF20/2)+1,AX$3)<>1),INDEX($AC$5:$AD$24,AX$3,MOD(COLUMNS($AF$3:AX$3),2)+1),INDEX($AC$5:$AD$24,INT($AF20/2)+1,MOD(COLUMNS($AF$3:AX$3),2)+1))","v":-2.2252093395631407},{"$f":"IF(OR(MOD($AF20,2)=0,INDEX(relationships,INT($AF20/2)+1,AY$3)<>1),INDEX($AC$5:$AD$24,AY$3,MOD(COLUMNS($AF$3:AY$3),2)+1),INDEX($AC$5:$AD$24,INT($AF20/2)+1,MOD(COLUMNS($AF$3:AY$3),2)+1))","v":4.3388373911755842},{"$f":"IF(OR(MOD($AF20,2)=0,INDEX(relationships,INT($AF20/2)+1,AZ$3)<>1),INDEX($AC$5:$AD$24,AZ$3,MOD(COLUMNS($AF$3:AZ$3),2)+1),INDEX($AC$5:$AD$24,INT($AF20/2)+1,MOD(COLUMNS($AF$3:AZ$3),2)+1))","v":-9.0096886790241886},{"$f":"IF(OR(MOD($AF20,2)=0,INDEX(relationships,INT($AF20/2)+1,BA$3)<>1),INDEX($AC$5:$AD$24,BA$3,MOD(COLUMNS($AF$3:BA$3),2)+1),INDEX($AC$5:$AD$24,INT($AF20/2)+1,MOD(COLUMNS($AF$3:BA$3),2)+1))","v":-4.338837391175578},{"$f":"IF(OR(MOD($AF20,2)=0,INDEX(relationships,INT($AF20/2)+1,BB$3)<>1),INDEX($AC$5:$AD$24,BB$3,MOD(COLUMNS($AF$3:BB$3),2)+1),INDEX($AC$5:$AD$24,INT($AF20/2)+1,MOD(COLUMNS($AF$3:BB$3),2)+1))","v":-9.0096886790241921},{"$f":"IF(OR(MOD($AF20,2)=0,INDEX(relationships,INT($AF20/2)+1,BC$3)<>1),INDEX($AC$5:$AD$24,BC$3,MOD(COLUMNS($AF$3:BC$3),2)+1),INDEX($AC$5:$AD$24,INT($AF20/2)+1,MOD(COLUMNS($AF$3:BC$3),2)+1))","v":-9.7492791218182351},{"$f":"IF(OR(MOD($AF20,2)=0,INDEX(relationships,INT($AF20/2)+1,BD$3)<>1),INDEX($AC$5:$AD$24,BD$3,MOD(COLUMNS($AF$3:BD$3),2)+1),INDEX($AC$5:$AD$24,INT($AF20/2)+1,MOD(COLUMNS($AF$3:BD$3),2)+1))","v":-2.2252093395631483},{"$f":"IF(OR(MOD($AF20,2)=0,INDEX(relationships,INT($AF20/2)+1,BE$3)<>1),INDEX($AC$5:$AD$24,BE$3,MOD(COLUMNS($AF$3:BE$3),2)+1),INDEX($AC$5:$AD$24,INT($AF20/2)+1,MOD(COLUMNS($AF$3:BE$3),2)+1))","v":-7.8183148246803018},{"$f":"IF(OR(MOD($AF20,2)=0,INDEX(relationships,INT($AF20/2)+1,BF$3)<>1),INDEX($AC$5:$AD$24,BF$3,MOD(COLUMNS($AF$3:BF$3),2)+1),INDEX($AC$5:$AD$24,INT($AF20/2)+1,MOD(COLUMNS($AF$3:BF$3),2)+1))","v":6.2348980185873319},{"$f":"IF(OR(MOD($AF20,2)=0,INDEX(relationships,INT($AF20/2)+1,BG$3)<>1),INDEX($AC$5:$AD$24,BG$3,MOD(COLUMNS($AF$3:BG$3),2)+1),INDEX($AC$5:$AD$24,INT($AF20/2)+1,MOD(COLUMNS($AF$3:BG$3),2)+1))","v":-4.90059381963448E-15},{"$f":"IF(OR(MOD($AF20,2)=0,INDEX(relationships,INT($AF20/2)+1,BH$3)<>1),INDEX($AC$5:$AD$24,BH$3,MOD(COLUMNS($AF$3:BH$3),2)+1),INDEX($AC$5:$AD$24,INT($AF20/2)+1,MOD(COLUMNS($AF$3:BH$3),2)+1))","v":10},{"$f":"IF(OR(MOD($AF20,2)=0,INDEX(relationships,INT($AF20/2)+1,BI$3)<>1),INDEX($AC$5:$AD$24,BI$3,MOD(COLUMNS($AF$3:BI$3),2)+1),INDEX($AC$5:$AD$24,INT($AF20/2)+1,MOD(COLUMNS($AF$3:BI$3),2)+1))","v":7.8183148246802947},{"$f":"IF(OR(MOD($AF20,2)=0,INDEX(relationships,INT($AF20/2)+1,BJ$3)<>1),INDEX($AC$5:$AD$24,BJ$3,MOD(COLUMNS($AF$3:BJ$3),2)+1),INDEX($AC$5:$AD$24,INT($AF20/2)+1,MOD(COLUMNS($AF$3:BJ$3),2)+1))","v":6.2348980185873391},{"$f":"IF(OR(MOD($AF20,2)=0,INDEX(relationships,INT($AF20/2)+1,BK$3)<>1),INDEX($AC$5:$AD$24,BK$3,MOD(COLUMNS($AF$3:BK$3),2)+1),INDEX($AC$5:$AD$24,INT($AF20/2)+1,MOD(COLUMNS($AF$3:BK$3),2)+1))","v":9.7492791218182369},{"$f":"IF(OR(MOD($AF20,2)=0,INDEX(relationships,INT($AF20/2)+1,BL$3)<>1),INDEX($AC$5:$AD$24,BL$3,MOD(COLUMNS($AF$3:BL$3),2)+1),INDEX($AC$5:$AD$24,INT($AF20/2)+1,MOD(COLUMNS($AF$3:BL$3),2)+1))","v":-2.2252093395631385},{"$f":"IF(OR(MOD($AF20,2)=0,INDEX(relationships,INT($AF20/2)+1,BM$3)<>1),INDEX($AC$5:$AD$24,BM$3,MOD(COLUMNS($AF$3:BM$3),2)+1),INDEX($AC$5:$AD$24,INT($AF20/2)+1,MOD(COLUMNS($AF$3:BM$3),2)+1))","v":4.3388373911755869},{"$f":"IF(OR(MOD($AF20,2)=0,INDEX(relationships,INT($AF20/2)+1,BN$3)<>1),INDEX($AC$5:$AD$24,BN$3,MOD(COLUMNS($AF$3:BN$3),2)+1),INDEX($AC$5:$AD$24,INT($AF20/2)+1,MOD(COLUMNS($AF$3:BN$3),2)+1))","v":-9.0096886790241886},{"$f":"IF(OR(MOD($AF20,2)=0,INDEX(relationships,INT($AF20/2)+1,BO$3)<>1),INDEX($AC$5:$AD$24,BO$3,MOD(COLUMNS($AF$3:BO$3),2)+1),INDEX($AC$5:$AD$24,INT($AF20/2)+1,MOD(COLUMNS($AF$3:BO$3),2)+1))","v":-4.3388373911755753},{"$f":"IF(OR(MOD($AF20,2)=0,INDEX(relationships,INT($AF20/2)+1,BP$3)<>1),INDEX($AC$5:$AD$24,BP$3,MOD(COLUMNS($AF$3:BP$3),2)+1),INDEX($AC$5:$AD$24,INT($AF20/2)+1,MOD(COLUMNS($AF$3:BP$3),2)+1))","v":-9.0096886790241939},{"$f":"IF(OR(MOD($AF20,2)=0,INDEX(relationships,INT($AF20/2)+1,BQ$3)<>1),INDEX($AC$5:$AD$24,BQ$3,MOD(COLUMNS($AF$3:BQ$3),2)+1),INDEX($AC$5:$AD$24,INT($AF20/2)+1,MOD(COLUMNS($AF$3:BQ$3),2)+1))","v":-9.7492791218182351},{"$f":"IF(OR(MOD($AF20,2)=0,INDEX(relationships,INT($AF20/2)+1,BR$3)<>1),INDEX($AC$5:$AD$24,BR$3,MOD(COLUMNS($AF$3:BR$3),2)+1),INDEX($AC$5:$AD$24,INT($AF20/2)+1,MOD(COLUMNS($AF$3:BR$3),2)+1))","v":-2.2252093395631505},{"$f":"IF(OR(MOD($AF20,2)=0,INDEX(relationships,INT($AF20/2)+1,BS$3)<>1),INDEX($AC$5:$AD$24,BS$3,MOD(COLUMNS($AF$3:BS$3),2)+1),INDEX($AC$5:$AD$24,INT($AF20/2)+1,MOD(COLUMNS($AF$3:BS$3),2)+1))","v":-7.8183148246803027},{"$f":"IF(OR(MOD($AF20,2)=0,INDEX(relationships,INT($AF20/2)+1,BT$3)<>1),INDEX($AC$5:$AD$24,BT$3,MOD(COLUMNS($AF$3:BT$3),2)+1),INDEX($AC$5:$AD$24,INT($AF20/2)+1,MOD(COLUMNS($AF$3:BT$3),2)+1))","v":6.2348980185873293},null,{"$f":"IF(OR(MOD($AF20,2)=0,INDEX(relationships,INT($AF20/2)+1,BV$3)<>2),INDEX($AC$5:$AD$24,BV$3,MOD(COLUMNS($BU$3:BV$3),2)+1),INDEX($AC$5:$AD$24,INT($AF20/2)+1,MOD(COLUMNS($BU$3:BV$3),2)+1))","v":7.8183148246802983},{"$f":"IF(OR(MOD($AF20,2)=0,INDEX(relationships,INT($AF20/2)+1,BW$3)<>2),INDEX($AC$5:$AD$24,BW$3,MOD(COLUMNS($BU$3:BW$3),2)+1),INDEX($AC$5:$AD$24,INT($AF20/2)+1,MOD(COLUMNS($BU$3:BW$3),2)+1))","v":6.2348980185873355},{"$f":"IF(OR(MOD($AF20,2)=0,INDEX(relationships,INT($AF20/2)+1,BX$3)<>2),INDEX($AC$5:$AD$24,BX$3,MOD(COLUMNS($BU$3:BX$3),2)+1),INDEX($AC$5:$AD$24,INT($AF20/2)+1,MOD(COLUMNS($BU$3:BX$3),2)+1))","v":9.7492791218182369},{"$f":"IF(OR(MOD($AF20,2)=0,INDEX(relationships,INT($AF20/2)+1,BY$3)<>2),INDEX($AC$5:$AD$24,BY$3,MOD(COLUMNS($BU$3:BY$3),2)+1),INDEX($AC$5:$AD$24,INT($AF20/2)+1,MOD(COLUMNS($BU$3:BY$3),2)+1))","v":-2.2252093395631434},{"$f":"IF(OR(MOD($AF20,2)=0,INDEX(relationships,INT($AF20/2)+1,BZ$3)<>2),INDEX($AC$5:$AD$24,BZ$3,MOD(COLUMNS($BU$3:BZ$3),2)+1),INDEX($AC$5:$AD$24,INT($AF20/2)+1,MOD(COLUMNS($BU$3:BZ$3),2)+1))","v":4.3388373911755824},{"$f":"IF(OR(MOD($AF20,2)=0,INDEX(relationships,INT($AF20/2)+1,CA$3)<>2),INDEX($AC$5:$AD$24,CA$3,MOD(COLUMNS($BU$3:CA$3),2)+1),INDEX($AC$5:$AD$24,INT($AF20/2)+1,MOD(COLUMNS($BU$3:CA$3),2)+1))","v":-9.0096886790241903},{"$f":"IF(OR(MOD($AF20,2)=0,INDEX(relationships,INT($AF20/2)+1,CB$3)<>2),INDEX($AC$5:$AD$24,CB$3,MOD(COLUMNS($BU$3:CB$3),2)+1),INDEX($AC$5:$AD$24,INT($AF20/2)+1,MOD(COLUMNS($BU$3:CB$3),2)+1))","v":-4.3388373911755798},{"$f":"IF(OR(MOD($AF20,2)=0,INDEX(relationships,INT($AF20/2)+1,CC$3)<>2),INDEX($AC$5:$AD$24,CC$3,MOD(COLUMNS($BU$3:CC$3),2)+1),INDEX($AC$5:$AD$24,INT($AF20/2)+1,MOD(COLUMNS($BU$3:CC$3),2)+1))","v":-9.0096886790241921},{"$f":"IF(OR(MOD($AF20,2)=0,INDEX(relationships,INT($AF20/2)+1,CD$3)<>2),INDEX($AC$5:$AD$24,CD$3,MOD(COLUMNS($BU$3:CD$3),2)+1),INDEX($AC$5:$AD$24,INT($AF20/2)+1,MOD(COLUMNS($BU$3:CD$3),2)+1))","v":-9.7492791218182369},{"$f":"IF(OR(MOD($AF20,2)=0,INDEX(relationships,INT($AF20/2)+1,CE$3)<>2),INDEX($AC$5:$AD$24,CE$3,MOD(COLUMNS($BU$3:CE$3),2)+1),INDEX($AC$5:$AD$24,INT($AF20/2)+1,MOD(COLUMNS($BU$3:CE$3),2)+1))","v":-2.225209339563146},{"$f":"IF(OR(MOD($AF20,2)=0,INDEX(relationships,INT($AF20/2)+1,CF$3)<>2),INDEX($AC$5:$AD$24,CF$3,MOD(COLUMNS($BU$3:CF$3),2)+1),INDEX($AC$5:$AD$24,INT($AF20/2)+1,MOD(COLUMNS($BU$3:CF$3),2)+1))","v":-7.8183148246802991},{"$f":"IF(OR(MOD($AF20,2)=0,INDEX(relationships,INT($AF20/2)+1,CG$3)<>2),INDEX($AC$5:$AD$24,CG$3,MOD(COLUMNS($BU$3:CG$3),2)+1),INDEX($AC$5:$AD$24,INT($AF20/2)+1,MOD(COLUMNS($BU$3:CG$3),2)+1))","v":6.2348980185873337},{"$f":"IF(OR(MOD($AF20,2)=0,INDEX(relationships,INT($AF20/2)+1,CH$3)<>2),INDEX($AC$5:$AD$24,CH$3,MOD(COLUMNS($BU$3:CH$3),2)+1),INDEX($AC$5:$AD$24,INT($AF20/2)+1,MOD(COLUMNS($BU$3:CH$3),2)+1))","v":-2.45029690981724E-15},{"$f":"IF(OR(MOD($AF20,2)=0,INDEX(relationships,INT($AF20/2)+1,CI$3)<>2),INDEX($AC$5:$AD$24,CI$3,MOD(COLUMNS($BU$3:CI$3),2)+1),INDEX($AC$5:$AD$24,INT($AF20/2)+1,MOD(COLUMNS($BU$3:CI$3),2)+1))","v":10},{"$f":"IF(OR(MOD($AF20,2)=0,INDEX(relationships,INT($AF20/2)+1,CJ$3)<>2),INDEX($AC$5:$AD$24,CJ$3,MOD(COLUMNS($BU$3:CJ$3),2)+1),INDEX($AC$5:$AD$24,INT($AF20/2)+1,MOD(COLUMNS($BU$3:CJ$3),2)+1))","v":7.8183148246802956},{"$f":"IF(OR(MOD($AF20,2)=0,INDEX(relationships,INT($AF20/2)+1,CK$3)<>2),INDEX($AC$5:$AD$24,CK$3,MOD(COLUMNS($BU$3:CK$3),2)+1),INDEX($AC$5:$AD$24,INT($AF20/2)+1,MOD(COLUMNS($BU$3:CK$3),2)+1))","v":6.2348980185873373},{"$f":"IF(OR(MOD($AF20,2)=0,INDEX(relationships,INT($AF20/2)+1,CL$3)<>2),INDEX($AC$5:$AD$24,CL$3,MOD(COLUMNS($BU$3:CL$3),2)+1),INDEX($AC$5:$AD$24,INT($AF20/2)+1,MOD(COLUMNS($BU$3:CL$3),2)+1))","v":9.7492791218182369},{"$f":"IF(OR(MOD($AF20,2)=0,INDEX(relationships,INT($AF20/2)+1,CM$3)<>2),INDEX($AC$5:$AD$24,CM$3,MOD(COLUMNS($BU$3:CM$3),2)+1),INDEX($AC$5:$AD$24,INT($AF20/2)+1,MOD(COLUMNS($BU$3:CM$3),2)+1))","v":-2.2252093395631407},{"$f":"IF(OR(MOD($AF20,2)=0,INDEX(relationships,INT($AF20/2)+1,CN$3)<>2),INDEX($AC$5:$AD$24,CN$3,MOD(COLUMNS($BU$3:CN$3),2)+1),INDEX($AC$5:$AD$24,INT($AF20/2)+1,MOD(COLUMNS($BU$3:CN$3),2)+1))","v":4.3388373911755842},{"$f":"IF(OR(MOD($AF20,2)=0,INDEX(relationships,INT($AF20/2)+1,CO$3)<>2),INDEX($AC$5:$AD$24,CO$3,MOD(COLUMNS($BU$3:CO$3),2)+1),INDEX($AC$5:$AD$24,INT($AF20/2)+1,MOD(COLUMNS($BU$3:CO$3),2)+1))","v":-9.0096886790241886},{"$f":"IF(OR(MOD($AF20,2)=0,INDEX(relationships,INT($AF20/2)+1,CP$3)<>2),INDEX($AC$5:$AD$24,CP$3,MOD(COLUMNS($BU$3:CP$3),2)+1),INDEX($AC$5:$AD$24,INT($AF20/2)+1,MOD(COLUMNS($BU$3:CP$3),2)+1))","v":-4.338837391175578},{"$f":"IF(OR(MOD($AF20,2)=0,INDEX(relationships,INT($AF20/2)+1,CQ$3)<>2),INDEX($AC$5:$AD$24,CQ$3,MOD(COLUMNS($BU$3:CQ$3),2)+1),INDEX($AC$5:$AD$24,INT($AF20/2)+1,MOD(COLUMNS($BU$3:CQ$3),2)+1))","v":-9.0096886790241921},{"$f":"IF(OR(MOD($AF20,2)=0,INDEX(relationships,INT($AF20/2)+1,CR$3)<>2),INDEX($AC$5:$AD$24,CR$3,MOD(COLUMNS($BU$3:CR$3),2)+1),INDEX($AC$5:$AD$24,INT($AF20/2)+1,MOD(COLUMNS($BU$3:CR$3),2)+1))","v":-9.7492791218182351},{"$f":"IF(OR(MOD($AF20,2)=0,INDEX(relationships,INT($AF20/2)+1,CS$3)<>2),INDEX($AC$5:$AD$24,CS$3,MOD(COLUMNS($BU$3:CS$3),2)+1),INDEX($AC$5:$AD$24,INT($AF20/2)+1,MOD(COLUMNS($BU$3:CS$3),2)+1))","v":-2.2252093395631483},{"$f":"IF(OR(MOD($AF20,2)=0,INDEX(relationships,INT($AF20/2)+1,CT$3)<>2),INDEX($AC$5:$AD$24,CT$3,MOD(COLUMNS($BU$3:CT$3),2)+1),INDEX($AC$5:$AD$24,INT($AF20/2)+1,MOD(COLUMNS($BU$3:CT$3),2)+1))","v":-7.8183148246803018},{"$f":"IF(OR(MOD($AF20,2)=0,INDEX(relationships,INT($AF20/2)+1,CU$3)<>2),INDEX($AC$5:$AD$24,CU$3,MOD(COLUMNS($BU$3:CU$3),2)+1),INDEX($AC$5:$AD$24,INT($AF20/2)+1,MOD(COLUMNS($BU$3:CU$3),2)+1))","v":6.2348980185873319},{"$f":"IF(OR(MOD($AF20,2)=0,INDEX(relationships,INT($AF20/2)+1,CV$3)<>2),INDEX($AC$5:$AD$24,CV$3,MOD(COLUMNS($BU$3:CV$3),2)+1),INDEX($AC$5:$AD$24,INT($AF20/2)+1,MOD(COLUMNS($BU$3:CV$3),2)+1))","v":-4.90059381963448E-15},{"$f":"IF(OR(MOD($AF20,2)=0,INDEX(relationships,INT($AF20/2)+1,CW$3)<>2),INDEX($AC$5:$AD$24,CW$3,MOD(COLUMNS($BU$3:CW$3),2)+1),INDEX($AC$5:$AD$24,INT($AF20/2)+1,MOD(COLUMNS($BU$3:CW$3),2)+1))","v":10},{"$f":"IF(OR(MOD($AF20,2)=0,INDEX(relationships,INT($AF20/2)+1,CX$3)<>2),INDEX($AC$5:$AD$24,CX$3,MOD(COLUMNS($BU$3:CX$3),2)+1),INDEX($AC$5:$AD$24,INT($AF20/2)+1,MOD(COLUMNS($BU$3:CX$3),2)+1))","v":7.8183148246802947},{"$f":"IF(OR(MOD($AF20,2)=0,INDEX(relationships,INT($AF20/2)+1,CY$3)<>2),INDEX($AC$5:$AD$24,CY$3,MOD(COLUMNS($BU$3:CY$3),2)+1),INDEX($AC$5:$AD$24,INT($AF20/2)+1,MOD(COLUMNS($BU$3:CY$3),2)+1))","v":6.2348980185873391},{"$f":"IF(OR(MOD($AF20,2)=0,INDEX(relationships,INT($AF20/2)+1,CZ$3)<>2),INDEX($AC$5:$AD$24,CZ$3,MOD(COLUMNS($BU$3:CZ$3),2)+1),INDEX($AC$5:$AD$24,INT($AF20/2)+1,MOD(COLUMNS($BU$3:CZ$3),2)+1))","v":9.7492791218182369},{"$f":"IF(OR(MOD($AF20,2)=0,INDEX(relationships,INT($AF20/2)+1,DA$3)<>2),INDEX($AC$5:$AD$24,DA$3,MOD(COLUMNS($BU$3:DA$3),2)+1),INDEX($AC$5:$AD$24,INT($AF20/2)+1,MOD(COLUMNS($BU$3:DA$3),2)+1))","v":-2.2252093395631385},{"$f":"IF(OR(MOD($AF20,2)=0,INDEX(relationships,INT($AF20/2)+1,DB$3)<>2),INDEX($AC$5:$AD$24,DB$3,MOD(COLUMNS($BU$3:DB$3),2)+1),INDEX($AC$5:$AD$24,INT($AF20/2)+1,MOD(COLUMNS($BU$3:DB$3),2)+1))","v":4.3388373911755869},{"$f":"IF(OR(MOD($AF20,2)=0,INDEX(relationships,INT($AF20/2)+1,DC$3)<>2),INDEX($AC$5:$AD$24,DC$3,MOD(COLUMNS($BU$3:DC$3),2)+1),INDEX($AC$5:$AD$24,INT($AF20/2)+1,MOD(COLUMNS($BU$3:DC$3),2)+1))","v":-9.0096886790241886},{"$f":"IF(OR(MOD($AF20,2)=0,INDEX(relationships,INT($AF20/2)+1,DD$3)<>2),INDEX($AC$5:$AD$24,DD$3,MOD(COLUMNS($BU$3:DD$3),2)+1),INDEX($AC$5:$AD$24,INT($AF20/2)+1,MOD(COLUMNS($BU$3:DD$3),2)+1))","v":-4.3388373911755753},{"$f":"IF(OR(MOD($AF20,2)=0,INDEX(relationships,INT($AF20/2)+1,DE$3)<>2),INDEX($AC$5:$AD$24,DE$3,MOD(COLUMNS($BU$3:DE$3),2)+1),INDEX($AC$5:$AD$24,INT($AF20/2)+1,MOD(COLUMNS($BU$3:DE$3),2)+1))","v":-9.0096886790241939},{"$f":"IF(OR(MOD($AF20,2)=0,INDEX(relationships,INT($AF20/2)+1,DF$3)<>2),INDEX($AC$5:$AD$24,DF$3,MOD(COLUMNS($BU$3:DF$3),2)+1),INDEX($AC$5:$AD$24,INT($AF20/2)+1,MOD(COLUMNS($BU$3:DF$3),2)+1))","v":-9.7492791218182351},{"$f":"IF(OR(MOD($AF20,2)=0,INDEX(relationships,INT($AF20/2)+1,DG$3)<>2),INDEX($AC$5:$AD$24,DG$3,MOD(COLUMNS($BU$3:DG$3),2)+1),INDEX($AC$5:$AD$24,INT($AF20/2)+1,MOD(COLUMNS($BU$3:DG$3),2)+1))","v":-2.2252093395631505},{"$f":"IF(OR(MOD($AF20,2)=0,INDEX(relationships,INT($AF20/2)+1,DH$3)<>2),INDEX($AC$5:$AD$24,DH$3,MOD(COLUMNS($BU$3:DH$3),2)+1),INDEX($AC$5:$AD$24,INT($AF20/2)+1,MOD(COLUMNS($BU$3:DH$3),2)+1))","v":-7.8183148246803027},{"$f":"IF(OR(MOD($AF20,2)=0,INDEX(relationships,INT($AF20/2)+1,DI$3)<>2),INDEX($AC$5:$AD$24,DI$3,MOD(COLUMNS($BU$3:DI$3),2)+1),INDEX($AC$5:$AD$24,INT($AF20/2)+1,MOD(COLUMNS($BU$3:DI$3),2)+1))","v":6.2348980185873293},null,-2.45029690981724E-15,10,-2.45029690981724E-15,10]
[null,{"$f":"'Group Data'!B34","v":0},{"$f":"'Group Data'!AJ34","v":0},{"$f":"'Group Data'!AK34","v":0},{"$f":"'Group Data'!AL34","v":0},{"$f":"'Group Data'!AM34","v":0},{"$f":"'Group Data'!AN34","v":0},{"$f":"'Group Data'!AO34","v":0},{"$f":"'Group Data'!AP34","v":0},{"$f":"'Group Data'!AQ34","v":0},{"$f":"'Group Data'!AR34","v":0},{"$f":"'Group Data'!AS34","v":0},{"$f":"'Group Data'!AT34","v":0},{"$f":"'Group Data'!AU34","v":0},{"$f":"'Group Data'!AV34","v":0},{"$f":"'Group Data'!AW34","v":0},{"$f":"'Group Data'!AX34","v":0},{"$f":"'Group Data'!AY34","v":0},null,null,null,null,null,null,"Limited:",{"$f":"SUM((INDEX(relationships,$Z$16,)=1)*1)","v":0},null,17,4.3388373911755869,-9.0096886790241886,null,16,{"$f":"IF(OR(MOD($AF21,2)=0,INDEX(relationships,INT($AF21/2)+1,AG$3)<>1),INDEX($AC$5:$AD$24,AG$3,MOD(COLUMNS($AF$3:AG$3),2)+1),INDEX($AC$5:$AD$24,INT($AF21/2)+1,MOD(COLUMNS($AF$3:AG$3),2)+1))","v":7.8183148246802983},{"$f":"IF(OR(MOD($AF21,2)=0,INDEX(relationships,INT($AF21/2)+1,AH$3)<>1),INDEX($AC$5:$AD$24,AH$3,MOD(COLUMNS($AF$3:AH$3),2)+1),INDEX($AC$5:$AD$24,INT($AF21/2)+1,MOD(COLUMNS($AF$3:AH$3),2)+1))","v":6.2348980185873355},{"$f":"IF(OR(MOD($AF21,2)=0,INDEX(relationships,INT($AF21/2)+1,AI$3)<>1),INDEX($AC$5:$AD$24,AI$3,MOD(COLUMNS($AF$3:AI$3),2)+1),INDEX($AC$5:$AD$24,INT($AF21/2)+1,MOD(COLUMNS($AF$3:AI$3),2)+1))","v":9.7492791218182369},{"$f":"IF(OR(MOD($AF21,2)=0,INDEX(relationships,INT($AF21/2)+1,AJ$3)<>1),INDEX($AC$5:$AD$24,AJ$3,MOD(COLUMNS($AF$3:AJ$3),2)+1),INDEX($AC$5:$AD$24,INT($AF21/2)+1,MOD(COLUMNS($AF$3:AJ$3),2)+1))","v":-2.2252093395631434},{"$f":"IF(OR(MOD($AF21,2)=0,INDEX(relationships,INT($AF21/2)+1,AK$3)<>1),INDEX($AC$5:$AD$24,AK$3,MOD(COLUMNS($AF$3:AK$3),2)+1),INDEX($AC$5:$AD$24,INT($AF21/2)+1,MOD(COLUMNS($AF$3:AK$3),2)+1))","v":4.3388373911755824},{"$f":"IF(OR(MOD($AF21,2)=0,INDEX(relationships,INT($AF21/2)+1,AL$3)<>1),INDEX($AC$5:$AD$24,AL$3,MOD(COLUMNS($AF$3:AL$3),2)+1),INDEX($AC$5:$AD$24,INT($AF21/2)+1,MOD(COLUMNS($AF$3:AL$3),2)+1))","v":-9.0096886790241903},{"$f":"IF(OR(MOD($AF21,2)=0,INDEX(relationships,INT($AF21/2)+1,AM$3)<>1),INDEX($AC$5:$AD$24,AM$3,MOD(COLUMNS($AF$3:AM$3),2)+1),INDEX($AC$5:$AD$24,INT($AF21/2)+1,MOD(COLUMNS($AF$3:AM$3),2)+1))","v":-4.3388373911755798},{"$f":"IF(OR(MOD($AF21,2)=0,INDEX(relationships,INT($AF21/2)+1,AN$3)<>1),INDEX($AC$5:$AD$24,AN$3,MOD(COLUMNS($AF$3:AN$3),2)+1),INDEX($AC$5:$AD$24,INT($AF21/2)+1,MOD(COLUMNS($AF$3:AN$3),2)+1))","v":-9.0096886790241921},{"$f":"IF(OR(MOD($AF21,2)=0,INDEX(relationships,INT($AF21/2)+1,AO$3)<>1),INDEX($AC$5:$AD$24,AO$3,MOD(COLUMNS($AF$3:AO$3),2)+1),INDEX($AC$5:$AD$24,INT($AF21/2)+1,MOD(COLUMNS($AF$3:AO$3),2)+1))","v":-9.7492791218182369},{"$f":"IF(OR(MOD($AF21,2)=0,INDEX(relationships,INT($AF21/2)+1,AP$3)<>1),INDEX($AC$5:$AD$24,AP$3,MOD(COLUMNS($AF$3:AP$3),2)+1),INDEX($AC$5:$AD$24,INT($AF21/2)+1,MOD(COLUMNS($AF$3:AP$3),2)+1))","v":-2.225209339563146},{"$f":"IF(OR(MOD($AF21,2)=0,INDEX(relationships,INT($AF21/2)+1,AQ$3)<>1),INDEX($AC$5:$AD$24,AQ$3,MOD(COLUMNS($AF$3:AQ$3),2)+1),INDEX($AC$5:$AD$24,INT($AF21/2)+1,MOD(COLUMNS($AF$3:AQ$3),2)+1))","v":-7.8183148246802991},{"$f":"IF(OR(MOD($AF21,2)=0,INDEX(relationships,INT($AF21/2)+1,AR$3)<>1),INDEX($AC$5:$AD$24,AR$3,MOD(COLUMNS($AF$3:AR$3),2)+1),INDEX($AC$5:$AD$24,INT($AF21/2)+1,MOD(COLUMNS($AF$3:AR$3),2)+1))","v":6.2348980185873337},{"$f":"IF(OR(MOD($AF21,2)=0,INDEX(relationships,INT($AF21/2)+1,AS$3)<>1),INDEX($AC$5:$AD$24,AS$3,MOD(COLUMNS($AF$3:AS$3),2)+1),INDEX($AC$5:$AD$24,INT($AF21/2)+1,MOD(COLUMNS($AF$3:AS$3),2)+1))","v":-2.45029690981724E-15},{"$f":"IF(OR(MOD($AF21,2)=0,INDEX(relationships,INT($AF21/2)+1,AT$3)<>1),INDEX($AC$5:$AD$24,AT$3,MOD(COLUMNS($AF$3:AT$3),2)+1),INDEX($AC$5:$AD$24,INT($AF21/2)+1,MOD(COLUMNS($AF$3:AT$3),2)+1))","v":10},{"$f":"IF(OR(MOD($AF21,2)=0,INDEX(relationships,INT($AF21/2)+1,AU$3)<>1),INDEX($AC$5:$AD$24,AU$3,MOD(COLUMNS($AF$3:AU$3),2)+1),INDEX($AC$5:$AD$24,INT($AF21/2)+1,MOD(COLUMNS($AF$3:AU$3),2)+1))","v":7.8183148246802956},{"$f":"IF(OR(MOD($AF21,2)=0,INDEX(relationships,INT($AF21/2)+1,AV$3)<>1),INDEX($AC$5:$AD$24,AV$3,MOD(COLUMNS($AF$3:AV$3),2)+1),INDEX($AC$5:$AD$24,INT($AF21/2)+1,MOD(COLUMNS($AF$3:AV$3),2)+1))","v":6.2348980185873373},{"$f":"IF(OR(MOD($AF21,2)=0,INDEX(relationships,INT($AF21/2)+1,AW$3)<>1),INDEX($AC$5:$AD$24,AW$3,MOD(COLUMNS($AF$3:AW$3),2)+1),INDEX($AC$5:$AD$24,INT($AF21/2)+1,MOD(COLUMNS($AF$3:AW$3),2)+1))","v":9.7492791218182369},{"$f":"IF(OR(MOD($AF21,2)=0,INDEX(relationships,INT($AF21/2)+1,AX$3)<>1),INDEX($AC$5:$AD$24,AX$3,MOD(COLUMNS($AF$3:AX$3),2)+1),INDEX($AC$5:$AD$24,INT($AF21/2)+1,MOD(COLUMNS($AF$3:AX$3),2)+1))","v":-2.2252093395631407},{"$f":"IF(OR(MOD($AF21,2)=0,INDEX(relationships,INT($AF21/2)+1,AY$3)<>1),INDEX($AC$5:$AD$24,AY$3,MOD(COLUMNS($AF$3:AY$3),2)+1),INDEX($AC$5:$AD$24,INT($AF21/2)+1,MOD(COLUMNS($AF$3:AY$3),2)+1))","v":4.3388373911755842},{"$f":"IF(OR(MOD($AF21,2)=0,INDEX(relationships,INT($AF21/2)+1,AZ$3)<>1),INDEX($AC$5:$AD$24,AZ$3,MOD(COLUMNS($AF$3:AZ$3),2)+1),INDEX($AC$5:$AD$24,INT($AF21/2)+1,MOD(COLUMNS($AF$3:AZ$3),2)+1))","v":-9.0096886790241886},{"$f":"IF(OR(MOD($AF21,2)=0,INDEX(relationships,INT($AF21/2)+1,BA$3)<>1),INDEX($AC$5:$AD$24,BA$3,MOD(COLUMNS($AF$3:BA$3),2)+1),INDEX($AC$5:$AD$24,INT($AF21/2)+1,MOD(COLUMNS($AF$3:BA$3),2)+1))","v":-4.338837391175578},{"$f":"IF(OR(MOD($AF21,2)=0,INDEX(relationships,INT($AF21/2)+1,BB$3)<>1),INDEX($AC$5:$AD$24,BB$3,MOD(COLUMNS($AF$3:BB$3),2)+1),INDEX($AC$5:$AD$24,INT($AF21/2)+1,MOD(COLUMNS($AF$3:BB$3),2)+1))","v":-9.0096886790241921},{"$f":"IF(OR(MOD($AF21,2)=0,INDEX(relationships,INT($AF21/2)+1,BC$3)<>1),INDEX($AC$5:$AD$24,BC$3,MOD(COLUMNS($AF$3:BC$3),2)+1),INDEX($AC$5:$AD$24,INT($AF21/2)+1,MOD(COLUMNS($AF$3:BC$3),2)+1))","v":-9.7492791218182351},{"$f":"IF(OR(MOD($AF21,2)=0,INDEX(relationships,INT($AF21/2)+1,BD$3)<>1),INDEX($AC$5:$AD$24,BD$3,MOD(COLUMNS($AF$3:BD$3),2)+1),INDEX($AC$5:$AD$24,INT($AF21/2)+1,MOD(COLUMNS($AF$3:BD$3),2)+1))","v":-2.2252093395631483},{"$f":"IF(OR(MOD($AF21,2)=0,INDEX(relationships,INT($AF21/2)+1,BE$3)<>1),INDEX($AC$5:$AD$24,BE$3,MOD(COLUMNS($AF$3:BE$3),2)+1),INDEX($AC$5:$AD$24,INT($AF21/2)+1,MOD(COLUMNS($AF$3:BE$3),2)+1))","v":-7.8183148246803018},{"$f":"IF(OR(MOD($AF21,2)=0,INDEX(relationships,INT($AF21/2)+1,BF$3)<>1),INDEX($AC$5:$AD$24,BF$3,MOD(COLUMNS($AF$3:BF$3),2)+1),INDEX($AC$5:$AD$24,INT($AF21/2)+1,MOD(COLUMNS($AF$3:BF$3),2)+1))","v":6.2348980185873319},{"$f":"IF(OR(MOD($AF21,2)=0,INDEX(relationships,INT($AF21/2)+1,BG$3)<>1),INDEX($AC$5:$AD$24,BG$3,MOD(COLUMNS($AF$3:BG$3),2)+1),INDEX($AC$5:$AD$24,INT($AF21/2)+1,MOD(COLUMNS($AF$3:BG$3),2)+1))","v":-4.90059381963448E-15},{"$f":"IF(OR(MOD($AF21,2)=0,INDEX(relationships,INT($AF21/2)+1,BH$3)<>1),INDEX($AC$5:$AD$24,BH$3,MOD(COLUMNS($AF$3:BH$3),2)+1),INDEX($AC$5:$AD$24,INT($AF21/2)+1,MOD(COLUMNS($AF$3:BH$3),2)+1))","v":10},{"$f":"IF(OR(MOD($AF21,2)=0,INDEX(relationships,INT($AF21/2)+1,BI$3)<>1),INDEX($AC$5:$AD$24,BI$3,MOD(COLUMNS($AF$3:BI$3),2)+1),INDEX($AC$5:$AD$24,INT($AF21/2)+1,MOD(COLUMNS($AF$3:BI$3),2)+1))","v":7.8183148246802947},{"$f":"IF(OR(MOD($AF21,2)=0,INDEX(relationships,INT($AF21/2)+1,BJ$3)<>1),INDEX($AC$5:$AD$24,BJ$3,MOD(COLUMNS($AF$3:BJ$3),2)+1),INDEX($AC$5:$AD$24,INT($AF21/2)+1,MOD(COLUMNS($AF$3:BJ$3),2)+1))","v":6.2348980185873391},{"$f":"IF(OR(MOD($AF21,2)=0,INDEX(relationships,INT($AF21/2)+1,BK$3)<>1),INDEX($AC$5:$AD$24,BK$3,MOD(COLUMNS($AF$3:BK$3),2)+1),INDEX($AC$5:$AD$24,INT($AF21/2)+1,MOD(COLUMNS($AF$3:BK$3),2)+1))","v":9.7492791218182369},{"$f":"IF(OR(MOD($AF21,2)=0,INDEX(relationships,INT($AF21/2)+1,BL$3)<>1),INDEX($AC$5:$AD$24,BL$3,MOD(COLUMNS($AF$3:BL$3),2)+1),INDEX($AC$5:$AD$24,INT($AF21/2)+1,MOD(COLUMNS($AF$3:BL$3),2)+1))","v":-2.2252093395631385},{"$f":"IF(OR(MOD($AF21,2)=0,INDEX(relationships,INT($AF21/2)+1,BM$3)<>1),INDEX($AC$5:$AD$24,BM$3,MOD(COLUMNS($AF$3:BM$3),2)+1),INDEX($AC$5:$AD$24,INT($AF21/2)+1,MOD(COLUMNS($AF$3:BM$3),2)+1))","v":4.3388373911755869},{"$f":"IF(OR(MOD($AF21,2)=0,INDEX(relationships,INT($AF21/2)+1,BN$3)<>1),INDEX($AC$5:$AD$24,BN$3,MOD(COLUMNS($AF$3:BN$3),2)+1),INDEX($AC$5:$AD$24,INT($AF21/2)+1,MOD(COLUMNS($AF$3:BN$3),2)+1))","v":-9.0096886790241886},{"$f":"IF(OR(MOD($AF21,2)=0,INDEX(relationships,INT($AF21/2)+1,BO$3)<>1),INDEX($AC$5:$AD$24,BO$3,MOD(COLUMNS($AF$3:BO$3),2)+1),INDEX($AC$5:$AD$24,INT($AF21/2)+1,MOD(COLUMNS($AF$3:BO$3),2)+1))","v":-4.3388373911755753},{"$f":"IF(OR(MOD($AF21,2)=0,INDEX(relationships,INT($AF21/2)+1,BP$3)<>1),INDEX($AC$5:$AD$24,BP$3,MOD(COLUMNS($AF$3:BP$3),2)+1),INDEX($AC$5:$AD$24,INT($AF21/2)+1,MOD(COLUMNS($AF$3:BP$3),2)+1))","v":-9.0096886790241939},{"$f":"IF(OR(MOD($AF21,2)=0,INDEX(relationships,INT($AF21/2)+1,BQ$3)<>1),INDEX($AC$5:$AD$24,BQ$3,MOD(COLUMNS($AF$3:BQ$3),2)+1),INDEX($AC$5:$AD$24,INT($AF21/2)+1,MOD(COLUMNS($AF$3:BQ$3),2)+1))","v":-9.7492791218182351},{"$f":"IF(OR(MOD($AF21,2)=0,INDEX(relationships,INT($AF21/2)+1,BR$3)<>1),INDEX($AC$5:$AD$24,BR$3,MOD(COLUMNS($AF$3:BR$3),2)+1),INDEX($AC$5:$AD$24,INT($AF21/2)+1,MOD(COLUMNS($AF$3:BR$3),2)+1))","v":-2.2252093395631505},{"$f":"IF(OR(MOD($AF21,2)=0,INDEX(relationships,INT($AF21/2)+1,BS$3)<>1),INDEX($AC$5:$AD$24,BS$3,MOD(COLUMNS($AF$3:BS$3),2)+1),INDEX($AC$5:$AD$24,INT($AF21/2)+1,MOD(COLUMNS($AF$3:BS$3),2)+1))","v":-7.8183148246803027},{"$f":"IF(OR(MOD($AF21,2)=0,INDEX(relationships,INT($AF21/2)+1,BT$3)<>1),INDEX($AC$5:$AD$24,BT$3,MOD(COLUMNS($AF$3:BT$3),2)+1),INDEX($AC$5:$AD$24,INT($AF21/2)+1,MOD(COLUMNS($AF$3:BT$3),2)+1))","v":6.2348980185873293},null,{"$f":"IF(OR(MOD($AF21,2)=0,INDEX(relationships,INT($AF21/2)+1,BV$3)<>2),INDEX($AC$5:$AD$24,BV$3,MOD(COLUMNS($BU$3:BV$3),2)+1),INDEX($AC$5:$AD$24,INT($AF21/2)+1,MOD(COLUMNS($BU$3:BV$3),2)+1))","v":7.8183148246802983},{"$f":"IF(OR(MOD($AF21,2)=0,INDEX(relationships,INT($AF21/2)+1,BW$3)<>2),INDEX($AC$5:$AD$24,BW$3,MOD(COLUMNS($BU$3:BW$3),2)+1),INDEX($AC$5:$AD$24,INT($AF21/2)+1,MOD(COLUMNS($BU$3:BW$3),2)+1))","v":6.2348980185873355},{"$f":"IF(OR(MOD($AF21,2)=0,INDEX(relationships,INT($AF21/2)+1,BX$3)<>2),INDEX($AC$5:$AD$24,BX$3,MOD(COLUMNS($BU$3:BX$3),2)+1),INDEX($AC$5:$AD$24,INT($AF21/2)+1,MOD(COLUMNS($BU$3:BX$3),2)+1))","v":9.7492791218182369},{"$f":"IF(OR(MOD($AF21,2)=0,INDEX(relationships,INT($AF21/2)+1,BY$3)<>2),INDEX($AC$5:$AD$24,BY$3,MOD(COLUMNS($BU$3:BY$3),2)+1),INDEX($AC$5:$AD$24,INT($AF21/2)+1,MOD(COLUMNS($BU$3:BY$3),2)+1))","v":-2.2252093395631434},{"$f":"IF(OR(MOD($AF21,2)=0,INDEX(relationships,INT($AF21/2)+1,BZ$3)<>2),INDEX($AC$5:$AD$24,BZ$3,MOD(COLUMNS($BU$3:BZ$3),2)+1),INDEX($AC$5:$AD$24,INT($AF21/2)+1,MOD(COLUMNS($BU$3:BZ$3),2)+1))","v":4.3388373911755824},{"$f":"IF(OR(MOD($AF21,2)=0,INDEX(relationships,INT($AF21/2)+1,CA$3)<>2),INDEX($AC$5:$AD$24,CA$3,MOD(COLUMNS($BU$3:CA$3),2)+1),INDEX($AC$5:$AD$24,INT($AF21/2)+1,MOD(COLUMNS($BU$3:CA$3),2)+1))","v":-9.0096886790241903},{"$f":"IF(OR(MOD($AF21,2)=0,INDEX(relationships,INT($AF21/2)+1,CB$3)<>2),INDEX($AC$5:$AD$24,CB$3,MOD(COLUMNS($BU$3:CB$3),2)+1),INDEX($AC$5:$AD$24,INT($AF21/2)+1,MOD(COLUMNS($BU$3:CB$3),2)+1))","v":-4.3388373911755798},{"$f":"IF(OR(MOD($AF21,2)=0,INDEX(relationships,INT($AF21/2)+1,CC$3)<>2),INDEX($AC$5:$AD$24,CC$3,MOD(COLUMNS($BU$3:CC$3),2)+1),INDEX($AC$5:$AD$24,INT($AF21/2)+1,MOD(COLUMNS($BU$3:CC$3),2)+1))","v":-9.0096886790241921},{"$f":"IF(OR(MOD($AF21,2)=0,INDEX(relationships,INT($AF21/2)+1,CD$3)<>2),INDEX($AC$5:$AD$24,CD$3,MOD(COLUMNS($BU$3:CD$3),2)+1),INDEX($AC$5:$AD$24,INT($AF21/2)+1,MOD(COLUMNS($BU$3:CD$3),2)+1))","v":-9.7492791218182369},{"$f":"IF(OR(MOD($AF21,2)=0,INDEX(relationships,INT($AF21/2)+1,CE$3)<>2),INDEX($AC$5:$AD$24,CE$3,MOD(COLUMNS($BU$3:CE$3),2)+1),INDEX($AC$5:$AD$24,INT($AF21/2)+1,MOD(COLUMNS($BU$3:CE$3),2)+1))","v":-2.225209339563146},{"$f":"IF(OR(MOD($AF21,2)=0,INDEX(relationships,INT($AF21/2)+1,CF$3)<>2),INDEX($AC$5:$AD$24,CF$3,MOD(COLUMNS($BU$3:CF$3),2)+1),INDEX($AC$5:$AD$24,INT($AF21/2)+1,MOD(COLUMNS($BU$3:CF$3),2)+1))","v":-7.8183148246802991},{"$f":"IF(OR(MOD($AF21,2)=0,INDEX(relationships,INT($AF21/2)+1,CG$3)<>2),INDEX($AC$5:$AD$24,CG$3,MOD(COLUMNS($BU$3:CG$3),2)+1),INDEX($AC$5:$AD$24,INT($AF21/2)+1,MOD(COLUMNS($BU$3:CG$3),2)+1))","v":6.2348980185873337},{"$f":"IF(OR(MOD($AF21,2)=0,INDEX(relationships,INT($AF21/2)+1,CH$3)<>2),INDEX($AC$5:$AD$24,CH$3,MOD(COLUMNS($BU$3:CH$3),2)+1),INDEX($AC$5:$AD$24,INT($AF21/2)+1,MOD(COLUMNS($BU$3:CH$3),2)+1))","v":-2.45029690981724E-15},{"$f":"IF(OR(MOD($AF21,2)=0,INDEX(relationships,INT($AF21/2)+1,CI$3)<>2),INDEX($AC$5:$AD$24,CI$3,MOD(COLUMNS($BU$3:CI$3),2)+1),INDEX($AC$5:$AD$24,INT($AF21/2)+1,MOD(COLUMNS($BU$3:CI$3),2)+1))","v":10},{"$f":"IF(OR(MOD($AF21,2)=0,INDEX(relationships,INT($AF21/2)+1,CJ$3)<>2),INDEX($AC$5:$AD$24,CJ$3,MOD(COLUMNS($BU$3:CJ$3),2)+1),INDEX($AC$5:$AD$24,INT($AF21/2)+1,MOD(COLUMNS($BU$3:CJ$3),2)+1))","v":7.8183148246802956},{"$f":"IF(OR(MOD($AF21,2)=0,INDEX(relationships,INT($AF21/2)+1,CK$3)<>2),INDEX($AC$5:$AD$24,CK$3,MOD(COLUMNS($BU$3:CK$3),2)+1),INDEX($AC$5:$AD$24,INT($AF21/2)+1,MOD(COLUMNS($BU$3:CK$3),2)+1))","v":6.2348980185873373},{"$f":"IF(OR(MOD($AF21,2)=0,INDEX(relationships,INT($AF21/2)+1,CL$3)<>2),INDEX($AC$5:$AD$24,CL$3,MOD(COLUMNS($BU$3:CL$3),2)+1),INDEX($AC$5:$AD$24,INT($AF21/2)+1,MOD(COLUMNS($BU$3:CL$3),2)+1))","v":9.7492791218182369},{"$f":"IF(OR(MOD($AF21,2)=0,INDEX(relationships,INT($AF21/2)+1,CM$3)<>2),INDEX($AC$5:$AD$24,CM$3,MOD(COLUMNS($BU$3:CM$3),2)+1),INDEX($AC$5:$AD$24,INT($AF21/2)+1,MOD(COLUMNS($BU$3:CM$3),2)+1))","v":-2.2252093395631407},{"$f":"IF(OR(MOD($AF21,2)=0,INDEX(relationships,INT($AF21/2)+1,CN$3)<>2),INDEX($AC$5:$AD$24,CN$3,MOD(COLUMNS($BU$3:CN$3),2)+1),INDEX($AC$5:$AD$24,INT($AF21/2)+1,MOD(COLUMNS($BU$3:CN$3),2)+1))","v":4.3388373911755842},{"$f":"IF(OR(MOD($AF21,2)=0,INDEX(relationships,INT($AF21/2)+1,CO$3)<>2),INDEX($AC$5:$AD$24,CO$3,MOD(COLUMNS($BU$3:CO$3),2)+1),INDEX($AC$5:$AD$24,INT($AF21/2)+1,MOD(COLUMNS($BU$3:CO$3),2)+1))","v":-9.0096886790241886},{"$f":"IF(OR(MOD($AF21,2)=0,INDEX(relationships,INT($AF21/2)+1,CP$3)<>2),INDEX($AC$5:$AD$24,CP$3,MOD(COLUMNS($BU$3:CP$3),2)+1),INDEX($AC$5:$AD$24,INT($AF21/2)+1,MOD(COLUMNS($BU$3:CP$3),2)+1))","v":-4.338837391175578},{"$f":"IF(OR(MOD($AF21,2)=0,INDEX(relationships,INT($AF21/2)+1,CQ$3)<>2),INDEX($AC$5:$AD$24,CQ$3,MOD(COLUMNS($BU$3:CQ$3),2)+1),INDEX($AC$5:$AD$24,INT($AF21/2)+1,MOD(COLUMNS($BU$3:CQ$3),2)+1))","v":-9.0096886790241921},{"$f":"IF(OR(MOD($AF21,2)=0,INDEX(relationships,INT($AF21/2)+1,CR$3)<>2),INDEX($AC$5:$AD$24,CR$3,MOD(COLUMNS($BU$3:CR$3),2)+1),INDEX($AC$5:$AD$24,INT($AF21/2)+1,MOD(COLUMNS($BU$3:CR$3),2)+1))","v":-9.7492791218182351},{"$f":"IF(OR(MOD($AF21,2)=0,INDEX(relationships,INT($AF21/2)+1,CS$3)<>2),INDEX($AC$5:$AD$24,CS$3,MOD(COLUMNS($BU$3:CS$3),2)+1),INDEX($AC$5:$AD$24,INT($AF21/2)+1,MOD(COLUMNS($BU$3:CS$3),2)+1))","v":-2.2252093395631483},{"$f":"IF(OR(MOD($AF21,2)=0,INDEX(relationships,INT($AF21/2)+1,CT$3)<>2),INDEX($AC$5:$AD$24,CT$3,MOD(COLUMNS($BU$3:CT$3),2)+1),INDEX($AC$5:$AD$24,INT($AF21/2)+1,MOD(COLUMNS($BU$3:CT$3),2)+1))","v":-7.8183148246803018},{"$f":"IF(OR(MOD($AF21,2)=0,INDEX(relationships,INT($AF21/2)+1,CU$3)<>2),INDEX($AC$5:$AD$24,CU$3,MOD(COLUMNS($BU$3:CU$3),2)+1),INDEX($AC$5:$AD$24,INT($AF21/2)+1,MOD(COLUMNS($BU$3:CU$3),2)+1))","v":6.2348980185873319},{"$f":"IF(OR(MOD($AF21,2)=0,INDEX(relationships,INT($AF21/2)+1,CV$3)<>2),INDEX($AC$5:$AD$24,CV$3,MOD(COLUMNS($BU$3:CV$3),2)+1),INDEX($AC$5:$AD$24,INT($AF21/2)+1,MOD(COLUMNS($BU$3:CV$3),2)+1))","v":-4.90059381963448E-15},{"$f":"IF(OR(MOD($AF21,2)=0,INDEX(relationships,INT($AF21/2)+1,CW$3)<>2),INDEX($AC$5:$AD$24,CW$3,MOD(COLUMNS($BU$3:CW$3),2)+1),INDEX($AC$5:$AD$24,INT($AF21/2)+1,MOD(COLUMNS($BU$3:CW$3),2)+1))","v":10},{"$f":"IF(OR(MOD($AF21,2)=0,INDEX(relationships,INT($AF21/2)+1,CX$3)<>2),INDEX($AC$5:$AD$24,CX$3,MOD(COLUMNS($BU$3:CX$3),2)+1),INDEX($AC$5:$AD$24,INT($AF21/2)+1,MOD(COLUMNS($BU$3:CX$3),2)+1))","v":7.8183148246802947},{"$f":"IF(OR(MOD($AF21,2)=0,INDEX(relationships,INT($AF21/2)+1,CY$3)<>2),INDEX($AC$5:$AD$24,CY$3,MOD(COLUMNS($BU$3:CY$3),2)+1),INDEX($AC$5:$AD$24,INT($AF21/2)+1,MOD(COLUMNS($BU$3:CY$3),2)+1))","v":6.2348980185873391},{"$f":"IF(OR(MOD($AF21,2)=0,INDEX(relationships,INT($AF21/2)+1,CZ$3)<>2),INDEX($AC$5:$AD$24,CZ$3,MOD(COLUMNS($BU$3:CZ$3),2)+1),INDEX($AC$5:$AD$24,INT($AF21/2)+1,MOD(COLUMNS($BU$3:CZ$3),2)+1))","v":9.7492791218182369},{"$f":"IF(OR(MOD($AF21,2)=0,INDEX(relationships,INT($AF21/2)+1,DA$3)<>2),INDEX($AC$5:$AD$24,DA$3,MOD(COLUMNS($BU$3:DA$3),2)+1),INDEX($AC$5:$AD$24,INT($AF21/2)+1,MOD(COLUMNS($BU$3:DA$3),2)+1))","v":-2.2252093395631385},{"$f":"IF(OR(MOD($AF21,2)=0,INDEX(relationships,INT($AF21/2)+1,DB$3)<>2),INDEX($AC$5:$AD$24,DB$3,MOD(COLUMNS($BU$3:DB$3),2)+1),INDEX($AC$5:$AD$24,INT($AF21/2)+1,MOD(COLUMNS($BU$3:DB$3),2)+1))","v":4.3388373911755869},{"$f":"IF(OR(MOD($AF21,2)=0,INDEX(relationships,INT($AF21/2)+1,DC$3)<>2),INDEX($AC$5:$AD$24,DC$3,MOD(COLUMNS($BU$3:DC$3),2)+1),INDEX($AC$5:$AD$24,INT($AF21/2)+1,MOD(COLUMNS($BU$3:DC$3),2)+1))","v":-9.0096886790241886},{"$f":"IF(OR(MOD($AF21,2)=0,INDEX(relationships,INT($AF21/2)+1,DD$3)<>2),INDEX($AC$5:$AD$24,DD$3,MOD(COLUMNS($BU$3:DD$3),2)+1),INDEX($AC$5:$AD$24,INT($AF21/2)+1,MOD(COLUMNS($BU$3:DD$3),2)+1))","v":-4.3388373911755753},{"$f":"IF(OR(MOD($AF21,2)=0,INDEX(relationships,INT($AF21/2)+1,DE$3)<>2),INDEX($AC$5:$AD$24,DE$3,MOD(COLUMNS($BU$3:DE$3),2)+1),INDEX($AC$5:$AD$24,INT($AF21/2)+1,MOD(COLUMNS($BU$3:DE$3),2)+1))","v":-9.0096886790241939},{"$f":"IF(OR(MOD($AF21,2)=0,INDEX(relationships,INT($AF21/2)+1,DF$3)<>2),INDEX($AC$5:$AD$24,DF$3,MOD(COLUMNS($BU$3:DF$3),2)+1),INDEX($AC$5:$AD$24,INT($AF21/2)+1,MOD(COLUMNS($BU$3:DF$3),2)+1))","v":-9.7492791218182351},{"$f":"IF(OR(MOD($AF21,2)=0,INDEX(relationships,INT($AF21/2)+1,DG$3)<>2),INDEX($AC$5:$AD$24,DG$3,MOD(COLUMNS($BU$3:DG$3),2)+1),INDEX($AC$5:$AD$24,INT($AF21/2)+1,MOD(COLUMNS($BU$3:DG$3),2)+1))","v":-2.2252093395631505},{"$f":"IF(OR(MOD($AF21,2)=0,INDEX(relationships,INT($AF21/2)+1,DH$3)<>2),INDEX($AC$5:$AD$24,DH$3,MOD(COLUMNS($BU$3:DH$3),2)+1),INDEX($AC$5:$AD$24,INT($AF21/2)+1,MOD(COLUMNS($BU$3:DH$3),2)+1))","v":-7.8183148246803027},{"$f":"IF(OR(MOD($AF21,2)=0,INDEX(relationships,INT($AF21/2)+1,DI$3)<>2),INDEX($AC$5:$AD$24,DI$3,MOD(COLUMNS($BU$3:DI$3),2)+1),INDEX($AC$5:$AD$24,INT($AF21/2)+1,MOD(COLUMNS($BU$3:DI$3),2)+1))","v":6.2348980185873293},null,-2.45029690981724E-15,10,-2.45029690981724E-15,10]
[null,{"$f":"'Group Data'!B35","v":0},{"$f":"'Group Data'!AJ35","v":0},{"$f":"'Group Data'!AK35","v":0},{"$f":"'Group Data'!AL35","v":0},{"$f":"'Group Data'!AM35","v":0},{"$f":"'Group Data'!AN35","v":0},{"$f":"'Group Data'!AO35","v":0},{"$f":"'Group Data'!AP35","v":0},{"$f":"'Group Data'!AQ35","v":0},{"$f":"'Group Data'!AR35","v":0},{"$f":"'Group Data'!AS35","v":0},{"$f":"'Group Data'!AT35","v":0},{"$f":"'Group Data'!AU35","v":0},{"$f":"'Group Data'!AV35","v":0},{"$f":"'Group Data'!AW35","v":0},{"$f":"'Group Data'!AX35","v":0},{"$f":"'Group Data'!AY35","v":0},{"$f":"'Group Data'!AZ35","v":0},null,null,null,null,null,"Significant:",{"$f":"SUM((INDEX(relationships,$Z$16,)=2)*1)","v":1},null,18,-4.3388373911755753,-9.0096886790241939,null,17,{"$f":"IF(OR(MOD($AF22,2)=0,INDEX(relationships,INT($AF22/2)+1,AG$3)<>1),INDEX($AC$5:$AD$24,AG$3,MOD(COLUMNS($AF$3:AG$3),2)+1),INDEX($AC$5:$AD$24,INT($AF22/2)+1,MOD(COLUMNS($AF$3:AG$3),2)+1))","v":7.8183148246802983},{"$f":"IF(OR(MOD($AF22,2)=0,INDEX(relationships,INT($AF22/2)+1,AH$3)<>1),INDEX($AC$5:$AD$24,AH$3,MOD(COLUMNS($AF$3:AH$3),2)+1),INDEX($AC$5:$AD$24,INT($AF22/2)+1,MOD(COLUMNS($AF$3:AH$3),2)+1))","v":6.2348980185873355},{"$f":"IF(OR(MOD($AF22,2)=0,INDEX(relationships,INT($AF22/2)+1,AI$3)<>1),INDEX($AC$5:$AD$24,AI$3,MOD(COLUMNS($AF$3:AI$3),2)+1),INDEX($AC$5:$AD$24,INT($AF22/2)+1,MOD(COLUMNS($AF$3:AI$3),2)+1))","v":9.7492791218182369},{"$f":"IF(OR(MOD($AF22,2)=0,INDEX(relationships,INT($AF22/2)+1,AJ$3)<>1),INDEX($AC$5:$AD$24,AJ$3,MOD(COLUMNS($AF$3:AJ$3),2)+1),INDEX($AC$5:$AD$24,INT($AF22/2)+1,MOD(COLUMNS($AF$3:AJ$3),2)+1))","v":-2.2252093395631434},{"$f":"IF(OR(MOD($AF22,2)=0,INDEX(relationships,INT($AF22/2)+1,AK$3)<>1),INDEX($AC$5:$AD$24,AK$3,MOD(COLUMNS($AF$3:AK$3),2)+1),INDEX($AC$5:$AD$24,INT($AF22/2)+1,MOD(COLUMNS($AF$3:AK$3),2)+1))","v":4.3388373911755824},{"$f":"IF(OR(MOD($AF22,2)=0,INDEX(relationships,INT($AF22/2)+1,AL$3)<>1),INDEX($AC$5:$AD$24,AL$3,MOD(COLUMNS($AF$3:AL$3),2)+1),INDEX($AC$5:$AD$24,INT($AF22/2)+1,MOD(COLUMNS($AF$3:AL$3),2)+1))","v":-9.0096886790241903},{"$f":"IF(OR(MOD($AF22,2)=0,INDEX(relationships,INT($AF22/2)+1,AM$3)<>1),INDEX($AC$5:$AD$24,AM$3,MOD(COLUMNS($AF$3:AM$3),2)+1),INDEX($AC$5:$AD$24,INT($AF22/2)+1,MOD(COLUMNS($AF$3:AM$3),2)+1))","v":-4.3388373911755798},{"$f":"IF(OR(MOD($AF22,2)=0,INDEX(relationships,INT($AF22/2)+1,AN$3)<>1),INDEX($AC$5:$AD$24,AN$3,MOD(COLUMNS($AF$3:AN$3),2)+1),INDEX($AC$5:$AD$24,INT($AF22/2)+1,MOD(COLUMNS($AF$3:AN$3),2)+1))","v":-9.0096886790241921},{"$f":"IF(OR(MOD($AF22,2)=0,INDEX(relationships,INT($AF22/2)+1,AO$3)<>1),INDEX($AC$5:$AD$24,AO$3,MOD(COLUMNS($AF$3:AO$3),2)+1),INDEX($AC$5:$AD$24,INT($AF22/2)+1,MOD(COLUMNS($AF$3:AO$3),2)+1))","v":-9.7492791218182369},{"$f":"IF(OR(MOD($AF22,2)=0,INDEX(relationships,INT($AF22/2)+1,AP$3)<>1),INDEX($AC$5:$AD$24,AP$3,MOD(COLUMNS($AF$3:AP$3),2)+1),INDEX($AC$5:$AD$24,INT($AF22/2)+1,MOD(COLUMNS($AF$3:AP$3),2)+1))","v":-2.225209339563146},{"$f":"IF(OR(MOD($AF22,2)=0,INDEX(relationships,INT($AF22/2)+1,AQ$3)<>1),INDEX($AC$5:$AD$24,AQ$3,MOD(COLUMNS($AF$3:AQ$3),2)+1),INDEX($AC$5:$AD$24,INT($AF22/2)+1,MOD(COLUMNS($AF$3:AQ$3),2)+1))","v":-7.8183148246802991},{"$f":"IF(OR(MOD($AF22,2)=0,INDEX(relationships,INT($AF22/2)+1,AR$3)<>1),INDEX($AC$5:$AD$24,AR$3,MOD(COLUMNS($AF$3:AR$3),2)+1),INDEX($AC$5:$AD$24,INT($AF22/2)+1,MOD(COLUMNS($AF$3:AR$3),2)+1))","v":6.2348980185873337},{"$f":"IF(OR(MOD($AF22,2)=0,INDEX(relationships,INT($AF22/2)+1,AS$3)<>1),INDEX($AC$5:$AD$24,AS$3,MOD(COLUMNS($AF$3:AS$3),2)+1),INDEX($AC$5:$AD$24,INT($AF22/2)+1,MOD(COLUMNS($AF$3:AS$3),2)+1))","v":-2.45029690981724E-15},{"$f":"IF(OR(MOD($AF22,2)=0,INDEX(relationships,INT($AF22/2)+1,AT$3)<>1),INDEX($AC$5:$AD$24,AT$3,MOD(COLUMNS($AF$3:AT$3),2)+1),INDEX($AC$5:$AD$24,INT($AF22/2)+1,MOD(COLUMNS($AF$3:AT$3),2)+1))","v":10},{"$f":"IF(OR(MOD($AF22,2)=0,INDEX(relationships,INT($AF22/2)+1,AU$3)<>1),INDEX($AC$5:$AD$24,AU$3,MOD(COLUMNS($AF$3:AU$3),2)+1),INDEX($AC$5:$AD$24,INT($AF22/2)+1,MOD(COLUMNS($AF$3:AU$3),2)+1))","v":7.8183148246802956},{"$f":"IF(OR(MOD($AF22,2)=0,INDEX(relationships,INT($AF22/2)+1,AV$3)<>1),INDEX($AC$5:$AD$24,AV$3,MOD(COLUMNS($AF$3:AV$3),2)+1),INDEX($AC$5:$AD$24,INT($AF22/2)+1,MOD(COLUMNS($AF$3:AV$3),2)+1))","v":6.2348980185873373},{"$f":"IF(OR(MOD($AF22,2)=0,INDEX(relationships,INT($AF22/2)+1,AW$3)<>1),INDEX($AC$5:$AD$24,AW$3,MOD(COLUMNS($AF$3:AW$3),2)+1),INDEX($AC$5:$AD$24,INT($AF22/2)+1,MOD(COLUMNS($AF$3:AW$3),2)+1))","v":9.7492791218182369},{"$f":"IF(OR(MOD($AF22,2)=0,INDEX(relationships,INT($AF22/2)+1,AX$3)<>1),INDEX($AC$5:$AD$24,AX$3,MOD(COLUMNS($AF$3:AX$3),2)+1),INDEX($AC$5:$AD$24,INT($AF22/2)+1,MOD(COLUMNS($AF$3:AX$3),2)+1))","v":-2.2252093395631407},{"$f":"IF(OR(MOD($AF22,2)=0,INDEX(relationships,INT($AF22/2)+1,AY$3)<>1),INDEX($AC$5:$AD$24,AY$3,MOD(COLUMNS($AF$3:AY$3),2)+1),INDEX($AC$5:$AD$24,INT($AF22/2)+1,MOD(COLUMNS($AF$3:AY$3),2)+1))","v":4.3388373911755842},{"$f":"IF(OR(MOD($AF22,2)=0,INDEX(relationships,INT($AF22/2)+1,AZ$3)<>1),INDEX($AC$5:$AD$24,AZ$3,MOD(COLUMNS($AF$3:AZ$3),2)+1),INDEX($AC$5:$AD$24,INT($AF22/2)+1,MOD(COLUMNS($AF$3:AZ$3),2)+1))","v":-9.0096886790241886},{"$f":"IF(OR(MOD($AF22,2)=0,INDEX(relationships,INT($AF22/2)+1,BA$3)<>1),INDEX($AC$5:$AD$24,BA$3,MOD(COLUMNS($AF$3:BA$3),2)+1),INDEX($AC$5:$AD$24,INT($AF22/2)+1,MOD(COLUMNS($AF$3:BA$3),2)+1))","v":-4.338837391175578},{"$f":"IF(OR(MOD($AF22,2)=0,INDEX(relationships,INT($AF22/2)+1,BB$3)<>1),INDEX($AC$5:$AD$24,BB$3,MOD(COLUMNS($AF$3:BB$3),2)+1),INDEX($AC$5:$AD$24,INT($AF22/2)+1,MOD(COLUMNS($AF$3:BB$3),2)+1))","v":-9.0096886790241921},{"$f":"IF(OR(MOD($AF22,2)=0,INDEX(relationships,INT($AF22/2)+1,BC$3)<>1),INDEX($AC$5:$AD$24,BC$3,MOD(COLUMNS($AF$3:BC$3),2)+1),INDEX($AC$5:$AD$24,INT($AF22/2)+1,MOD(COLUMNS($AF$3:BC$3),2)+1))","v":-9.7492791218182351},{"$f":"IF(OR(MOD($AF22,2)=0,INDEX(relationships,INT($AF22/2)+1,BD$3)<>1),INDEX($AC$5:$AD$24,BD$3,MOD(COLUMNS($AF$3:BD$3),2)+1),INDEX($AC$5:$AD$24,INT($AF22/2)+1,MOD(COLUMNS($AF$3:BD$3),2)+1))","v":-2.2252093395631483},{"$f":"IF(OR(MOD($AF22,2)=0,INDEX(relationships,INT($AF22/2)+1,BE$3)<>1),INDEX($AC$5:$AD$24,BE$3,MOD(COLUMNS($AF$3:BE$3),2)+1),INDEX($AC$5:$AD$24,INT($AF22/2)+1,MOD(COLUMNS($AF$3:BE$3),2)+1))","v":-7.8183148246803018},{"$f":"IF(OR(MOD($AF22,2)=0,INDEX(relationships,INT($AF22/2)+1,BF$3)<>1),INDEX($AC$5:$AD$24,BF$3,MOD(COLUMNS($AF$3:BF$3),2)+1),INDEX($AC$5:$AD$24,INT($AF22/2)+1,MOD(COLUMNS($AF$3:BF$3),2)+1))","v":6.2348980185873319},{"$f":"IF(OR(MOD($AF22,2)=0,INDEX(relationships,INT($AF22/2)+1,BG$3)<>1),INDEX($AC$5:$AD$24,BG$3,MOD(COLUMNS($AF$3:BG$3),2)+1),INDEX($AC$5:$AD$24,INT($AF22/2)+1,MOD(COLUMNS($AF$3:BG$3),2)+1))","v":-4.90059381963448E-15},{"$f":"IF(OR(MOD($AF22,2)=0,INDEX(relationships,INT($AF22/2)+1,BH$3)<>1),INDEX($AC$5:$AD$24,BH$3,MOD(COLUMNS($AF$3:BH$3),2)+1),INDEX($AC$5:$AD$24,INT($AF22/2)+1,MOD(COLUMNS($AF$3:BH$3),2)+1))","v":10},{"$f":"IF(OR(MOD($AF22,2)=0,INDEX(relationships,INT($AF22/2)+1,BI$3)<>1),INDEX($AC$5:$AD$24,BI$3,MOD(COLUMNS($AF$3:BI$3),2)+1),INDEX($AC$5:$AD$24,INT($AF22/2)+1,MOD(COLUMNS($AF$3:BI$3),2)+1))","v":7.8183148246802947},{"$f":"IF(OR(MOD($AF22,2)=0,INDEX(relationships,INT($AF22/2)+1,BJ$3)<>1),INDEX($AC$5:$AD$24,BJ$3,MOD(COLUMNS($AF$3:BJ$3),2)+1),INDEX($AC$5:$AD$24,INT($AF22/2)+1,MOD(COLUMNS($AF$3:BJ$3),2)+1))","v":6.2348980185873391},{"$f":"IF(OR(MOD($AF22,2)=0,INDEX(relationships,INT($AF22/2)+1,BK$3)<>1),INDEX($AC$5:$AD$24,BK$3,MOD(COLUMNS($AF$3:BK$3),2)+1),INDEX($AC$5:$AD$24,INT($AF22/2)+1,MOD(COLUMNS($AF$3:BK$3),2)+1))","v":9.7492791218182369},{"$f":"IF(OR(MOD($AF22,2)=0,INDEX(relationships,INT($AF22/2)+1,BL$3)<>1),INDEX($AC$5:$AD$24,BL$3,MOD(COLUMNS($AF$3:BL$3),2)+1),INDEX($AC$5:$AD$24,INT($AF22/2)+1,MOD(COLUMNS($AF$3:BL$3),2)+1))","v":-2.2252093395631385},{"$f":"IF(OR(MOD($AF22,2)=0,INDEX(relationships,INT($AF22/2)+1,BM$3)<>1),INDEX($AC$5:$AD$24,BM$3,MOD(COLUMNS($AF$3:BM$3),2)+1),INDEX($AC$5:$AD$24,INT($AF22/2)+1,MOD(COLUMNS($AF$3:BM$3),2)+1))","v":4.3388373911755869},{"$f":"IF(OR(MOD($AF22,2)=0,INDEX(relationships,INT($AF22/2)+1,BN$3)<>1),INDEX($AC$5:$AD$24,BN$3,MOD(COLUMNS($AF$3:BN$3),2)+1),INDEX($AC$5:$AD$24,INT($AF22/2)+1,MOD(COLUMNS($AF$3:BN$3),2)+1))","v":-9.0096886790241886},{"$f":"IF(OR(MOD($AF22,2)=0,INDEX(relationships,INT($AF22/2)+1,BO$3)<>1),INDEX($AC$5:$AD$24,BO$3,MOD(COLUMNS($AF$3:BO$3),2)+1),INDEX($AC$5:$AD$24,INT($AF22/2)+1,MOD(COLUMNS($AF$3:BO$3),2)+1))","v":-4.3388373911755753},{"$f":"IF(OR(MOD($AF22,2)=0,INDEX(relationships,INT($AF22/2)+1,BP$3)<>1),INDEX($AC$5:$AD$24,BP$3,MOD(COLUMNS($AF$3:BP$3),2)+1),INDEX($AC$5:$AD$24,INT($AF22/2)+1,MOD(COLUMNS($AF$3:BP$3),2)+1))","v":-9.0096886790241939},{"$f":"IF(OR(MOD($AF22,2)=0,INDEX(relationships,INT($AF22/2)+1,BQ$3)<>1),INDEX($AC$5:$AD$24,BQ$3,MOD(COLUMNS($AF$3:BQ$3),2)+1),INDEX($AC$5:$AD$24,INT($AF22/2)+1,MOD(COLUMNS($AF$3:BQ$3),2)+1))","v":-9.7492791218182351},{"$f":"IF(OR(MOD($AF22,2)=0,INDEX(relationships,INT($AF22/2)+1,BR$3)<>1),INDEX($AC$5:$AD$24,BR$3,MOD(COLUMNS($AF$3:BR$3),2)+1),INDEX($AC$5:$AD$24,INT($AF22/2)+1,MOD(COLUMNS($AF$3:BR$3),2)+1))","v":-2.2252093395631505},{"$f":"IF(OR(MOD($AF22,2)=0,INDEX(relationships,INT($AF22/2)+1,BS$3)<>1),INDEX($AC$5:$AD$24,BS$3,MOD(COLUMNS($AF$3:BS$3),2)+1),INDEX($AC$5:$AD$24,INT($AF22/2)+1,MOD(COLUMNS($AF$3:BS$3),2)+1))","v":-7.8183148246803027},{"$f":"IF(OR(MOD($AF22,2)=0,INDEX(relationships,INT($AF22/2)+1,BT$3)<>1),INDEX($AC$5:$AD$24,BT$3,MOD(COLUMNS($AF$3:BT$3),2)+1),INDEX($AC$5:$AD$24,INT($AF22/2)+1,MOD(COLUMNS($AF$3:BT$3),2)+1))","v":6.2348980185873293},null,{"$f":"IF(OR(MOD($AF22,2)=0,INDEX(relationships,INT($AF22/2)+1,BV$3)<>2),INDEX($AC$5:$AD$24,BV$3,MOD(COLUMNS($BU$3:BV$3),2)+1),INDEX($AC$5:$AD$24,INT($AF22/2)+1,MOD(COLUMNS($BU$3:BV$3),2)+1))","v":7.8183148246802983},{"$f":"IF(OR(MOD($AF22,2)=0,INDEX(relationships,INT($AF22/2)+1,BW$3)<>2),INDEX($AC$5:$AD$24,BW$3,MOD(COLUMNS($BU$3:BW$3),2)+1),INDEX($AC$5:$AD$24,INT($AF22/2)+1,MOD(COLUMNS($BU$3:BW$3),2)+1))","v":6.2348980185873355},{"$f":"IF(OR(MOD($AF22,2)=0,INDEX(relationships,INT($AF22/2)+1,BX$3)<>2),INDEX($AC$5:$AD$24,BX$3,MOD(COLUMNS($BU$3:BX$3),2)+1),INDEX($AC$5:$AD$24,INT($AF22/2)+1,MOD(COLUMNS($BU$3:BX$3),2)+1))","v":9.7492791218182369},{"$f":"IF(OR(MOD($AF22,2)=0,INDEX(relationships,INT($AF22/2)+1,BY$3)<>2),INDEX($AC$5:$AD$24,BY$3,MOD(COLUMNS($BU$3:BY$3),2)+1),INDEX($AC$5:$AD$24,INT($AF22/2)+1,MOD(COLUMNS($BU$3:BY$3),2)+1))","v":-2.2252093395631434},{"$f":"IF(OR(MOD($AF22,2)=0,INDEX(relationships,INT($AF22/2)+1,BZ$3)<>2),INDEX($AC$5:$AD$24,BZ$3,MOD(COLUMNS($BU$3:BZ$3),2)+1),INDEX($AC$5:$AD$24,INT($AF22/2)+1,MOD(COLUMNS($BU$3:BZ$3),2)+1))","v":4.3388373911755824},{"$f":"IF(OR(MOD($AF22,2)=0,INDEX(relationships,INT($AF22/2)+1,CA$3)<>2),INDEX($AC$5:$AD$24,CA$3,MOD(COLUMNS($BU$3:CA$3),2)+1),INDEX($AC$5:$AD$24,INT($AF22/2)+1,MOD(COLUMNS($BU$3:CA$3),2)+1))","v":-9.0096886790241903},{"$f":"IF(OR(MOD($AF22,2)=0,INDEX(relationships,INT($AF22/2)+1,CB$3)<>2),INDEX($AC$5:$AD$24,CB$3,MOD(COLUMNS($BU$3:CB$3),2)+1),INDEX($AC$5:$AD$24,INT($AF22/2)+1,MOD(COLUMNS($BU$3:CB$3),2)+1))","v":-4.3388373911755798},{"$f":"IF(OR(MOD($AF22,2)=0,INDEX(relationships,INT($AF22/2)+1,CC$3)<>2),INDEX($AC$5:$AD$24,CC$3,MOD(COLUMNS($BU$3:CC$3),2)+1),INDEX($AC$5:$AD$24,INT($AF22/2)+1,MOD(COLUMNS($BU$3:CC$3),2)+1))","v":-9.0096886790241921},{"$f":"IF(OR(MOD($AF22,2)=0,INDEX(relationships,INT($AF22/2)+1,CD$3)<>2),INDEX($AC$5:$AD$24,CD$3,MOD(COLUMNS($BU$3:CD$3),2)+1),INDEX($AC$5:$AD$24,INT($AF22/2)+1,MOD(COLUMNS($BU$3:CD$3),2)+1))","v":-9.7492791218182369},{"$f":"IF(OR(MOD($AF22,2)=0,INDEX(relationships,INT($AF22/2)+1,CE$3)<>2),INDEX($AC$5:$AD$24,CE$3,MOD(COLUMNS($BU$3:CE$3),2)+1),INDEX($AC$5:$AD$24,INT($AF22/2)+1,MOD(COLUMNS($BU$3:CE$3),2)+1))","v":-2.225209339563146},{"$f":"IF(OR(MOD($AF22,2)=0,INDEX(relationships,INT($AF22/2)+1,CF$3)<>2),INDEX($AC$5:$AD$24,CF$3,MOD(COLUMNS($BU$3:CF$3),2)+1),INDEX($AC$5:$AD$24,INT($AF22/2)+1,MOD(COLUMNS($BU$3:CF$3),2)+1))","v":-7.8183148246802991},{"$f":"IF(OR(MOD($AF22,2)=0,INDEX(relationships,INT($AF22/2)+1,CG$3)<>2),INDEX($AC$5:$AD$24,CG$3,MOD(COLUMNS($BU$3:CG$3),2)+1),INDEX($AC$5:$AD$24,INT($AF22/2)+1,MOD(COLUMNS($BU$3:CG$3),2)+1))","v":6.2348980185873337},{"$f":"IF(OR(MOD($AF22,2)=0,INDEX(relationships,INT($AF22/2)+1,CH$3)<>2),INDEX($AC$5:$AD$24,CH$3,MOD(COLUMNS($BU$3:CH$3),2)+1),INDEX($AC$5:$AD$24,INT($AF22/2)+1,MOD(COLUMNS($BU$3:CH$3),2)+1))","v":-2.45029690981724E-15},{"$f":"IF(OR(MOD($AF22,2)=0,INDEX(relationships,INT($AF22/2)+1,CI$3)<>2),INDEX($AC$5:$AD$24,CI$3,MOD(COLUMNS($BU$3:CI$3),2)+1),INDEX($AC$5:$AD$24,INT($AF22/2)+1,MOD(COLUMNS($BU$3:CI$3),2)+1))","v":10},{"$f":"IF(OR(MOD($AF22,2)=0,INDEX(relationships,INT($AF22/2)+1,CJ$3)<>2),INDEX($AC$5:$AD$24,CJ$3,MOD(COLUMNS($BU$3:CJ$3),2)+1),INDEX($AC$5:$AD$24,INT($AF22/2)+1,MOD(COLUMNS($BU$3:CJ$3),2)+1))","v":7.8183148246802956},{"$f":"IF(OR(MOD($AF22,2)=0,INDEX(relationships,INT($AF22/2)+1,CK$3)<>2),INDEX($AC$5:$AD$24,CK$3,MOD(COLUMNS($BU$3:CK$3),2)+1),INDEX($AC$5:$AD$24,INT($AF22/2)+1,MOD(COLUMNS($BU$3:CK$3),2)+1))","v":6.2348980185873373},{"$f":"IF(OR(MOD($AF22,2)=0,INDEX(relationships,INT($AF22/2)+1,CL$3)<>2),INDEX($AC$5:$AD$24,CL$3,MOD(COLUMNS($BU$3:CL$3),2)+1),INDEX($AC$5:$AD$24,INT($AF22/2)+1,MOD(COLUMNS($BU$3:CL$3),2)+1))","v":9.7492791218182369},{"$f":"IF(OR(MOD($AF22,2)=0,INDEX(relationships,INT($AF22/2)+1,CM$3)<>2),INDEX($AC$5:$AD$24,CM$3,MOD(COLUMNS($BU$3:CM$3),2)+1),INDEX($AC$5:$AD$24,INT($AF22/2)+1,MOD(COLUMNS($BU$3:CM$3),2)+1))","v":-2.2252093395631407},{"$f":"IF(OR(MOD($AF22,2)=0,INDEX(relationships,INT($AF22/2)+1,CN$3)<>2),INDEX($AC$5:$AD$24,CN$3,MOD(COLUMNS($BU$3:CN$3),2)+1),INDEX($AC$5:$AD$24,INT($AF22/2)+1,MOD(COLUMNS($BU$3:CN$3),2)+1))","v":4.3388373911755842},{"$f":"IF(OR(MOD($AF22,2)=0,INDEX(relationships,INT($AF22/2)+1,CO$3)<>2),INDEX($AC$5:$AD$24,CO$3,MOD(COLUMNS($BU$3:CO$3),2)+1),INDEX($AC$5:$AD$24,INT($AF22/2)+1,MOD(COLUMNS($BU$3:CO$3),2)+1))","v":-9.0096886790241886},{"$f":"IF(OR(MOD($AF22,2)=0,INDEX(relationships,INT($AF22/2)+1,CP$3)<>2),INDEX($AC$5:$AD$24,CP$3,MOD(COLUMNS($BU$3:CP$3),2)+1),INDEX($AC$5:$AD$24,INT($AF22/2)+1,MOD(COLUMNS($BU$3:CP$3),2)+1))","v":-4.338837391175578},{"$f":"IF(OR(MOD($AF22,2)=0,INDEX(relationships,INT($AF22/2)+1,CQ$3)<>2),INDEX($AC$5:$AD$24,CQ$3,MOD(COLUMNS($BU$3:CQ$3),2)+1),INDEX($AC$5:$AD$24,INT($AF22/2)+1,MOD(COLUMNS($BU$3:CQ$3),2)+1))","v":-9.0096886790241921},{"$f":"IF(OR(MOD($AF22,2)=0,INDEX(relationships,INT($AF22/2)+1,CR$3)<>2),INDEX($AC$5:$AD$24,CR$3,MOD(COLUMNS($BU$3:CR$3),2)+1),INDEX($AC$5:$AD$24,INT($AF22/2)+1,MOD(COLUMNS($BU$3:CR$3),2)+1))","v":-9.7492791218182351},{"$f":"IF(OR(MOD($AF22,2)=0,INDEX(relationships,INT($AF22/2)+1,CS$3)<>2),INDEX($AC$5:$AD$24,CS$3,MOD(COLUMNS($BU$3:CS$3),2)+1),INDEX($AC$5:$AD$24,INT($AF22/2)+1,MOD(COLUMNS($BU$3:CS$3),2)+1))","v":-2.2252093395631483},{"$f":"IF(OR(MOD($AF22,2)=0,INDEX(relationships,INT($AF22/2)+1,CT$3)<>2),INDEX($AC$5:$AD$24,CT$3,MOD(COLUMNS($BU$3:CT$3),2)+1),INDEX($AC$5:$AD$24,INT($AF22/2)+1,MOD(COLUMNS($BU$3:CT$3),2)+1))","v":-7.8183148246803018},{"$f":"IF(OR(MOD($AF22,2)=0,INDEX(relationships,INT($AF22/2)+1,CU$3)<>2),INDEX($AC$5:$AD$24,CU$3,MOD(COLUMNS($BU$3:CU$3),2)+1),INDEX($AC$5:$AD$24,INT($AF22/2)+1,MOD(COLUMNS($BU$3:CU$3),2)+1))","v":6.2348980185873319},{"$f":"IF(OR(MOD($AF22,2)=0,INDEX(relationships,INT($AF22/2)+1,CV$3)<>2),INDEX($AC$5:$AD$24,CV$3,MOD(COLUMNS($BU$3:CV$3),2)+1),INDEX($AC$5:$AD$24,INT($AF22/2)+1,MOD(COLUMNS($BU$3:CV$3),2)+1))","v":-4.90059381963448E-15},{"$f":"IF(OR(MOD($AF22,2)=0,INDEX(relationships,INT($AF22/2)+1,CW$3)<>2),INDEX($AC$5:$AD$24,CW$3,MOD(COLUMNS($BU$3:CW$3),2)+1),INDEX($AC$5:$AD$24,INT($AF22/2)+1,MOD(COLUMNS($BU$3:CW$3),2)+1))","v":10},{"$f":"IF(OR(MOD($AF22,2)=0,INDEX(relationships,INT($AF22/2)+1,CX$3)<>2),INDEX($AC$5:$AD$24,CX$3,MOD(COLUMNS($BU$3:CX$3),2)+1),INDEX($AC$5:$AD$24,INT($AF22/2)+1,MOD(COLUMNS($BU$3:CX$3),2)+1))","v":7.8183148246802947},{"$f":"IF(OR(MOD($AF22,2)=0,INDEX(relationships,INT($AF22/2)+1,CY$3)<>2),INDEX($AC$5:$AD$24,CY$3,MOD(COLUMNS($BU$3:CY$3),2)+1),INDEX($AC$5:$AD$24,INT($AF22/2)+1,MOD(COLUMNS($BU$3:CY$3),2)+1))","v":6.2348980185873391},{"$f":"IF(OR(MOD($AF22,2)=0,INDEX(relationships,INT($AF22/2)+1,CZ$3)<>2),INDEX($AC$5:$AD$24,CZ$3,MOD(COLUMNS($BU$3:CZ$3),2)+1),INDEX($AC$5:$AD$24,INT($AF22/2)+1,MOD(COLUMNS($BU$3:CZ$3),2)+1))","v":9.7492791218182369},{"$f":"IF(OR(MOD($AF22,2)=0,INDEX(relationships,INT($AF22/2)+1,DA$3)<>2),INDEX($AC$5:$AD$24,DA$3,MOD(COLUMNS($BU$3:DA$3),2)+1),INDEX($AC$5:$AD$24,INT($AF22/2)+1,MOD(COLUMNS($BU$3:DA$3),2)+1))","v":-2.2252093395631385},{"$f":"IF(OR(MOD($AF22,2)=0,INDEX(relationships,INT($AF22/2)+1,DB$3)<>2),INDEX($AC$5:$AD$24,DB$3,MOD(COLUMNS($BU$3:DB$3),2)+1),INDEX($AC$5:$AD$24,INT($AF22/2)+1,MOD(COLUMNS($BU$3:DB$3),2)+1))","v":4.3388373911755869},{"$f":"IF(OR(MOD($AF22,2)=0,INDEX(relationships,INT($AF22/2)+1,DC$3)<>2),INDEX($AC$5:$AD$24,DC$3,MOD(COLUMNS($BU$3:DC$3),2)+1),INDEX($AC$5:$AD$24,INT($AF22/2)+1,MOD(COLUMNS($BU$3:DC$3),2)+1))","v":-9.0096886790241886},{"$f":"IF(OR(MOD($AF22,2)=0,INDEX(relationships,INT($AF22/2)+1,DD$3)<>2),INDEX($AC$5:$AD$24,DD$3,MOD(COLUMNS($BU$3:DD$3),2)+1),INDEX($AC$5:$AD$24,INT($AF22/2)+1,MOD(COLUMNS($BU$3:DD$3),2)+1))","v":-4.3388373911755753},{"$f":"IF(OR(MOD($AF22,2)=0,INDEX(relationships,INT($AF22/2)+1,DE$3)<>2),INDEX($AC$5:$AD$24,DE$3,MOD(COLUMNS($BU$3:DE$3),2)+1),INDEX($AC$5:$AD$24,INT($AF22/2)+1,MOD(COLUMNS($BU$3:DE$3),2)+1))","v":-9.0096886790241939},{"$f":"IF(OR(MOD($AF22,2)=0,INDEX(relationships,INT($AF22/2)+1,DF$3)<>2),INDEX($AC$5:$AD$24,DF$3,MOD(COLUMNS($BU$3:DF$3),2)+1),INDEX($AC$5:$AD$24,INT($AF22/2)+1,MOD(COLUMNS($BU$3:DF$3),2)+1))","v":-9.7492791218182351},{"$f":"IF(OR(MOD($AF22,2)=0,INDEX(relationships,INT($AF22/2)+1,DG$3)<>2),INDEX($AC$5:$AD$24,DG$3,MOD(COLUMNS($BU$3:DG$3),2)+1),INDEX($AC$5:$AD$24,INT($AF22/2)+1,MOD(COLUMNS($BU$3:DG$3),2)+1))","v":-2.2252093395631505},{"$f":"IF(OR(MOD($AF22,2)=0,INDEX(relationships,INT($AF22/2)+1,DH$3)<>2),INDEX($AC$5:$AD$24,DH$3,MOD(COLUMNS($BU$3:DH$3),2)+1),INDEX($AC$5:$AD$24,INT($AF22/2)+1,MOD(COLUMNS($BU$3:DH$3),2)+1))","v":-7.8183148246803027},{"$f":"IF(OR(MOD($AF22,2)=0,INDEX(relationships,INT($AF22/2)+1,DI$3)<>2),INDEX($AC$5:$AD$24,DI$3,MOD(COLUMNS($BU$3:DI$3),2)+1),INDEX($AC$5:$AD$24,INT($AF22/2)+1,MOD(COLUMNS($BU$3:DI$3),2)+1))","v":6.2348980185873293},null,-2.45029690981724E-15,10,-2.45029690981724E-15,10]
[null,{"$f":"'Group Data'!B36","v":0},{"$f":"'Group Data'!AJ36","v":0},{"$f":"'Group Data'!AK36","v":0},{"$f":"'Group Data'!AL36","v":0},{"$f":"'Group Data'!AM36","v":0},{"$f":"'Group Data'!AN36","v":0},{"$f":"'Group Data'!AO36","v":0},{"$f":"'Group Data'!AP36","v":0},{"$f":"'Group Data'!AQ36","v":0},{"$f":"'Group Data'!AR36","v":0},{"$f":"'Group Data'!AS36","v":0},{"$f":"'Group Data'!AT36","v":0},{"$f":"'Group Data'!AU36","v":0},{"$f":"'Group Data'!AV36","v":0},{"$f":"'Group Data'!AW36","v":0},{"$f":"'Group Data'!AX36","v":0},{"$f":"'Group Data'!AY36","v":0},{"$f":"'Group Data'!AZ36","v":0},{"$f":"'Group Data'!BA36","v":0},null,null,null,null,null,null,null,19,-9.7492791218182351,-2.2252093395631505,null,18,{"$f":"IF(OR(MOD($AF23,2)=0,INDEX(relationships,INT($AF23/2)+1,AG$3)<>1),INDEX($AC$5:$AD$24,AG$3,MOD(COLUMNS($AF$3:AG$3),2)+1),INDEX($AC$5:$AD$24,INT($AF23/2)+1,MOD(COLUMNS($AF$3:AG$3),2)+1))","v":7.8183148246802983},{"$f":"IF(OR(MOD($AF23,2)=0,INDEX(relationships,INT($AF23/2)+1,AH$3)<>1),INDEX($AC$5:$AD$24,AH$3,MOD(COLUMNS($AF$3:AH$3),2)+1),INDEX($AC$5:$AD$24,INT($AF23/2)+1,MOD(COLUMNS($AF$3:AH$3),2)+1))","v":6.2348980185873355},{"$f":"IF(OR(MOD($AF23,2)=0,INDEX(relationships,INT($AF23/2)+1,AI$3)<>1),INDEX($AC$5:$AD$24,AI$3,MOD(COLUMNS($AF$3:AI$3),2)+1),INDEX($AC$5:$AD$24,INT($AF23/2)+1,MOD(COLUMNS($AF$3:AI$3),2)+1))","v":9.7492791218182369},{"$f":"IF(OR(MOD($AF23,2)=0,INDEX(relationships,INT($AF23/2)+1,AJ$3)<>1),INDEX($AC$5:$AD$24,AJ$3,MOD(COLUMNS($AF$3:AJ$3),2)+1),INDEX($AC$5:$AD$24,INT($AF23/2)+1,MOD(COLUMNS($AF$3:AJ$3),2)+1))","v":-2.2252093395631434},{"$f":"IF(OR(MOD($AF23,2)=0,INDEX(relationships,INT($AF23/2)+1,AK$3)<>1),INDEX($AC$5:$AD$24,AK$3,MOD(COLUMNS($AF$3:AK$3),2)+1),INDEX($AC$5:$AD$24,INT($AF23/2)+1,MOD(COLUMNS($AF$3:AK$3),2)+1))","v":4.3388373911755824},{"$f":"IF(OR(MOD($AF23,2)=0,INDEX(relationships,INT($AF23/2)+1,AL$3)<>1),INDEX($AC$5:$AD$24,AL$3,MOD(COLUMNS($AF$3:AL$3),2)+1),INDEX($AC$5:$AD$24,INT($AF23/2)+1,MOD(COLUMNS($AF$3:AL$3),2)+1))","v":-9.0096886790241903},{"$f":"IF(OR(MOD($AF23,2)=0,INDEX(relationships,INT($AF23/2)+1,AM$3)<>1),INDEX($AC$5:$AD$24,AM$3,MOD(COLUMNS($AF$3:AM$3),2)+1),INDEX($AC$5:$AD$24,INT($AF23/2)+1,MOD(COLUMNS($AF$3:AM$3),2)+1))","v":-4.3388373911755798},{"$f":"IF(OR(MOD($AF23,2)=0,INDEX(relationships,INT($AF23/2)+1,AN$3)<>1),INDEX($AC$5:$AD$24,AN$3,MOD(COLUMNS($AF$3:AN$3),2)+1),INDEX($AC$5:$AD$24,INT($AF23/2)+1,MOD(COLUMNS($AF$3:AN$3),2)+1))","v":-9.0096886790241921},{"$f":"IF(OR(MOD($AF23,2)=0,INDEX(relationships,INT($AF23/2)+1,AO$3)<>1),INDEX($AC$5:$AD$24,AO$3,MOD(COLUMNS($AF$3:AO$3),2)+1),INDEX($AC$5:$AD$24,INT($AF23/2)+1,MOD(COLUMNS($AF$3:AO$3),2)+1))","v":-9.7492791218182369},{"$f":"IF(OR(MOD($AF23,2)=0,INDEX(relationships,INT($AF23/2)+1,AP$3)<>1),INDEX($AC$5:$AD$24,AP$3,MOD(COLUMNS($AF$3:AP$3),2)+1),INDEX($AC$5:$AD$24,INT($AF23/2)+1,MOD(COLUMNS($AF$3:AP$3),2)+1))","v":-2.225209339563146},{"$f":"IF(OR(MOD($AF23,2)=0,INDEX(relationships,INT($AF23/2)+1,AQ$3)<>1),INDEX($AC$5:$AD$24,AQ$3,MOD(COLUMNS($AF$3:AQ$3),2)+1),INDEX($AC$5:$AD$24,INT($AF23/2)+1,MOD(COLUMNS($AF$3:AQ$3),2)+1))","v":-7.8183148246802991},{"$f":"IF(OR(MOD($AF23,2)=0,INDEX(relationships,INT($AF23/2)+1,AR$3)<>1),INDEX($AC$5:$AD$24,AR$3,MOD(COLUMNS($AF$3:AR$3),2)+1),INDEX($AC$5:$AD$24,INT($AF23/2)+1,MOD(COLUMNS($AF$3:AR$3),2)+1))","v":6.2348980185873337},{"$f":"IF(OR(MOD($AF23,2)=0,INDEX(relationships,INT($AF23/2)+1,AS$3)<>1),INDEX($AC$5:$AD$24,AS$3,MOD(COLUMNS($AF$3:AS$3),2)+1),INDEX($AC$5:$AD$24,INT($AF23/2)+1,MOD(COLUMNS($AF$3:AS$3),2)+1))","v":-2.45029690981724E-15},{"$f":"IF(OR(MOD($AF23,2)=0,INDEX(relationships,INT($AF23/2)+1,AT$3)<>1),INDEX($AC$5:$AD$24,AT$3,MOD(COLUMNS($AF$3:AT$3),2)+1),INDEX($AC$5:$AD$24,INT($AF23/2)+1,MOD(COLUMNS($AF$3:AT$3),2)+1))","v":10},{"$f":"IF(OR(MOD($AF23,2)=0,INDEX(relationships,INT($AF23/2)+1,AU$3)<>1),INDEX($AC$5:$AD$24,AU$3,MOD(COLUMNS($AF$3:AU$3),2)+1),INDEX($AC$5:$AD$24,INT($AF23/2)+1,MOD(COLUMNS($AF$3:AU$3),2)+1))","v":7.8183148246802956},{"$f":"IF(OR(MOD($AF23,2)=0,INDEX(relationships,INT($AF23/2)+1,AV$3)<>1),INDEX($AC$5:$AD$24,AV$3,MOD(COLUMNS($AF$3:AV$3),2)+1),INDEX($AC$5:$AD$24,INT($AF23/2)+1,MOD(COLUMNS($AF$3:AV$3),2)+1))","v":6.2348980185873373},{"$f":"IF(OR(MOD($AF23,2)=0,INDEX(relationships,INT($AF23/2)+1,AW$3)<>1),INDEX($AC$5:$AD$24,AW$3,MOD(COLUMNS($AF$3:AW$3),2)+1),INDEX($AC$5:$AD$24,INT($AF23/2)+1,MOD(COLUMNS($AF$3:AW$3),2)+1))","v":9.7492791218182369},{"$f":"IF(OR(MOD($AF23,2)=0,INDEX(relationships,INT($AF23/2)+1,AX$3)<>1),INDEX($AC$5:$AD$24,AX$3,MOD(COLUMNS($AF$3:AX$3),2)+1),INDEX($AC$5:$AD$24,INT($AF23/2)+1,MOD(COLUMNS($AF$3:AX$3),2)+1))","v":-2.2252093395631407},{"$f":"IF(OR(MOD($AF23,2)=0,INDEX(relationships,INT($AF23/2)+1,AY$3)<>1),INDEX($AC$5:$AD$24,AY$3,MOD(COLUMNS($AF$3:AY$3),2)+1),INDEX($AC$5:$AD$24,INT($AF23/2)+1,MOD(COLUMNS($AF$3:AY$3),2)+1))","v":4.3388373911755842},{"$f":"IF(OR(MOD($AF23,2)=0,INDEX(relationships,INT($AF23/2)+1,AZ$3)<>1),INDEX($AC$5:$AD$24,AZ$3,MOD(COLUMNS($AF$3:AZ$3),2)+1),INDEX($AC$5:$AD$24,INT($AF23/2)+1,MOD(COLUMNS($AF$3:AZ$3),2)+1))","v":-9.0096886790241886},{"$f":"IF(OR(MOD($AF23,2)=0,INDEX(relationships,INT($AF23/2)+1,BA$3)<>1),INDEX($AC$5:$AD$24,BA$3,MOD(COLUMNS($AF$3:BA$3),2)+1),INDEX($AC$5:$AD$24,INT($AF23/2)+1,MOD(COLUMNS($AF$3:BA$3),2)+1))","v":-4.338837391175578},{"$f":"IF(OR(MOD($AF23,2)=0,INDEX(relationships,INT($AF23/2)+1,BB$3)<>1),INDEX($AC$5:$AD$24,BB$3,MOD(COLUMNS($AF$3:BB$3),2)+1),INDEX($AC$5:$AD$24,INT($AF23/2)+1,MOD(COLUMNS($AF$3:BB$3),2)+1))","v":-9.0096886790241921},{"$f":"IF(OR(MOD($AF23,2)=0,INDEX(relationships,INT($AF23/2)+1,BC$3)<>1),INDEX($AC$5:$AD$24,BC$3,MOD(COLUMNS($AF$3:BC$3),2)+1),INDEX($AC$5:$AD$24,INT($AF23/2)+1,MOD(COLUMNS($AF$3:BC$3),2)+1))","v":-9.7492791218182351},{"$f":"IF(OR(MOD($AF23,2)=0,INDEX(relationships,INT($AF23/2)+1,BD$3)<>1),INDEX($AC$5:$AD$24,BD$3,MOD(COLUMNS($AF$3:BD$3),2)+1),INDEX($AC$5:$AD$24,INT($AF23/2)+1,MOD(COLUMNS($AF$3:BD$3),2)+1))","v":-2.2252093395631483},{"$f":"IF(OR(MOD($AF23,2)=0,INDEX(relationships,INT($AF23/2)+1,BE$3)<>1),INDEX($AC$5:$AD$24,BE$3,MOD(COLUMNS($AF$3:BE$3),2)+1),INDEX($AC$5:$AD$24,INT($AF23/2)+1,MOD(COLUMNS($AF$3:BE$3),2)+1))","v":-7.8183148246803018},{"$f":"IF(OR(MOD($AF23,2)=0,INDEX(relationships,INT($AF23/2)+1,BF$3)<>1),INDEX($AC$5:$AD$24,BF$3,MOD(COLUMNS($AF$3:BF$3),2)+1),INDEX($AC$5:$AD$24,INT($AF23/2)+1,MOD(COLUMNS($AF$3:BF$3),2)+1))","v":6.2348980185873319},{"$f":"IF(OR(MOD($AF23,2)=0,INDEX(relationships,INT($AF23/2)+1,BG$3)<>1),INDEX($AC$5:$AD$24,BG$3,MOD(COLUMNS($AF$3:BG$3),2)+1),INDEX($AC$5:$AD$24,INT($AF23/2)+1,MOD(COLUMNS($AF$3:BG$3),2)+1))","v":-4.90059381963448E-15},{"$f":"IF(OR(MOD($AF23,2)=0,INDEX(relationships,INT($AF23/2)+1,BH$3)<>1),INDEX($AC$5:$AD$24,BH$3,MOD(COLUMNS($AF$3:BH$3),2)+1),INDEX($AC$5:$AD$24,INT($AF23/2)+1,MOD(COLUMNS($AF$3:BH$3),2)+1))","v":10},{"$f":"IF(OR(MOD($AF23,2)=0,INDEX(relationships,INT($AF23/2)+1,BI$3)<>1),INDEX($AC$5:$AD$24,BI$3,MOD(COLUMNS($AF$3:BI$3),2)+1),INDEX($AC$5:$AD$24,INT($AF23/2)+1,MOD(COLUMNS($AF$3:BI$3),2)+1))","v":7.8183148246802947},{"$f":"IF(OR(MOD($AF23,2)=0,INDEX(relationships,INT($AF23/2)+1,BJ$3)<>1),INDEX($AC$5:$AD$24,BJ$3,MOD(COLUMNS($AF$3:BJ$3),2)+1),INDEX($AC$5:$AD$24,INT($AF23/2)+1,MOD(COLUMNS($AF$3:BJ$3),2)+1))","v":6.2348980185873391},{"$f":"IF(OR(MOD($AF23,2)=0,INDEX(relationships,INT($AF23/2)+1,BK$3)<>1),INDEX($AC$5:$AD$24,BK$3,MOD(COLUMNS($AF$3:BK$3),2)+1),INDEX($AC$5:$AD$24,INT($AF23/2)+1,MOD(COLUMNS($AF$3:BK$3),2)+1))","v":9.7492791218182369},{"$f":"IF(OR(MOD($AF23,2)=0,INDEX(relationships,INT($AF23/2)+1,BL$3)<>1),INDEX($AC$5:$AD$24,BL$3,MOD(COLUMNS($AF$3:BL$3),2)+1),INDEX($AC$5:$AD$24,INT($AF23/2)+1,MOD(COLUMNS($AF$3:BL$3),2)+1))","v":-2.2252093395631385},{"$f":"IF(OR(MOD($AF23,2)=0,INDEX(relationships,INT($AF23/2)+1,BM$3)<>1),INDEX($AC$5:$AD$24,BM$3,MOD(COLUMNS($AF$3:BM$3),2)+1),INDEX($AC$5:$AD$24,INT($AF23/2)+1,MOD(COLUMNS($AF$3:BM$3),2)+1))","v":4.3388373911755869},{"$f":"IF(OR(MOD($AF23,2)=0,INDEX(relationships,INT($AF23/2)+1,BN$3)<>1),INDEX($AC$5:$AD$24,BN$3,MOD(COLUMNS($AF$3:BN$3),2)+1),INDEX($AC$5:$AD$24,INT($AF23/2)+1,MOD(COLUMNS($AF$3:BN$3),2)+1))","v":-9.0096886790241886},{"$f":"IF(OR(MOD($AF23,2)=0,INDEX(relationships,INT($AF23/2)+1,BO$3)<>1),INDEX($AC$5:$AD$24,BO$3,MOD(COLUMNS($AF$3:BO$3),2)+1),INDEX($AC$5:$AD$24,INT($AF23/2)+1,MOD(COLUMNS($AF$3:BO$3),2)+1))","v":-4.3388373911755753},{"$f":"IF(OR(MOD($AF23,2)=0,INDEX(relationships,INT($AF23/2)+1,BP$3)<>1),INDEX($AC$5:$AD$24,BP$3,MOD(COLUMNS($AF$3:BP$3),2)+1),INDEX($AC$5:$AD$24,INT($AF23/2)+1,MOD(COLUMNS($AF$3:BP$3),2)+1))","v":-9.0096886790241939},{"$f":"IF(OR(MOD($AF23,2)=0,INDEX(relationships,INT($AF23/2)+1,BQ$3)<>1),INDEX($AC$5:$AD$24,BQ$3,MOD(COLUMNS($AF$3:BQ$3),2)+1),INDEX($AC$5:$AD$24,INT($AF23/2)+1,MOD(COLUMNS($AF$3:BQ$3),2)+1))","v":-9.7492791218182351},{"$f":"IF(OR(MOD($AF23,2)=0,INDEX(relationships,INT($AF23/2)+1,BR$3)<>1),INDEX($AC$5:$AD$24,BR$3,MOD(COLUMNS($AF$3:BR$3),2)+1),INDEX($AC$5:$AD$24,INT($AF23/2)+1,MOD(COLUMNS($AF$3:BR$3),2)+1))","v":-2.2252093395631505},{"$f":"IF(OR(MOD($AF23,2)=0,INDEX(relationships,INT($AF23/2)+1,BS$3)<>1),INDEX($AC$5:$AD$24,BS$3,MOD(COLUMNS($AF$3:BS$3),2)+1),INDEX($AC$5:$AD$24,INT($AF23/2)+1,MOD(COLUMNS($AF$3:BS$3),2)+1))","v":-7.8183148246803027},{"$f":"IF(OR(MOD($AF23,2)=0,INDEX(relationships,INT($AF23/2)+1,BT$3)<>1),INDEX($AC$5:$AD$24,BT$3,MOD(COLUMNS($AF$3:BT$3),2)+1),INDEX($AC$5:$AD$24,INT($AF23/2)+1,MOD(COLUMNS($AF$3:BT$3),2)+1))","v":6.2348980185873293},null,{"$f":"IF(OR(MOD($AF23,2)=0,INDEX(relationships,INT($AF23/2)+1,BV$3)<>2),INDEX($AC$5:$AD$24,BV$3,MOD(COLUMNS($BU$3:BV$3),2)+1),INDEX($AC$5:$AD$24,INT($AF23/2)+1,MOD(COLUMNS($BU$3:BV$3),2)+1))","v":7.8183148246802983},{"$f":"IF(OR(MOD($AF23,2)=0,INDEX(relationships,INT($AF23/2)+1,BW$3)<>2),INDEX($AC$5:$AD$24,BW$3,MOD(COLUMNS($BU$3:BW$3),2)+1),INDEX($AC$5:$AD$24,INT($AF23/2)+1,MOD(COLUMNS($BU$3:BW$3),2)+1))","v":6.2348980185873355},{"$f":"IF(OR(MOD($AF23,2)=0,INDEX(relationships,INT($AF23/2)+1,BX$3)<>2),INDEX($AC$5:$AD$24,BX$3,MOD(COLUMNS($BU$3:BX$3),2)+1),INDEX($AC$5:$AD$24,INT($AF23/2)+1,MOD(COLUMNS($BU$3:BX$3),2)+1))","v":9.7492791218182369},{"$f":"IF(OR(MOD($AF23,2)=0,INDEX(relationships,INT($AF23/2)+1,BY$3)<>2),INDEX($AC$5:$AD$24,BY$3,MOD(COLUMNS($BU$3:BY$3),2)+1),INDEX($AC$5:$AD$24,INT($AF23/2)+1,MOD(COLUMNS($BU$3:BY$3),2)+1))","v":-2.2252093395631434},{"$f":"IF(OR(MOD($AF23,2)=0,INDEX(relationships,INT($AF23/2)+1,BZ$3)<>2),INDEX($AC$5:$AD$24,BZ$3,MOD(COLUMNS($BU$3:BZ$3),2)+1),INDEX($AC$5:$AD$24,INT($AF23/2)+1,MOD(COLUMNS($BU$3:BZ$3),2)+1))","v":4.3388373911755824},{"$f":"IF(OR(MOD($AF23,2)=0,INDEX(relationships,INT($AF23/2)+1,CA$3)<>2),INDEX($AC$5:$AD$24,CA$3,MOD(COLUMNS($BU$3:CA$3),2)+1),INDEX($AC$5:$AD$24,INT($AF23/2)+1,MOD(COLUMNS($BU$3:CA$3),2)+1))","v":-9.0096886790241903},{"$f":"IF(OR(MOD($AF23,2)=0,INDEX(relationships,INT($AF23/2)+1,CB$3)<>2),INDEX($AC$5:$AD$24,CB$3,MOD(COLUMNS($BU$3:CB$3),2)+1),INDEX($AC$5:$AD$24,INT($AF23/2)+1,MOD(COLUMNS($BU$3:CB$3),2)+1))","v":-4.3388373911755798},{"$f":"IF(OR(MOD($AF23,2)=0,INDEX(relationships,INT($AF23/2)+1,CC$3)<>2),INDEX($AC$5:$AD$24,CC$3,MOD(COLUMNS($BU$3:CC$3),2)+1),INDEX($AC$5:$AD$24,INT($AF23/2)+1,MOD(COLUMNS($BU$3:CC$3),2)+1))","v":-9.0096886790241921},{"$f":"IF(OR(MOD($AF23,2)=0,INDEX(relationships,INT($AF23/2)+1,CD$3)<>2),INDEX($AC$5:$AD$24,CD$3,MOD(COLUMNS($BU$3:CD$3),2)+1),INDEX($AC$5:$AD$24,INT($AF23/2)+1,MOD(COLUMNS($BU$3:CD$3),2)+1))","v":-9.7492791218182369},{"$f":"IF(OR(MOD($AF23,2)=0,INDEX(relationships,INT($AF23/2)+1,CE$3)<>2),INDEX($AC$5:$AD$24,CE$3,MOD(COLUMNS($BU$3:CE$3),2)+1),INDEX($AC$5:$AD$24,INT($AF23/2)+1,MOD(COLUMNS($BU$3:CE$3),2)+1))","v":-2.225209339563146},{"$f":"IF(OR(MOD($AF23,2)=0,INDEX(relationships,INT($AF23/2)+1,CF$3)<>2),INDEX($AC$5:$AD$24,CF$3,MOD(COLUMNS($BU$3:CF$3),2)+1),INDEX($AC$5:$AD$24,INT($AF23/2)+1,MOD(COLUMNS($BU$3:CF$3),2)+1))","v":-7.8183148246802991},{"$f":"IF(OR(MOD($AF23,2)=0,INDEX(relationships,INT($AF23/2)+1,CG$3)<>2),INDEX($AC$5:$AD$24,CG$3,MOD(COLUMNS($BU$3:CG$3),2)+1),INDEX($AC$5:$AD$24,INT($AF23/2)+1,MOD(COLUMNS($BU$3:CG$3),2)+1))","v":6.2348980185873337},{"$f":"IF(OR(MOD($AF23,2)=0,INDEX(relationships,INT($AF23/2)+1,CH$3)<>2),INDEX($AC$5:$AD$24,CH$3,MOD(COLUMNS($BU$3:CH$3),2)+1),INDEX($AC$5:$AD$24,INT($AF23/2)+1,MOD(COLUMNS($BU$3:CH$3),2)+1))","v":-2.45029690981724E-15},{"$f":"IF(OR(MOD($AF23,2)=0,INDEX(relationships,INT($AF23/2)+1,CI$3)<>2),INDEX($AC$5:$AD$24,CI$3,MOD(COLUMNS($BU$3:CI$3),2)+1),INDEX($AC$5:$AD$24,INT($AF23/2)+1,MOD(COLUMNS($BU$3:CI$3),2)+1))","v":10},{"$f":"IF(OR(MOD($AF23,2)=0,INDEX(relationships,INT($AF23/2)+1,CJ$3)<>2),INDEX($AC$5:$AD$24,CJ$3,MOD(COLUMNS($BU$3:CJ$3),2)+1),INDEX($AC$5:$AD$24,INT($AF23/2)+1,MOD(COLUMNS($BU$3:CJ$3),2)+1))","v":7.8183148246802956},{"$f":"IF(OR(MOD($AF23,2)=0,INDEX(relationships,INT($AF23/2)+1,CK$3)<>2),INDEX($AC$5:$AD$24,CK$3,MOD(COLUMNS($BU$3:CK$3),2)+1),INDEX($AC$5:$AD$24,INT($AF23/2)+1,MOD(COLUMNS($BU$3:CK$3),2)+1))","v":6.2348980185873373},{"$f":"IF(OR(MOD($AF23,2)=0,INDEX(relationships,INT($AF23/2)+1,CL$3)<>2),INDEX($AC$5:$AD$24,CL$3,MOD(COLUMNS($BU$3:CL$3),2)+1),INDEX($AC$5:$AD$24,INT($AF23/2)+1,MOD(COLUMNS($BU$3:CL$3),2)+1))","v":9.7492791218182369},{"$f":"IF(OR(MOD($AF23,2)=0,INDEX(relationships,INT($AF23/2)+1,CM$3)<>2),INDEX($AC$5:$AD$24,CM$3,MOD(COLUMNS($BU$3:CM$3),2)+1),INDEX($AC$5:$AD$24,INT($AF23/2)+1,MOD(COLUMNS($BU$3:CM$3),2)+1))","v":-2.2252093395631407},{"$f":"IF(OR(MOD($AF23,2)=0,INDEX(relationships,INT($AF23/2)+1,CN$3)<>2),INDEX($AC$5:$AD$24,CN$3,MOD(COLUMNS($BU$3:CN$3),2)+1),INDEX($AC$5:$AD$24,INT($AF23/2)+1,MOD(COLUMNS($BU$3:CN$3),2)+1))","v":4.3388373911755842},{"$f":"IF(OR(MOD($AF23,2)=0,INDEX(relationships,INT($AF23/2)+1,CO$3)<>2),INDEX($AC$5:$AD$24,CO$3,MOD(COLUMNS($BU$3:CO$3),2)+1),INDEX($AC$5:$AD$24,INT($AF23/2)+1,MOD(COLUMNS($BU$3:CO$3),2)+1))","v":-9.0096886790241886},{"$f":"IF(OR(MOD($AF23,2)=0,INDEX(relationships,INT($AF23/2)+1,CP$3)<>2),INDEX($AC$5:$AD$24,CP$3,MOD(COLUMNS($BU$3:CP$3),2)+1),INDEX($AC$5:$AD$24,INT($AF23/2)+1,MOD(COLUMNS($BU$3:CP$3),2)+1))","v":-4.338837391175578},{"$f":"IF(OR(MOD($AF23,2)=0,INDEX(relationships,INT($AF23/2)+1,CQ$3)<>2),INDEX($AC$5:$AD$24,CQ$3,MOD(COLUMNS($BU$3:CQ$3),2)+1),INDEX($AC$5:$AD$24,INT($AF23/2)+1,MOD(COLUMNS($BU$3:CQ$3),2)+1))","v":-9.0096886790241921},{"$f":"IF(OR(MOD($AF23,2)=0,INDEX(relationships,INT($AF23/2)+1,CR$3)<>2),INDEX($AC$5:$AD$24,CR$3,MOD(COLUMNS($BU$3:CR$3),2)+1),INDEX($AC$5:$AD$24,INT($AF23/2)+1,MOD(COLUMNS($BU$3:CR$3),2)+1))","v":-9.7492791218182351},{"$f":"IF(OR(MOD($AF23,2)=0,INDEX(relationships,INT($AF23/2)+1,CS$3)<>2),INDEX($AC$5:$AD$24,CS$3,MOD(COLUMNS($BU$3:CS$3),2)+1),INDEX($AC$5:$AD$24,INT($AF23/2)+1,MOD(COLUMNS($BU$3:CS$3),2)+1))","v":-2.2252093395631483},{"$f":"IF(OR(MOD($AF23,2)=0,INDEX(relationships,INT($AF23/2)+1,CT$3)<>2),INDEX($AC$5:$AD$24,CT$3,MOD(COLUMNS($BU$3:CT$3),2)+1),INDEX($AC$5:$AD$24,INT($AF23/2)+1,MOD(COLUMNS($BU$3:CT$3),2)+1))","v":-7.8183148246803018},{"$f":"IF(OR(MOD($AF23,2)=0,INDEX(relationships,INT($AF23/2)+1,CU$3)<>2),INDEX($AC$5:$AD$24,CU$3,MOD(COLUMNS($BU$3:CU$3),2)+1),INDEX($AC$5:$AD$24,INT($AF23/2)+1,MOD(COLUMNS($BU$3:CU$3),2)+1))","v":6.2348980185873319},{"$f":"IF(OR(MOD($AF23,2)=0,INDEX(relationships,INT($AF23/2)+1,CV$3)<>2),INDEX($AC$5:$AD$24,CV$3,MOD(COLUMNS($BU$3:CV$3),2)+1),INDEX($AC$5:$AD$24,INT($AF23/2)+1,MOD(COLUMNS($BU$3:CV$3),2)+1))","v":-4.90059381963448E-15},{"$f":"IF(OR(MOD($AF23,2)=0,INDEX(relationships,INT($AF23/2)+1,CW$3)<>2),INDEX($AC$5:$AD$24,CW$3,MOD(COLUMNS($BU$3:CW$3),2)+1),INDEX($AC$5:$AD$24,INT($AF23/2)+1,MOD(COLUMNS($BU$3:CW$3),2)+1))","v":10},{"$f":"IF(OR(MOD($AF23,2)=0,INDEX(relationships,INT($AF23/2)+1,CX$3)<>2),INDEX($AC$5:$AD$24,CX$3,MOD(COLUMNS($BU$3:CX$3),2)+1),INDEX($AC$5:$AD$24,INT($AF23/2)+1,MOD(COLUMNS($BU$3:CX$3),2)+1))","v":7.8183148246802947},{"$f":"IF(OR(MOD($AF23,2)=0,INDEX(relationships,INT($AF23/2)+1,CY$3)<>2),INDEX($AC$5:$AD$24,CY$3,MOD(COLUMNS($BU$3:CY$3),2)+1),INDEX($AC$5:$AD$24,INT($AF23/2)+1,MOD(COLUMNS($BU$3:CY$3),2)+1))","v":6.2348980185873391},{"$f":"IF(OR(MOD($AF23,2)=0,INDEX(relationships,INT($AF23/2)+1,CZ$3)<>2),INDEX($AC$5:$AD$24,CZ$3,MOD(COLUMNS($BU$3:CZ$3),2)+1),INDEX($AC$5:$AD$24,INT($AF23/2)+1,MOD(COLUMNS($BU$3:CZ$3),2)+1))","v":9.7492791218182369},{"$f":"IF(OR(MOD($AF23,2)=0,INDEX(relationships,INT($AF23/2)+1,DA$3)<>2),INDEX($AC$5:$AD$24,DA$3,MOD(COLUMNS($BU$3:DA$3),2)+1),INDEX($AC$5:$AD$24,INT($AF23/2)+1,MOD(COLUMNS($BU$3:DA$3),2)+1))","v":-2.2252093395631385},{"$f":"IF(OR(MOD($AF23,2)=0,INDEX(relationships,INT($AF23/2)+1,DB$3)<>2),INDEX($AC$5:$AD$24,DB$3,MOD(COLUMNS($BU$3:DB$3),2)+1),INDEX($AC$5:$AD$24,INT($AF23/2)+1,MOD(COLUMNS($BU$3:DB$3),2)+1))","v":4.3388373911755869},{"$f":"IF(OR(MOD($AF23,2)=0,INDEX(relationships,INT($AF23/2)+1,DC$3)<>2),INDEX($AC$5:$AD$24,DC$3,MOD(COLUMNS($BU$3:DC$3),2)+1),INDEX($AC$5:$AD$24,INT($AF23/2)+1,MOD(COLUMNS($BU$3:DC$3),2)+1))","v":-9.0096886790241886},{"$f":"IF(OR(MOD($AF23,2)=0,INDEX(relationships,INT($AF23/2)+1,DD$3)<>2),INDEX($AC$5:$AD$24,DD$3,MOD(COLUMNS($BU$3:DD$3),2)+1),INDEX($AC$5:$AD$24,INT($AF23/2)+1,MOD(COLUMNS($BU$3:DD$3),2)+1))","v":-4.3388373911755753},{"$f":"IF(OR(MOD($AF23,2)=0,INDEX(relationships,INT($AF23/2)+1,DE$3)<>2),INDEX($AC$5:$AD$24,DE$3,MOD(COLUMNS($BU$3:DE$3),2)+1),INDEX($AC$5:$AD$24,INT($AF23/2)+1,MOD(COLUMNS($BU$3:DE$3),2)+1))","v":-9.0096886790241939},{"$f":"IF(OR(MOD($AF23,2)=0,INDEX(relationships,INT($AF23/2)+1,DF$3)<>2),INDEX($AC$5:$AD$24,DF$3,MOD(COLUMNS($BU$3:DF$3),2)+1),INDEX($AC$5:$AD$24,INT($AF23/2)+1,MOD(COLUMNS($BU$3:DF$3),2)+1))","v":-9.7492791218182351},{"$f":"IF(OR(MOD($AF23,2)=0,INDEX(relationships,INT($AF23/2)+1,DG$3)<>2),INDEX($AC$5:$AD$24,DG$3,MOD(COLUMNS($BU$3:DG$3),2)+1),INDEX($AC$5:$AD$24,INT($AF23/2)+1,MOD(COLUMNS($BU$3:DG$3),2)+1))","v":-2.2252093395631505},{"$f":"IF(OR(MOD($AF23,2)=0,INDEX(relationships,INT($AF23/2)+1,DH$3)<>2),INDEX($AC$5:$AD$24,DH$3,MOD(COLUMNS($BU$3:DH$3),2)+1),INDEX($AC$5:$AD$24,INT($AF23/2)+1,MOD(COLUMNS($BU$3:DH$3),2)+1))","v":-7.8183148246803027},{"$f":"IF(OR(MOD($AF23,2)=0,INDEX(relationships,INT($AF23/2)+1,DI$3)<>2),INDEX($AC$5:$AD$24,DI$3,MOD(COLUMNS($BU$3:DI$3),2)+1),INDEX($AC$5:$AD$24,INT($AF23/2)+1,MOD(COLUMNS($BU$3:DI$3),2)+1))","v":6.2348980185873293},null,-2.45029690981724E-15,10,-2.45029690981724E-15,10]
[null,{"$f":"'Group Data'!B37","v":0},{"$f":"'Group Data'!AJ37","v":0},{"$f":"'Group Data'!AK37","v":0},{"$f":"'Group Data'!AL37","v":0},{"$f":"'Group Data'!AM37","v":0},{"$f":"'Group Data'!AN37","v":0},{"$f":"'Group Data'!AO37","v":0},{"$f":"'Group Data'!AP37","v":0},{"$f":"'Group Data'!AQ37","v":0},{"$f":"'Group Data'!AR37","v":0},{"$f":"'Group Data'!AS37","v":0},{"$f":"'Group Data'!AT37","v":0},{"$f":"'Group Data'!AU37","v":0},{"$f":"'Group Data'!AV37","v":0},{"$f":"'Group Data'!AW37","v":0},{"$f":"'Group Data'!AX37","v":0},{"$f":"'Group Data'!AY37","v":0},{"$f":"'Group Data'!AZ37","v":0},{"$f":"'Group Data'!BA37","v":0},{"$f":"'Group Data'!BB37","v":0},null,null,null,"Selection Summary Display",null,null,20,-7.8183148246803027,6.2348980185873293,null,19,{"$f":"IF(OR(MOD($AF24,2)=0,INDEX(relationships,INT($AF24/2)+1,AG$3)<>1),INDEX($AC$5:$AD$24,AG$3,MOD(COLUMNS($AF$3:AG$3),2)+1),INDEX($AC$5:$AD$24,INT($AF24/2)+1,MOD(COLUMNS($AF$3:AG$3),2)+1))","v":7.8183148246802983},{"$f":"IF(OR(MOD($AF24,2)=0,INDEX(relationships,INT($AF24/2)+1,AH$3)<>1),INDEX($AC$5:$AD$24,AH$3,MOD(COLUMNS($AF$3:AH$3),2)+1),INDEX($AC$5:$AD$24,INT($AF24/2)+1,MOD(COLUMNS($AF$3:AH$3),2)+1))","v":6.2348980185873355},{"$f":"IF(OR(MOD($AF24,2)=0,INDEX(relationships,INT($AF24/2)+1,AI$3)<>1),INDEX($AC$5:$AD$24,AI$3,MOD(COLUMNS($AF$3:AI$3),2)+1),INDEX($AC$5:$AD$24,INT($AF24/2)+1,MOD(COLUMNS($AF$3:AI$3),2)+1))","v":9.7492791218182369},{"$f":"IF(OR(MOD($AF24,2)=0,INDEX(relationships,INT($AF24/2)+1,AJ$3)<>1),INDEX($AC$5:$AD$24,AJ$3,MOD(COLUMNS($AF$3:AJ$3),2)+1),INDEX($AC$5:$AD$24,INT($AF24/2)+1,MOD(COLUMNS($AF$3:AJ$3),2)+1))","v":-2.2252093395631434},{"$f":"IF(OR(MOD($AF24,2)=0,INDEX(relationships,INT($AF24/2)+1,AK$3)<>1),INDEX($AC$5:$AD$24,AK$3,MOD(COLUMNS($AF$3:AK$3),2)+1),INDEX($AC$5:$AD$24,INT($AF24/2)+1,MOD(COLUMNS($AF$3:AK$3),2)+1))","v":4.3388373911755824},{"$f":"IF(OR(MOD($AF24,2)=0,INDEX(relationships,INT($AF24/2)+1,AL$3)<>1),INDEX($AC$5:$AD$24,AL$3,MOD(COLUMNS($AF$3:AL$3),2)+1),INDEX($AC$5:$AD$24,INT($AF24/2)+1,MOD(COLUMNS($AF$3:AL$3),2)+1))","v":-9.0096886790241903},{"$f":"IF(OR(MOD($AF24,2)=0,INDEX(relationships,INT($AF24/2)+1,AM$3)<>1),INDEX($AC$5:$AD$24,AM$3,MOD(COLUMNS($AF$3:AM$3),2)+1),INDEX($AC$5:$AD$24,INT($AF24/2)+1,MOD(COLUMNS($AF$3:AM$3),2)+1))","v":-4.3388373911755798},{"$f":"IF(OR(MOD($AF24,2)=0,INDEX(relationships,INT($AF24/2)+1,AN$3)<>1),INDEX($AC$5:$AD$24,AN$3,MOD(COLUMNS($AF$3:AN$3),2)+1),INDEX($AC$5:$AD$24,INT($AF24/2)+1,MOD(COLUMNS($AF$3:AN$3),2)+1))","v":-9.0096886790241921},{"$f":"IF(OR(MOD($AF24,2)=0,INDEX(relationships,INT($AF24/2)+1,AO$3)<>1),INDEX($AC$5:$AD$24,AO$3,MOD(COLUMNS($AF$3:AO$3),2)+1),INDEX($AC$5:$AD$24,INT($AF24/2)+1,MOD(COLUMNS($AF$3:AO$3),2)+1))","v":-9.7492791218182369},{"$f":"IF(OR(MOD($AF24,2)=0,INDEX(relationships,INT($AF24/2)+1,AP$3)<>1),INDEX($AC$5:$AD$24,AP$3,MOD(COLUMNS($AF$3:AP$3),2)+1),INDEX($AC$5:$AD$24,INT($AF24/2)+1,MOD(COLUMNS($AF$3:AP$3),2)+1))","v":-2.225209339563146},{"$f":"IF(OR(MOD($AF24,2)=0,INDEX(relationships,INT($AF24/2)+1,AQ$3)<>1),INDEX($AC$5:$AD$24,AQ$3,MOD(COLUMNS($AF$3:AQ$3),2)+1),INDEX($AC$5:$AD$24,INT($AF24/2)+1,MOD(COLUMNS($AF$3:AQ$3),2)+1))","v":-7.8183148246802991},{"$f":"IF(OR(MOD($AF24,2)=0,INDEX(relationships,INT($AF24/2)+1,AR$3)<>1),INDEX($AC$5:$AD$24,AR$3,MOD(COLUMNS($AF$3:AR$3),2)+1),INDEX($AC$5:$AD$24,INT($AF24/2)+1,MOD(COLUMNS($AF$3:AR$3),2)+1))","v":6.2348980185873337},{"$f":"IF(OR(MOD($AF24,2)=0,INDEX(relationships,INT($AF24/2)+1,AS$3)<>1),INDEX($AC$5:$AD$24,AS$3,MOD(COLUMNS($AF$3:AS$3),2)+1),INDEX($AC$5:$AD$24,INT($AF24/2)+1,MOD(COLUMNS($AF$3:AS$3),2)+1))","v":-2.45029690981724E-15},{"$f":"IF(OR(MOD($AF24,2)=0,INDEX(relationships,INT($AF24/2)+1,AT$3)<>1),INDEX($AC$5:$AD$24,AT$3,MOD(COLUMNS($AF$3:AT$3),2)+1),INDEX($AC$5:$AD$24,INT($AF24/2)+1,MOD(COLUMNS($AF$3:AT$3),2)+1))","v":10},{"$f":"IF(OR(MOD($AF24,2)=0,INDEX(relationships,INT($AF24/2)+1,AU$3)<>1),INDEX($AC$5:$AD$24,AU$3,MOD(COLUMNS($AF$3:AU$3),2)+1),INDEX($AC$5:$AD$24,INT($AF24/2)+1,MOD(COLUMNS($AF$3:AU$3),2)+1))","v":7.8183148246802956},{"$f":"IF(OR(MOD($AF24,2)=0,INDEX(relationships,INT($AF24/2)+1,AV$3)<>1),INDEX($AC$5:$AD$24,AV$3,MOD(COLUMNS($AF$3:AV$3),2)+1),INDEX($AC$5:$AD$24,INT($AF24/2)+1,MOD(COLUMNS($AF$3:AV$3),2)+1))","v":6.2348980185873373},{"$f":"IF(OR(MOD($AF24,2)=0,INDEX(relationships,INT($AF24/2)+1,AW$3)<>1),INDEX($AC$5:$AD$24,AW$3,MOD(COLUMNS($AF$3:AW$3),2)+1),INDEX($AC$5:$AD$24,INT($AF24/2)+1,MOD(COLUMNS($AF$3:AW$3),2)+1))","v":9.7492791218182369},{"$f":"IF(OR(MOD($AF24,2)=0,INDEX(relationships,INT($AF24/2)+1,AX$3)<>1),INDEX($AC$5:$AD$24,AX$3,MOD(COLUMNS($AF$3:AX$3),2)+1),INDEX($AC$5:$AD$24,INT($AF24/2)+1,MOD(COLUMNS($AF$3:AX$3),2)+1))","v":-2.2252093395631407},{"$f":"IF(OR(MOD($AF24,2)=0,INDEX(relationships,INT($AF24/2)+1,AY$3)<>1),INDEX($AC$5:$AD$24,AY$3,MOD(COLUMNS($AF$3:AY$3),2)+1),INDEX($AC$5:$AD$24,INT($AF24/2)+1,MOD(COLUMNS($AF$3:AY$3),2)+1))","v":4.3388373911755842},{"$f":"IF(OR(MOD($AF24,2)=0,INDEX(relationships,INT($AF24/2)+1,AZ$3)<>1),INDEX($AC$5:$AD$24,AZ$3,MOD(COLUMNS($AF$3:AZ$3),2)+1),INDEX($AC$5:$AD$24,INT($AF24/2)+1,MOD(COLUMNS($AF$3:AZ$3),2)+1))","v":-9.0096886790241886},{"$f":"IF(OR(MOD($AF24,2)=0,INDEX(relationships,INT($AF24/2)+1,BA$3)<>1),INDEX($AC$5:$AD$24,BA$3,MOD(COLUMNS($AF$3:BA$3),2)+1),INDEX($AC$5:$AD$24,INT($AF24/2)+1,MOD(COLUMNS($AF$3:BA$3),2)+1))","v":-4.338837391175578},{"$f":"IF(OR(MOD($AF24,2)=0,INDEX(relationships,INT($AF24/2)+1,BB$3)<>1),INDEX($AC$5:$AD$24,BB$3,MOD(COLUMNS($AF$3:BB$3),2)+1),INDEX($AC$5:$AD$24,INT($AF24/2)+1,MOD(COLUMNS($AF$3:BB$3),2)+1))","v":-9.0096886790241921},{"$f":"IF(OR(MOD($AF24,2)=0,INDEX(relationships,INT($AF24/2)+1,BC$3)<>1),INDEX($AC$5:$AD$24,BC$3,MOD(COLUMNS($AF$3:BC$3),2)+1),INDEX($AC$5:$AD$24,INT($AF24/2)+1,MOD(COLUMNS($AF$3:BC$3),2)+1))","v":-9.7492791218182351},{"$f":"IF(OR(MOD($AF24,2)=0,INDEX(relationships,INT($AF24/2)+1,BD$3)<>1),INDEX($AC$5:$AD$24,BD$3,MOD(COLUMNS($AF$3:BD$3),2)+1),INDEX($AC$5:$AD$24,INT($AF24/2)+1,MOD(COLUMNS($AF$3:BD$3),2)+1))","v":-2.2252093395631483},{"$f":"IF(OR(MOD($AF24,2)=0,INDEX(relationships,INT($AF24/2)+1,BE$3)<>1),INDEX($AC$5:$AD$24,BE$3,MOD(COLUMNS($AF$3:BE$3),2)+1),INDEX($AC$5:$AD$24,INT($AF24/2)+1,MOD(COLUMNS($AF$3:BE$3),2)+1))","v":-7.8183148246803018},{"$f":"IF(OR(MOD($AF24,2)=0,INDEX(relationships,INT($AF24/2)+1,BF$3)<>1),INDEX($AC$5:$AD$24,BF$3,MOD(COLUMNS($AF$3:BF$3),2)+1),INDEX($AC$5:$AD$24,INT($AF24/2)+1,MOD(COLUMNS($AF$3:BF$3),2)+1))","v":6.2348980185873319},{"$f":"IF(OR(MOD($AF24,2)=0,INDEX(relationships,INT($AF24/2)+1,BG$3)<>1),INDEX($AC$5:$AD$24,BG$3,MOD(COLUMNS($AF$3:BG$3),2)+1),INDEX($AC$5:$AD$24,INT($AF24/2)+1,MOD(COLUMNS($AF$3:BG$3),2)+1))","v":-4.90059381963448E-15},{"$f":"IF(OR(MOD($AF24,2)=0,INDEX(relationships,INT($AF24/2)+1,BH$3)<>1),INDEX($AC$5:$AD$24,BH$3,MOD(COLUMNS($AF$3:BH$3),2)+1),INDEX($AC$5:$AD$24,INT($AF24/2)+1,MOD(COLUMNS($AF$3:BH$3),2)+1))","v":10},{"$f":"IF(OR(MOD($AF24,2)=0,INDEX(relationships,INT($AF24/2)+1,BI$3)<>1),INDEX($AC$5:$AD$24,BI$3,MOD(COLUMNS($AF$3:BI$3),2)+1),INDEX($AC$5:$AD$24,INT($AF24/2)+1,MOD(COLUMNS($AF$3:BI$3),2)+1))","v":7.8183148246802947},{"$f":"IF(OR(MOD($AF24,2)=0,INDEX(relationships,INT($AF24/2)+1,BJ$3)<>1),INDEX($AC$5:$AD$24,BJ$3,MOD(COLUMNS($AF$3:BJ$3),2)+1),INDEX($AC$5:$AD$24,INT($AF24/2)+1,MOD(COLUMNS($AF$3:BJ$3),2)+1))","v":6.2348980185873391},{"$f":"IF(OR(MOD($AF24,2)=0,INDEX(relationships,INT($AF24/2)+1,BK$3)<>1),INDEX($AC$5:$AD$24,BK$3,MOD(COLUMNS($AF$3:BK$3),2)+1),INDEX($AC$5:$AD$24,INT($AF24/2)+1,MOD(COLUMNS($AF$3:BK$3),2)+1))","v":9.7492791218182369},{"$f":"IF(OR(MOD($AF24,2)=0,INDEX(relationships,INT($AF24/2)+1,BL$3)<>1),INDEX($AC$5:$AD$24,BL$3,MOD(COLUMNS($AF$3:BL$3),2)+1),INDEX($AC$5:$AD$24,INT($AF24/2)+1,MOD(COLUMNS($AF$3:BL$3),2)+1))","v":-2.2252093395631385},{"$f":"IF(OR(MOD($AF24,2)=0,INDEX(relationships,INT($AF24/2)+1,BM$3)<>1),INDEX($AC$5:$AD$24,BM$3,MOD(COLUMNS($AF$3:BM$3),2)+1),INDEX($AC$5:$AD$24,INT($AF24/2)+1,MOD(COLUMNS($AF$3:BM$3),2)+1))","v":4.3388373911755869},{"$f":"IF(OR(MOD($AF24,2)=0,INDEX(relationships,INT($AF24/2)+1,BN$3)<>1),INDEX($AC$5:$AD$24,BN$3,MOD(COLUMNS($AF$3:BN$3),2)+1),INDEX($AC$5:$AD$24,INT($AF24/2)+1,MOD(COLUMNS($AF$3:BN$3),2)+1))","v":-9.0096886790241886},{"$f":"IF(OR(MOD($AF24,2)=0,INDEX(relationships,INT($AF24/2)+1,BO$3)<>1),INDEX($AC$5:$AD$24,BO$3,MOD(COLUMNS($AF$3:BO$3),2)+1),INDEX($AC$5:$AD$24,INT($AF24/2)+1,MOD(COLUMNS($AF$3:BO$3),2)+1))","v":-4.3388373911755753},{"$f":"IF(OR(MOD($AF24,2)=0,INDEX(relationships,INT($AF24/2)+1,BP$3)<>1),INDEX($AC$5:$AD$24,BP$3,MOD(COLUMNS($AF$3:BP$3),2)+1),INDEX($AC$5:$AD$24,INT($AF24/2)+1,MOD(COLUMNS($AF$3:BP$3),2)+1))","v":-9.0096886790241939},{"$f":"IF(OR(MOD($AF24,2)=0,INDEX(relationships,INT($AF24/2)+1,BQ$3)<>1),INDEX($AC$5:$AD$24,BQ$3,MOD(COLUMNS($AF$3:BQ$3),2)+1),INDEX($AC$5:$AD$24,INT($AF24/2)+1,MOD(COLUMNS($AF$3:BQ$3),2)+1))","v":-9.7492791218182351},{"$f":"IF(OR(MOD($AF24,2)=0,INDEX(relationships,INT($AF24/2)+1,BR$3)<>1),INDEX($AC$5:$AD$24,BR$3,MOD(COLUMNS($AF$3:BR$3),2)+1),INDEX($AC$5:$AD$24,INT($AF24/2)+1,MOD(COLUMNS($AF$3:BR$3),2)+1))","v":-2.2252093395631505},{"$f":"IF(OR(MOD($AF24,2)=0,INDEX(relationships,INT($AF24/2)+1,BS$3)<>1),INDEX($AC$5:$AD$24,BS$3,MOD(COLUMNS($AF$3:BS$3),2)+1),INDEX($AC$5:$AD$24,INT($AF24/2)+1,MOD(COLUMNS($AF$3:BS$3),2)+1))","v":-7.8183148246803027},{"$f":"IF(OR(MOD($AF24,2)=0,INDEX(relationships,INT($AF24/2)+1,BT$3)<>1),INDEX($AC$5:$AD$24,BT$3,MOD(COLUMNS($AF$3:BT$3),2)+1),INDEX($AC$5:$AD$24,INT($AF24/2)+1,MOD(COLUMNS($AF$3:BT$3),2)+1))","v":6.2348980185873293},null,{"$f":"IF(OR(MOD($AF24,2)=0,INDEX(relationships,INT($AF24/2)+1,BV$3)<>2),INDEX($AC$5:$AD$24,BV$3,MOD(COLUMNS($BU$3:BV$3),2)+1),INDEX($AC$5:$AD$24,INT($AF24/2)+1,MOD(COLUMNS($BU$3:BV$3),2)+1))","v":7.8183148246802983},{"$f":"IF(OR(MOD($AF24,2)=0,INDEX(relationships,INT($AF24/2)+1,BW$3)<>2),INDEX($AC$5:$AD$24,BW$3,MOD(COLUMNS($BU$3:BW$3),2)+1),INDEX($AC$5:$AD$24,INT($AF24/2)+1,MOD(COLUMNS($BU$3:BW$3),2)+1))","v":6.2348980185873355},{"$f":"IF(OR(MOD($AF24,2)=0,INDEX(relationships,INT($AF24/2)+1,BX$3)<>2),INDEX($AC$5:$AD$24,BX$3,MOD(COLUMNS($BU$3:BX$3),2)+1),INDEX($AC$5:$AD$24,INT($AF24/2)+1,MOD(COLUMNS($BU$3:BX$3),2)+1))","v":9.7492791218182369},{"$f":"IF(OR(MOD($AF24,2)=0,INDEX(relationships,INT($AF24/2)+1,BY$3)<>2),INDEX($AC$5:$AD$24,BY$3,MOD(COLUMNS($BU$3:BY$3),2)+1),INDEX($AC$5:$AD$24,INT($AF24/2)+1,MOD(COLUMNS($BU$3:BY$3),2)+1))","v":-2.2252093395631434},{"$f":"IF(OR(MOD($AF24,2)=0,INDEX(relationships,INT($AF24/2)+1,BZ$3)<>2),INDEX($AC$5:$AD$24,BZ$3,MOD(COLUMNS($BU$3:BZ$3),2)+1),INDEX($AC$5:$AD$24,INT($AF24/2)+1,MOD(COLUMNS($BU$3:BZ$3),2)+1))","v":4.3388373911755824},{"$f":"IF(OR(MOD($AF24,2)=0,INDEX(relationships,INT($AF24/2)+1,CA$3)<>2),INDEX($AC$5:$AD$24,CA$3,MOD(COLUMNS($BU$3:CA$3),2)+1),INDEX($AC$5:$AD$24,INT($AF24/2)+1,MOD(COLUMNS($BU$3:CA$3),2)+1))","v":-9.0096886790241903},{"$f":"IF(OR(MOD($AF24,2)=0,INDEX(relationships,INT($AF24/2)+1,CB$3)<>2),INDEX($AC$5:$AD$24,CB$3,MOD(COLUMNS($BU$3:CB$3),2)+1),INDEX($AC$5:$AD$24,INT($AF24/2)+1,MOD(COLUMNS($BU$3:CB$3),2)+1))","v":-4.3388373911755798},{"$f":"IF(OR(MOD($AF24,2)=0,INDEX(relationships,INT($AF24/2)+1,CC$3)<>2),INDEX($AC$5:$AD$24,CC$3,MOD(COLUMNS($BU$3:CC$3),2)+1),INDEX($AC$5:$AD$24,INT($AF24/2)+1,MOD(COLUMNS($BU$3:CC$3),2)+1))","v":-9.0096886790241921},{"$f":"IF(OR(MOD($AF24,2)=0,INDEX(relationships,INT($AF24/2)+1,CD$3)<>2),INDEX($AC$5:$AD$24,CD$3,MOD(COLUMNS($BU$3:CD$3),2)+1),INDEX($AC$5:$AD$24,INT($AF24/2)+1,MOD(COLUMNS($BU$3:CD$3),2)+1))","v":-9.7492791218182369},{"$f":"IF(OR(MOD($AF24,2)=0,INDEX(relationships,INT($AF24/2)+1,CE$3)<>2),INDEX($AC$5:$AD$24,CE$3,MOD(COLUMNS($BU$3:CE$3),2)+1),INDEX($AC$5:$AD$24,INT($AF24/2)+1,MOD(COLUMNS($BU$3:CE$3),2)+1))","v":-2.225209339563146},{"$f":"IF(OR(MOD($AF24,2)=0,INDEX(relationships,INT($AF24/2)+1,CF$3)<>2),INDEX($AC$5:$AD$24,CF$3,MOD(COLUMNS($BU$3:CF$3),2)+1),INDEX($AC$5:$AD$24,INT($AF24/2)+1,MOD(COLUMNS($BU$3:CF$3),2)+1))","v":-7.8183148246802991},{"$f":"IF(OR(MOD($AF24,2)=0,INDEX(relationships,INT($AF24/2)+1,CG$3)<>2),INDEX($AC$5:$AD$24,CG$3,MOD(COLUMNS($BU$3:CG$3),2)+1),INDEX($AC$5:$AD$24,INT($AF24/2)+1,MOD(COLUMNS($BU$3:CG$3),2)+1))","v":6.2348980185873337},{"$f":"IF(OR(MOD($AF24,2)=0,INDEX(relationships,INT($AF24/2)+1,CH$3)<>2),INDEX($AC$5:$AD$24,CH$3,MOD(COLUMNS($BU$3:CH$3),2)+1),INDEX($AC$5:$AD$24,INT($AF24/2)+1,MOD(COLUMNS($BU$3:CH$3),2)+1))","v":-2.45029690981724E-15},{"$f":"IF(OR(MOD($AF24,2)=0,INDEX(relationships,INT($AF24/2)+1,CI$3)<>2),INDEX($AC$5:$AD$24,CI$3,MOD(COLUMNS($BU$3:CI$3),2)+1),INDEX($AC$5:$AD$24,INT($AF24/2)+1,MOD(COLUMNS($BU$3:CI$3),2)+1))","v":10},{"$f":"IF(OR(MOD($AF24,2)=0,INDEX(relationships,INT($AF24/2)+1,CJ$3)<>2),INDEX($AC$5:$AD$24,CJ$3,MOD(COLUMNS($BU$3:CJ$3),2)+1),INDEX($AC$5:$AD$24,INT($AF24/2)+1,MOD(COLUMNS($BU$3:CJ$3),2)+1))","v":7.8183148246802956},{"$f":"IF(OR(MOD($AF24,2)=0,INDEX(relationships,INT($AF24/2)+1,CK$3)<>2),INDEX($AC$5:$AD$24,CK$3,MOD(COLUMNS($BU$3:CK$3),2)+1),INDEX($AC$5:$AD$24,INT($AF24/2)+1,MOD(COLUMNS($BU$3:CK$3),2)+1))","v":6.2348980185873373},{"$f":"IF(OR(MOD($AF24,2)=0,INDEX(relationships,INT($AF24/2)+1,CL$3)<>2),INDEX($AC$5:$AD$24,CL$3,MOD(COLUMNS($BU$3:CL$3),2)+1),INDEX($AC$5:$AD$24,INT($AF24/2)+1,MOD(COLUMNS($BU$3:CL$3),2)+1))","v":9.7492791218182369},{"$f":"IF(OR(MOD($AF24,2)=0,INDEX(relationships,INT($AF24/2)+1,CM$3)<>2),INDEX($AC$5:$AD$24,CM$3,MOD(COLUMNS($BU$3:CM$3),2)+1),INDEX($AC$5:$AD$24,INT($AF24/2)+1,MOD(COLUMNS($BU$3:CM$3),2)+1))","v":-2.2252093395631407},{"$f":"IF(OR(MOD($AF24,2)=0,INDEX(relationships,INT($AF24/2)+1,CN$3)<>2),INDEX($AC$5:$AD$24,CN$3,MOD(COLUMNS($BU$3:CN$3),2)+1),INDEX($AC$5:$AD$24,INT($AF24/2)+1,MOD(COLUMNS($BU$3:CN$3),2)+1))","v":4.3388373911755842},{"$f":"IF(OR(MOD($AF24,2)=0,INDEX(relationships,INT($AF24/2)+1,CO$3)<>2),INDEX($AC$5:$AD$24,CO$3,MOD(COLUMNS($BU$3:CO$3),2)+1),INDEX($AC$5:$AD$24,INT($AF24/2)+1,MOD(COLUMNS($BU$3:CO$3),2)+1))","v":-9.0096886790241886},{"$f":"IF(OR(MOD($AF24,2)=0,INDEX(relationships,INT($AF24/2)+1,CP$3)<>2),INDEX($AC$5:$AD$24,CP$3,MOD(COLUMNS($BU$3:CP$3),2)+1),INDEX($AC$5:$AD$24,INT($AF24/2)+1,MOD(COLUMNS($BU$3:CP$3),2)+1))","v":-4.338837391175578},{"$f":"IF(OR(MOD($AF24,2)=0,INDEX(relationships,INT($AF24/2)+1,CQ$3)<>2),INDEX($AC$5:$AD$24,CQ$3,MOD(COLUMNS($BU$3:CQ$3),2)+1),INDEX($AC$5:$AD$24,INT($AF24/2)+1,MOD(COLUMNS($BU$3:CQ$3),2)+1))","v":-9.0096886790241921},{"$f":"IF(OR(MOD($AF24,2)=0,INDEX(relationships,INT($AF24/2)+1,CR$3)<>2),INDEX($AC$5:$AD$24,CR$3,MOD(COLUMNS($BU$3:CR$3),2)+1),INDEX($AC$5:$AD$24,INT($AF24/2)+1,MOD(COLUMNS($BU$3:CR$3),2)+1))","v":-9.7492791218182351},{"$f":"IF(OR(MOD($AF24,2)=0,INDEX(relationships,INT($AF24/2)+1,CS$3)<>2),INDEX($AC$5:$AD$24,CS$3,MOD(COLUMNS($BU$3:CS$3),2)+1),INDEX($AC$5:$AD$24,INT($AF24/2)+1,MOD(COLUMNS($BU$3:CS$3),2)+1))","v":-2.2252093395631483},{"$f":"IF(OR(MOD($AF24,2)=0,INDEX(relationships,INT($AF24/2)+1,CT$3)<>2),INDEX($AC$5:$AD$24,CT$3,MOD(COLUMNS($BU$3:CT$3),2)+1),INDEX($AC$5:$AD$24,INT($AF24/2)+1,MOD(COLUMNS($BU$3:CT$3),2)+1))","v":-7.8183148246803018},{"$f":"IF(OR(MOD($AF24,2)=0,INDEX(relationships,INT($AF24/2)+1,CU$3)<>2),INDEX($AC$5:$AD$24,CU$3,MOD(COLUMNS($BU$3:CU$3),2)+1),INDEX($AC$5:$AD$24,INT($AF24/2)+1,MOD(COLUMNS($BU$3:CU$3),2)+1))","v":6.2348980185873319},{"$f":"IF(OR(MOD($AF24,2)=0,INDEX(relationships,INT($AF24/2)+1,CV$3)<>2),INDEX($AC$5:$AD$24,CV$3,MOD(COLUMNS($BU$3:CV$3),2)+1),INDEX($AC$5:$AD$24,INT($AF24/2)+1,MOD(COLUMNS($BU$3:CV$3),2)+1))","v":-4.90059381963448E-15},{"$f":"IF(OR(MOD($AF24,2)=0,INDEX(relationships,INT($AF24/2)+1,CW$3)<>2),INDEX($AC$5:$AD$24,CW$3,MOD(COLUMNS($BU$3:CW$3),2)+1),INDEX($AC$5:$AD$24,INT($AF24/2)+1,MOD(COLUMNS($BU$3:CW$3),2)+1))","v":10},{"$f":"IF(OR(MOD($AF24,2)=0,INDEX(relationships,INT($AF24/2)+1,CX$3)<>2),INDEX($AC$5:$AD$24,CX$3,MOD(COLUMNS($BU$3:CX$3),2)+1),INDEX($AC$5:$AD$24,INT($AF24/2)+1,MOD(COLUMNS($BU$3:CX$3),2)+1))","v":7.8183148246802947},{"$f":"IF(OR(MOD($AF24,2)=0,INDEX(relationships,INT($AF24/2)+1,CY$3)<>2),INDEX($AC$5:$AD$24,CY$3,MOD(COLUMNS($BU$3:CY$3),2)+1),INDEX($AC$5:$AD$24,INT($AF24/2)+1,MOD(COLUMNS($BU$3:CY$3),2)+1))","v":6.2348980185873391},{"$f":"IF(OR(MOD($AF24,2)=0,INDEX(relationships,INT($AF24/2)+1,CZ$3)<>2),INDEX($AC$5:$AD$24,CZ$3,MOD(COLUMNS($BU$3:CZ$3),2)+1),INDEX($AC$5:$AD$24,INT($AF24/2)+1,MOD(COLUMNS($BU$3:CZ$3),2)+1))","v":9.7492791218182369},{"$f":"IF(OR(MOD($AF24,2)=0,INDEX(relationships,INT($AF24/2)+1,DA$3)<>2),INDEX($AC$5:$AD$24,DA$3,MOD(COLUMNS($BU$3:DA$3),2)+1),INDEX($AC$5:$AD$24,INT($AF24/2)+1,MOD(COLUMNS($BU$3:DA$3),2)+1))","v":-2.2252093395631385},{"$f":"IF(OR(MOD($AF24,2)=0,INDEX(relationships,INT($AF24/2)+1,DB$3)<>2),INDEX($AC$5:$AD$24,DB$3,MOD(COLUMNS($BU$3:DB$3),2)+1),INDEX($AC$5:$AD$24,INT($AF24/2)+1,MOD(COLUMNS($BU$3:DB$3),2)+1))","v":4.3388373911755869},{"$f":"IF(OR(MOD($AF24,2)=0,INDEX(relationships,INT($AF24/2)+1,DC$3)<>2),INDEX($AC$5:$AD$24,DC$3,MOD(COLUMNS($BU$3:DC$3),2)+1),INDEX($AC$5:$AD$24,INT($AF24/2)+1,MOD(COLUMNS($BU$3:DC$3),2)+1))","v":-9.0096886790241886},{"$f":"IF(OR(MOD($AF24,2)=0,INDEX(relationships,INT($AF24/2)+1,DD$3)<>2),INDEX($AC$5:$AD$24,DD$3,MOD(COLUMNS($BU$3:DD$3),2)+1),INDEX($AC$5:$AD$24,INT($AF24/2)+1,MOD(COLUMNS($BU$3:DD$3),2)+1))","v":-4.3388373911755753},{"$f":"IF(OR(MOD($AF24,2)=0,INDEX(relationships,INT($AF24/2)+1,DE$3)<>2),INDEX($AC$5:$AD$24,DE$3,MOD(COLUMNS($BU$3:DE$3),2)+1),INDEX($AC$5:$AD$24,INT($AF24/2)+1,MOD(COLUMNS($BU$3:DE$3),2)+1))","v":-9.0096886790241939},{"$f":"IF(OR(MOD($AF24,2)=0,INDEX(relationships,INT($AF24/2)+1,DF$3)<>2),INDEX($AC$5:$AD$24,DF$3,MOD(COLUMNS($BU$3:DF$3),2)+1),INDEX($AC$5:$AD$24,INT($AF24/2)+1,MOD(COLUMNS($BU$3:DF$3),2)+1))","v":-9.7492791218182351},{"$f":"IF(OR(MOD($AF24,2)=0,INDEX(relationships,INT($AF24/2)+1,DG$3)<>2),INDEX($AC$5:$AD$24,DG$3,MOD(COLUMNS($BU$3:DG$3),2)+1),INDEX($AC$5:$AD$24,INT($AF24/2)+1,MOD(COLUMNS($BU$3:DG$3),2)+1))","v":-2.2252093395631505},{"$f":"IF(OR(MOD($AF24,2)=0,INDEX(relationships,INT($AF24/2)+1,DH$3)<>2),INDEX($AC$5:$AD$24,DH$3,MOD(COLUMNS($BU$3:DH$3),2)+1),INDEX($AC$5:$AD$24,INT($AF24/2)+1,MOD(COLUMNS($BU$3:DH$3),2)+1))","v":-7.8183148246803027},{"$f":"IF(OR(MOD($AF24,2)=0,INDEX(relationships,INT($AF24/2)+1,DI$3)<>2),INDEX($AC$5:$AD$24,DI$3,MOD(COLUMNS($BU$3:DI$3),2)+1),INDEX($AC$5:$AD$24,INT($AF24/2)+1,MOD(COLUMNS($BU$3:DI$3),2)+1))","v":6.2348980185873293},null,-2.45029690981724E-15,10,-2.45029690981724E-15,10]
[null,null,null,null,null,null,null,null,null,null,null,null,null,null,null,null,null,null,null,null,null,null,null,null,{"$f":"IF(ISERROR(Z21),\"\",\"How Influential is \"&Z15&\"?\")","v":"How Influential is Colleagues ?"},null,null,null,null,null,null,20,{"$f":"IF(OR(MOD($AF25,2)=0,INDEX(relationships,INT($AF25/2)+1,AG$3)<>1),INDEX($AC$5:$AD$24,AG$3,MOD(COLUMNS($AF$3:AG$3),2)+1),INDEX($AC$5:$AD$24,INT($AF25/2)+1,MOD(COLUMNS($AF$3:AG$3),2)+1))","v":7.8183148246802983},{"$f":"IF(OR(MOD($AF25,2)=0,INDEX(relationships,INT($AF25/2)+1,AH$3)<>1),INDEX($AC$5:$AD$24,AH$3,MOD(COLUMNS($AF$3:AH$3),2)+1),INDEX($AC$5:$AD$24,INT($AF25/2)+1,MOD(COLUMNS($AF$3:AH$3),2)+1))","v":6.2348980185873355},{"$f":"IF(OR(MOD($AF25,2)=0,INDEX(relationships,INT($AF25/2)+1,AI$3)<>1),INDEX($AC$5:$AD$24,AI$3,MOD(COLUMNS($AF$3:AI$3),2)+1),INDEX($AC$5:$AD$24,INT($AF25/2)+1,MOD(COLUMNS($AF$3:AI$3),2)+1))","v":9.7492791218182369},{"$f":"IF(OR(MOD($AF25,2)=0,INDEX(relationships,INT($AF25/2)+1,AJ$3)<>1),INDEX($AC$5:$AD$24,AJ$3,MOD(COLUMNS($AF$3:AJ$3),2)+1),INDEX($AC$5:$AD$24,INT($AF25/2)+1,MOD(COLUMNS($AF$3:AJ$3),2)+1))","v":-2.2252093395631434},{"$f":"IF(OR(MOD($AF25,2)=0,INDEX(relationships,INT($AF25/2)+1,AK$3)<>1),INDEX($AC$5:$AD$24,AK$3,MOD(COLUMNS($AF$3:AK$3),2)+1),INDEX($AC$5:$AD$24,INT($AF25/2)+1,MOD(COLUMNS($AF$3:AK$3),2)+1))","v":4.3388373911755824},{"$f":"IF(OR(MOD($AF25,2)=0,INDEX(relationships,INT($AF25/2)+1,AL$3)<>1),INDEX($AC$5:$AD$24,AL$3,MOD(COLUMNS($AF$3:AL$3),2)+1),INDEX($AC$5:$AD$24,INT($AF25/2)+1,MOD(COLUMNS($AF$3:AL$3),2)+1))","v":-9.0096886790241903},{"$f":"IF(OR(MOD($AF25,2)=0,INDEX(relationships,INT($AF25/2)+1,AM$3)<>1),INDEX($AC$5:$AD$24,AM$3,MOD(COLUMNS($AF$3:AM$3),2)+1),INDEX($AC$5:$AD$24,INT($AF25/2)+1,MOD(COLUMNS($AF$3:AM$3),2)+1))","v":-4.3388373911755798},{"$f":"IF(OR(MOD($AF25,2)=0,INDEX(relationships,INT($AF25/2)+1,AN$3)<>1),INDEX($AC$5:$AD$24,AN$3,MOD(COLUMNS($AF$3:AN$3),2)+1),INDEX($AC$5:$AD$24,INT($AF25/2)+1,MOD(COLUMNS($AF$3:AN$3),2)+1))","v":-9.0096886790241921},{"$f":"IF(OR(MOD($AF25,2)=0,INDEX(relationships,INT($AF25/2)+1,AO$3)<>1),INDEX($AC$5:$AD$24,AO$3,MOD(COLUMNS($AF$3:AO$3),2)+1),INDEX($AC$5:$AD$24,INT($AF25/2)+1,MOD(COLUMNS($AF$3:AO$3),2)+1))","v":-9.7492791218182369},{"$f":"IF(OR(MOD($AF25,2)=0,INDEX(relationships,INT($AF25/2)+1,AP$3)<>1),INDEX($AC$5:$AD$24,AP$3,MOD(COLUMNS($AF$3:AP$3),2)+1),INDEX($AC$5:$AD$24,INT($AF25/2)+1,MOD(COLUMNS($AF$3:AP$3),2)+1))","v":-2.225209339563146},{"$f":"IF(OR(MOD($AF25,2)=0,INDEX(relationships,INT($AF25/2)+1,AQ$3)<>1),INDEX($AC$5:$AD$24,AQ$3,MOD(COLUMNS($AF$3:AQ$3),2)+1),INDEX($AC$5:$AD$24,INT($AF25/2)+1,MOD(COLUMNS($AF$3:AQ$3),2)+1))","v":-7.8183148246802991},{"$f":"IF(OR(MOD($AF25,2)=0,INDEX(relationships,INT($AF25/2)+1,AR$3)<>1),INDEX($AC$5:$AD$24,AR$3,MOD(COLUMNS($AF$3:AR$3),2)+1),INDEX($AC$5:$AD$24,INT($AF25/2)+1,MOD(COLUMNS($AF$3:AR$3),2)+1))","v":6.2348980185873337},{"$f":"IF(OR(MOD($AF25,2)=0,INDEX(relationships,INT($AF25/2)+1,AS$3)<>1),INDEX($AC$5:$AD$24,AS$3,MOD(COLUMNS($AF$3:AS$3),2)+1),INDEX($AC$5:$AD$24,INT($AF25/2)+1,MOD(COLUMNS($AF$3:AS$3),2)+1))","v":-2.45029690981724E-15},{"$f":"IF(OR(MOD($AF25,2)=0,INDEX(relationships,INT($AF25/2)+1,AT$3)<>1),INDEX($AC$5:$AD$24,AT$3,MOD(COLUMNS($AF$3:AT$3),2)+1),INDEX($AC$5:$AD$24,INT($AF25/2)+1,MOD(COLUMNS($AF$3:AT$3),2)+1))","v":10},{"$f":"IF(OR(MOD($AF25,2)=0,INDEX(relationships,INT($AF25/2)+1,AU$3)<>1),INDEX($AC$5:$AD$24,AU$3,MOD(COLUMNS($AF$3:AU$3),2)+1),INDEX($AC$5:$AD$24,INT($AF25/2)+1,MOD(COLUMNS($AF$3:AU$3),2)+1))","v":7.8183148246802956},{"$f":"IF(OR(MOD($AF25,2)=0,INDEX(relationships,INT($AF25/2)+1,AV$3)<>1),INDEX($AC$5:$AD$24,AV$3,MOD(COLUMNS($AF$3:AV$3),2)+1),INDEX($AC$5:$AD$24,INT($AF25/2)+1,MOD(COLUMNS($AF$3:AV$3),2)+1))","v":6.2348980185873373},{"$f":"IF(OR(MOD($AF25,2)=0,INDEX(relationships,INT($AF25/2)+1,AW$3)<>1),INDEX($AC$5:$AD$24,AW$3,MOD(COLUMNS($AF$3:AW$3),2)+1),INDEX($AC$5:$AD$24,INT($AF25/2)+1,MOD(COLUMNS($AF$3:AW$3),2)+1))","v":9.7492791218182369},{"$f":"IF(OR(MOD($AF25,2)=0,INDEX(relationships,INT($AF25/2)+1,AX$3)<>1),INDEX($AC$5:$AD$24,AX$3,MOD(COLUMNS($AF$3:AX$3),2)+1),INDEX($AC$5:$AD$24,INT($AF25/2)+1,MOD(COLUMNS($AF$3:AX$3),2)+1))","v":-2.2252093395631407},{"$f":"IF(OR(MOD($AF25,2)=0,INDEX(relationships,INT($AF25/2)+1,AY$3)<>1),INDEX($AC$5:$AD$24,AY$3,MOD(COLUMNS($AF$3:AY$3),2)+1),INDEX($AC$5:$AD$24,INT($AF25/2)+1,MOD(COLUMNS($AF$3:AY$3),2)+1))","v":4.3388373911755842},{"$f":"IF(OR(MOD($AF25,2)=0,INDEX(relationships,INT($AF25/2)+1,AZ$3)<>1),INDEX($AC$5:$AD$24,AZ$3,MOD(COLUMNS($AF$3:AZ$3),2)+1),INDEX($AC$5:$AD$24,INT($AF25/2)+1,MOD(COLUMNS($AF$3:AZ$3),2)+1))","v":-9.0096886790241886},{"$f":"IF(OR(MOD($AF25,2)=0,INDEX(relationships,INT($AF25/2)+1,BA$3)<>1),INDEX($AC$5:$AD$24,BA$3,MOD(COLUMNS($AF$3:BA$3),2)+1),INDEX($AC$5:$AD$24,INT($AF25/2)+1,MOD(COLUMNS($AF$3:BA$3),2)+1))","v":-4.338837391175578},{"$f":"IF(OR(MOD($AF25,2)=0,INDEX(relationships,INT($AF25/2)+1,BB$3)<>1),INDEX($AC$5:$AD$24,BB$3,MOD(COLUMNS($AF$3:BB$3),2)+1),INDEX($AC$5:$AD$24,INT($AF25/2)+1,MOD(COLUMNS($AF$3:BB$3),2)+1))","v":-9.0096886790241921},{"$f":"IF(OR(MOD($AF25,2)=0,INDEX(relationships,INT($AF25/2)+1,BC$3)<>1),INDEX($AC$5:$AD$24,BC$3,MOD(COLUMNS($AF$3:BC$3),2)+1),INDEX($AC$5:$AD$24,INT($AF25/2)+1,MOD(COLUMNS($AF$3:BC$3),2)+1))","v":-9.7492791218182351},{"$f":"IF(OR(MOD($AF25,2)=0,INDEX(relationships,INT($AF25/2)+1,BD$3)<>1),INDEX($AC$5:$AD$24,BD$3,MOD(COLUMNS($AF$3:BD$3),2)+1),INDEX($AC$5:$AD$24,INT($AF25/2)+1,MOD(COLUMNS($AF$3:BD$3),2)+1))","v":-2.2252093395631483},{"$f":"IF(OR(MOD($AF25,2)=0,INDEX(relationships,INT($AF25/2)+1,BE$3)<>1),INDEX($AC$5:$AD$24,BE$3,MOD(COLUMNS($AF$3:BE$3),2)+1),INDEX($AC$5:$AD$24,INT($AF25/2)+1,MOD(COLUMNS($AF$3:BE$3),2)+1))","v":-7.8183148246803018},{"$f":"IF(OR(MOD($AF25,2)=0,INDEX(relationships,INT($AF25/2)+1,BF$3)<>1),INDEX($AC$5:$AD$24,BF$3,MOD(COLUMNS($AF$3:BF$3),2)+1),INDEX($AC$5:$AD$24,INT($AF25/2)+1,MOD(COLUMNS($AF$3:BF$3),2)+1))","v":6.2348980185873319},{"$f":"IF(OR(MOD($AF25,2)=0,INDEX(relationships,INT($AF25/2)+1,BG$3)<>1),INDEX($AC$5:$AD$24,BG$3,MOD(COLUMNS($AF$3:BG$3),2)+1),INDEX($AC$5:$AD$24,INT($AF25/2)+1,MOD(COLUMNS($AF$3:BG$3),2)+1))","v":-4.90059381963448E-15},{"$f":"IF(OR(MOD($AF25,2)=0,INDEX(relationships,INT($AF25/2)+1,BH$3)<>1),INDEX($AC$5:$AD$24,BH$3,MOD(COLUMNS($AF$3:BH$3),2)+1),INDEX($AC$5:$AD$24,INT($AF25/2)+1,MOD(COLUMNS($AF$3:BH$3),2)+1))","v":10},{"$f":"IF(OR(MOD($AF25,2)=0,INDEX(relationships,INT($AF25/2)+1,BI$3)<>1),INDEX($AC$5:$AD$24,BI$3,MOD(COLUMNS($AF$3:BI$3),2)+1),INDEX($AC$5:$AD$24,INT($AF25/2)+1,MOD(COLUMNS($AF$3:BI$3),2)+1))","v":7.8183148246802947},{"$f":"IF(OR(MOD($AF25,2)=0,INDEX(relationships,INT($AF25/2)+1,BJ$3)<>1),INDEX($AC$5:$AD$24,BJ$3,MOD(COLUMNS($AF$3:BJ$3),2)+1),INDEX($AC$5:$AD$24,INT($AF25/2)+1,MOD(COLUMNS($AF$3:BJ$3),2)+1))","v":6.2348980185873391},{"$f":"IF(OR(MOD($AF25,2)=0,INDEX(relationships,INT($AF25/2)+1,BK$3)<>1),INDEX($AC$5:$AD$24,BK$3,MOD(COLUMNS($AF$3:BK$3),2)+1),INDEX($AC$5:$AD$24,INT($AF25/2)+1,MOD(COLUMNS($AF$3:BK$3),2)+1))","v":9.7492791218182369},{"$f":"IF(OR(MOD($AF25,2)=0,INDEX(relationships,INT($AF25/2)+1,BL$3)<>1),INDEX($AC$5:$AD$24,BL$3,MOD(COLUMNS($AF$3:BL$3),2)+1),INDEX($AC$5:$AD$24,INT($AF25/2)+1,MOD(COLUMNS($AF$3:BL$3),2)+1))","v":-2.2252093395631385},{"$f":"IF(OR(MOD($AF25,2)=0,INDEX(relationships,INT($AF25/2)+1,BM$3)<>1),INDEX($AC$5:$AD$24,BM$3,MOD(COLUMNS($AF$3:BM$3),2)+1),INDEX($AC$5:$AD$24,INT($AF25/2)+1,MOD(COLUMNS($AF$3:BM$3),2)+1))","v":4.3388373911755869},{"$f":"IF(OR(MOD($AF25,2)=0,INDEX(relationships,INT($AF25/2)+1,BN$3)<>1),INDEX($AC$5:$AD$24,BN$3,MOD(COLUMNS($AF$3:BN$3),2)+1),INDEX($AC$5:$AD$24,INT($AF25/2)+1,MOD(COLUMNS($AF$3:BN$3),2)+1))","v":-9.0096886790241886},{"$f":"IF(OR(MOD($AF25,2)=0,INDEX(relationships,INT($AF25/2)+1,BO$3)<>1),INDEX($AC$5:$AD$24,BO$3,MOD(COLUMNS($AF$3:BO$3),2)+1),INDEX($AC$5:$AD$24,INT($AF25/2)+1,MOD(COLUMNS($AF$3:BO$3),2)+1))","v":-4.3388373911755753},{"$f":"IF(OR(MOD($AF25,2)=0,INDEX(relationships,INT($AF25/2)+1,BP$3)<>1),INDEX($AC$5:$AD$24,BP$3,MOD(COLUMNS($AF$3:BP$3),2)+1),INDEX($AC$5:$AD$24,INT($AF25/2)+1,MOD(COLUMNS($AF$3:BP$3),2)+1))","v":-9.0096886790241939},{"$f":"IF(OR(MOD($AF25,2)=0,INDEX(relationships,INT($AF25/2)+1,BQ$3)<>1),INDEX($AC$5:$AD$24,BQ$3,MOD(COLUMNS($AF$3:BQ$3),2)+1),INDEX($AC$5:$AD$24,INT($AF25/2)+1,MOD(COLUMNS($AF$3:BQ$3),2)+1))","v":-9.7492791218182351},{"$f":"IF(OR(MOD($AF25,2)=0,INDEX(relationships,INT($AF25/2)+1,BR$3)<>1),INDEX($AC$5:$AD$24,BR$3,MOD(COLUMNS($AF$3:BR$3),2)+1),INDEX($AC$5:$AD$24,INT($AF25/2)+1,MOD(COLUMNS($AF$3:BR$3),2)+1))","v":-2.2252093395631505},{"$f":"IF(OR(MOD($AF25,2)=0,INDEX(relationships,INT($AF25/2)+1,BS$3)<>1),INDEX($AC$5:$AD$24,BS$3,MOD(COLUMNS($AF$3:BS$3),2)+1),INDEX($AC$5:$AD$24,INT($AF25/2)+1,MOD(COLUMNS($AF$3:BS$3),2)+1))","v":-7.8183148246803027},{"$f":"IF(OR(MOD($AF25,2)=0,INDEX(relationships,INT($AF25/2)+1,BT$3)<>1),INDEX($AC$5:$AD$24,BT$3,MOD(COLUMNS($AF$3:BT$3),2)+1),INDEX($AC$5:$AD$24,INT($AF25/2)+1,MOD(COLUMNS($AF$3:BT$3),2)+1))","v":6.2348980185873293},null,{"$f":"IF(OR(MOD($AF25,2)=0,INDEX(relationships,INT($AF25/2)+1,BV$3)<>2),INDEX($AC$5:$AD$24,BV$3,MOD(COLUMNS($BU$3:BV$3),2)+1),INDEX($AC$5:$AD$24,INT($AF25/2)+1,MOD(COLUMNS($BU$3:BV$3),2)+1))","v":7.8183148246802983},{"$f":"IF(OR(MOD($AF25,2)=0,INDEX(relationships,INT($AF25/2)+1,BW$3)<>2),INDEX($AC$5:$AD$24,BW$3,MOD(COLUMNS($BU$3:BW$3),2)+1),INDEX($AC$5:$AD$24,INT($AF25/2)+1,MOD(COLUMNS($BU$3:BW$3),2)+1))","v":6.2348980185873355},{"$f":"IF(OR(MOD($AF25,2)=0,INDEX(relationships,INT($AF25/2)+1,BX$3)<>2),INDEX($AC$5:$AD$24,BX$3,MOD(COLUMNS($BU$3:BX$3),2)+1),INDEX($AC$5:$AD$24,INT($AF25/2)+1,MOD(COLUMNS($BU$3:BX$3),2)+1))","v":9.7492791218182369},{"$f":"IF(OR(MOD($AF25,2)=0,INDEX(relationships,INT($AF25/2)+1,BY$3)<>2),INDEX($AC$5:$AD$24,BY$3,MOD(COLUMNS($BU$3:BY$3),2)+1),INDEX($AC$5:$AD$24,INT($AF25/2)+1,MOD(COLUMNS($BU$3:BY$3),2)+1))","v":-2.2252093395631434},{"$f":"IF(OR(MOD($AF25,2)=0,INDEX(relationships,INT($AF25/2)+1,BZ$3)<>2),INDEX($AC$5:$AD$24,BZ$3,MOD(COLUMNS($BU$3:BZ$3),2)+1),INDEX($AC$5:$AD$24,INT($AF25/2)+1,MOD(COLUMNS($BU$3:BZ$3),2)+1))","v":4.3388373911755824},{"$f":"IF(OR(MOD($AF25,2)=0,INDEX(relationships,INT($AF25/2)+1,CA$3)<>2),INDEX($AC$5:$AD$24,CA$3,MOD(COLUMNS($BU$3:CA$3),2)+1),INDEX($AC$5:$AD$24,INT($AF25/2)+1,MOD(COLUMNS($BU$3:CA$3),2)+1))","v":-9.0096886790241903},{"$f":"IF(OR(MOD($AF25,2)=0,INDEX(relationships,INT($AF25/2)+1,CB$3)<>2),INDEX($AC$5:$AD$24,CB$3,MOD(COLUMNS($BU$3:CB$3),2)+1),INDEX($AC$5:$AD$24,INT($AF25/2)+1,MOD(COLUMNS($BU$3:CB$3),2)+1))","v":-4.3388373911755798},{"$f":"IF(OR(MOD($AF25,2)=0,INDEX(relationships,INT($AF25/2)+1,CC$3)<>2),INDEX($AC$5:$AD$24,CC$3,MOD(COLUMNS($BU$3:CC$3),2)+1),INDEX($AC$5:$AD$24,INT($AF25/2)+1,MOD(COLUMNS($BU$3:CC$3),2)+1))","v":-9.0096886790241921},{"$f":"IF(OR(MOD($AF25,2)=0,INDEX(relationships,INT($AF25/2)+1,CD$3)<>2),INDEX($AC$5:$AD$24,CD$3,MOD(COLUMNS($BU$3:CD$3),2)+1),INDEX($AC$5:$AD$24,INT($AF25/2)+1,MOD(COLUMNS($BU$3:CD$3),2)+1))","v":-9.7492791218182369},{"$f":"IF(OR(MOD($AF25,2)=0,INDEX(relationships,INT($AF25/2)+1,CE$3)<>2),INDEX($AC$5:$AD$24,CE$3,MOD(COLUMNS($BU$3:CE$3),2)+1),INDEX($AC$5:$AD$24,INT($AF25/2)+1,MOD(COLUMNS($BU$3:CE$3),2)+1))","v":-2.225209339563146},{"$f":"IF(OR(MOD($AF25,2)=0,INDEX(relationships,INT($AF25/2)+1,CF$3)<>2),INDEX($AC$5:$AD$24,CF$3,MOD(COLUMNS($BU$3:CF$3),2)+1),INDEX($AC$5:$AD$24,INT($AF25/2)+1,MOD(COLUMNS($BU$3:CF$3),2)+1))","v":-7.8183148246802991},{"$f":"IF(OR(MOD($AF25,2)=0,INDEX(relationships,INT($AF25/2)+1,CG$3)<>2),INDEX($AC$5:$AD$24,CG$3,MOD(COLUMNS($BU$3:CG$3),2)+1),INDEX($AC$5:$AD$24,INT($AF25/2)+1,MOD(COLUMNS($BU$3:CG$3),2)+1))","v":6.2348980185873337},{"$f":"IF(OR(MOD($AF25,2)=0,INDEX(relationships,INT($AF25/2)+1,CH$3)<>2),INDEX($AC$5:$AD$24,CH$3,MOD(COLUMNS($BU$3:CH$3),2)+1),INDEX($AC$5:$AD$24,INT($AF25/2)+1,MOD(COLUMNS($BU$3:CH$3),2)+1))","v":-2.45029690981724E-15},{"$f":"IF(OR(MOD($AF25,2)=0,INDEX(relationships,INT($AF25/2)+1,CI$3)<>2),INDEX($AC$5:$AD$24,CI$3,MOD(COLUMNS($BU$3:CI$3),2)+1),INDEX($AC$5:$AD$24,INT($AF25/2)+1,MOD(COLUMNS($BU$3:CI$3),2)+1))","v":10},{"$f":"IF(OR(MOD($AF25,2)=0,INDEX(relationships,INT($AF25/2)+1,CJ$3)<>2),INDEX($AC$5:$AD$24,CJ$3,MOD(COLUMNS($BU$3:CJ$3),2)+1),INDEX($AC$5:$AD$24,INT($AF25/2)+1,MOD(COLUMNS($BU$3:CJ$3),2)+1))","v":7.8183148246802956},{"$f":"IF(OR(MOD($AF25,2)=0,INDEX(relationships,INT($AF25/2)+1,CK$3)<>2),INDEX($AC$5:$AD$24,CK$3,MOD(COLUMNS($BU$3:CK$3),2)+1),INDEX($AC$5:$AD$24,INT($AF25/2)+1,MOD(COLUMNS($BU$3:CK$3),2)+1))","v":6.2348980185873373},{"$f":"IF(OR(MOD($AF25,2)=0,INDEX(relationships,INT($AF25/2)+1,CL$3)<>2),INDEX($AC$5:$AD$24,CL$3,MOD(COLUMNS($BU$3:CL$3),2)+1),INDEX($AC$5:$AD$24,INT($AF25/2)+1,MOD(COLUMNS($BU$3:CL$3),2)+1))","v":9.7492791218182369},{"$f":"IF(OR(MOD($AF25,2)=0,INDEX(relationships,INT($AF25/2)+1,CM$3)<>2),INDEX($AC$5:$AD$24,CM$3,MOD(COLUMNS($BU$3:CM$3),2)+1),INDEX($AC$5:$AD$24,INT($AF25/2)+1,MOD(COLUMNS($BU$3:CM$3),2)+1))","v":-2.2252093395631407},{"$f":"IF(OR(MOD($AF25,2)=0,INDEX(relationships,INT($AF25/2)+1,CN$3)<>2),INDEX($AC$5:$AD$24,CN$3,MOD(COLUMNS($BU$3:CN$3),2)+1),INDEX($AC$5:$AD$24,INT($AF25/2)+1,MOD(COLUMNS($BU$3:CN$3),2)+1))","v":4.3388373911755842},{"$f":"IF(OR(MOD($AF25,2)=0,INDEX(relationships,INT($AF25/2)+1,CO$3)<>2),INDEX($AC$5:$AD$24,CO$3,MOD(COLUMNS($BU$3:CO$3),2)+1),INDEX($AC$5:$AD$24,INT($AF25/2)+1,MOD(COLUMNS($BU$3:CO$3),2)+1))","v":-9.0096886790241886},{"$f":"IF(OR(MOD($AF25,2)=0,INDEX(relationships,INT($AF25/2)+1,CP$3)<>2),INDEX($AC$5:$AD$24,CP$3,MOD(COLUMNS($BU$3:CP$3),2)+1),INDEX($AC$5:$AD$24,INT($AF25/2)+1,MOD(COLUMNS($BU$3:CP$3),2)+1))","v":-4.338837391175578},{"$f":"IF(OR(MOD($AF25,2)=0,INDEX(relationships,INT($AF25/2)+1,CQ$3)<>2),INDEX($AC$5:$AD$24,CQ$3,MOD(COLUMNS($BU$3:CQ$3),2)+1),INDEX($AC$5:$AD$24,INT($AF25/2)+1,MOD(COLUMNS($BU$3:CQ$3),2)+1))","v":-9.0096886790241921},{"$f":"IF(OR(MOD($AF25,2)=0,INDEX(relationships,INT($AF25/2)+1,CR$3)<>2),INDEX($AC$5:$AD$24,CR$3,MOD(COLUMNS($BU$3:CR$3),2)+1),INDEX($AC$5:$AD$24,INT($AF25/2)+1,MOD(COLUMNS($BU$3:CR$3),2)+1))","v":-9.7492791218182351},{"$f":"IF(OR(MOD($AF25,2)=0,INDEX(relationships,INT($AF25/2)+1,CS$3)<>2),INDEX($AC$5:$AD$24,CS$3,MOD(COLUMNS($BU$3:CS$3),2)+1),INDEX($AC$5:$AD$24,INT($AF25/2)+1,MOD(COLUMNS($BU$3:CS$3),2)+1))","v":-2.2252093395631483},{"$f":"IF(OR(MOD($AF25,2)=0,INDEX(relationships,INT($AF25/2)+1,CT$3)<>2),INDEX($AC$5:$AD$24,CT$3,MOD(COLUMNS($BU$3:CT$3),2)+1),INDEX($AC$5:$AD$24,INT($AF25/2)+1,MOD(COLUMNS($BU$3:CT$3),2)+1))","v":-7.8183148246803018},{"$f":"IF(OR(MOD($AF25,2)=0,INDEX(relationships,INT($AF25/2)+1,CU$3)<>2),INDEX($AC$5:$AD$24,CU$3,MOD(COLUMNS($BU$3:CU$3),2)+1),INDEX($AC$5:$AD$24,INT($AF25/2)+1,MOD(COLUMNS($BU$3:CU$3),2)+1))","v":6.2348980185873319},{"$f":"IF(OR(MOD($AF25,2)=0,INDEX(relationships,INT($AF25/2)+1,CV$3)<>2),INDEX($AC$5:$AD$24,CV$3,MOD(COLUMNS($BU$3:CV$3),2)+1),INDEX($AC$5:$AD$24,INT($AF25/2)+1,MOD(COLUMNS($BU$3:CV$3),2)+1))","v":-4.90059381963448E-15},{"$f":"IF(OR(MOD($AF25,2)=0,INDEX(relationships,INT($AF25/2)+1,CW$3)<>2),INDEX($AC$5:$AD$24,CW$3,MOD(COLUMNS($BU$3:CW$3),2)+1),INDEX($AC$5:$AD$24,INT($AF25/2)+1,MOD(COLUMNS($BU$3:CW$3),2)+1))","v":10},{"$f":"IF(OR(MOD($AF25,2)=0,INDEX(relationships,INT($AF25/2)+1,CX$3)<>2),INDEX($AC$5:$AD$24,CX$3,MOD(COLUMNS($BU$3:CX$3),2)+1),INDEX($AC$5:$AD$24,INT($AF25/2)+1,MOD(COLUMNS($BU$3:CX$3),2)+1))","v":7.8183148246802947},{"$f":"IF(OR(MOD($AF25,2)=0,INDEX(relationships,INT($AF25/2)+1,CY$3)<>2),INDEX($AC$5:$AD$24,CY$3,MOD(COLUMNS($BU$3:CY$3),2)+1),INDEX($AC$5:$AD$24,INT($AF25/2)+1,MOD(COLUMNS($BU$3:CY$3),2)+1))","v":6.2348980185873391},{"$f":"IF(OR(MOD($AF25,2)=0,INDEX(relationships,INT($AF25/2)+1,CZ$3)<>2),INDEX($AC$5:$AD$24,CZ$3,MOD(COLUMNS($BU$3:CZ$3),2)+1),INDEX($AC$5:$AD$24,INT($AF25/2)+1,MOD(COLUMNS($BU$3:CZ$3),2)+1))","v":9.7492791218182369},{"$f":"IF(OR(MOD($AF25,2)=0,INDEX(relationships,INT($AF25/2)+1,DA$3)<>2),INDEX($AC$5:$AD$24,DA$3,MOD(COLUMNS($BU$3:DA$3),2)+1),INDEX($AC$5:$AD$24,INT($AF25/2)+1,MOD(COLUMNS($BU$3:DA$3),2)+1))","v":-2.2252093395631385},{"$f":"IF(OR(MOD($AF25,2)=0,INDEX(relationships,INT($AF25/2)+1,DB$3)<>2),INDEX($AC$5:$AD$24,DB$3,MOD(COLUMNS($BU$3:DB$3),2)+1),INDEX($AC$5:$AD$24,INT($AF25/2)+1,MOD(COLUMNS($BU$3:DB$3),2)+1))","v":4.3388373911755869},{"$f":"IF(OR(MOD($AF25,2)=0,INDEX(relationships,INT($AF25/2)+1,DC$3)<>2),INDEX($AC$5:$AD$24,DC$3,MOD(COLUMNS($BU$3:DC$3),2)+1),INDEX($AC$5:$AD$24,INT($AF25/2)+1,MOD(COLUMNS($BU$3:DC$3),2)+1))","v":-9.0096886790241886},{"$f":"IF(OR(MOD($AF25,2)=0,INDEX(relationships,INT($AF25/2)+1,DD$3)<>2),INDEX($AC$5:$AD$24,DD$3,MOD(COLUMNS($BU$3:DD$3),2)+1),INDEX($AC$5:$AD$24,INT($AF25/2)+1,MOD(COLUMNS($BU$3:DD$3),2)+1))","v":-4.3388373911755753},{"$f":"IF(OR(MOD($AF25,2)=0,INDEX(relationships,INT($AF25/2)+1,DE$3)<>2),INDEX($AC$5:$AD$24,DE$3,MOD(COLUMNS($BU$3:DE$3),2)+1),INDEX($AC$5:$AD$24,INT($AF25/2)+1,MOD(COLUMNS($BU$3:DE$3),2)+1))","v":-9.0096886790241939},{"$f":"IF(OR(MOD($AF25,2)=0,INDEX(relationships,INT($AF25/2)+1,DF$3)<>2),INDEX($AC$5:$AD$24,DF$3,MOD(COLUMNS($BU$3:DF$3),2)+1),INDEX($AC$5:$AD$24,INT($AF25/2)+1,MOD(COLUMNS($BU$3:DF$3),2)+1))","v":-9.7492791218182351},{"$f":"IF(OR(MOD($AF25,2)=0,INDEX(relationships,INT($AF25/2)+1,DG$3)<>2),INDEX($AC$5:$AD$24,DG$3,MOD(COLUMNS($BU$3:DG$3),2)+1),INDEX($AC$5:$AD$24,INT($AF25/2)+1,MOD(COLUMNS($BU$3:DG$3),2)+1))","v":-2.2252093395631505},{"$f":"IF(OR(MOD($AF25,2)=0,INDEX(relationships,INT($AF25/2)+1,DH$3)<>2),INDEX($AC$5:$AD$24,DH$3,MOD(COLUMNS($BU$3:DH$3),2)+1),INDEX($AC$5:$AD$24,INT($AF25/2)+1,MOD(COLUMNS($BU$3:DH$3),2)+1))","v":-7.8183148246803027},{"$f":"IF(OR(MOD($AF25,2)=0,INDEX(relationships,INT($AF25/2)+1,DI$3)<>2),INDEX($AC$5:$AD$24,DI$3,MOD(COLUMNS($BU$3:DI$3),2)+1),INDEX($AC$5:$AD$24,INT($AF25/2)+1,MOD(COLUMNS($BU$3:DI$3),2)+1))","v":6.2348980185873293},null,-2.45029690981724E-15,10,-2.45029690981724E-15,10]
[null,null,null,null,null,null,null,null,null,null,null,null,null,null,null,null,null,null,null,null,null,null,null,null,{"$f":"IF(ISERROR(Z21),\"\",Y21)","v":"Limited:"},{"$f":"IF(ISERROR(Z21),\"\",Z21&TEXT(Z21/Z10,\" (0%)\"))","v":"0 (0%)"},null,null,null,null,null,21,{"$f":"IF(OR(MOD($AF26,2)=0,INDEX(relationships,INT($AF26/2)+1,AG$3)<>1),INDEX($AC$5:$AD$24,AG$3,MOD(COLUMNS($AF$3:AG$3),2)+1),INDEX($AC$5:$AD$24,INT($AF26/2)+1,MOD(COLUMNS($AF$3:AG$3),2)+1))","v":7.8183148246802983},{"$f":"IF(OR(MOD($AF26,2)=0,INDEX(relationships,INT($AF26/2)+1,AH$3)<>1),INDEX($AC$5:$AD$24,AH$3,MOD(COLUMNS($AF$3:AH$3),2)+1),INDEX($AC$5:$AD$24,INT($AF26/2)+1,MOD(COLUMNS($AF$3:AH$3),2)+1))","v":6.2348980185873355},{"$f":"IF(OR(MOD($AF26,2)=0,INDEX(relationships,INT($AF26/2)+1,AI$3)<>1),INDEX($AC$5:$AD$24,AI$3,MOD(COLUMNS($AF$3:AI$3),2)+1),INDEX($AC$5:$AD$24,INT($AF26/2)+1,MOD(COLUMNS($AF$3:AI$3),2)+1))","v":9.7492791218182369},{"$f":"IF(OR(MOD($AF26,2)=0,INDEX(relationships,INT($AF26/2)+1,AJ$3)<>1),INDEX($AC$5:$AD$24,AJ$3,MOD(COLUMNS($AF$3:AJ$3),2)+1),INDEX($AC$5:$AD$24,INT($AF26/2)+1,MOD(COLUMNS($AF$3:AJ$3),2)+1))","v":-2.2252093395631434},{"$f":"IF(OR(MOD($AF26,2)=0,INDEX(relationships,INT($AF26/2)+1,AK$3)<>1),INDEX($AC$5:$AD$24,AK$3,MOD(COLUMNS($AF$3:AK$3),2)+1),INDEX($AC$5:$AD$24,INT($AF26/2)+1,MOD(COLUMNS($AF$3:AK$3),2)+1))","v":4.3388373911755824},{"$f":"IF(OR(MOD($AF26,2)=0,INDEX(relationships,INT($AF26/2)+1,AL$3)<>1),INDEX($AC$5:$AD$24,AL$3,MOD(COLUMNS($AF$3:AL$3),2)+1),INDEX($AC$5:$AD$24,INT($AF26/2)+1,MOD(COLUMNS($AF$3:AL$3),2)+1))","v":-9.0096886790241903},{"$f":"IF(OR(MOD($AF26,2)=0,INDEX(relationships,INT($AF26/2)+1,AM$3)<>1),INDEX($AC$5:$AD$24,AM$3,MOD(COLUMNS($AF$3:AM$3),2)+1),INDEX($AC$5:$AD$24,INT($AF26/2)+1,MOD(COLUMNS($AF$3:AM$3),2)+1))","v":-4.3388373911755798},{"$f":"IF(OR(MOD($AF26,2)=0,INDEX(relationships,INT($AF26/2)+1,AN$3)<>1),INDEX($AC$5:$AD$24,AN$3,MOD(COLUMNS($AF$3:AN$3),2)+1),INDEX($AC$5:$AD$24,INT($AF26/2)+1,MOD(COLUMNS($AF$3:AN$3),2)+1))","v":-9.0096886790241921},{"$f":"IF(OR(MOD($AF26,2)=0,INDEX(relationships,INT($AF26/2)+1,AO$3)<>1),INDEX($AC$5:$AD$24,AO$3,MOD(COLUMNS($AF$3:AO$3),2)+1),INDEX($AC$5:$AD$24,INT($AF26/2)+1,MOD(COLUMNS($AF$3:AO$3),2)+1))","v":-9.7492791218182369},{"$f":"IF(OR(MOD($AF26,2)=0,INDEX(relationships,INT($AF26/2)+1,AP$3)<>1),INDEX($AC$5:$AD$24,AP$3,MOD(COLUMNS($AF$3:AP$3),2)+1),INDEX($AC$5:$AD$24,INT($AF26/2)+1,MOD(COLUMNS($AF$3:AP$3),2)+1))","v":-2.225209339563146},{"$f":"IF(OR(MOD($AF26,2)=0,INDEX(relationships,INT($AF26/2)+1,AQ$3)<>1),INDEX($AC$5:$AD$24,AQ$3,MOD(COLUMNS($AF$3:AQ$3),2)+1),INDEX($AC$5:$AD$24,INT($AF26/2)+1,MOD(COLUMNS($AF$3:AQ$3),2)+1))","v":-7.8183148246802991},{"$f":"IF(OR(MOD($AF26,2)=0,INDEX(relationships,INT($AF26/2)+1,AR$3)<>1),INDEX($AC$5:$AD$24,AR$3,MOD(COLUMNS($AF$3:AR$3),2)+1),INDEX($AC$5:$AD$24,INT($AF26/2)+1,MOD(COLUMNS($AF$3:AR$3),2)+1))","v":6.2348980185873337},{"$f":"IF(OR(MOD($AF26,2)=0,INDEX(relationships,INT($AF26/2)+1,AS$3)<>1),INDEX($AC$5:$AD$24,AS$3,MOD(COLUMNS($AF$3:AS$3),2)+1),INDEX($AC$5:$AD$24,INT($AF26/2)+1,MOD(COLUMNS($AF$3:AS$3),2)+1))","v":-2.45029690981724E-15},{"$f":"IF(OR(MOD($AF26,2)=0,INDEX(relationships,INT($AF26/2)+1,AT$3)<>1),INDEX($AC$5:$AD$24,AT$3,MOD(COLUMNS($AF$3:AT$3),2)+1),INDEX($AC$5:$AD$24,INT($AF26/2)+1,MOD(COLUMNS($AF$3:AT$3),2)+1))","v":10},{"$f":"IF(OR(MOD($AF26,2)=0,INDEX(relationships,INT($AF26/2)+1,AU$3)<>1),INDEX($AC$5:$AD$24,AU$3,MOD(COLUMNS($AF$3:AU$3),2)+1),INDEX($AC$5:$AD$24,INT($AF26/2)+1,MOD(COLUMNS($AF$3:AU$3),2)+1))","v":7.8183148246802956},{"$f":"IF(OR(MOD($AF26,2)=0,INDEX(relationships,INT($AF26/2)+1,AV$3)<>1),INDEX($AC$5:$AD$24,AV$3,MOD(COLUMNS($AF$3:AV$3),2)+1),INDEX($AC$5:$AD$24,INT($AF26/2)+1,MOD(COLUMNS($AF$3:AV$3),2)+1))","v":6.2348980185873373},{"$f":"IF(OR(MOD($AF26,2)=0,INDEX(relationships,INT($AF26/2)+1,AW$3)<>1),INDEX($AC$5:$AD$24,AW$3,MOD(COLUMNS($AF$3:AW$3),2)+1),INDEX($AC$5:$AD$24,INT($AF26/2)+1,MOD(COLUMNS($AF$3:AW$3),2)+1))","v":9.7492791218182369},{"$f":"IF(OR(MOD($AF26,2)=0,INDEX(relationships,INT($AF26/2)+1,AX$3)<>1),INDEX($AC$5:$AD$24,AX$3,MOD(COLUMNS($AF$3:AX$3),2)+1),INDEX($AC$5:$AD$24,INT($AF26/2)+1,MOD(COLUMNS($AF$3:AX$3),2)+1))","v":-2.2252093395631407},{"$f":"IF(OR(MOD($AF26,2)=0,INDEX(relationships,INT($AF26/2)+1,AY$3)<>1),INDEX($AC$5:$AD$24,AY$3,MOD(COLUMNS($AF$3:AY$3),2)+1),INDEX($AC$5:$AD$24,INT($AF26/2)+1,MOD(COLUMNS($AF$3:AY$3),2)+1))","v":4.3388373911755842},{"$f":"IF(OR(MOD($AF26,2)=0,INDEX(relationships,INT($AF26/2)+1,AZ$3)<>1),INDEX($AC$5:$AD$24,AZ$3,MOD(COLUMNS($AF$3:AZ$3),2)+1),INDEX($AC$5:$AD$24,INT($AF26/2)+1,MOD(COLUMNS($AF$3:AZ$3),2)+1))","v":-9.0096886790241886},{"$f":"IF(OR(MOD($AF26,2)=0,INDEX(relationships,INT($AF26/2)+1,BA$3)<>1),INDEX($AC$5:$AD$24,BA$3,MOD(COLUMNS($AF$3:BA$3),2)+1),INDEX($AC$5:$AD$24,INT($AF26/2)+1,MOD(COLUMNS($AF$3:BA$3),2)+1))","v":-4.338837391175578},{"$f":"IF(OR(MOD($AF26,2)=0,INDEX(relationships,INT($AF26/2)+1,BB$3)<>1),INDEX($AC$5:$AD$24,BB$3,MOD(COLUMNS($AF$3:BB$3),2)+1),INDEX($AC$5:$AD$24,INT($AF26/2)+1,MOD(COLUMNS($AF$3:BB$3),2)+1))","v":-9.0096886790241921},{"$f":"IF(OR(MOD($AF26,2)=0,INDEX(relationships,INT($AF26/2)+1,BC$3)<>1),INDEX($AC$5:$AD$24,BC$3,MOD(COLUMNS($AF$3:BC$3),2)+1),INDEX($AC$5:$AD$24,INT($AF26/2)+1,MOD(COLUMNS($AF$3:BC$3),2)+1))","v":-9.7492791218182351},{"$f":"IF(OR(MOD($AF26,2)=0,INDEX(relationships,INT($AF26/2)+1,BD$3)<>1),INDEX($AC$5:$AD$24,BD$3,MOD(COLUMNS($AF$3:BD$3),2)+1),INDEX($AC$5:$AD$24,INT($AF26/2)+1,MOD(COLUMNS($AF$3:BD$3),2)+1))","v":-2.2252093395631483},{"$f":"IF(OR(MOD($AF26,2)=0,INDEX(relationships,INT($AF26/2)+1,BE$3)<>1),INDEX($AC$5:$AD$24,BE$3,MOD(COLUMNS($AF$3:BE$3),2)+1),INDEX($AC$5:$AD$24,INT($AF26/2)+1,MOD(COLUMNS($AF$3:BE$3),2)+1))","v":-7.8183148246803018},{"$f":"IF(OR(MOD($AF26,2)=0,INDEX(relationships,INT($AF26/2)+1,BF$3)<>1),INDEX($AC$5:$AD$24,BF$3,MOD(COLUMNS($AF$3:BF$3),2)+1),INDEX($AC$5:$AD$24,INT($AF26/2)+1,MOD(COLUMNS($AF$3:BF$3),2)+1))","v":6.2348980185873319},{"$f":"IF(OR(MOD($AF26,2)=0,INDEX(relationships,INT($AF26/2)+1,BG$3)<>1),INDEX($AC$5:$AD$24,BG$3,MOD(COLUMNS($AF$3:BG$3),2)+1),INDEX($AC$5:$AD$24,INT($AF26/2)+1,MOD(COLUMNS($AF$3:BG$3),2)+1))","v":-4.90059381963448E-15},{"$f":"IF(OR(MOD($AF26,2)=0,INDEX(relationships,INT($AF26/2)+1,BH$3)<>1),INDEX($AC$5:$AD$24,BH$3,MOD(COLUMNS($AF$3:BH$3),2)+1),INDEX($AC$5:$AD$24,INT($AF26/2)+1,MOD(COLUMNS($AF$3:BH$3),2)+1))","v":10},{"$f":"IF(OR(MOD($AF26,2)=0,INDEX(relationships,INT($AF26/2)+1,BI$3)<>1),INDEX($AC$5:$AD$24,BI$3,MOD(COLUMNS($AF$3:BI$3),2)+1),INDEX($AC$5:$AD$24,INT($AF26/2)+1,MOD(COLUMNS($AF$3:BI$3),2)+1))","v":7.8183148246802947},{"$f":"IF(OR(MOD($AF26,2)=0,INDEX(relationships,INT($AF26/2)+1,BJ$3)<>1),INDEX($AC$5:$AD$24,BJ$3,MOD(COLUMNS($AF$3:BJ$3),2)+1),INDEX($AC$5:$AD$24,INT($AF26/2)+1,MOD(COLUMNS($AF$3:BJ$3),2)+1))","v":6.2348980185873391},{"$f":"IF(OR(MOD($AF26,2)=0,INDEX(relationships,INT($AF26/2)+1,BK$3)<>1),INDEX($AC$5:$AD$24,BK$3,MOD(COLUMNS($AF$3:BK$3),2)+1),INDEX($AC$5:$AD$24,INT($AF26/2)+1,MOD(COLUMNS($AF$3:BK$3),2)+1))","v":9.7492791218182369},{"$f":"IF(OR(MOD($AF26,2)=0,INDEX(relationships,INT($AF26/2)+1,BL$3)<>1),INDEX($AC$5:$AD$24,BL$3,MOD(COLUMNS($AF$3:BL$3),2)+1),INDEX($AC$5:$AD$24,INT($AF26/2)+1,MOD(COLUMNS($AF$3:BL$3),2)+1))","v":-2.2252093395631385},{"$f":"IF(OR(MOD($AF26,2)=0,INDEX(relationships,INT($AF26/2)+1,BM$3)<>1),INDEX($AC$5:$AD$24,BM$3,MOD(COLUMNS($AF$3:BM$3),2)+1),INDEX($AC$5:$AD$24,INT($AF26/2)+1,MOD(COLUMNS($AF$3:BM$3),2)+1))","v":4.3388373911755869},{"$f":"IF(OR(MOD($AF26,2)=0,INDEX(relationships,INT($AF26/2)+1,BN$3)<>1),INDEX($AC$5:$AD$24,BN$3,MOD(COLUMNS($AF$3:BN$3),2)+1),INDEX($AC$5:$AD$24,INT($AF26/2)+1,MOD(COLUMNS($AF$3:BN$3),2)+1))","v":-9.0096886790241886},{"$f":"IF(OR(MOD($AF26,2)=0,INDEX(relationships,INT($AF26/2)+1,BO$3)<>1),INDEX($AC$5:$AD$24,BO$3,MOD(COLUMNS($AF$3:BO$3),2)+1),INDEX($AC$5:$AD$24,INT($AF26/2)+1,MOD(COLUMNS($AF$3:BO$3),2)+1))","v":-4.3388373911755753},{"$f":"IF(OR(MOD($AF26,2)=0,INDEX(relationships,INT($AF26/2)+1,BP$3)<>1),INDEX($AC$5:$AD$24,BP$3,MOD(COLUMNS($AF$3:BP$3),2)+1),INDEX($AC$5:$AD$24,INT($AF26/2)+1,MOD(COLUMNS($AF$3:BP$3),2)+1))","v":-9.0096886790241939},{"$f":"IF(OR(MOD($AF26,2)=0,INDEX(relationships,INT($AF26/2)+1,BQ$3)<>1),INDEX($AC$5:$AD$24,BQ$3,MOD(COLUMNS($AF$3:BQ$3),2)+1),INDEX($AC$5:$AD$24,INT($AF26/2)+1,MOD(COLUMNS($AF$3:BQ$3),2)+1))","v":-9.7492791218182351},{"$f":"IF(OR(MOD($AF26,2)=0,INDEX(relationships,INT($AF26/2)+1,BR$3)<>1),INDEX($AC$5:$AD$24,BR$3,MOD(COLUMNS($AF$3:BR$3),2)+1),INDEX($AC$5:$AD$24,INT($AF26/2)+1,MOD(COLUMNS($AF$3:BR$3),2)+1))","v":-2.2252093395631505},{"$f":"IF(OR(MOD($AF26,2)=0,INDEX(relationships,INT($AF26/2)+1,BS$3)<>1),INDEX($AC$5:$AD$24,BS$3,MOD(COLUMNS($AF$3:BS$3),2)+1),INDEX($AC$5:$AD$24,INT($AF26/2)+1,MOD(COLUMNS($AF$3:BS$3),2)+1))","v":-7.8183148246803027},{"$f":"IF(OR(MOD($AF26,2)=0,INDEX(relationships,INT($AF26/2)+1,BT$3)<>1),INDEX($AC$5:$AD$24,BT$3,MOD(COLUMNS($AF$3:BT$3),2)+1),INDEX($AC$5:$AD$24,INT($AF26/2)+1,MOD(COLUMNS($AF$3:BT$3),2)+1))","v":6.2348980185873293},null,{"$f":"IF(OR(MOD($AF26,2)=0,INDEX(relationships,INT($AF26/2)+1,BV$3)<>2),INDEX($AC$5:$AD$24,BV$3,MOD(COLUMNS($BU$3:BV$3),2)+1),INDEX($AC$5:$AD$24,INT($AF26/2)+1,MOD(COLUMNS($BU$3:BV$3),2)+1))","v":7.8183148246802983},{"$f":"IF(OR(MOD($AF26,2)=0,INDEX(relationships,INT($AF26/2)+1,BW$3)<>2),INDEX($AC$5:$AD$24,BW$3,MOD(COLUMNS($BU$3:BW$3),2)+1),INDEX($AC$5:$AD$24,INT($AF26/2)+1,MOD(COLUMNS($BU$3:BW$3),2)+1))","v":6.2348980185873355},{"$f":"IF(OR(MOD($AF26,2)=0,INDEX(relationships,INT($AF26/2)+1,BX$3)<>2),INDEX($AC$5:$AD$24,BX$3,MOD(COLUMNS($BU$3:BX$3),2)+1),INDEX($AC$5:$AD$24,INT($AF26/2)+1,MOD(COLUMNS($BU$3:BX$3),2)+1))","v":9.7492791218182369},{"$f":"IF(OR(MOD($AF26,2)=0,INDEX(relationships,INT($AF26/2)+1,BY$3)<>2),INDEX($AC$5:$AD$24,BY$3,MOD(COLUMNS($BU$3:BY$3),2)+1),INDEX($AC$5:$AD$24,INT($AF26/2)+1,MOD(COLUMNS($BU$3:BY$3),2)+1))","v":-2.2252093395631434},{"$f":"IF(OR(MOD($AF26,2)=0,INDEX(relationships,INT($AF26/2)+1,BZ$3)<>2),INDEX($AC$5:$AD$24,BZ$3,MOD(COLUMNS($BU$3:BZ$3),2)+1),INDEX($AC$5:$AD$24,INT($AF26/2)+1,MOD(COLUMNS($BU$3:BZ$3),2)+1))","v":4.3388373911755824},{"$f":"IF(OR(MOD($AF26,2)=0,INDEX(relationships,INT($AF26/2)+1,CA$3)<>2),INDEX($AC$5:$AD$24,CA$3,MOD(COLUMNS($BU$3:CA$3),2)+1),INDEX($AC$5:$AD$24,INT($AF26/2)+1,MOD(COLUMNS($BU$3:CA$3),2)+1))","v":-9.0096886790241903},{"$f":"IF(OR(MOD($AF26,2)=0,INDEX(relationships,INT($AF26/2)+1,CB$3)<>2),INDEX($AC$5:$AD$24,CB$3,MOD(COLUMNS($BU$3:CB$3),2)+1),INDEX($AC$5:$AD$24,INT($AF26/2)+1,MOD(COLUMNS($BU$3:CB$3),2)+1))","v":-4.3388373911755798},{"$f":"IF(OR(MOD($AF26,2)=0,INDEX(relationships,INT($AF26/2)+1,CC$3)<>2),INDEX($AC$5:$AD$24,CC$3,MOD(COLUMNS($BU$3:CC$3),2)+1),INDEX($AC$5:$AD$24,INT($AF26/2)+1,MOD(COLUMNS($BU$3:CC$3),2)+1))","v":-9.0096886790241921},{"$f":"IF(OR(MOD($AF26,2)=0,INDEX(relationships,INT($AF26/2)+1,CD$3)<>2),INDEX($AC$5:$AD$24,CD$3,MOD(COLUMNS($BU$3:CD$3),2)+1),INDEX($AC$5:$AD$24,INT($AF26/2)+1,MOD(COLUMNS($BU$3:CD$3),2)+1))","v":-9.7492791218182369},{"$f":"IF(OR(MOD($AF26,2)=0,INDEX(relationships,INT($AF26/2)+1,CE$3)<>2),INDEX($AC$5:$AD$24,CE$3,MOD(COLUMNS($BU$3:CE$3),2)+1),INDEX($AC$5:$AD$24,INT($AF26/2)+1,MOD(COLUMNS($BU$3:CE$3),2)+1))","v":-2.225209339563146},{"$f":"IF(OR(MOD($AF26,2)=0,INDEX(relationships,INT($AF26/2)+1,CF$3)<>2),INDEX($AC$5:$AD$24,CF$3,MOD(COLUMNS($BU$3:CF$3),2)+1),INDEX($AC$5:$AD$24,INT($AF26/2)+1,MOD(COLUMNS($BU$3:CF$3),2)+1))","v":-7.8183148246802991},{"$f":"IF(OR(MOD($AF26,2)=0,INDEX(relationships,INT($AF26/2)+1,CG$3)<>2),INDEX($AC$5:$AD$24,CG$3,MOD(COLUMNS($BU$3:CG$3),2)+1),INDEX($AC$5:$AD$24,INT($AF26/2)+1,MOD(COLUMNS($BU$3:CG$3),2)+1))","v":6.2348980185873337},{"$f":"IF(OR(MOD($AF26,2)=0,INDEX(relationships,INT($AF26/2)+1,CH$3)<>2),INDEX($AC$5:$AD$24,CH$3,MOD(COLUMNS($BU$3:CH$3),2)+1),INDEX($AC$5:$AD$24,INT($AF26/2)+1,MOD(COLUMNS($BU$3:CH$3),2)+1))","v":-2.45029690981724E-15},{"$f":"IF(OR(MOD($AF26,2)=0,INDEX(relationships,INT($AF26/2)+1,CI$3)<>2),INDEX($AC$5:$AD$24,CI$3,MOD(COLUMNS($BU$3:CI$3),2)+1),INDEX($AC$5:$AD$24,INT($AF26/2)+1,MOD(COLUMNS($BU$3:CI$3),2)+1))","v":10},{"$f":"IF(OR(MOD($AF26,2)=0,INDEX(relationships,INT($AF26/2)+1,CJ$3)<>2),INDEX($AC$5:$AD$24,CJ$3,MOD(COLUMNS($BU$3:CJ$3),2)+1),INDEX($AC$5:$AD$24,INT($AF26/2)+1,MOD(COLUMNS($BU$3:CJ$3),2)+1))","v":7.8183148246802956},{"$f":"IF(OR(MOD($AF26,2)=0,INDEX(relationships,INT($AF26/2)+1,CK$3)<>2),INDEX($AC$5:$AD$24,CK$3,MOD(COLUMNS($BU$3:CK$3),2)+1),INDEX($AC$5:$AD$24,INT($AF26/2)+1,MOD(COLUMNS($BU$3:CK$3),2)+1))","v":6.2348980185873373},{"$f":"IF(OR(MOD($AF26,2)=0,INDEX(relationships,INT($AF26/2)+1,CL$3)<>2),INDEX($AC$5:$AD$24,CL$3,MOD(COLUMNS($BU$3:CL$3),2)+1),INDEX($AC$5:$AD$24,INT($AF26/2)+1,MOD(COLUMNS($BU$3:CL$3),2)+1))","v":9.7492791218182369},{"$f":"IF(OR(MOD($AF26,2)=0,INDEX(relationships,INT($AF26/2)+1,CM$3)<>2),INDEX($AC$5:$AD$24,CM$3,MOD(COLUMNS($BU$3:CM$3),2)+1),INDEX($AC$5:$AD$24,INT($AF26/2)+1,MOD(COLUMNS($BU$3:CM$3),2)+1))","v":-2.2252093395631407},{"$f":"IF(OR(MOD($AF26,2)=0,INDEX(relationships,INT($AF26/2)+1,CN$3)<>2),INDEX($AC$5:$AD$24,CN$3,MOD(COLUMNS($BU$3:CN$3),2)+1),INDEX($AC$5:$AD$24,INT($AF26/2)+1,MOD(COLUMNS($BU$3:CN$3),2)+1))","v":4.3388373911755842},{"$f":"IF(OR(MOD($AF26,2)=0,INDEX(relationships,INT($AF26/2)+1,CO$3)<>2),INDEX($AC$5:$AD$24,CO$3,MOD(COLUMNS($BU$3:CO$3),2)+1),INDEX($AC$5:$AD$24,INT($AF26/2)+1,MOD(COLUMNS($BU$3:CO$3),2)+1))","v":-9.0096886790241886},{"$f":"IF(OR(MOD($AF26,2)=0,INDEX(relationships,INT($AF26/2)+1,CP$3)<>2),INDEX($AC$5:$AD$24,CP$3,MOD(COLUMNS($BU$3:CP$3),2)+1),INDEX($AC$5:$AD$24,INT($AF26/2)+1,MOD(COLUMNS($BU$3:CP$3),2)+1))","v":-4.338837391175578},{"$f":"IF(OR(MOD($AF26,2)=0,INDEX(relationships,INT($AF26/2)+1,CQ$3)<>2),INDEX($AC$5:$AD$24,CQ$3,MOD(COLUMNS($BU$3:CQ$3),2)+1),INDEX($AC$5:$AD$24,INT($AF26/2)+1,MOD(COLUMNS($BU$3:CQ$3),2)+1))","v":-9.0096886790241921},{"$f":"IF(OR(MOD($AF26,2)=0,INDEX(relationships,INT($AF26/2)+1,CR$3)<>2),INDEX($AC$5:$AD$24,CR$3,MOD(COLUMNS($BU$3:CR$3),2)+1),INDEX($AC$5:$AD$24,INT($AF26/2)+1,MOD(COLUMNS($BU$3:CR$3),2)+1))","v":-9.7492791218182351},{"$f":"IF(OR(MOD($AF26,2)=0,INDEX(relationships,INT($AF26/2)+1,CS$3)<>2),INDEX($AC$5:$AD$24,CS$3,MOD(COLUMNS($BU$3:CS$3),2)+1),INDEX($AC$5:$AD$24,INT($AF26/2)+1,MOD(COLUMNS($BU$3:CS$3),2)+1))","v":-2.2252093395631483},{"$f":"IF(OR(MOD($AF26,2)=0,INDEX(relationships,INT($AF26/2)+1,CT$3)<>2),INDEX($AC$5:$AD$24,CT$3,MOD(COLUMNS($BU$3:CT$3),2)+1),INDEX($AC$5:$AD$24,INT($AF26/2)+1,MOD(COLUMNS($BU$3:CT$3),2)+1))","v":-7.8183148246803018},{"$f":"IF(OR(MOD($AF26,2)=0,INDEX(relationships,INT($AF26/2)+1,CU$3)<>2),INDEX($AC$5:$AD$24,CU$3,MOD(COLUMNS($BU$3:CU$3),2)+1),INDEX($AC$5:$AD$24,INT($AF26/2)+1,MOD(COLUMNS($BU$3:CU$3),2)+1))","v":6.2348980185873319},{"$f":"IF(OR(MOD($AF26,2)=0,INDEX(relationships,INT($AF26/2)+1,CV$3)<>2),INDEX($AC$5:$AD$24,CV$3,MOD(COLUMNS($BU$3:CV$3),2)+1),INDEX($AC$5:$AD$24,INT($AF26/2)+1,MOD(COLUMNS($BU$3:CV$3),2)+1))","v":-4.90059381963448E-15},{"$f":"IF(OR(MOD($AF26,2)=0,INDEX(relationships,INT($AF26/2)+1,CW$3)<>2),INDEX($AC$5:$AD$24,CW$3,MOD(COLUMNS($BU$3:CW$3),2)+1),INDEX($AC$5:$AD$24,INT($AF26/2)+1,MOD(COLUMNS($BU$3:CW$3),2)+1))","v":10},{"$f":"IF(OR(MOD($AF26,2)=0,INDEX(relationships,INT($AF26/2)+1,CX$3)<>2),INDEX($AC$5:$AD$24,CX$3,MOD(COLUMNS($BU$3:CX$3),2)+1),INDEX($AC$5:$AD$24,INT($AF26/2)+1,MOD(COLUMNS($BU$3:CX$3),2)+1))","v":7.8183148246802947},{"$f":"IF(OR(MOD($AF26,2)=0,INDEX(relationships,INT($AF26/2)+1,CY$3)<>2),INDEX($AC$5:$AD$24,CY$3,MOD(COLUMNS($BU$3:CY$3),2)+1),INDEX($AC$5:$AD$24,INT($AF26/2)+1,MOD(COLUMNS($BU$3:CY$3),2)+1))","v":6.2348980185873391},{"$f":"IF(OR(MOD($AF26,2)=0,INDEX(relationships,INT($AF26/2)+1,CZ$3)<>2),INDEX($AC$5:$AD$24,CZ$3,MOD(COLUMNS($BU$3:CZ$3),2)+1),INDEX($AC$5:$AD$24,INT($AF26/2)+1,MOD(COLUMNS($BU$3:CZ$3),2)+1))","v":9.7492791218182369},{"$f":"IF(OR(MOD($AF26,2)=0,INDEX(relationships,INT($AF26/2)+1,DA$3)<>2),INDEX($AC$5:$AD$24,DA$3,MOD(COLUMNS($BU$3:DA$3),2)+1),INDEX($AC$5:$AD$24,INT($AF26/2)+1,MOD(COLUMNS($BU$3:DA$3),2)+1))","v":-2.2252093395631385},{"$f":"IF(OR(MOD($AF26,2)=0,INDEX(relationships,INT($AF26/2)+1,DB$3)<>2),INDEX($AC$5:$AD$24,DB$3,MOD(COLUMNS($BU$3:DB$3),2)+1),INDEX($AC$5:$AD$24,INT($AF26/2)+1,MOD(COLUMNS($BU$3:DB$3),2)+1))","v":4.3388373911755869},{"$f":"IF(OR(MOD($AF26,2)=0,INDEX(relationships,INT($AF26/2)+1,DC$3)<>2),INDEX($AC$5:$AD$24,DC$3,MOD(COLUMNS($BU$3:DC$3),2)+1),INDEX($AC$5:$AD$24,INT($AF26/2)+1,MOD(COLUMNS($BU$3:DC$3),2)+1))","v":-9.0096886790241886},{"$f":"IF(OR(MOD($AF26,2)=0,INDEX(relationships,INT($AF26/2)+1,DD$3)<>2),INDEX($AC$5:$AD$24,DD$3,MOD(COLUMNS($BU$3:DD$3),2)+1),INDEX($AC$5:$AD$24,INT($AF26/2)+1,MOD(COLUMNS($BU$3:DD$3),2)+1))","v":-4.3388373911755753},{"$f":"IF(OR(MOD($AF26,2)=0,INDEX(relationships,INT($AF26/2)+1,DE$3)<>2),INDEX($AC$5:$AD$24,DE$3,MOD(COLUMNS($BU$3:DE$3),2)+1),INDEX($AC$5:$AD$24,INT($AF26/2)+1,MOD(COLUMNS($BU$3:DE$3),2)+1))","v":-9.0096886790241939},{"$f":"IF(OR(MOD($AF26,2)=0,INDEX(relationships,INT($AF26/2)+1,DF$3)<>2),INDEX($AC$5:$AD$24,DF$3,MOD(COLUMNS($BU$3:DF$3),2)+1),INDEX($AC$5:$AD$24,INT($AF26/2)+1,MOD(COLUMNS($BU$3:DF$3),2)+1))","v":-9.7492791218182351},{"$f":"IF(OR(MOD($AF26,2)=0,INDEX(relationships,INT($AF26/2)+1,DG$3)<>2),INDEX($AC$5:$AD$24,DG$3,MOD(COLUMNS($BU$3:DG$3),2)+1),INDEX($AC$5:$AD$24,INT($AF26/2)+1,MOD(COLUMNS($BU$3:DG$3),2)+1))","v":-2.2252093395631505},{"$f":"IF(OR(MOD($AF26,2)=0,INDEX(relationships,INT($AF26/2)+1,DH$3)<>2),INDEX($AC$5:$AD$24,DH$3,MOD(COLUMNS($BU$3:DH$3),2)+1),INDEX($AC$5:$AD$24,INT($AF26/2)+1,MOD(COLUMNS($BU$3:DH$3),2)+1))","v":-7.8183148246803027},{"$f":"IF(OR(MOD($AF26,2)=0,INDEX(relationships,INT($AF26/2)+1,DI$3)<>2),INDEX($AC$5:$AD$24,DI$3,MOD(COLUMNS($BU$3:DI$3),2)+1),INDEX($AC$5:$AD$24,INT($AF26/2)+1,MOD(COLUMNS($BU$3:DI$3),2)+1))","v":6.2348980185873293},null,-2.45029690981724E-15,10,-2.45029690981724E-15,10]
[null,"Data (with mirror completed)",null,null,null,null,null,null,null,null,null,null,null,null,null,null,null,null,null,null,null,null,null,null,{"$f":"IF(ISERROR(Z22),\"\",Y22)","v":"Significant:"},{"$f":"IF(ISERROR(Z22),\"\",Z22&TEXT(Z22/Z10,\" (0%)\"))","v":"1 (14%)"},null,null,null,null,null,22,{"$f":"IF(OR(MOD($AF27,2)=0,INDEX(relationships,INT($AF27/2)+1,AG$3)<>1),INDEX($AC$5:$AD$24,AG$3,MOD(COLUMNS($AF$3:AG$3),2)+1),INDEX($AC$5:$AD$24,INT($AF27/2)+1,MOD(COLUMNS($AF$3:AG$3),2)+1))","v":7.8183148246802983},{"$f":"IF(OR(MOD($AF27,2)=0,INDEX(relationships,INT($AF27/2)+1,AH$3)<>1),INDEX($AC$5:$AD$24,AH$3,MOD(COLUMNS($AF$3:AH$3),2)+1),INDEX($AC$5:$AD$24,INT($AF27/2)+1,MOD(COLUMNS($AF$3:AH$3),2)+1))","v":6.2348980185873355},{"$f":"IF(OR(MOD($AF27,2)=0,INDEX(relationships,INT($AF27/2)+1,AI$3)<>1),INDEX($AC$5:$AD$24,AI$3,MOD(COLUMNS($AF$3:AI$3),2)+1),INDEX($AC$5:$AD$24,INT($AF27/2)+1,MOD(COLUMNS($AF$3:AI$3),2)+1))","v":9.7492791218182369},{"$f":"IF(OR(MOD($AF27,2)=0,INDEX(relationships,INT($AF27/2)+1,AJ$3)<>1),INDEX($AC$5:$AD$24,AJ$3,MOD(COLUMNS($AF$3:AJ$3),2)+1),INDEX($AC$5:$AD$24,INT($AF27/2)+1,MOD(COLUMNS($AF$3:AJ$3),2)+1))","v":-2.2252093395631434},{"$f":"IF(OR(MOD($AF27,2)=0,INDEX(relationships,INT($AF27/2)+1,AK$3)<>1),INDEX($AC$5:$AD$24,AK$3,MOD(COLUMNS($AF$3:AK$3),2)+1),INDEX($AC$5:$AD$24,INT($AF27/2)+1,MOD(COLUMNS($AF$3:AK$3),2)+1))","v":4.3388373911755824},{"$f":"IF(OR(MOD($AF27,2)=0,INDEX(relationships,INT($AF27/2)+1,AL$3)<>1),INDEX($AC$5:$AD$24,AL$3,MOD(COLUMNS($AF$3:AL$3),2)+1),INDEX($AC$5:$AD$24,INT($AF27/2)+1,MOD(COLUMNS($AF$3:AL$3),2)+1))","v":-9.0096886790241903},{"$f":"IF(OR(MOD($AF27,2)=0,INDEX(relationships,INT($AF27/2)+1,AM$3)<>1),INDEX($AC$5:$AD$24,AM$3,MOD(COLUMNS($AF$3:AM$3),2)+1),INDEX($AC$5:$AD$24,INT($AF27/2)+1,MOD(COLUMNS($AF$3:AM$3),2)+1))","v":-4.3388373911755798},{"$f":"IF(OR(MOD($AF27,2)=0,INDEX(relationships,INT($AF27/2)+1,AN$3)<>1),INDEX($AC$5:$AD$24,AN$3,MOD(COLUMNS($AF$3:AN$3),2)+1),INDEX($AC$5:$AD$24,INT($AF27/2)+1,MOD(COLUMNS($AF$3:AN$3),2)+1))","v":-9.0096886790241921},{"$f":"IF(OR(MOD($AF27,2)=0,INDEX(relationships,INT($AF27/2)+1,AO$3)<>1),INDEX($AC$5:$AD$24,AO$3,MOD(COLUMNS($AF$3:AO$3),2)+1),INDEX($AC$5:$AD$24,INT($AF27/2)+1,MOD(COLUMNS($AF$3:AO$3),2)+1))","v":-9.7492791218182369},{"$f":"IF(OR(MOD($AF27,2)=0,INDEX(relationships,INT($AF27/2)+1,AP$3)<>1),INDEX($AC$5:$AD$24,AP$3,MOD(COLUMNS($AF$3:AP$3),2)+1),INDEX($AC$5:$AD$24,INT($AF27/2)+1,MOD(COLUMNS($AF$3:AP$3),2)+1))","v":-2.225209339563146},{"$f":"IF(OR(MOD($AF27,2)=0,INDEX(relationships,INT($AF27/2)+1,AQ$3)<>1),INDEX($AC$5:$AD$24,AQ$3,MOD(COLUMNS($AF$3:AQ$3),2)+1),INDEX($AC$5:$AD$24,INT($AF27/2)+1,MOD(COLUMNS($AF$3:AQ$3),2)+1))","v":-7.8183148246802991},{"$f":"IF(OR(MOD($AF27,2)=0,INDEX(relationships,INT($AF27/2)+1,AR$3)<>1),INDEX($AC$5:$AD$24,AR$3,MOD(COLUMNS($AF$3:AR$3),2)+1),INDEX($AC$5:$AD$24,INT($AF27/2)+1,MOD(COLUMNS($AF$3:AR$3),2)+1))","v":6.2348980185873337},{"$f":"IF(OR(MOD($AF27,2)=0,INDEX(relationships,INT($AF27/2)+1,AS$3)<>1),INDEX($AC$5:$AD$24,AS$3,MOD(COLUMNS($AF$3:AS$3),2)+1),INDEX($AC$5:$AD$24,INT($AF27/2)+1,MOD(COLUMNS($AF$3:AS$3),2)+1))","v":-2.45029690981724E-15},{"$f":"IF(OR(MOD($AF27,2)=0,INDEX(relationships,INT($AF27/2)+1,AT$3)<>1),INDEX($AC$5:$AD$24,AT$3,MOD(COLUMNS($AF$3:AT$3),2)+1),INDEX($AC$5:$AD$24,INT($AF27/2)+1,MOD(COLUMNS($AF$3:AT$3),2)+1))","v":10},{"$f":"IF(OR(MOD($AF27,2)=0,INDEX(relationships,INT($AF27/2)+1,AU$3)<>1),INDEX($AC$5:$AD$24,AU$3,MOD(COLUMNS($AF$3:AU$3),2)+1),INDEX($AC$5:$AD$24,INT($AF27/2)+1,MOD(COLUMNS($AF$3:AU$3),2)+1))","v":7.8183148246802956},{"$f":"IF(OR(MOD($AF27,2)=0,INDEX(relationships,INT($AF27/2)+1,AV$3)<>1),INDEX($AC$5:$AD$24,AV$3,MOD(COLUMNS($AF$3:AV$3),2)+1),INDEX($AC$5:$AD$24,INT($AF27/2)+1,MOD(COLUMNS($AF$3:AV$3),2)+1))","v":6.2348980185873373},{"$f":"IF(OR(MOD($AF27,2)=0,INDEX(relationships,INT($AF27/2)+1,AW$3)<>1),INDEX($AC$5:$AD$24,AW$3,MOD(COLUMNS($AF$3:AW$3),2)+1),INDEX($AC$5:$AD$24,INT($AF27/2)+1,MOD(COLUMNS($AF$3:AW$3),2)+1))","v":9.7492791218182369},{"$f":"IF(OR(MOD($AF27,2)=0,INDEX(relationships,INT($AF27/2)+1,AX$3)<>1),INDEX($AC$5:$AD$24,AX$3,MOD(COLUMNS($AF$3:AX$3),2)+1),INDEX($AC$5:$AD$24,INT($AF27/2)+1,MOD(COLUMNS($AF$3:AX$3),2)+1))","v":-2.2252093395631407},{"$f":"IF(OR(MOD($AF27,2)=0,INDEX(relationships,INT($AF27/2)+1,AY$3)<>1),INDEX($AC$5:$AD$24,AY$3,MOD(COLUMNS($AF$3:AY$3),2)+1),INDEX($AC$5:$AD$24,INT($AF27/2)+1,MOD(COLUMNS($AF$3:AY$3),2)+1))","v":4.3388373911755842},{"$f":"IF(OR(MOD($AF27,2)=0,INDEX(relationships,INT($AF27/2)+1,AZ$3)<>1),INDEX($AC$5:$AD$24,AZ$3,MOD(COLUMNS($AF$3:AZ$3),2)+1),INDEX($AC$5:$AD$24,INT($AF27/2)+1,MOD(COLUMNS($AF$3:AZ$3),2)+1))","v":-9.0096886790241886},{"$f":"IF(OR(MOD($AF27,2)=0,INDEX(relationships,INT($AF27/2)+1,BA$3)<>1),INDEX($AC$5:$AD$24,BA$3,MOD(COLUMNS($AF$3:BA$3),2)+1),INDEX($AC$5:$AD$24,INT($AF27/2)+1,MOD(COLUMNS($AF$3:BA$3),2)+1))","v":-4.338837391175578},{"$f":"IF(OR(MOD($AF27,2)=0,INDEX(relationships,INT($AF27/2)+1,BB$3)<>1),INDEX($AC$5:$AD$24,BB$3,MOD(COLUMNS($AF$3:BB$3),2)+1),INDEX($AC$5:$AD$24,INT($AF27/2)+1,MOD(COLUMNS($AF$3:BB$3),2)+1))","v":-9.0096886790241921},{"$f":"IF(OR(MOD($AF27,2)=0,INDEX(relationships,INT($AF27/2)+1,BC$3)<>1),INDEX($AC$5:$AD$24,BC$3,MOD(COLUMNS($AF$3:BC$3),2)+1),INDEX($AC$5:$AD$24,INT($AF27/2)+1,MOD(COLUMNS($AF$3:BC$3),2)+1))","v":-9.7492791218182351},{"$f":"IF(OR(MOD($AF27,2)=0,INDEX(relationships,INT($AF27/2)+1,BD$3)<>1),INDEX($AC$5:$AD$24,BD$3,MOD(COLUMNS($AF$3:BD$3),2)+1),INDEX($AC$5:$AD$24,INT($AF27/2)+1,MOD(COLUMNS($AF$3:BD$3),2)+1))","v":-2.2252093395631483},{"$f":"IF(OR(MOD($AF27,2)=0,INDEX(relationships,INT($AF27/2)+1,BE$3)<>1),INDEX($AC$5:$AD$24,BE$3,MOD(COLUMNS($AF$3:BE$3),2)+1),INDEX($AC$5:$AD$24,INT($AF27/2)+1,MOD(COLUMNS($AF$3:BE$3),2)+1))","v":-7.8183148246803018},{"$f":"IF(OR(MOD($AF27,2)=0,INDEX(relationships,INT($AF27/2)+1,BF$3)<>1),INDEX($AC$5:$AD$24,BF$3,MOD(COLUMNS($AF$3:BF$3),2)+1),INDEX($AC$5:$AD$24,INT($AF27/2)+1,MOD(COLUMNS($AF$3:BF$3),2)+1))","v":6.2348980185873319},{"$f":"IF(OR(MOD($AF27,2)=0,INDEX(relationships,INT($AF27/2)+1,BG$3)<>1),INDEX($AC$5:$AD$24,BG$3,MOD(COLUMNS($AF$3:BG$3),2)+1),INDEX($AC$5:$AD$24,INT($AF27/2)+1,MOD(COLUMNS($AF$3:BG$3),2)+1))","v":-4.90059381963448E-15},{"$f":"IF(OR(MOD($AF27,2)=0,INDEX(relationships,INT($AF27/2)+1,BH$3)<>1),INDEX($AC$5:$AD$24,BH$3,MOD(COLUMNS($AF$3:BH$3),2)+1),INDEX($AC$5:$AD$24,INT($AF27/2)+1,MOD(COLUMNS($AF$3:BH$3),2)+1))","v":10},{"$f":"IF(OR(MOD($AF27,2)=0,INDEX(relationships,INT($AF27/2)+1,BI$3)<>1),INDEX($AC$5:$AD$24,BI$3,MOD(COLUMNS($AF$3:BI$3),2)+1),INDEX($AC$5:$AD$24,INT($AF27/2)+1,MOD(COLUMNS($AF$3:BI$3),2)+1))","v":7.8183148246802947},{"$f":"IF(OR(MOD($AF27,2)=0,INDEX(relationships,INT($AF27/2)+1,BJ$3)<>1),INDEX($AC$5:$AD$24,BJ$3,MOD(COLUMNS($AF$3:BJ$3),2)+1),INDEX($AC$5:$AD$24,INT($AF27/2)+1,MOD(COLUMNS($AF$3:BJ$3),2)+1))","v":6.2348980185873391},{"$f":"IF(OR(MOD($AF27,2)=0,INDEX(relationships,INT($AF27/2)+1,BK$3)<>1),INDEX($AC$5:$AD$24,BK$3,MOD(COLUMNS($AF$3:BK$3),2)+1),INDEX($AC$5:$AD$24,INT($AF27/2)+1,MOD(COLUMNS($AF$3:BK$3),2)+1))","v":9.7492791218182369},{"$f":"IF(OR(MOD($AF27,2)=0,INDEX(relationships,INT($AF27/2)+1,BL$3)<>1),INDEX($AC$5:$AD$24,BL$3,MOD(COLUMNS($AF$3:BL$3),2)+1),INDEX($AC$5:$AD$24,INT($AF27/2)+1,MOD(COLUMNS($AF$3:BL$3),2)+1))","v":-2.2252093395631385},{"$f":"IF(OR(MOD($AF27,2)=0,INDEX(relationships,INT($AF27/2)+1,BM$3)<>1),INDEX($AC$5:$AD$24,BM$3,MOD(COLUMNS($AF$3:BM$3),2)+1),INDEX($AC$5:$AD$24,INT($AF27/2)+1,MOD(COLUMNS($AF$3:BM$3),2)+1))","v":4.3388373911755869},{"$f":"IF(OR(MOD($AF27,2)=0,INDEX(relationships,INT($AF27/2)+1,BN$3)<>1),INDEX($AC$5:$AD$24,BN$3,MOD(COLUMNS($AF$3:BN$3),2)+1),INDEX($AC$5:$AD$24,INT($AF27/2)+1,MOD(COLUMNS($AF$3:BN$3),2)+1))","v":-9.0096886790241886},{"$f":"IF(OR(MOD($AF27,2)=0,INDEX(relationships,INT($AF27/2)+1,BO$3)<>1),INDEX($AC$5:$AD$24,BO$3,MOD(COLUMNS($AF$3:BO$3),2)+1),INDEX($AC$5:$AD$24,INT($AF27/2)+1,MOD(COLUMNS($AF$3:BO$3),2)+1))","v":-4.3388373911755753},{"$f":"IF(OR(MOD($AF27,2)=0,INDEX(relationships,INT($AF27/2)+1,BP$3)<>1),INDEX($AC$5:$AD$24,BP$3,MOD(COLUMNS($AF$3:BP$3),2)+1),INDEX($AC$5:$AD$24,INT($AF27/2)+1,MOD(COLUMNS($AF$3:BP$3),2)+1))","v":-9.0096886790241939},{"$f":"IF(OR(MOD($AF27,2)=0,INDEX(relationships,INT($AF27/2)+1,BQ$3)<>1),INDEX($AC$5:$AD$24,BQ$3,MOD(COLUMNS($AF$3:BQ$3),2)+1),INDEX($AC$5:$AD$24,INT($AF27/2)+1,MOD(COLUMNS($AF$3:BQ$3),2)+1))","v":-9.7492791218182351},{"$f":"IF(OR(MOD($AF27,2)=0,INDEX(relationships,INT($AF27/2)+1,BR$3)<>1),INDEX($AC$5:$AD$24,BR$3,MOD(COLUMNS($AF$3:BR$3),2)+1),INDEX($AC$5:$AD$24,INT($AF27/2)+1,MOD(COLUMNS($AF$3:BR$3),2)+1))","v":-2.2252093395631505},{"$f":"IF(OR(MOD($AF27,2)=0,INDEX(relationships,INT($AF27/2)+1,BS$3)<>1),INDEX($AC$5:$AD$24,BS$3,MOD(COLUMNS($AF$3:BS$3),2)+1),INDEX($AC$5:$AD$24,INT($AF27/2)+1,MOD(COLUMNS($AF$3:BS$3),2)+1))","v":-7.8183148246803027},{"$f":"IF(OR(MOD($AF27,2)=0,INDEX(relationships,INT($AF27/2)+1,BT$3)<>1),INDEX($AC$5:$AD$24,BT$3,MOD(COLUMNS($AF$3:BT$3),2)+1),INDEX($AC$5:$AD$24,INT($AF27/2)+1,MOD(COLUMNS($AF$3:BT$3),2)+1))","v":6.2348980185873293},null,{"$f":"IF(OR(MOD($AF27,2)=0,INDEX(relationships,INT($AF27/2)+1,BV$3)<>2),INDEX($AC$5:$AD$24,BV$3,MOD(COLUMNS($BU$3:BV$3),2)+1),INDEX($AC$5:$AD$24,INT($AF27/2)+1,MOD(COLUMNS($BU$3:BV$3),2)+1))","v":7.8183148246802983},{"$f":"IF(OR(MOD($AF27,2)=0,INDEX(relationships,INT($AF27/2)+1,BW$3)<>2),INDEX($AC$5:$AD$24,BW$3,MOD(COLUMNS($BU$3:BW$3),2)+1),INDEX($AC$5:$AD$24,INT($AF27/2)+1,MOD(COLUMNS($BU$3:BW$3),2)+1))","v":6.2348980185873355},{"$f":"IF(OR(MOD($AF27,2)=0,INDEX(relationships,INT($AF27/2)+1,BX$3)<>2),INDEX($AC$5:$AD$24,BX$3,MOD(COLUMNS($BU$3:BX$3),2)+1),INDEX($AC$5:$AD$24,INT($AF27/2)+1,MOD(COLUMNS($BU$3:BX$3),2)+1))","v":9.7492791218182369},{"$f":"IF(OR(MOD($AF27,2)=0,INDEX(relationships,INT($AF27/2)+1,BY$3)<>2),INDEX($AC$5:$AD$24,BY$3,MOD(COLUMNS($BU$3:BY$3),2)+1),INDEX($AC$5:$AD$24,INT($AF27/2)+1,MOD(COLUMNS($BU$3:BY$3),2)+1))","v":-2.2252093395631434},{"$f":"IF(OR(MOD($AF27,2)=0,INDEX(relationships,INT($AF27/2)+1,BZ$3)<>2),INDEX($AC$5:$AD$24,BZ$3,MOD(COLUMNS($BU$3:BZ$3),2)+1),INDEX($AC$5:$AD$24,INT($AF27/2)+1,MOD(COLUMNS($BU$3:BZ$3),2)+1))","v":4.3388373911755824},{"$f":"IF(OR(MOD($AF27,2)=0,INDEX(relationships,INT($AF27/2)+1,CA$3)<>2),INDEX($AC$5:$AD$24,CA$3,MOD(COLUMNS($BU$3:CA$3),2)+1),INDEX($AC$5:$AD$24,INT($AF27/2)+1,MOD(COLUMNS($BU$3:CA$3),2)+1))","v":-9.0096886790241903},{"$f":"IF(OR(MOD($AF27,2)=0,INDEX(relationships,INT($AF27/2)+1,CB$3)<>2),INDEX($AC$5:$AD$24,CB$3,MOD(COLUMNS($BU$3:CB$3),2)+1),INDEX($AC$5:$AD$24,INT($AF27/2)+1,MOD(COLUMNS($BU$3:CB$3),2)+1))","v":-4.3388373911755798},{"$f":"IF(OR(MOD($AF27,2)=0,INDEX(relationships,INT($AF27/2)+1,CC$3)<>2),INDEX($AC$5:$AD$24,CC$3,MOD(COLUMNS($BU$3:CC$3),2)+1),INDEX($AC$5:$AD$24,INT($AF27/2)+1,MOD(COLUMNS($BU$3:CC$3),2)+1))","v":-9.0096886790241921},{"$f":"IF(OR(MOD($AF27,2)=0,INDEX(relationships,INT($AF27/2)+1,CD$3)<>2),INDEX($AC$5:$AD$24,CD$3,MOD(COLUMNS($BU$3:CD$3),2)+1),INDEX($AC$5:$AD$24,INT($AF27/2)+1,MOD(COLUMNS($BU$3:CD$3),2)+1))","v":-9.7492791218182369},{"$f":"IF(OR(MOD($AF27,2)=0,INDEX(relationships,INT($AF27/2)+1,CE$3)<>2),INDEX($AC$5:$AD$24,CE$3,MOD(COLUMNS($BU$3:CE$3),2)+1),INDEX($AC$5:$AD$24,INT($AF27/2)+1,MOD(COLUMNS($BU$3:CE$3),2)+1))","v":-2.225209339563146},{"$f":"IF(OR(MOD($AF27,2)=0,INDEX(relationships,INT($AF27/2)+1,CF$3)<>2),INDEX($AC$5:$AD$24,CF$3,MOD(COLUMNS($BU$3:CF$3),2)+1),INDEX($AC$5:$AD$24,INT($AF27/2)+1,MOD(COLUMNS($BU$3:CF$3),2)+1))","v":-7.8183148246802991},{"$f":"IF(OR(MOD($AF27,2)=0,INDEX(relationships,INT($AF27/2)+1,CG$3)<>2),INDEX($AC$5:$AD$24,CG$3,MOD(COLUMNS($BU$3:CG$3),2)+1),INDEX($AC$5:$AD$24,INT($AF27/2)+1,MOD(COLUMNS($BU$3:CG$3),2)+1))","v":6.2348980185873337},{"$f":"IF(OR(MOD($AF27,2)=0,INDEX(relationships,INT($AF27/2)+1,CH$3)<>2),INDEX($AC$5:$AD$24,CH$3,MOD(COLUMNS($BU$3:CH$3),2)+1),INDEX($AC$5:$AD$24,INT($AF27/2)+1,MOD(COLUMNS($BU$3:CH$3),2)+1))","v":-2.45029690981724E-15},{"$f":"IF(OR(MOD($AF27,2)=0,INDEX(relationships,INT($AF27/2)+1,CI$3)<>2),INDEX($AC$5:$AD$24,CI$3,MOD(COLUMNS($BU$3:CI$3),2)+1),INDEX($AC$5:$AD$24,INT($AF27/2)+1,MOD(COLUMNS($BU$3:CI$3),2)+1))","v":10},{"$f":"IF(OR(MOD($AF27,2)=0,INDEX(relationships,INT($AF27/2)+1,CJ$3)<>2),INDEX($AC$5:$AD$24,CJ$3,MOD(COLUMNS($BU$3:CJ$3),2)+1),INDEX($AC$5:$AD$24,INT($AF27/2)+1,MOD(COLUMNS($BU$3:CJ$3),2)+1))","v":7.8183148246802956},{"$f":"IF(OR(MOD($AF27,2)=0,INDEX(relationships,INT($AF27/2)+1,CK$3)<>2),INDEX($AC$5:$AD$24,CK$3,MOD(COLUMNS($BU$3:CK$3),2)+1),INDEX($AC$5:$AD$24,INT($AF27/2)+1,MOD(COLUMNS($BU$3:CK$3),2)+1))","v":6.2348980185873373},{"$f":"IF(OR(MOD($AF27,2)=0,INDEX(relationships,INT($AF27/2)+1,CL$3)<>2),INDEX($AC$5:$AD$24,CL$3,MOD(COLUMNS($BU$3:CL$3),2)+1),INDEX($AC$5:$AD$24,INT($AF27/2)+1,MOD(COLUMNS($BU$3:CL$3),2)+1))","v":9.7492791218182369},{"$f":"IF(OR(MOD($AF27,2)=0,INDEX(relationships,INT($AF27/2)+1,CM$3)<>2),INDEX($AC$5:$AD$24,CM$3,MOD(COLUMNS($BU$3:CM$3),2)+1),INDEX($AC$5:$AD$24,INT($AF27/2)+1,MOD(COLUMNS($BU$3:CM$3),2)+1))","v":-2.2252093395631407},{"$f":"IF(OR(MOD($AF27,2)=0,INDEX(relationships,INT($AF27/2)+1,CN$3)<>2),INDEX($AC$5:$AD$24,CN$3,MOD(COLUMNS($BU$3:CN$3),2)+1),INDEX($AC$5:$AD$24,INT($AF27/2)+1,MOD(COLUMNS($BU$3:CN$3),2)+1))","v":4.3388373911755842},{"$f":"IF(OR(MOD($AF27,2)=0,INDEX(relationships,INT($AF27/2)+1,CO$3)<>2),INDEX($AC$5:$AD$24,CO$3,MOD(COLUMNS($BU$3:CO$3),2)+1),INDEX($AC$5:$AD$24,INT($AF27/2)+1,MOD(COLUMNS($BU$3:CO$3),2)+1))","v":-9.0096886790241886},{"$f":"IF(OR(MOD($AF27,2)=0,INDEX(relationships,INT($AF27/2)+1,CP$3)<>2),INDEX($AC$5:$AD$24,CP$3,MOD(COLUMNS($BU$3:CP$3),2)+1),INDEX($AC$5:$AD$24,INT($AF27/2)+1,MOD(COLUMNS($BU$3:CP$3),2)+1))","v":-4.338837391175578},{"$f":"IF(OR(MOD($AF27,2)=0,INDEX(relationships,INT($AF27/2)+1,CQ$3)<>2),INDEX($AC$5:$AD$24,CQ$3,MOD(COLUMNS($BU$3:CQ$3),2)+1),INDEX($AC$5:$AD$24,INT($AF27/2)+1,MOD(COLUMNS($BU$3:CQ$3),2)+1))","v":-9.0096886790241921},{"$f":"IF(OR(MOD($AF27,2)=0,INDEX(relationships,INT($AF27/2)+1,CR$3)<>2),INDEX($AC$5:$AD$24,CR$3,MOD(COLUMNS($BU$3:CR$3),2)+1),INDEX($AC$5:$AD$24,INT($AF27/2)+1,MOD(COLUMNS($BU$3:CR$3),2)+1))","v":-9.7492791218182351},{"$f":"IF(OR(MOD($AF27,2)=0,INDEX(relationships,INT($AF27/2)+1,CS$3)<>2),INDEX($AC$5:$AD$24,CS$3,MOD(COLUMNS($BU$3:CS$3),2)+1),INDEX($AC$5:$AD$24,INT($AF27/2)+1,MOD(COLUMNS($BU$3:CS$3),2)+1))","v":-2.2252093395631483},{"$f":"IF(OR(MOD($AF27,2)=0,INDEX(relationships,INT($AF27/2)+1,CT$3)<>2),INDEX($AC$5:$AD$24,CT$3,MOD(COLUMNS($BU$3:CT$3),2)+1),INDEX($AC$5:$AD$24,INT($AF27/2)+1,MOD(COLUMNS($BU$3:CT$3),2)+1))","v":-7.8183148246803018},{"$f":"IF(OR(MOD($AF27,2)=0,INDEX(relationships,INT($AF27/2)+1,CU$3)<>2),INDEX($AC$5:$AD$24,CU$3,MOD(COLUMNS($BU$3:CU$3),2)+1),INDEX($AC$5:$AD$24,INT($AF27/2)+1,MOD(COLUMNS($BU$3:CU$3),2)+1))","v":6.2348980185873319},{"$f":"IF(OR(MOD($AF27,2)=0,INDEX(relationships,INT($AF27/2)+1,CV$3)<>2),INDEX($AC$5:$AD$24,CV$3,MOD(COLUMNS($BU$3:CV$3),2)+1),INDEX($AC$5:$AD$24,INT($AF27/2)+1,MOD(COLUMNS($BU$3:CV$3),2)+1))","v":-4.90059381963448E-15},{"$f":"IF(OR(MOD($AF27,2)=0,INDEX(relationships,INT($AF27/2)+1,CW$3)<>2),INDEX($AC$5:$AD$24,CW$3,MOD(COLUMNS($BU$3:CW$3),2)+1),INDEX($AC$5:$AD$24,INT($AF27/2)+1,MOD(COLUMNS($BU$3:CW$3),2)+1))","v":10},{"$f":"IF(OR(MOD($AF27,2)=0,INDEX(relationships,INT($AF27/2)+1,CX$3)<>2),INDEX($AC$5:$AD$24,CX$3,MOD(COLUMNS($BU$3:CX$3),2)+1),INDEX($AC$5:$AD$24,INT($AF27/2)+1,MOD(COLUMNS($BU$3:CX$3),2)+1))","v":7.8183148246802947},{"$f":"IF(OR(MOD($AF27,2)=0,INDEX(relationships,INT($AF27/2)+1,CY$3)<>2),INDEX($AC$5:$AD$24,CY$3,MOD(COLUMNS($BU$3:CY$3),2)+1),INDEX($AC$5:$AD$24,INT($AF27/2)+1,MOD(COLUMNS($BU$3:CY$3),2)+1))","v":6.2348980185873391},{"$f":"IF(OR(MOD($AF27,2)=0,INDEX(relationships,INT($AF27/2)+1,CZ$3)<>2),INDEX($AC$5:$AD$24,CZ$3,MOD(COLUMNS($BU$3:CZ$3),2)+1),INDEX($AC$5:$AD$24,INT($AF27/2)+1,MOD(COLUMNS($BU$3:CZ$3),2)+1))","v":9.7492791218182369},{"$f":"IF(OR(MOD($AF27,2)=0,INDEX(relationships,INT($AF27/2)+1,DA$3)<>2),INDEX($AC$5:$AD$24,DA$3,MOD(COLUMNS($BU$3:DA$3),2)+1),INDEX($AC$5:$AD$24,INT($AF27/2)+1,MOD(COLUMNS($BU$3:DA$3),2)+1))","v":-2.2252093395631385},{"$f":"IF(OR(MOD($AF27,2)=0,INDEX(relationships,INT($AF27/2)+1,DB$3)<>2),INDEX($AC$5:$AD$24,DB$3,MOD(COLUMNS($BU$3:DB$3),2)+1),INDEX($AC$5:$AD$24,INT($AF27/2)+1,MOD(COLUMNS($BU$3:DB$3),2)+1))","v":4.3388373911755869},{"$f":"IF(OR(MOD($AF27,2)=0,INDEX(relationships,INT($AF27/2)+1,DC$3)<>2),INDEX($AC$5:$AD$24,DC$3,MOD(COLUMNS($BU$3:DC$3),2)+1),INDEX($AC$5:$AD$24,INT($AF27/2)+1,MOD(COLUMNS($BU$3:DC$3),2)+1))","v":-9.0096886790241886},{"$f":"IF(OR(MOD($AF27,2)=0,INDEX(relationships,INT($AF27/2)+1,DD$3)<>2),INDEX($AC$5:$AD$24,DD$3,MOD(COLUMNS($BU$3:DD$3),2)+1),INDEX($AC$5:$AD$24,INT($AF27/2)+1,MOD(COLUMNS($BU$3:DD$3),2)+1))","v":-4.3388373911755753},{"$f":"IF(OR(MOD($AF27,2)=0,INDEX(relationships,INT($AF27/2)+1,DE$3)<>2),INDEX($AC$5:$AD$24,DE$3,MOD(COLUMNS($BU$3:DE$3),2)+1),INDEX($AC$5:$AD$24,INT($AF27/2)+1,MOD(COLUMNS($BU$3:DE$3),2)+1))","v":-9.0096886790241939},{"$f":"IF(OR(MOD($AF27,2)=0,INDEX(relationships,INT($AF27/2)+1,DF$3)<>2),INDEX($AC$5:$AD$24,DF$3,MOD(COLUMNS($BU$3:DF$3),2)+1),INDEX($AC$5:$AD$24,INT($AF27/2)+1,MOD(COLUMNS($BU$3:DF$3),2)+1))","v":-9.7492791218182351},{"$f":"IF(OR(MOD($AF27,2)=0,INDEX(relationships,INT($AF27/2)+1,DG$3)<>2),INDEX($AC$5:$AD$24,DG$3,MOD(COLUMNS($BU$3:DG$3),2)+1),INDEX($AC$5:$AD$24,INT($AF27/2)+1,MOD(COLUMNS($BU$3:DG$3),2)+1))","v":-2.2252093395631505},{"$f":"IF(OR(MOD($AF27,2)=0,INDEX(relationships,INT($AF27/2)+1,DH$3)<>2),INDEX($AC$5:$AD$24,DH$3,MOD(COLUMNS($BU$3:DH$3),2)+1),INDEX($AC$5:$AD$24,INT($AF27/2)+1,MOD(COLUMNS($BU$3:DH$3),2)+1))","v":-7.8183148246803027},{"$f":"IF(OR(MOD($AF27,2)=0,INDEX(relationships,INT($AF27/2)+1,DI$3)<>2),INDEX($AC$5:$AD$24,DI$3,MOD(COLUMNS($BU$3:DI$3),2)+1),INDEX($AC$5:$AD$24,INT($AF27/2)+1,MOD(COLUMNS($BU$3:DI$3),2)+1))","v":6.2348980185873293},null,-2.45029690981724E-15,10,-2.45029690981724E-15,10]
[null,{"$f":"B4","v":"Stakeholders"},{"$f":"C4","v":"Friends"},"Parents","Siblings","Grandparents","Sports clubs","Social media group chats","Colleagues ",0,0,0,0,0,0,0,0,0,0,0,0,0,null,"Relationships array ",null,null,null,null,null,null,null,23,{"$f":"IF(OR(MOD($AF28,2)=0,INDEX(relationships,INT($AF28/2)+1,AG$3)<>1),INDEX($AC$5:$AD$24,AG$3,MOD(COLUMNS($AF$3:AG$3),2)+1),INDEX($AC$5:$AD$24,INT($AF28/2)+1,MOD(COLUMNS($AF$3:AG$3),2)+1))","v":7.8183148246802983},{"$f":"IF(OR(MOD($AF28,2)=0,INDEX(relationships,INT($AF28/2)+1,AH$3)<>1),INDEX($AC$5:$AD$24,AH$3,MOD(COLUMNS($AF$3:AH$3),2)+1),INDEX($AC$5:$AD$24,INT($AF28/2)+1,MOD(COLUMNS($AF$3:AH$3),2)+1))","v":6.2348980185873355},{"$f":"IF(OR(MOD($AF28,2)=0,INDEX(relationships,INT($AF28/2)+1,AI$3)<>1),INDEX($AC$5:$AD$24,AI$3,MOD(COLUMNS($AF$3:AI$3),2)+1),INDEX($AC$5:$AD$24,INT($AF28/2)+1,MOD(COLUMNS($AF$3:AI$3),2)+1))","v":9.7492791218182369},{"$f":"IF(OR(MOD($AF28,2)=0,INDEX(relationships,INT($AF28/2)+1,AJ$3)<>1),INDEX($AC$5:$AD$24,AJ$3,MOD(COLUMNS($AF$3:AJ$3),2)+1),INDEX($AC$5:$AD$24,INT($AF28/2)+1,MOD(COLUMNS($AF$3:AJ$3),2)+1))","v":-2.2252093395631434},{"$f":"IF(OR(MOD($AF28,2)=0,INDEX(relationships,INT($AF28/2)+1,AK$3)<>1),INDEX($AC$5:$AD$24,AK$3,MOD(COLUMNS($AF$3:AK$3),2)+1),INDEX($AC$5:$AD$24,INT($AF28/2)+1,MOD(COLUMNS($AF$3:AK$3),2)+1))","v":4.3388373911755824},{"$f":"IF(OR(MOD($AF28,2)=0,INDEX(relationships,INT($AF28/2)+1,AL$3)<>1),INDEX($AC$5:$AD$24,AL$3,MOD(COLUMNS($AF$3:AL$3),2)+1),INDEX($AC$5:$AD$24,INT($AF28/2)+1,MOD(COLUMNS($AF$3:AL$3),2)+1))","v":-9.0096886790241903},{"$f":"IF(OR(MOD($AF28,2)=0,INDEX(relationships,INT($AF28/2)+1,AM$3)<>1),INDEX($AC$5:$AD$24,AM$3,MOD(COLUMNS($AF$3:AM$3),2)+1),INDEX($AC$5:$AD$24,INT($AF28/2)+1,MOD(COLUMNS($AF$3:AM$3),2)+1))","v":-4.3388373911755798},{"$f":"IF(OR(MOD($AF28,2)=0,INDEX(relationships,INT($AF28/2)+1,AN$3)<>1),INDEX($AC$5:$AD$24,AN$3,MOD(COLUMNS($AF$3:AN$3),2)+1),INDEX($AC$5:$AD$24,INT($AF28/2)+1,MOD(COLUMNS($AF$3:AN$3),2)+1))","v":-9.0096886790241921},{"$f":"IF(OR(MOD($AF28,2)=0,INDEX(relationships,INT($AF28/2)+1,AO$3)<>1),INDEX($AC$5:$AD$24,AO$3,MOD(COLUMNS($AF$3:AO$3),2)+1),INDEX($AC$5:$AD$24,INT($AF28/2)+1,MOD(COLUMNS($AF$3:AO$3),2)+1))","v":-9.7492791218182369},{"$f":"IF(OR(MOD($AF28,2)=0,INDEX(relationships,INT($AF28/2)+1,AP$3)<>1),INDEX($AC$5:$AD$24,AP$3,MOD(COLUMNS($AF$3:AP$3),2)+1),INDEX($AC$5:$AD$24,INT($AF28/2)+1,MOD(COLUMNS($AF$3:AP$3),2)+1))","v":-2.225209339563146},{"$f":"IF(OR(MOD($AF28,2)=0,INDEX(relationships,INT($AF28/2)+1,AQ$3)<>1),INDEX($AC$5:$AD$24,AQ$3,MOD(COLUMNS($AF$3:AQ$3),2)+1),INDEX($AC$5:$AD$24,INT($AF28/2)+1,MOD(COLUMNS($AF$3:AQ$3),2)+1))","v":-7.8183148246802991},{"$f":"IF(OR(MOD($AF28,2)=0,INDEX(relationships,INT($AF28/2)+1,AR$3)<>1),INDEX($AC$5:$AD$24,AR$3,MOD(COLUMNS($AF$3:AR$3),2)+1),INDEX($AC$5:$AD$24,INT($AF28/2)+1,MOD(COLUMNS($AF$3:AR$3),2)+1))","v":6.2348980185873337},{"$f":"IF(OR(MOD($AF28,2)=0,INDEX(relationships,INT($AF28/2)+1,AS$3)<>1),INDEX($AC$5:$AD$24,AS$3,MOD(COLUMNS($AF$3:AS$3),2)+1),INDEX($AC$5:$AD$24,INT($AF28/2)+1,MOD(COLUMNS($AF$3:AS$3),2)+1))","v":-2.45029690981724E-15},{"$f":"IF(OR(MOD($AF28,2)=0,INDEX(relationships,INT($AF28/2)+1,AT$3)<>1),INDEX($AC$5:$AD$24,AT$3,MOD(COLUMNS($AF$3:AT$3),2)+1),INDEX($AC$5:$AD$24,INT($AF28/2)+1,MOD(COLUMNS($AF$3:AT$3),2)+1))","v":10},{"$f":"IF(OR(MOD($AF28,2)=0,INDEX(relationships,INT($AF28/2)+1,AU$3)<>1),INDEX($AC$5:$AD$24,AU$3,MOD(COLUMNS($AF$3:AU$3),2)+1),INDEX($AC$5:$AD$24,INT($AF28/2)+1,MOD(COLUMNS($AF$3:AU$3),2)+1))","v":7.8183148246802956},{"$f":"IF(OR(MOD($AF28,2)=0,INDEX(relationships,INT($AF28/2)+1,AV$3)<>1),INDEX($AC$5:$AD$24,AV$3,MOD(COLUMNS($AF$3:AV$3),2)+1),INDEX($AC$5:$AD$24,INT($AF28/2)+1,MOD(COLUMNS($AF$3:AV$3),2)+1))","v":6.2348980185873373},{"$f":"IF(OR(MOD($AF28,2)=0,INDEX(relationships,INT($AF28/2)+1,AW$3)<>1),INDEX($AC$5:$AD$24,AW$3,MOD(COLUMNS($AF$3:AW$3),2)+1),INDEX($AC$5:$AD$24,INT($AF28/2)+1,MOD(COLUMNS($AF$3:AW$3),2)+1))","v":9.7492791218182369},{"$f":"IF(OR(MOD($AF28,2)=0,INDEX(relationships,INT($AF28/2)+1,AX$3)<>1),INDEX($AC$5:$AD$24,AX$3,MOD(COLUMNS($AF$3:AX$3),2)+1),INDEX($AC$5:$AD$24,INT($AF28/2)+1,MOD(COLUMNS($AF$3:AX$3),2)+1))","v":-2.2252093395631407},{"$f":"IF(OR(MOD($AF28,2)=0,INDEX(relationships,INT($AF28/2)+1,AY$3)<>1),INDEX($AC$5:$AD$24,AY$3,MOD(COLUMNS($AF$3:AY$3),2)+1),INDEX($AC$5:$AD$24,INT($AF28/2)+1,MOD(COLUMNS($AF$3:AY$3),2)+1))","v":4.3388373911755842},{"$f":"IF(OR(MOD($AF28,2)=0,INDEX(relationships,INT($AF28/2)+1,AZ$3)<>1),INDEX($AC$5:$AD$24,AZ$3,MOD(COLUMNS($AF$3:AZ$3),2)+1),INDEX($AC$5:$AD$24,INT($AF28/2)+1,MOD(COLUMNS($AF$3:AZ$3),2)+1))","v":-9.0096886790241886},{"$f":"IF(OR(MOD($AF28,2)=0,INDEX(relationships,INT($AF28/2)+1,BA$3)<>1),INDEX($AC$5:$AD$24,BA$3,MOD(COLUMNS($AF$3:BA$3),2)+1),INDEX($AC$5:$AD$24,INT($AF28/2)+1,MOD(COLUMNS($AF$3:BA$3),2)+1))","v":-4.338837391175578},{"$f":"IF(OR(MOD($AF28,2)=0,INDEX(relationships,INT($AF28/2)+1,BB$3)<>1),INDEX($AC$5:$AD$24,BB$3,MOD(COLUMNS($AF$3:BB$3),2)+1),INDEX($AC$5:$AD$24,INT($AF28/2)+1,MOD(COLUMNS($AF$3:BB$3),2)+1))","v":-9.0096886790241921},{"$f":"IF(OR(MOD($AF28,2)=0,INDEX(relationships,INT($AF28/2)+1,BC$3)<>1),INDEX($AC$5:$AD$24,BC$3,MOD(COLUMNS($AF$3:BC$3),2)+1),INDEX($AC$5:$AD$24,INT($AF28/2)+1,MOD(COLUMNS($AF$3:BC$3),2)+1))","v":-9.7492791218182351},{"$f":"IF(OR(MOD($AF28,2)=0,INDEX(relationships,INT($AF28/2)+1,BD$3)<>1),INDEX($AC$5:$AD$24,BD$3,MOD(COLUMNS($AF$3:BD$3),2)+1),INDEX($AC$5:$AD$24,INT($AF28/2)+1,MOD(COLUMNS($AF$3:BD$3),2)+1))","v":-2.2252093395631483},{"$f":"IF(OR(MOD($AF28,2)=0,INDEX(relationships,INT($AF28/2)+1,BE$3)<>1),INDEX($AC$5:$AD$24,BE$3,MOD(COLUMNS($AF$3:BE$3),2)+1),INDEX($AC$5:$AD$24,INT($AF28/2)+1,MOD(COLUMNS($AF$3:BE$3),2)+1))","v":-7.8183148246803018},{"$f":"IF(OR(MOD($AF28,2)=0,INDEX(relationships,INT($AF28/2)+1,BF$3)<>1),INDEX($AC$5:$AD$24,BF$3,MOD(COLUMNS($AF$3:BF$3),2)+1),INDEX($AC$5:$AD$24,INT($AF28/2)+1,MOD(COLUMNS($AF$3:BF$3),2)+1))","v":6.2348980185873319},{"$f":"IF(OR(MOD($AF28,2)=0,INDEX(relationships,INT($AF28/2)+1,BG$3)<>1),INDEX($AC$5:$AD$24,BG$3,MOD(COLUMNS($AF$3:BG$3),2)+1),INDEX($AC$5:$AD$24,INT($AF28/2)+1,MOD(COLUMNS($AF$3:BG$3),2)+1))","v":-4.90059381963448E-15},{"$f":"IF(OR(MOD($AF28,2)=0,INDEX(relationships,INT($AF28/2)+1,BH$3)<>1),INDEX($AC$5:$AD$24,BH$3,MOD(COLUMNS($AF$3:BH$3),2)+1),INDEX($AC$5:$AD$24,INT($AF28/2)+1,MOD(COLUMNS($AF$3:BH$3),2)+1))","v":10},{"$f":"IF(OR(MOD($AF28,2)=0,INDEX(relationships,INT($AF28/2)+1,BI$3)<>1),INDEX($AC$5:$AD$24,BI$3,MOD(COLUMNS($AF$3:BI$3),2)+1),INDEX($AC$5:$AD$24,INT($AF28/2)+1,MOD(COLUMNS($AF$3:BI$3),2)+1))","v":7.8183148246802947},{"$f":"IF(OR(MOD($AF28,2)=0,INDEX(relationships,INT($AF28/2)+1,BJ$3)<>1),INDEX($AC$5:$AD$24,BJ$3,MOD(COLUMNS($AF$3:BJ$3),2)+1),INDEX($AC$5:$AD$24,INT($AF28/2)+1,MOD(COLUMNS($AF$3:BJ$3),2)+1))","v":6.2348980185873391},{"$f":"IF(OR(MOD($AF28,2)=0,INDEX(relationships,INT($AF28/2)+1,BK$3)<>1),INDEX($AC$5:$AD$24,BK$3,MOD(COLUMNS($AF$3:BK$3),2)+1),INDEX($AC$5:$AD$24,INT($AF28/2)+1,MOD(COLUMNS($AF$3:BK$3),2)+1))","v":9.7492791218182369},{"$f":"IF(OR(MOD($AF28,2)=0,INDEX(relationships,INT($AF28/2)+1,BL$3)<>1),INDEX($AC$5:$AD$24,BL$3,MOD(COLUMNS($AF$3:BL$3),2)+1),INDEX($AC$5:$AD$24,INT($AF28/2)+1,MOD(COLUMNS($AF$3:BL$3),2)+1))","v":-2.2252093395631385},{"$f":"IF(OR(MOD($AF28,2)=0,INDEX(relationships,INT($AF28/2)+1,BM$3)<>1),INDEX($AC$5:$AD$24,BM$3,MOD(COLUMNS($AF$3:BM$3),2)+1),INDEX($AC$5:$AD$24,INT($AF28/2)+1,MOD(COLUMNS($AF$3:BM$3),2)+1))","v":4.3388373911755869},{"$f":"IF(OR(MOD($AF28,2)=0,INDEX(relationships,INT($AF28/2)+1,BN$3)<>1),INDEX($AC$5:$AD$24,BN$3,MOD(COLUMNS($AF$3:BN$3),2)+1),INDEX($AC$5:$AD$24,INT($AF28/2)+1,MOD(COLUMNS($AF$3:BN$3),2)+1))","v":-9.0096886790241886},{"$f":"IF(OR(MOD($AF28,2)=0,INDEX(relationships,INT($AF28/2)+1,BO$3)<>1),INDEX($AC$5:$AD$24,BO$3,MOD(COLUMNS($AF$3:BO$3),2)+1),INDEX($AC$5:$AD$24,INT($AF28/2)+1,MOD(COLUMNS($AF$3:BO$3),2)+1))","v":-4.3388373911755753},{"$f":"IF(OR(MOD($AF28,2)=0,INDEX(relationships,INT($AF28/2)+1,BP$3)<>1),INDEX($AC$5:$AD$24,BP$3,MOD(COLUMNS($AF$3:BP$3),2)+1),INDEX($AC$5:$AD$24,INT($AF28/2)+1,MOD(COLUMNS($AF$3:BP$3),2)+1))","v":-9.0096886790241939},{"$f":"IF(OR(MOD($AF28,2)=0,INDEX(relationships,INT($AF28/2)+1,BQ$3)<>1),INDEX($AC$5:$AD$24,BQ$3,MOD(COLUMNS($AF$3:BQ$3),2)+1),INDEX($AC$5:$AD$24,INT($AF28/2)+1,MOD(COLUMNS($AF$3:BQ$3),2)+1))","v":-9.7492791218182351},{"$f":"IF(OR(MOD($AF28,2)=0,INDEX(relationships,INT($AF28/2)+1,BR$3)<>1),INDEX($AC$5:$AD$24,BR$3,MOD(COLUMNS($AF$3:BR$3),2)+1),INDEX($AC$5:$AD$24,INT($AF28/2)+1,MOD(COLUMNS($AF$3:BR$3),2)+1))","v":-2.2252093395631505},{"$f":"IF(OR(MOD($AF28,2)=0,INDEX(relationships,INT($AF28/2)+1,BS$3)<>1),INDEX($AC$5:$AD$24,BS$3,MOD(COLUMNS($AF$3:BS$3),2)+1),INDEX($AC$5:$AD$24,INT($AF28/2)+1,MOD(COLUMNS($AF$3:BS$3),2)+1))","v":-7.8183148246803027},{"$f":"IF(OR(MOD($AF28,2)=0,INDEX(relationships,INT($AF28/2)+1,BT$3)<>1),INDEX($AC$5:$AD$24,BT$3,MOD(COLUMNS($AF$3:BT$3),2)+1),INDEX($AC$5:$AD$24,INT($AF28/2)+1,MOD(COLUMNS($AF$3:BT$3),2)+1))","v":6.2348980185873293},null,{"$f":"IF(OR(MOD($AF28,2)=0,INDEX(relationships,INT($AF28/2)+1,BV$3)<>2),INDEX($AC$5:$AD$24,BV$3,MOD(COLUMNS($BU$3:BV$3),2)+1),INDEX($AC$5:$AD$24,INT($AF28/2)+1,MOD(COLUMNS($BU$3:BV$3),2)+1))","v":7.8183148246802983},{"$f":"IF(OR(MOD($AF28,2)=0,INDEX(relationships,INT($AF28/2)+1,BW$3)<>2),INDEX($AC$5:$AD$24,BW$3,MOD(COLUMNS($BU$3:BW$3),2)+1),INDEX($AC$5:$AD$24,INT($AF28/2)+1,MOD(COLUMNS($BU$3:BW$3),2)+1))","v":6.2348980185873355},{"$f":"IF(OR(MOD($AF28,2)=0,INDEX(relationships,INT($AF28/2)+1,BX$3)<>2),INDEX($AC$5:$AD$24,BX$3,MOD(COLUMNS($BU$3:BX$3),2)+1),INDEX($AC$5:$AD$24,INT($AF28/2)+1,MOD(COLUMNS($BU$3:BX$3),2)+1))","v":9.7492791218182369},{"$f":"IF(OR(MOD($AF28,2)=0,INDEX(relationships,INT($AF28/2)+1,BY$3)<>2),INDEX($AC$5:$AD$24,BY$3,MOD(COLUMNS($BU$3:BY$3),2)+1),INDEX($AC$5:$AD$24,INT($AF28/2)+1,MOD(COLUMNS($BU$3:BY$3),2)+1))","v":-2.2252093395631434},{"$f":"IF(OR(MOD($AF28,2)=0,INDEX(relationships,INT($AF28/2)+1,BZ$3)<>2),INDEX($AC$5:$AD$24,BZ$3,MOD(COLUMNS($BU$3:BZ$3),2)+1),INDEX($AC$5:$AD$24,INT($AF28/2)+1,MOD(COLUMNS($BU$3:BZ$3),2)+1))","v":4.3388373911755824},{"$f":"IF(OR(MOD($AF28,2)=0,INDEX(relationships,INT($AF28/2)+1,CA$3)<>2),INDEX($AC$5:$AD$24,CA$3,MOD(COLUMNS($BU$3:CA$3),2)+1),INDEX($AC$5:$AD$24,INT($AF28/2)+1,MOD(COLUMNS($BU$3:CA$3),2)+1))","v":-9.0096886790241903},{"$f":"IF(OR(MOD($AF28,2)=0,INDEX(relationships,INT($AF28/2)+1,CB$3)<>2),INDEX($AC$5:$AD$24,CB$3,MOD(COLUMNS($BU$3:CB$3),2)+1),INDEX($AC$5:$AD$24,INT($AF28/2)+1,MOD(COLUMNS($BU$3:CB$3),2)+1))","v":-4.3388373911755798},{"$f":"IF(OR(MOD($AF28,2)=0,INDEX(relationships,INT($AF28/2)+1,CC$3)<>2),INDEX($AC$5:$AD$24,CC$3,MOD(COLUMNS($BU$3:CC$3),2)+1),INDEX($AC$5:$AD$24,INT($AF28/2)+1,MOD(COLUMNS($BU$3:CC$3),2)+1))","v":-9.0096886790241921},{"$f":"IF(OR(MOD($AF28,2)=0,INDEX(relationships,INT($AF28/2)+1,CD$3)<>2),INDEX($AC$5:$AD$24,CD$3,MOD(COLUMNS($BU$3:CD$3),2)+1),INDEX($AC$5:$AD$24,INT($AF28/2)+1,MOD(COLUMNS($BU$3:CD$3),2)+1))","v":-9.7492791218182369},{"$f":"IF(OR(MOD($AF28,2)=0,INDEX(relationships,INT($AF28/2)+1,CE$3)<>2),INDEX($AC$5:$AD$24,CE$3,MOD(COLUMNS($BU$3:CE$3),2)+1),INDEX($AC$5:$AD$24,INT($AF28/2)+1,MOD(COLUMNS($BU$3:CE$3),2)+1))","v":-2.225209339563146},{"$f":"IF(OR(MOD($AF28,2)=0,INDEX(relationships,INT($AF28/2)+1,CF$3)<>2),INDEX($AC$5:$AD$24,CF$3,MOD(COLUMNS($BU$3:CF$3),2)+1),INDEX($AC$5:$AD$24,INT($AF28/2)+1,MOD(COLUMNS($BU$3:CF$3),2)+1))","v":-7.8183148246802991},{"$f":"IF(OR(MOD($AF28,2)=0,INDEX(relationships,INT($AF28/2)+1,CG$3)<>2),INDEX($AC$5:$AD$24,CG$3,MOD(COLUMNS($BU$3:CG$3),2)+1),INDEX($AC$5:$AD$24,INT($AF28/2)+1,MOD(COLUMNS($BU$3:CG$3),2)+1))","v":6.2348980185873337},{"$f":"IF(OR(MOD($AF28,2)=0,INDEX(relationships,INT($AF28/2)+1,CH$3)<>2),INDEX($AC$5:$AD$24,CH$3,MOD(COLUMNS($BU$3:CH$3),2)+1),INDEX($AC$5:$AD$24,INT($AF28/2)+1,MOD(COLUMNS($BU$3:CH$3),2)+1))","v":-2.45029690981724E-15},{"$f":"IF(OR(MOD($AF28,2)=0,INDEX(relationships,INT($AF28/2)+1,CI$3)<>2),INDEX($AC$5:$AD$24,CI$3,MOD(COLUMNS($BU$3:CI$3),2)+1),INDEX($AC$5:$AD$24,INT($AF28/2)+1,MOD(COLUMNS($BU$3:CI$3),2)+1))","v":10},{"$f":"IF(OR(MOD($AF28,2)=0,INDEX(relationships,INT($AF28/2)+1,CJ$3)<>2),INDEX($AC$5:$AD$24,CJ$3,MOD(COLUMNS($BU$3:CJ$3),2)+1),INDEX($AC$5:$AD$24,INT($AF28/2)+1,MOD(COLUMNS($BU$3:CJ$3),2)+1))","v":7.8183148246802956},{"$f":"IF(OR(MOD($AF28,2)=0,INDEX(relationships,INT($AF28/2)+1,CK$3)<>2),INDEX($AC$5:$AD$24,CK$3,MOD(COLUMNS($BU$3:CK$3),2)+1),INDEX($AC$5:$AD$24,INT($AF28/2)+1,MOD(COLUMNS($BU$3:CK$3),2)+1))","v":6.2348980185873373},{"$f":"IF(OR(MOD($AF28,2)=0,INDEX(relationships,INT($AF28/2)+1,CL$3)<>2),INDEX($AC$5:$AD$24,CL$3,MOD(COLUMNS($BU$3:CL$3),2)+1),INDEX($AC$5:$AD$24,INT($AF28/2)+1,MOD(COLUMNS($BU$3:CL$3),2)+1))","v":9.7492791218182369},{"$f":"IF(OR(MOD($AF28,2)=0,INDEX(relationships,INT($AF28/2)+1,CM$3)<>2),INDEX($AC$5:$AD$24,CM$3,MOD(COLUMNS($BU$3:CM$3),2)+1),INDEX($AC$5:$AD$24,INT($AF28/2)+1,MOD(COLUMNS($BU$3:CM$3),2)+1))","v":-2.2252093395631407},{"$f":"IF(OR(MOD($AF28,2)=0,INDEX(relationships,INT($AF28/2)+1,CN$3)<>2),INDEX($AC$5:$AD$24,CN$3,MOD(COLUMNS($BU$3:CN$3),2)+1),INDEX($AC$5:$AD$24,INT($AF28/2)+1,MOD(COLUMNS($BU$3:CN$3),2)+1))","v":4.3388373911755842},{"$f":"IF(OR(MOD($AF28,2)=0,INDEX(relationships,INT($AF28/2)+1,CO$3)<>2),INDEX($AC$5:$AD$24,CO$3,MOD(COLUMNS($BU$3:CO$3),2)+1),INDEX($AC$5:$AD$24,INT($AF28/2)+1,MOD(COLUMNS($BU$3:CO$3),2)+1))","v":-9.0096886790241886},{"$f":"IF(OR(MOD($AF28,2)=0,INDEX(relationships,INT($AF28/2)+1,CP$3)<>2),INDEX($AC$5:$AD$24,CP$3,MOD(COLUMNS($BU$3:CP$3),2)+1),INDEX($AC$5:$AD$24,INT($AF28/2)+1,MOD(COLUMNS($BU$3:CP$3),2)+1))","v":-4.338837391175578},{"$f":"IF(OR(MOD($AF28,2)=0,INDEX(relationships,INT($AF28/2)+1,CQ$3)<>2),INDEX($AC$5:$AD$24,CQ$3,MOD(COLUMNS($BU$3:CQ$3),2)+1),INDEX($AC$5:$AD$24,INT($AF28/2)+1,MOD(COLUMNS($BU$3:CQ$3),2)+1))","v":-9.0096886790241921},{"$f":"IF(OR(MOD($AF28,2)=0,INDEX(relationships,INT($AF28/2)+1,CR$3)<>2),INDEX($AC$5:$AD$24,CR$3,MOD(COLUMNS($BU$3:CR$3),2)+1),INDEX($AC$5:$AD$24,INT($AF28/2)+1,MOD(COLUMNS($BU$3:CR$3),2)+1))","v":-9.7492791218182351},{"$f":"IF(OR(MOD($AF28,2)=0,INDEX(relationships,INT($AF28/2)+1,CS$3)<>2),INDEX($AC$5:$AD$24,CS$3,MOD(COLUMNS($BU$3:CS$3),2)+1),INDEX($AC$5:$AD$24,INT($AF28/2)+1,MOD(COLUMNS($BU$3:CS$3),2)+1))","v":-2.2252093395631483},{"$f":"IF(OR(MOD($AF28,2)=0,INDEX(relationships,INT($AF28/2)+1,CT$3)<>2),INDEX($AC$5:$AD$24,CT$3,MOD(COLUMNS($BU$3:CT$3),2)+1),INDEX($AC$5:$AD$24,INT($AF28/2)+1,MOD(COLUMNS($BU$3:CT$3),2)+1))","v":-7.8183148246803018},{"$f":"IF(OR(MOD($AF28,2)=0,INDEX(relationships,INT($AF28/2)+1,CU$3)<>2),INDEX($AC$5:$AD$24,CU$3,MOD(COLUMNS($BU$3:CU$3),2)+1),INDEX($AC$5:$AD$24,INT($AF28/2)+1,MOD(COLUMNS($BU$3:CU$3),2)+1))","v":6.2348980185873319},{"$f":"IF(OR(MOD($AF28,2)=0,INDEX(relationships,INT($AF28/2)+1,CV$3)<>2),INDEX($AC$5:$AD$24,CV$3,MOD(COLUMNS($BU$3:CV$3),2)+1),INDEX($AC$5:$AD$24,INT($AF28/2)+1,MOD(COLUMNS($BU$3:CV$3),2)+1))","v":-4.90059381963448E-15},{"$f":"IF(OR(MOD($AF28,2)=0,INDEX(relationships,INT($AF28/2)+1,CW$3)<>2),INDEX($AC$5:$AD$24,CW$3,MOD(COLUMNS($BU$3:CW$3),2)+1),INDEX($AC$5:$AD$24,INT($AF28/2)+1,MOD(COLUMNS($BU$3:CW$3),2)+1))","v":10},{"$f":"IF(OR(MOD($AF28,2)=0,INDEX(relationships,INT($AF28/2)+1,CX$3)<>2),INDEX($AC$5:$AD$24,CX$3,MOD(COLUMNS($BU$3:CX$3),2)+1),INDEX($AC$5:$AD$24,INT($AF28/2)+1,MOD(COLUMNS($BU$3:CX$3),2)+1))","v":7.8183148246802947},{"$f":"IF(OR(MOD($AF28,2)=0,INDEX(relationships,INT($AF28/2)+1,CY$3)<>2),INDEX($AC$5:$AD$24,CY$3,MOD(COLUMNS($BU$3:CY$3),2)+1),INDEX($AC$5:$AD$24,INT($AF28/2)+1,MOD(COLUMNS($BU$3:CY$3),2)+1))","v":6.2348980185873391},{"$f":"IF(OR(MOD($AF28,2)=0,INDEX(relationships,INT($AF28/2)+1,CZ$3)<>2),INDEX($AC$5:$AD$24,CZ$3,MOD(COLUMNS($BU$3:CZ$3),2)+1),INDEX($AC$5:$AD$24,INT($AF28/2)+1,MOD(COLUMNS($BU$3:CZ$3),2)+1))","v":9.7492791218182369},{"$f":"IF(OR(MOD($AF28,2)=0,INDEX(relationships,INT($AF28/2)+1,DA$3)<>2),INDEX($AC$5:$AD$24,DA$3,MOD(COLUMNS($BU$3:DA$3),2)+1),INDEX($AC$5:$AD$24,INT($AF28/2)+1,MOD(COLUMNS($BU$3:DA$3),2)+1))","v":-2.2252093395631385},{"$f":"IF(OR(MOD($AF28,2)=0,INDEX(relationships,INT($AF28/2)+1,DB$3)<>2),INDEX($AC$5:$AD$24,DB$3,MOD(COLUMNS($BU$3:DB$3),2)+1),INDEX($AC$5:$AD$24,INT($AF28/2)+1,MOD(COLUMNS($BU$3:DB$3),2)+1))","v":4.3388373911755869},{"$f":"IF(OR(MOD($AF28,2)=0,INDEX(relationships,INT($AF28/2)+1,DC$3)<>2),INDEX($AC$5:$AD$24,DC$3,MOD(COLUMNS($BU$3:DC$3),2)+1),INDEX($AC$5:$AD$24,INT($AF28/2)+1,MOD(COLUMNS($BU$3:DC$3),2)+1))","v":-9.0096886790241886},{"$f":"IF(OR(MOD($AF28,2)=0,INDEX(relationships,INT($AF28/2)+1,DD$3)<>2),INDEX($AC$5:$AD$24,DD$3,MOD(COLUMNS($BU$3:DD$3),2)+1),INDEX($AC$5:$AD$24,INT($AF28/2)+1,MOD(COLUMNS($BU$3:DD$3),2)+1))","v":-4.3388373911755753},{"$f":"IF(OR(MOD($AF28,2)=0,INDEX(relationships,INT($AF28/2)+1,DE$3)<>2),INDEX($AC$5:$AD$24,DE$3,MOD(COLUMNS($BU$3:DE$3),2)+1),INDEX($AC$5:$AD$24,INT($AF28/2)+1,MOD(COLUMNS($BU$3:DE$3),2)+1))","v":-9.0096886790241939},{"$f":"IF(OR(MOD($AF28,2)=0,INDEX(relationships,INT($AF28/2)+1,DF$3)<>2),INDEX($AC$5:$AD$24,DF$3,MOD(COLUMNS($BU$3:DF$3),2)+1),INDEX($AC$5:$AD$24,INT($AF28/2)+1,MOD(COLUMNS($BU$3:DF$3),2)+1))","v":-9.7492791218182351},{"$f":"IF(OR(MOD($AF28,2)=0,INDEX(relationships,INT($AF28/2)+1,DG$3)<>2),INDEX($AC$5:$AD$24,DG$3,MOD(COLUMNS($BU$3:DG$3),2)+1),INDEX($AC$5:$AD$24,INT($AF28/2)+1,MOD(COLUMNS($BU$3:DG$3),2)+1))","v":-2.2252093395631505},{"$f":"IF(OR(MOD($AF28,2)=0,INDEX(relationships,INT($AF28/2)+1,DH$3)<>2),INDEX($AC$5:$AD$24,DH$3,MOD(COLUMNS($BU$3:DH$3),2)+1),INDEX($AC$5:$AD$24,INT($AF28/2)+1,MOD(COLUMNS($BU$3:DH$3),2)+1))","v":-7.8183148246803027},{"$f":"IF(OR(MOD($AF28,2)=0,INDEX(relationships,INT($AF28/2)+1,DI$3)<>2),INDEX($AC$5:$AD$24,DI$3,MOD(COLUMNS($BU$3:DI$3),2)+1),INDEX($AC$5:$AD$24,INT($AF28/2)+1,MOD(COLUMNS($BU$3:DI$3),2)+1))","v":6.2348980185873293},null,-2.45029690981724E-15,10,-2.45029690981724E-15,10]
[null,{"$f":"B5","v":"Friends"},{"$f":"MAX(C5,INDEX(rawData,COLUMNS($C$28:C$28),ROWS($B$29:$B29)))","v":0},{"$f":"MAX(D5,INDEX(rawData,COLUMNS($C$28:D$28),ROWS($B$29:$B29)))","v":2},{"$f":"MAX(E5,INDEX(rawData,COLUMNS($C$28:E$28),ROWS($B$29:$B29)))","v":2},{"$f":"MAX(F5,INDEX(rawData,COLUMNS($C$28:F$28),ROWS($B$29:$B29)))","v":0},{"$f":"MAX(G5,INDEX(rawData,COLUMNS($C$28:G$28),ROWS($B$29:$B29)))","v":0},{"$f":"MAX(H5,INDEX(rawData,COLUMNS($C$28:H$28),ROWS($B$29:$B29)))","v":1},{"$f":"MAX(I5,INDEX(rawData,COLUMNS($C$28:I$28),ROWS($B$29:$B29)))","v":0},{"$f":"MAX(J5,INDEX(rawData,COLUMNS($C$28:J$28),ROWS($B$29:$B29)))","v":0},{"$f":"MAX(K5,INDEX(rawData,COLUMNS($C$28:K$28),ROWS($B$29:$B29)))","v":0},{"$f":"MAX(L5,INDEX(rawData,COLUMNS($C$28:L$28),ROWS($B$29:$B29)))","v":0},{"$f":"MAX(M5,INDEX(rawData,COLUMNS($C$28:M$28),ROWS($B$29:$B29)))","v":0},{"$f":"MAX(N5,INDEX(rawData,COLUMNS($C$28:N$28),ROWS($B$29:$B29)))","v":0},{"$f":"MAX(O5,INDEX(rawData,COLUMNS($C$28:O$28),ROWS($B$29:$B29)))","v":0},{"$f":"MAX(P5,INDEX(rawData,COLUMNS($C$28:P$28),ROWS($B$29:$B29)))","v":0},{"$f":"MAX(Q5,INDEX(rawData,COLUMNS($C$28:Q$28),ROWS($B$29:$B29)))","v":0},{"$f":"MAX(R5,INDEX(rawData,COLUMNS($C$28:R$28),ROWS($B$29:$B29)))","v":0},{"$f":"MAX(S5,INDEX(rawData,COLUMNS($C$28:S$28),ROWS($B$29:$B29)))","v":0},{"$f":"MAX(T5,INDEX(rawData,COLUMNS($C$28:T$28),ROWS($B$29:$B29)))","v":0},{"$f":"MAX(U5,INDEX(rawData,COLUMNS($C$28:U$28),ROWS($B$29:$B29)))","v":0},{"$f":"MAX(V5,INDEX(rawData,COLUMNS($C$28:V$28),ROWS($B$29:$B29)))","v":0},null,null,null,null,null,null,null,null,null,24,{"$f":"IF(OR(MOD($AF29,2)=0,INDEX(relationships,INT($AF29/2)+1,AG$3)<>1),INDEX($AC$5:$AD$24,AG$3,MOD(COLUMNS($AF$3:AG$3),2)+1),INDEX($AC$5:$AD$24,INT($AF29/2)+1,MOD(COLUMNS($AF$3:AG$3),2)+1))","v":7.8183148246802983},{"$f":"IF(OR(MOD($AF29,2)=0,INDEX(relationships,INT($AF29/2)+1,AH$3)<>1),INDEX($AC$5:$AD$24,AH$3,MOD(COLUMNS($AF$3:AH$3),2)+1),INDEX($AC$5:$AD$24,INT($AF29/2)+1,MOD(COLUMNS($AF$3:AH$3),2)+1))","v":6.2348980185873355},{"$f":"IF(OR(MOD($AF29,2)=0,INDEX(relationships,INT($AF29/2)+1,AI$3)<>1),INDEX($AC$5:$AD$24,AI$3,MOD(COLUMNS($AF$3:AI$3),2)+1),INDEX($AC$5:$AD$24,INT($AF29/2)+1,MOD(COLUMNS($AF$3:AI$3),2)+1))","v":9.7492791218182369},{"$f":"IF(OR(MOD($AF29,2)=0,INDEX(relationships,INT($AF29/2)+1,AJ$3)<>1),INDEX($AC$5:$AD$24,AJ$3,MOD(COLUMNS($AF$3:AJ$3),2)+1),INDEX($AC$5:$AD$24,INT($AF29/2)+1,MOD(COLUMNS($AF$3:AJ$3),2)+1))","v":-2.2252093395631434},{"$f":"IF(OR(MOD($AF29,2)=0,INDEX(relationships,INT($AF29/2)+1,AK$3)<>1),INDEX($AC$5:$AD$24,AK$3,MOD(COLUMNS($AF$3:AK$3),2)+1),INDEX($AC$5:$AD$24,INT($AF29/2)+1,MOD(COLUMNS($AF$3:AK$3),2)+1))","v":4.3388373911755824},{"$f":"IF(OR(MOD($AF29,2)=0,INDEX(relationships,INT($AF29/2)+1,AL$3)<>1),INDEX($AC$5:$AD$24,AL$3,MOD(COLUMNS($AF$3:AL$3),2)+1),INDEX($AC$5:$AD$24,INT($AF29/2)+1,MOD(COLUMNS($AF$3:AL$3),2)+1))","v":-9.0096886790241903},{"$f":"IF(OR(MOD($AF29,2)=0,INDEX(relationships,INT($AF29/2)+1,AM$3)<>1),INDEX($AC$5:$AD$24,AM$3,MOD(COLUMNS($AF$3:AM$3),2)+1),INDEX($AC$5:$AD$24,INT($AF29/2)+1,MOD(COLUMNS($AF$3:AM$3),2)+1))","v":-4.3388373911755798},{"$f":"IF(OR(MOD($AF29,2)=0,INDEX(relationships,INT($AF29/2)+1,AN$3)<>1),INDEX($AC$5:$AD$24,AN$3,MOD(COLUMNS($AF$3:AN$3),2)+1),INDEX($AC$5:$AD$24,INT($AF29/2)+1,MOD(COLUMNS($AF$3:AN$3),2)+1))","v":-9.0096886790241921},{"$f":"IF(OR(MOD($AF29,2)=0,INDEX(relationships,INT($AF29/2)+1,AO$3)<>1),INDEX($AC$5:$AD$24,AO$3,MOD(COLUMNS($AF$3:AO$3),2)+1),INDEX($AC$5:$AD$24,INT($AF29/2)+1,MOD(COLUMNS($AF$3:AO$3),2)+1))","v":-9.7492791218182369},{"$f":"IF(OR(MOD($AF29,2)=0,INDEX(relationships,INT($AF29/2)+1,AP$3)<>1),INDEX($AC$5:$AD$24,AP$3,MOD(COLUMNS($AF$3:AP$3),2)+1),INDEX($AC$5:$AD$24,INT($AF29/2)+1,MOD(COLUMNS($AF$3:AP$3),2)+1))","v":-2.225209339563146},{"$f":"IF(OR(MOD($AF29,2)=0,INDEX(relationships,INT($AF29/2)+1,AQ$3)<>1),INDEX($AC$5:$AD$24,AQ$3,MOD(COLUMNS($AF$3:AQ$3),2)+1),INDEX($AC$5:$AD$24,INT($AF29/2)+1,MOD(COLUMNS($AF$3:AQ$3),2)+1))","v":-7.8183148246802991},{"$f":"IF(OR(MOD($AF29,2)=0,INDEX(relationships,INT($AF29/2)+1,AR$3)<>1),INDEX($AC$5:$AD$24,AR$3,MOD(COLUMNS($AF$3:AR$3),2)+1),INDEX($AC$5:$AD$24,INT($AF29/2)+1,MOD(COLUMNS($AF$3:AR$3),2)+1))","v":6.2348980185873337},{"$f":"IF(OR(MOD($AF29,2)=0,INDEX(relationships,INT($AF29/2)+1,AS$3)<>1),INDEX($AC$5:$AD$24,AS$3,MOD(COLUMNS($AF$3:AS$3),2)+1),INDEX($AC$5:$AD$24,INT($AF29/2)+1,MOD(COLUMNS($AF$3:AS$3),2)+1))","v":-2.45029690981724E-15},{"$f":"IF(OR(MOD($AF29,2)=0,INDEX(relationships,INT($AF29/2)+1,AT$3)<>1),INDEX($AC$5:$AD$24,AT$3,MOD(COLUMNS($AF$3:AT$3),2)+1),INDEX($AC$5:$AD$24,INT($AF29/2)+1,MOD(COLUMNS($AF$3:AT$3),2)+1))","v":10},{"$f":"IF(OR(MOD($AF29,2)=0,INDEX(relationships,INT($AF29/2)+1,AU$3)<>1),INDEX($AC$5:$AD$24,AU$3,MOD(COLUMNS($AF$3:AU$3),2)+1),INDEX($AC$5:$AD$24,INT($AF29/2)+1,MOD(COLUMNS($AF$3:AU$3),2)+1))","v":7.8183148246802956},{"$f":"IF(OR(MOD($AF29,2)=0,INDEX(relationships,INT($AF29/2)+1,AV$3)<>1),INDEX($AC$5:$AD$24,AV$3,MOD(COLUMNS($AF$3:AV$3),2)+1),INDEX($AC$5:$AD$24,INT($AF29/2)+1,MOD(COLUMNS($AF$3:AV$3),2)+1))","v":6.2348980185873373},{"$f":"IF(OR(MOD($AF29,2)=0,INDEX(relationships,INT($AF29/2)+1,AW$3)<>1),INDEX($AC$5:$AD$24,AW$3,MOD(COLUMNS($AF$3:AW$3),2)+1),INDEX($AC$5:$AD$24,INT($AF29/2)+1,MOD(COLUMNS($AF$3:AW$3),2)+1))","v":9.7492791218182369},{"$f":"IF(OR(MOD($AF29,2)=0,INDEX(relationships,INT($AF29/2)+1,AX$3)<>1),INDEX($AC$5:$AD$24,AX$3,MOD(COLUMNS($AF$3:AX$3),2)+1),INDEX($AC$5:$AD$24,INT($AF29/2)+1,MOD(COLUMNS($AF$3:AX$3),2)+1))","v":-2.2252093395631407},{"$f":"IF(OR(MOD($AF29,2)=0,INDEX(relationships,INT($AF29/2)+1,AY$3)<>1),INDEX($AC$5:$AD$24,AY$3,MOD(COLUMNS($AF$3:AY$3),2)+1),INDEX($AC$5:$AD$24,INT($AF29/2)+1,MOD(COLUMNS($AF$3:AY$3),2)+1))","v":4.3388373911755842},{"$f":"IF(OR(MOD($AF29,2)=0,INDEX(relationships,INT($AF29/2)+1,AZ$3)<>1),INDEX($AC$5:$AD$24,AZ$3,MOD(COLUMNS($AF$3:AZ$3),2)+1),INDEX($AC$5:$AD$24,INT($AF29/2)+1,MOD(COLUMNS($AF$3:AZ$3),2)+1))","v":-9.0096886790241886},{"$f":"IF(OR(MOD($AF29,2)=0,INDEX(relationships,INT($AF29/2)+1,BA$3)<>1),INDEX($AC$5:$AD$24,BA$3,MOD(COLUMNS($AF$3:BA$3),2)+1),INDEX($AC$5:$AD$24,INT($AF29/2)+1,MOD(COLUMNS($AF$3:BA$3),2)+1))","v":-4.338837391175578},{"$f":"IF(OR(MOD($AF29,2)=0,INDEX(relationships,INT($AF29/2)+1,BB$3)<>1),INDEX($AC$5:$AD$24,BB$3,MOD(COLUMNS($AF$3:BB$3),2)+1),INDEX($AC$5:$AD$24,INT($AF29/2)+1,MOD(COLUMNS($AF$3:BB$3),2)+1))","v":-9.0096886790241921},{"$f":"IF(OR(MOD($AF29,2)=0,INDEX(relationships,INT($AF29/2)+1,BC$3)<>1),INDEX($AC$5:$AD$24,BC$3,MOD(COLUMNS($AF$3:BC$3),2)+1),INDEX($AC$5:$AD$24,INT($AF29/2)+1,MOD(COLUMNS($AF$3:BC$3),2)+1))","v":-9.7492791218182351},{"$f":"IF(OR(MOD($AF29,2)=0,INDEX(relationships,INT($AF29/2)+1,BD$3)<>1),INDEX($AC$5:$AD$24,BD$3,MOD(COLUMNS($AF$3:BD$3),2)+1),INDEX($AC$5:$AD$24,INT($AF29/2)+1,MOD(COLUMNS($AF$3:BD$3),2)+1))","v":-2.2252093395631483},{"$f":"IF(OR(MOD($AF29,2)=0,INDEX(relationships,INT($AF29/2)+1,BE$3)<>1),INDEX($AC$5:$AD$24,BE$3,MOD(COLUMNS($AF$3:BE$3),2)+1),INDEX($AC$5:$AD$24,INT($AF29/2)+1,MOD(COLUMNS($AF$3:BE$3),2)+1))","v":-7.8183148246803018},{"$f":"IF(OR(MOD($AF29,2)=0,INDEX(relationships,INT($AF29/2)+1,BF$3)<>1),INDEX($AC$5:$AD$24,BF$3,MOD(COLUMNS($AF$3:BF$3),2)+1),INDEX($AC$5:$AD$24,INT($AF29/2)+1,MOD(COLUMNS($AF$3:BF$3),2)+1))","v":6.2348980185873319},{"$f":"IF(OR(MOD($AF29,2)=0,INDEX(relationships,INT($AF29/2)+1,BG$3)<>1),INDEX($AC$5:$AD$24,BG$3,MOD(COLUMNS($AF$3:BG$3),2)+1),INDEX($AC$5:$AD$24,INT($AF29/2)+1,MOD(COLUMNS($AF$3:BG$3),2)+1))","v":-4.90059381963448E-15},{"$f":"IF(OR(MOD($AF29,2)=0,INDEX(relationships,INT($AF29/2)+1,BH$3)<>1),INDEX($AC$5:$AD$24,BH$3,MOD(COLUMNS($AF$3:BH$3),2)+1),INDEX($AC$5:$AD$24,INT($AF29/2)+1,MOD(COLUMNS($AF$3:BH$3),2)+1))","v":10},{"$f":"IF(OR(MOD($AF29,2)=0,INDEX(relationships,INT($AF29/2)+1,BI$3)<>1),INDEX($AC$5:$AD$24,BI$3,MOD(COLUMNS($AF$3:BI$3),2)+1),INDEX($AC$5:$AD$24,INT($AF29/2)+1,MOD(COLUMNS($AF$3:BI$3),2)+1))","v":7.8183148246802947},{"$f":"IF(OR(MOD($AF29,2)=0,INDEX(relationships,INT($AF29/2)+1,BJ$3)<>1),INDEX($AC$5:$AD$24,BJ$3,MOD(COLUMNS($AF$3:BJ$3),2)+1),INDEX($AC$5:$AD$24,INT($AF29/2)+1,MOD(COLUMNS($AF$3:BJ$3),2)+1))","v":6.2348980185873391},{"$f":"IF(OR(MOD($AF29,2)=0,INDEX(relationships,INT($AF29/2)+1,BK$3)<>1),INDEX($AC$5:$AD$24,BK$3,MOD(COLUMNS($AF$3:BK$3),2)+1),INDEX($AC$5:$AD$24,INT($AF29/2)+1,MOD(COLUMNS($AF$3:BK$3),2)+1))","v":9.7492791218182369},{"$f":"IF(OR(MOD($AF29,2)=0,INDEX(relationships,INT($AF29/2)+1,BL$3)<>1),INDEX($AC$5:$AD$24,BL$3,MOD(COLUMNS($AF$3:BL$3),2)+1),INDEX($AC$5:$AD$24,INT($AF29/2)+1,MOD(COLUMNS($AF$3:BL$3),2)+1))","v":-2.2252093395631385},{"$f":"IF(OR(MOD($AF29,2)=0,INDEX(relationships,INT($AF29/2)+1,BM$3)<>1),INDEX($AC$5:$AD$24,BM$3,MOD(COLUMNS($AF$3:BM$3),2)+1),INDEX($AC$5:$AD$24,INT($AF29/2)+1,MOD(COLUMNS($AF$3:BM$3),2)+1))","v":4.3388373911755869},{"$f":"IF(OR(MOD($AF29,2)=0,INDEX(relationships,INT($AF29/2)+1,BN$3)<>1),INDEX($AC$5:$AD$24,BN$3,MOD(COLUMNS($AF$3:BN$3),2)+1),INDEX($AC$5:$AD$24,INT($AF29/2)+1,MOD(COLUMNS($AF$3:BN$3),2)+1))","v":-9.0096886790241886},{"$f":"IF(OR(MOD($AF29,2)=0,INDEX(relationships,INT($AF29/2)+1,BO$3)<>1),INDEX($AC$5:$AD$24,BO$3,MOD(COLUMNS($AF$3:BO$3),2)+1),INDEX($AC$5:$AD$24,INT($AF29/2)+1,MOD(COLUMNS($AF$3:BO$3),2)+1))","v":-4.3388373911755753},{"$f":"IF(OR(MOD($AF29,2)=0,INDEX(relationships,INT($AF29/2)+1,BP$3)<>1),INDEX($AC$5:$AD$24,BP$3,MOD(COLUMNS($AF$3:BP$3),2)+1),INDEX($AC$5:$AD$24,INT($AF29/2)+1,MOD(COLUMNS($AF$3:BP$3),2)+1))","v":-9.0096886790241939},{"$f":"IF(OR(MOD($AF29,2)=0,INDEX(relationships,INT($AF29/2)+1,BQ$3)<>1),INDEX($AC$5:$AD$24,BQ$3,MOD(COLUMNS($AF$3:BQ$3),2)+1),INDEX($AC$5:$AD$24,INT($AF29/2)+1,MOD(COLUMNS($AF$3:BQ$3),2)+1))","v":-9.7492791218182351},{"$f":"IF(OR(MOD($AF29,2)=0,INDEX(relationships,INT($AF29/2)+1,BR$3)<>1),INDEX($AC$5:$AD$24,BR$3,MOD(COLUMNS($AF$3:BR$3),2)+1),INDEX($AC$5:$AD$24,INT($AF29/2)+1,MOD(COLUMNS($AF$3:BR$3),2)+1))","v":-2.2252093395631505},{"$f":"IF(OR(MOD($AF29,2)=0,INDEX(relationships,INT($AF29/2)+1,BS$3)<>1),INDEX($AC$5:$AD$24,BS$3,MOD(COLUMNS($AF$3:BS$3),2)+1),INDEX($AC$5:$AD$24,INT($AF29/2)+1,MOD(COLUMNS($AF$3:BS$3),2)+1))","v":-7.8183148246803027},{"$f":"IF(OR(MOD($AF29,2)=0,INDEX(relationships,INT($AF29/2)+1,BT$3)<>1),INDEX($AC$5:$AD$24,BT$3,MOD(COLUMNS($AF$3:BT$3),2)+1),INDEX($AC$5:$AD$24,INT($AF29/2)+1,MOD(COLUMNS($AF$3:BT$3),2)+1))","v":6.2348980185873293},null,{"$f":"IF(OR(MOD($AF29,2)=0,INDEX(relationships,INT($AF29/2)+1,BV$3)<>2),INDEX($AC$5:$AD$24,BV$3,MOD(COLUMNS($BU$3:BV$3),2)+1),INDEX($AC$5:$AD$24,INT($AF29/2)+1,MOD(COLUMNS($BU$3:BV$3),2)+1))","v":7.8183148246802983},{"$f":"IF(OR(MOD($AF29,2)=0,INDEX(relationships,INT($AF29/2)+1,BW$3)<>2),INDEX($AC$5:$AD$24,BW$3,MOD(COLUMNS($BU$3:BW$3),2)+1),INDEX($AC$5:$AD$24,INT($AF29/2)+1,MOD(COLUMNS($BU$3:BW$3),2)+1))","v":6.2348980185873355},{"$f":"IF(OR(MOD($AF29,2)=0,INDEX(relationships,INT($AF29/2)+1,BX$3)<>2),INDEX($AC$5:$AD$24,BX$3,MOD(COLUMNS($BU$3:BX$3),2)+1),INDEX($AC$5:$AD$24,INT($AF29/2)+1,MOD(COLUMNS($BU$3:BX$3),2)+1))","v":9.7492791218182369},{"$f":"IF(OR(MOD($AF29,2)=0,INDEX(relationships,INT($AF29/2)+1,BY$3)<>2),INDEX($AC$5:$AD$24,BY$3,MOD(COLUMNS($BU$3:BY$3),2)+1),INDEX($AC$5:$AD$24,INT($AF29/2)+1,MOD(COLUMNS($BU$3:BY$3),2)+1))","v":-2.2252093395631434},{"$f":"IF(OR(MOD($AF29,2)=0,INDEX(relationships,INT($AF29/2)+1,BZ$3)<>2),INDEX($AC$5:$AD$24,BZ$3,MOD(COLUMNS($BU$3:BZ$3),2)+1),INDEX($AC$5:$AD$24,INT($AF29/2)+1,MOD(COLUMNS($BU$3:BZ$3),2)+1))","v":4.3388373911755824},{"$f":"IF(OR(MOD($AF29,2)=0,INDEX(relationships,INT($AF29/2)+1,CA$3)<>2),INDEX($AC$5:$AD$24,CA$3,MOD(COLUMNS($BU$3:CA$3),2)+1),INDEX($AC$5:$AD$24,INT($AF29/2)+1,MOD(COLUMNS($BU$3:CA$3),2)+1))","v":-9.0096886790241903},{"$f":"IF(OR(MOD($AF29,2)=0,INDEX(relationships,INT($AF29/2)+1,CB$3)<>2),INDEX($AC$5:$AD$24,CB$3,MOD(COLUMNS($BU$3:CB$3),2)+1),INDEX($AC$5:$AD$24,INT($AF29/2)+1,MOD(COLUMNS($BU$3:CB$3),2)+1))","v":-4.3388373911755798},{"$f":"IF(OR(MOD($AF29,2)=0,INDEX(relationships,INT($AF29/2)+1,CC$3)<>2),INDEX($AC$5:$AD$24,CC$3,MOD(COLUMNS($BU$3:CC$3),2)+1),INDEX($AC$5:$AD$24,INT($AF29/2)+1,MOD(COLUMNS($BU$3:CC$3),2)+1))","v":-9.0096886790241921},{"$f":"IF(OR(MOD($AF29,2)=0,INDEX(relationships,INT($AF29/2)+1,CD$3)<>2),INDEX($AC$5:$AD$24,CD$3,MOD(COLUMNS($BU$3:CD$3),2)+1),INDEX($AC$5:$AD$24,INT($AF29/2)+1,MOD(COLUMNS($BU$3:CD$3),2)+1))","v":-9.7492791218182369},{"$f":"IF(OR(MOD($AF29,2)=0,INDEX(relationships,INT($AF29/2)+1,CE$3)<>2),INDEX($AC$5:$AD$24,CE$3,MOD(COLUMNS($BU$3:CE$3),2)+1),INDEX($AC$5:$AD$24,INT($AF29/2)+1,MOD(COLUMNS($BU$3:CE$3),2)+1))","v":-2.225209339563146},{"$f":"IF(OR(MOD($AF29,2)=0,INDEX(relationships,INT($AF29/2)+1,CF$3)<>2),INDEX($AC$5:$AD$24,CF$3,MOD(COLUMNS($BU$3:CF$3),2)+1),INDEX($AC$5:$AD$24,INT($AF29/2)+1,MOD(COLUMNS($BU$3:CF$3),2)+1))","v":-7.8183148246802991},{"$f":"IF(OR(MOD($AF29,2)=0,INDEX(relationships,INT($AF29/2)+1,CG$3)<>2),INDEX($AC$5:$AD$24,CG$3,MOD(COLUMNS($BU$3:CG$3),2)+1),INDEX($AC$5:$AD$24,INT($AF29/2)+1,MOD(COLUMNS($BU$3:CG$3),2)+1))","v":6.2348980185873337},{"$f":"IF(OR(MOD($AF29,2)=0,INDEX(relationships,INT($AF29/2)+1,CH$3)<>2),INDEX($AC$5:$AD$24,CH$3,MOD(COLUMNS($BU$3:CH$3),2)+1),INDEX($AC$5:$AD$24,INT($AF29/2)+1,MOD(COLUMNS($BU$3:CH$3),2)+1))","v":-2.45029690981724E-15},{"$f":"IF(OR(MOD($AF29,2)=0,INDEX(relationships,INT($AF29/2)+1,CI$3)<>2),INDEX($AC$5:$AD$24,CI$3,MOD(COLUMNS($BU$3:CI$3),2)+1),INDEX($AC$5:$AD$24,INT($AF29/2)+1,MOD(COLUMNS($BU$3:CI$3),2)+1))","v":10},{"$f":"IF(OR(MOD($AF29,2)=0,INDEX(relationships,INT($AF29/2)+1,CJ$3)<>2),INDEX($AC$5:$AD$24,CJ$3,MOD(COLUMNS($BU$3:CJ$3),2)+1),INDEX($AC$5:$AD$24,INT($AF29/2)+1,MOD(COLUMNS($BU$3:CJ$3),2)+1))","v":7.8183148246802956},{"$f":"IF(OR(MOD($AF29,2)=0,INDEX(relationships,INT($AF29/2)+1,CK$3)<>2),INDEX($AC$5:$AD$24,CK$3,MOD(COLUMNS($BU$3:CK$3),2)+1),INDEX($AC$5:$AD$24,INT($AF29/2)+1,MOD(COLUMNS($BU$3:CK$3),2)+1))","v":6.2348980185873373},{"$f":"IF(OR(MOD($AF29,2)=0,INDEX(relationships,INT($AF29/2)+1,CL$3)<>2),INDEX($AC$5:$AD$24,CL$3,MOD(COLUMNS($BU$3:CL$3),2)+1),INDEX($AC$5:$AD$24,INT($AF29/2)+1,MOD(COLUMNS($BU$3:CL$3),2)+1))","v":9.7492791218182369},{"$f":"IF(OR(MOD($AF29,2)=0,INDEX(relationships,INT($AF29/2)+1,CM$3)<>2),INDEX($AC$5:$AD$24,CM$3,MOD(COLUMNS($BU$3:CM$3),2)+1),INDEX($AC$5:$AD$24,INT($AF29/2)+1,MOD(COLUMNS($BU$3:CM$3),2)+1))","v":-2.2252093395631407},{"$f":"IF(OR(MOD($AF29,2)=0,INDEX(relationships,INT($AF29/2)+1,CN$3)<>2),INDEX($AC$5:$AD$24,CN$3,MOD(COLUMNS($BU$3:CN$3),2)+1),INDEX($AC$5:$AD$24,INT($AF29/2)+1,MOD(COLUMNS($BU$3:CN$3),2)+1))","v":4.3388373911755842},{"$f":"IF(OR(MOD($AF29,2)=0,INDEX(relationships,INT($AF29/2)+1,CO$3)<>2),INDEX($AC$5:$AD$24,CO$3,MOD(COLUMNS($BU$3:CO$3),2)+1),INDEX($AC$5:$AD$24,INT($AF29/2)+1,MOD(COLUMNS($BU$3:CO$3),2)+1))","v":-9.0096886790241886},{"$f":"IF(OR(MOD($AF29,2)=0,INDEX(relationships,INT($AF29/2)+1,CP$3)<>2),INDEX($AC$5:$AD$24,CP$3,MOD(COLUMNS($BU$3:CP$3),2)+1),INDEX($AC$5:$AD$24,INT($AF29/2)+1,MOD(COLUMNS($BU$3:CP$3),2)+1))","v":-4.338837391175578},{"$f":"IF(OR(MOD($AF29,2)=0,INDEX(relationships,INT($AF29/2)+1,CQ$3)<>2),INDEX($AC$5:$AD$24,CQ$3,MOD(COLUMNS($BU$3:CQ$3),2)+1),INDEX($AC$5:$AD$24,INT($AF29/2)+1,MOD(COLUMNS($BU$3:CQ$3),2)+1))","v":-9.0096886790241921},{"$f":"IF(OR(MOD($AF29,2)=0,INDEX(relationships,INT($AF29/2)+1,CR$3)<>2),INDEX($AC$5:$AD$24,CR$3,MOD(COLUMNS($BU$3:CR$3),2)+1),INDEX($AC$5:$AD$24,INT($AF29/2)+1,MOD(COLUMNS($BU$3:CR$3),2)+1))","v":-9.7492791218182351},{"$f":"IF(OR(MOD($AF29,2)=0,INDEX(relationships,INT($AF29/2)+1,CS$3)<>2),INDEX($AC$5:$AD$24,CS$3,MOD(COLUMNS($BU$3:CS$3),2)+1),INDEX($AC$5:$AD$24,INT($AF29/2)+1,MOD(COLUMNS($BU$3:CS$3),2)+1))","v":-2.2252093395631483},{"$f":"IF(OR(MOD($AF29,2)=0,INDEX(relationships,INT($AF29/2)+1,CT$3)<>2),INDEX($AC$5:$AD$24,CT$3,MOD(COLUMNS($BU$3:CT$3),2)+1),INDEX($AC$5:$AD$24,INT($AF29/2)+1,MOD(COLUMNS($BU$3:CT$3),2)+1))","v":-7.8183148246803018},{"$f":"IF(OR(MOD($AF29,2)=0,INDEX(relationships,INT($AF29/2)+1,CU$3)<>2),INDEX($AC$5:$AD$24,CU$3,MOD(COLUMNS($BU$3:CU$3),2)+1),INDEX($AC$5:$AD$24,INT($AF29/2)+1,MOD(COLUMNS($BU$3:CU$3),2)+1))","v":6.2348980185873319},{"$f":"IF(OR(MOD($AF29,2)=0,INDEX(relationships,INT($AF29/2)+1,CV$3)<>2),INDEX($AC$5:$AD$24,CV$3,MOD(COLUMNS($BU$3:CV$3),2)+1),INDEX($AC$5:$AD$24,INT($AF29/2)+1,MOD(COLUMNS($BU$3:CV$3),2)+1))","v":-4.90059381963448E-15},{"$f":"IF(OR(MOD($AF29,2)=0,INDEX(relationships,INT($AF29/2)+1,CW$3)<>2),INDEX($AC$5:$AD$24,CW$3,MOD(COLUMNS($BU$3:CW$3),2)+1),INDEX($AC$5:$AD$24,INT($AF29/2)+1,MOD(COLUMNS($BU$3:CW$3),2)+1))","v":10},{"$f":"IF(OR(MOD($AF29,2)=0,INDEX(relationships,INT($AF29/2)+1,CX$3)<>2),INDEX($AC$5:$AD$24,CX$3,MOD(COLUMNS($BU$3:CX$3),2)+1),INDEX($AC$5:$AD$24,INT($AF29/2)+1,MOD(COLUMNS($BU$3:CX$3),2)+1))","v":7.8183148246802947},{"$f":"IF(OR(MOD($AF29,2)=0,INDEX(relationships,INT($AF29/2)+1,CY$3)<>2),INDEX($AC$5:$AD$24,CY$3,MOD(COLUMNS($BU$3:CY$3),2)+1),INDEX($AC$5:$AD$24,INT($AF29/2)+1,MOD(COLUMNS($BU$3:CY$3),2)+1))","v":6.2348980185873391},{"$f":"IF(OR(MOD($AF29,2)=0,INDEX(relationships,INT($AF29/2)+1,CZ$3)<>2),INDEX($AC$5:$AD$24,CZ$3,MOD(COLUMNS($BU$3:CZ$3),2)+1),INDEX($AC$5:$AD$24,INT($AF29/2)+1,MOD(COLUMNS($BU$3:CZ$3),2)+1))","v":9.7492791218182369},{"$f":"IF(OR(MOD($AF29,2)=0,INDEX(relationships,INT($AF29/2)+1,DA$3)<>2),INDEX($AC$5:$AD$24,DA$3,MOD(COLUMNS($BU$3:DA$3),2)+1),INDEX($AC$5:$AD$24,INT($AF29/2)+1,MOD(COLUMNS($BU$3:DA$3),2)+1))","v":-2.2252093395631385},{"$f":"IF(OR(MOD($AF29,2)=0,INDEX(relationships,INT($AF29/2)+1,DB$3)<>2),INDEX($AC$5:$AD$24,DB$3,MOD(COLUMNS($BU$3:DB$3),2)+1),INDEX($AC$5:$AD$24,INT($AF29/2)+1,MOD(COLUMNS($BU$3:DB$3),2)+1))","v":4.3388373911755869},{"$f":"IF(OR(MOD($AF29,2)=0,INDEX(relationships,INT($AF29/2)+1,DC$3)<>2),INDEX($AC$5:$AD$24,DC$3,MOD(COLUMNS($BU$3:DC$3),2)+1),INDEX($AC$5:$AD$24,INT($AF29/2)+1,MOD(COLUMNS($BU$3:DC$3),2)+1))","v":-9.0096886790241886},{"$f":"IF(OR(MOD($AF29,2)=0,INDEX(relationships,INT($AF29/2)+1,DD$3)<>2),INDEX($AC$5:$AD$24,DD$3,MOD(COLUMNS($BU$3:DD$3),2)+1),INDEX($AC$5:$AD$24,INT($AF29/2)+1,MOD(COLUMNS($BU$3:DD$3),2)+1))","v":-4.3388373911755753},{"$f":"IF(OR(MOD($AF29,2)=0,INDEX(relationships,INT($AF29/2)+1,DE$3)<>2),INDEX($AC$5:$AD$24,DE$3,MOD(COLUMNS($BU$3:DE$3),2)+1),INDEX($AC$5:$AD$24,INT($AF29/2)+1,MOD(COLUMNS($BU$3:DE$3),2)+1))","v":-9.0096886790241939},{"$f":"IF(OR(MOD($AF29,2)=0,INDEX(relationships,INT($AF29/2)+1,DF$3)<>2),INDEX($AC$5:$AD$24,DF$3,MOD(COLUMNS($BU$3:DF$3),2)+1),INDEX($AC$5:$AD$24,INT($AF29/2)+1,MOD(COLUMNS($BU$3:DF$3),2)+1))","v":-9.7492791218182351},{"$f":"IF(OR(MOD($AF29,2)=0,INDEX(relationships,INT($AF29/2)+1,DG$3)<>2),INDEX($AC$5:$AD$24,DG$3,MOD(COLUMNS($BU$3:DG$3),2)+1),INDEX($AC$5:$AD$24,INT($AF29/2)+1,MOD(COLUMNS($BU$3:DG$3),2)+1))","v":-2.2252093395631505},{"$f":"IF(OR(MOD($AF29,2)=0,INDEX(relationships,INT($AF29/2)+1,DH$3)<>2),INDEX($AC$5:$AD$24,DH$3,MOD(COLUMNS($BU$3:DH$3),2)+1),INDEX($AC$5:$AD$24,INT($AF29/2)+1,MOD(COLUMNS($BU$3:DH$3),2)+1))","v":-7.8183148246803027},{"$f":"IF(OR(MOD($AF29,2)=0,INDEX(relationships,INT($AF29/2)+1,DI$3)<>2),INDEX($AC$5:$AD$24,DI$3,MOD(COLUMNS($BU$3:DI$3),2)+1),INDEX($AC$5:$AD$24,INT($AF29/2)+1,MOD(COLUMNS($BU$3:DI$3),2)+1))","v":6.2348980185873293},null,-2.45029690981724E-15,10,-2.45029690981724E-15,10]
[null,"Parents",{"$f":"MAX(C6,INDEX(rawData,COLUMNS($C$28:C$28),ROWS($B$29:$B30)))","v":2},{"$f":"MAX(D6,INDEX(rawData,COLUMNS($C$28:D$28),ROWS($B$29:$B30)))","v":0},{"$f":"MAX(E6,INDEX(rawData,COLUMNS($C$28:E$28),ROWS($B$29:$B30)))","v":2},{"$f":"MAX(F6,INDEX(rawData,COLUMNS($C$28:F$28),ROWS($B$29:$B30)))","v":0},{"$f":"MAX(G6,INDEX(rawData,COLUMNS($C$28:G$28),ROWS($B$29:$B30)))","v":0},{"$f":"MAX(H6,INDEX(rawData,COLUMNS($C$28:H$28),ROWS($B$29:$B30)))","v":0},{"$f":"MAX(I6,INDEX(rawData,COLUMNS($C$28:I$28),ROWS($B$29:$B30)))","v":2},{"$f":"MAX(J6,INDEX(rawData,COLUMNS($C$28:J$28),ROWS($B$29:$B30)))","v":0},{"$f":"MAX(K6,INDEX(rawData,COLUMNS($C$28:K$28),ROWS($B$29:$B30)))","v":0},{"$f":"MAX(L6,INDEX(rawData,COLUMNS($C$28:L$28),ROWS($B$29:$B30)))","v":0},{"$f":"MAX(M6,INDEX(rawData,COLUMNS($C$28:M$28),ROWS($B$29:$B30)))","v":0},{"$f":"MAX(N6,INDEX(rawData,COLUMNS($C$28:N$28),ROWS($B$29:$B30)))","v":0},{"$f":"MAX(O6,INDEX(rawData,COLUMNS($C$28:O$28),ROWS($B$29:$B30)))","v":0},{"$f":"MAX(P6,INDEX(rawData,COLUMNS($C$28:P$28),ROWS($B$29:$B30)))","v":0},{"$f":"MAX(Q6,INDEX(rawData,COLUMNS($C$28:Q$28),ROWS($B$29:$B30)))","v":0},{"$f":"MAX(R6,INDEX(rawData,COLUMNS($C$28:R$28),ROWS($B$29:$B30)))","v":0},{"$f":"MAX(S6,INDEX(rawData,COLUMNS($C$28:S$28),ROWS($B$29:$B30)))","v":0},{"$f":"MAX(T6,INDEX(rawData,COLUMNS($C$28:T$28),ROWS($B$29:$B30)))","v":0},{"$f":"MAX(U6,INDEX(rawData,COLUMNS($C$28:U$28),ROWS($B$29:$B30)))","v":0},{"$f":"MAX(V6,INDEX(rawData,COLUMNS($C$28:V$28),ROWS($B$29:$B30)))","v":0},null,null,null,null,null,null,null,null,null,25,{"$f":"IF(OR(MOD($AF30,2)=0,INDEX(relationships,INT($AF30/2)+1,AG$3)<>1),INDEX($AC$5:$AD$24,AG$3,MOD(COLUMNS($AF$3:AG$3),2)+1),INDEX($AC$5:$AD$24,INT($AF30/2)+1,MOD(COLUMNS($AF$3:AG$3),2)+1))","v":7.8183148246802983},{"$f":"IF(OR(MOD($AF30,2)=0,INDEX(relationships,INT($AF30/2)+1,AH$3)<>1),INDEX($AC$5:$AD$24,AH$3,MOD(COLUMNS($AF$3:AH$3),2)+1),INDEX($AC$5:$AD$24,INT($AF30/2)+1,MOD(COLUMNS($AF$3:AH$3),2)+1))","v":6.2348980185873355},{"$f":"IF(OR(MOD($AF30,2)=0,INDEX(relationships,INT($AF30/2)+1,AI$3)<>1),INDEX($AC$5:$AD$24,AI$3,MOD(COLUMNS($AF$3:AI$3),2)+1),INDEX($AC$5:$AD$24,INT($AF30/2)+1,MOD(COLUMNS($AF$3:AI$3),2)+1))","v":9.7492791218182369},{"$f":"IF(OR(MOD($AF30,2)=0,INDEX(relationships,INT($AF30/2)+1,AJ$3)<>1),INDEX($AC$5:$AD$24,AJ$3,MOD(COLUMNS($AF$3:AJ$3),2)+1),INDEX($AC$5:$AD$24,INT($AF30/2)+1,MOD(COLUMNS($AF$3:AJ$3),2)+1))","v":-2.2252093395631434},{"$f":"IF(OR(MOD($AF30,2)=0,INDEX(relationships,INT($AF30/2)+1,AK$3)<>1),INDEX($AC$5:$AD$24,AK$3,MOD(COLUMNS($AF$3:AK$3),2)+1),INDEX($AC$5:$AD$24,INT($AF30/2)+1,MOD(COLUMNS($AF$3:AK$3),2)+1))","v":4.3388373911755824},{"$f":"IF(OR(MOD($AF30,2)=0,INDEX(relationships,INT($AF30/2)+1,AL$3)<>1),INDEX($AC$5:$AD$24,AL$3,MOD(COLUMNS($AF$3:AL$3),2)+1),INDEX($AC$5:$AD$24,INT($AF30/2)+1,MOD(COLUMNS($AF$3:AL$3),2)+1))","v":-9.0096886790241903},{"$f":"IF(OR(MOD($AF30,2)=0,INDEX(relationships,INT($AF30/2)+1,AM$3)<>1),INDEX($AC$5:$AD$24,AM$3,MOD(COLUMNS($AF$3:AM$3),2)+1),INDEX($AC$5:$AD$24,INT($AF30/2)+1,MOD(COLUMNS($AF$3:AM$3),2)+1))","v":-4.3388373911755798},{"$f":"IF(OR(MOD($AF30,2)=0,INDEX(relationships,INT($AF30/2)+1,AN$3)<>1),INDEX($AC$5:$AD$24,AN$3,MOD(COLUMNS($AF$3:AN$3),2)+1),INDEX($AC$5:$AD$24,INT($AF30/2)+1,MOD(COLUMNS($AF$3:AN$3),2)+1))","v":-9.0096886790241921},{"$f":"IF(OR(MOD($AF30,2)=0,INDEX(relationships,INT($AF30/2)+1,AO$3)<>1),INDEX($AC$5:$AD$24,AO$3,MOD(COLUMNS($AF$3:AO$3),2)+1),INDEX($AC$5:$AD$24,INT($AF30/2)+1,MOD(COLUMNS($AF$3:AO$3),2)+1))","v":-9.7492791218182369},{"$f":"IF(OR(MOD($AF30,2)=0,INDEX(relationships,INT($AF30/2)+1,AP$3)<>1),INDEX($AC$5:$AD$24,AP$3,MOD(COLUMNS($AF$3:AP$3),2)+1),INDEX($AC$5:$AD$24,INT($AF30/2)+1,MOD(COLUMNS($AF$3:AP$3),2)+1))","v":-2.225209339563146},{"$f":"IF(OR(MOD($AF30,2)=0,INDEX(relationships,INT($AF30/2)+1,AQ$3)<>1),INDEX($AC$5:$AD$24,AQ$3,MOD(COLUMNS($AF$3:AQ$3),2)+1),INDEX($AC$5:$AD$24,INT($AF30/2)+1,MOD(COLUMNS($AF$3:AQ$3),2)+1))","v":-7.8183148246802991},{"$f":"IF(OR(MOD($AF30,2)=0,INDEX(relationships,INT($AF30/2)+1,AR$3)<>1),INDEX($AC$5:$AD$24,AR$3,MOD(COLUMNS($AF$3:AR$3),2)+1),INDEX($AC$5:$AD$24,INT($AF30/2)+1,MOD(COLUMNS($AF$3:AR$3),2)+1))","v":6.2348980185873337},{"$f":"IF(OR(MOD($AF30,2)=0,INDEX(relationships,INT($AF30/2)+1,AS$3)<>1),INDEX($AC$5:$AD$24,AS$3,MOD(COLUMNS($AF$3:AS$3),2)+1),INDEX($AC$5:$AD$24,INT($AF30/2)+1,MOD(COLUMNS($AF$3:AS$3),2)+1))","v":-2.45029690981724E-15},{"$f":"IF(OR(MOD($AF30,2)=0,INDEX(relationships,INT($AF30/2)+1,AT$3)<>1),INDEX($AC$5:$AD$24,AT$3,MOD(COLUMNS($AF$3:AT$3),2)+1),INDEX($AC$5:$AD$24,INT($AF30/2)+1,MOD(COLUMNS($AF$3:AT$3),2)+1))","v":10},{"$f":"IF(OR(MOD($AF30,2)=0,INDEX(relationships,INT($AF30/2)+1,AU$3)<>1),INDEX($AC$5:$AD$24,AU$3,MOD(COLUMNS($AF$3:AU$3),2)+1),INDEX($AC$5:$AD$24,INT($AF30/2)+1,MOD(COLUMNS($AF$3:AU$3),2)+1))","v":7.8183148246802956},{"$f":"IF(OR(MOD($AF30,2)=0,INDEX(relationships,INT($AF30/2)+1,AV$3)<>1),INDEX($AC$5:$AD$24,AV$3,MOD(COLUMNS($AF$3:AV$3),2)+1),INDEX($AC$5:$AD$24,INT($AF30/2)+1,MOD(COLUMNS($AF$3:AV$3),2)+1))","v":6.2348980185873373},{"$f":"IF(OR(MOD($AF30,2)=0,INDEX(relationships,INT($AF30/2)+1,AW$3)<>1),INDEX($AC$5:$AD$24,AW$3,MOD(COLUMNS($AF$3:AW$3),2)+1),INDEX($AC$5:$AD$24,INT($AF30/2)+1,MOD(COLUMNS($AF$3:AW$3),2)+1))","v":9.7492791218182369},{"$f":"IF(OR(MOD($AF30,2)=0,INDEX(relationships,INT($AF30/2)+1,AX$3)<>1),INDEX($AC$5:$AD$24,AX$3,MOD(COLUMNS($AF$3:AX$3),2)+1),INDEX($AC$5:$AD$24,INT($AF30/2)+1,MOD(COLUMNS($AF$3:AX$3),2)+1))","v":-2.2252093395631407},{"$f":"IF(OR(MOD($AF30,2)=0,INDEX(relationships,INT($AF30/2)+1,AY$3)<>1),INDEX($AC$5:$AD$24,AY$3,MOD(COLUMNS($AF$3:AY$3),2)+1),INDEX($AC$5:$AD$24,INT($AF30/2)+1,MOD(COLUMNS($AF$3:AY$3),2)+1))","v":4.3388373911755842},{"$f":"IF(OR(MOD($AF30,2)=0,INDEX(relationships,INT($AF30/2)+1,AZ$3)<>1),INDEX($AC$5:$AD$24,AZ$3,MOD(COLUMNS($AF$3:AZ$3),2)+1),INDEX($AC$5:$AD$24,INT($AF30/2)+1,MOD(COLUMNS($AF$3:AZ$3),2)+1))","v":-9.0096886790241886},{"$f":"IF(OR(MOD($AF30,2)=0,INDEX(relationships,INT($AF30/2)+1,BA$3)<>1),INDEX($AC$5:$AD$24,BA$3,MOD(COLUMNS($AF$3:BA$3),2)+1),INDEX($AC$5:$AD$24,INT($AF30/2)+1,MOD(COLUMNS($AF$3:BA$3),2)+1))","v":-4.338837391175578},{"$f":"IF(OR(MOD($AF30,2)=0,INDEX(relationships,INT($AF30/2)+1,BB$3)<>1),INDEX($AC$5:$AD$24,BB$3,MOD(COLUMNS($AF$3:BB$3),2)+1),INDEX($AC$5:$AD$24,INT($AF30/2)+1,MOD(COLUMNS($AF$3:BB$3),2)+1))","v":-9.0096886790241921},{"$f":"IF(OR(MOD($AF30,2)=0,INDEX(relationships,INT($AF30/2)+1,BC$3)<>1),INDEX($AC$5:$AD$24,BC$3,MOD(COLUMNS($AF$3:BC$3),2)+1),INDEX($AC$5:$AD$24,INT($AF30/2)+1,MOD(COLUMNS($AF$3:BC$3),2)+1))","v":-9.7492791218182351},{"$f":"IF(OR(MOD($AF30,2)=0,INDEX(relationships,INT($AF30/2)+1,BD$3)<>1),INDEX($AC$5:$AD$24,BD$3,MOD(COLUMNS($AF$3:BD$3),2)+1),INDEX($AC$5:$AD$24,INT($AF30/2)+1,MOD(COLUMNS($AF$3:BD$3),2)+1))","v":-2.2252093395631483},{"$f":"IF(OR(MOD($AF30,2)=0,INDEX(relationships,INT($AF30/2)+1,BE$3)<>1),INDEX($AC$5:$AD$24,BE$3,MOD(COLUMNS($AF$3:BE$3),2)+1),INDEX($AC$5:$AD$24,INT($AF30/2)+1,MOD(COLUMNS($AF$3:BE$3),2)+1))","v":-7.8183148246803018},{"$f":"IF(OR(MOD($AF30,2)=0,INDEX(relationships,INT($AF30/2)+1,BF$3)<>1),INDEX($AC$5:$AD$24,BF$3,MOD(COLUMNS($AF$3:BF$3),2)+1),INDEX($AC$5:$AD$24,INT($AF30/2)+1,MOD(COLUMNS($AF$3:BF$3),2)+1))","v":6.2348980185873319},{"$f":"IF(OR(MOD($AF30,2)=0,INDEX(relationships,INT($AF30/2)+1,BG$3)<>1),INDEX($AC$5:$AD$24,BG$3,MOD(COLUMNS($AF$3:BG$3),2)+1),INDEX($AC$5:$AD$24,INT($AF30/2)+1,MOD(COLUMNS($AF$3:BG$3),2)+1))","v":-4.90059381963448E-15},{"$f":"IF(OR(MOD($AF30,2)=0,INDEX(relationships,INT($AF30/2)+1,BH$3)<>1),INDEX($AC$5:$AD$24,BH$3,MOD(COLUMNS($AF$3:BH$3),2)+1),INDEX($AC$5:$AD$24,INT($AF30/2)+1,MOD(COLUMNS($AF$3:BH$3),2)+1))","v":10},{"$f":"IF(OR(MOD($AF30,2)=0,INDEX(relationships,INT($AF30/2)+1,BI$3)<>1),INDEX($AC$5:$AD$24,BI$3,MOD(COLUMNS($AF$3:BI$3),2)+1),INDEX($AC$5:$AD$24,INT($AF30/2)+1,MOD(COLUMNS($AF$3:BI$3),2)+1))","v":7.8183148246802947},{"$f":"IF(OR(MOD($AF30,2)=0,INDEX(relationships,INT($AF30/2)+1,BJ$3)<>1),INDEX($AC$5:$AD$24,BJ$3,MOD(COLUMNS($AF$3:BJ$3),2)+1),INDEX($AC$5:$AD$24,INT($AF30/2)+1,MOD(COLUMNS($AF$3:BJ$3),2)+1))","v":6.2348980185873391},{"$f":"IF(OR(MOD($AF30,2)=0,INDEX(relationships,INT($AF30/2)+1,BK$3)<>1),INDEX($AC$5:$AD$24,BK$3,MOD(COLUMNS($AF$3:BK$3),2)+1),INDEX($AC$5:$AD$24,INT($AF30/2)+1,MOD(COLUMNS($AF$3:BK$3),2)+1))","v":9.7492791218182369},{"$f":"IF(OR(MOD($AF30,2)=0,INDEX(relationships,INT($AF30/2)+1,BL$3)<>1),INDEX($AC$5:$AD$24,BL$3,MOD(COLUMNS($AF$3:BL$3),2)+1),INDEX($AC$5:$AD$24,INT($AF30/2)+1,MOD(COLUMNS($AF$3:BL$3),2)+1))","v":-2.2252093395631385},{"$f":"IF(OR(MOD($AF30,2)=0,INDEX(relationships,INT($AF30/2)+1,BM$3)<>1),INDEX($AC$5:$AD$24,BM$3,MOD(COLUMNS($AF$3:BM$3),2)+1),INDEX($AC$5:$AD$24,INT($AF30/2)+1,MOD(COLUMNS($AF$3:BM$3),2)+1))","v":4.3388373911755869},{"$f":"IF(OR(MOD($AF30,2)=0,INDEX(relationships,INT($AF30/2)+1,BN$3)<>1),INDEX($AC$5:$AD$24,BN$3,MOD(COLUMNS($AF$3:BN$3),2)+1),INDEX($AC$5:$AD$24,INT($AF30/2)+1,MOD(COLUMNS($AF$3:BN$3),2)+1))","v":-9.0096886790241886},{"$f":"IF(OR(MOD($AF30,2)=0,INDEX(relationships,INT($AF30/2)+1,BO$3)<>1),INDEX($AC$5:$AD$24,BO$3,MOD(COLUMNS($AF$3:BO$3),2)+1),INDEX($AC$5:$AD$24,INT($AF30/2)+1,MOD(COLUMNS($AF$3:BO$3),2)+1))","v":-4.3388373911755753},{"$f":"IF(OR(MOD($AF30,2)=0,INDEX(relationships,INT($AF30/2)+1,BP$3)<>1),INDEX($AC$5:$AD$24,BP$3,MOD(COLUMNS($AF$3:BP$3),2)+1),INDEX($AC$5:$AD$24,INT($AF30/2)+1,MOD(COLUMNS($AF$3:BP$3),2)+1))","v":-9.0096886790241939},{"$f":"IF(OR(MOD($AF30,2)=0,INDEX(relationships,INT($AF30/2)+1,BQ$3)<>1),INDEX($AC$5:$AD$24,BQ$3,MOD(COLUMNS($AF$3:BQ$3),2)+1),INDEX($AC$5:$AD$24,INT($AF30/2)+1,MOD(COLUMNS($AF$3:BQ$3),2)+1))","v":-9.7492791218182351},{"$f":"IF(OR(MOD($AF30,2)=0,INDEX(relationships,INT($AF30/2)+1,BR$3)<>1),INDEX($AC$5:$AD$24,BR$3,MOD(COLUMNS($AF$3:BR$3),2)+1),INDEX($AC$5:$AD$24,INT($AF30/2)+1,MOD(COLUMNS($AF$3:BR$3),2)+1))","v":-2.2252093395631505},{"$f":"IF(OR(MOD($AF30,2)=0,INDEX(relationships,INT($AF30/2)+1,BS$3)<>1),INDEX($AC$5:$AD$24,BS$3,MOD(COLUMNS($AF$3:BS$3),2)+1),INDEX($AC$5:$AD$24,INT($AF30/2)+1,MOD(COLUMNS($AF$3:BS$3),2)+1))","v":-7.8183148246803027},{"$f":"IF(OR(MOD($AF30,2)=0,INDEX(relationships,INT($AF30/2)+1,BT$3)<>1),INDEX($AC$5:$AD$24,BT$3,MOD(COLUMNS($AF$3:BT$3),2)+1),INDEX($AC$5:$AD$24,INT($AF30/2)+1,MOD(COLUMNS($AF$3:BT$3),2)+1))","v":6.2348980185873293},null,{"$f":"IF(OR(MOD($AF30,2)=0,INDEX(relationships,INT($AF30/2)+1,BV$3)<>2),INDEX($AC$5:$AD$24,BV$3,MOD(COLUMNS($BU$3:BV$3),2)+1),INDEX($AC$5:$AD$24,INT($AF30/2)+1,MOD(COLUMNS($BU$3:BV$3),2)+1))","v":7.8183148246802983},{"$f":"IF(OR(MOD($AF30,2)=0,INDEX(relationships,INT($AF30/2)+1,BW$3)<>2),INDEX($AC$5:$AD$24,BW$3,MOD(COLUMNS($BU$3:BW$3),2)+1),INDEX($AC$5:$AD$24,INT($AF30/2)+1,MOD(COLUMNS($BU$3:BW$3),2)+1))","v":6.2348980185873355},{"$f":"IF(OR(MOD($AF30,2)=0,INDEX(relationships,INT($AF30/2)+1,BX$3)<>2),INDEX($AC$5:$AD$24,BX$3,MOD(COLUMNS($BU$3:BX$3),2)+1),INDEX($AC$5:$AD$24,INT($AF30/2)+1,MOD(COLUMNS($BU$3:BX$3),2)+1))","v":9.7492791218182369},{"$f":"IF(OR(MOD($AF30,2)=0,INDEX(relationships,INT($AF30/2)+1,BY$3)<>2),INDEX($AC$5:$AD$24,BY$3,MOD(COLUMNS($BU$3:BY$3),2)+1),INDEX($AC$5:$AD$24,INT($AF30/2)+1,MOD(COLUMNS($BU$3:BY$3),2)+1))","v":-2.2252093395631434},{"$f":"IF(OR(MOD($AF30,2)=0,INDEX(relationships,INT($AF30/2)+1,BZ$3)<>2),INDEX($AC$5:$AD$24,BZ$3,MOD(COLUMNS($BU$3:BZ$3),2)+1),INDEX($AC$5:$AD$24,INT($AF30/2)+1,MOD(COLUMNS($BU$3:BZ$3),2)+1))","v":4.3388373911755824},{"$f":"IF(OR(MOD($AF30,2)=0,INDEX(relationships,INT($AF30/2)+1,CA$3)<>2),INDEX($AC$5:$AD$24,CA$3,MOD(COLUMNS($BU$3:CA$3),2)+1),INDEX($AC$5:$AD$24,INT($AF30/2)+1,MOD(COLUMNS($BU$3:CA$3),2)+1))","v":-9.0096886790241903},{"$f":"IF(OR(MOD($AF30,2)=0,INDEX(relationships,INT($AF30/2)+1,CB$3)<>2),INDEX($AC$5:$AD$24,CB$3,MOD(COLUMNS($BU$3:CB$3),2)+1),INDEX($AC$5:$AD$24,INT($AF30/2)+1,MOD(COLUMNS($BU$3:CB$3),2)+1))","v":-4.3388373911755798},{"$f":"IF(OR(MOD($AF30,2)=0,INDEX(relationships,INT($AF30/2)+1,CC$3)<>2),INDEX($AC$5:$AD$24,CC$3,MOD(COLUMNS($BU$3:CC$3),2)+1),INDEX($AC$5:$AD$24,INT($AF30/2)+1,MOD(COLUMNS($BU$3:CC$3),2)+1))","v":-9.0096886790241921},{"$f":"IF(OR(MOD($AF30,2)=0,INDEX(relationships,INT($AF30/2)+1,CD$3)<>2),INDEX($AC$5:$AD$24,CD$3,MOD(COLUMNS($BU$3:CD$3),2)+1),INDEX($AC$5:$AD$24,INT($AF30/2)+1,MOD(COLUMNS($BU$3:CD$3),2)+1))","v":-9.7492791218182369},{"$f":"IF(OR(MOD($AF30,2)=0,INDEX(relationships,INT($AF30/2)+1,CE$3)<>2),INDEX($AC$5:$AD$24,CE$3,MOD(COLUMNS($BU$3:CE$3),2)+1),INDEX($AC$5:$AD$24,INT($AF30/2)+1,MOD(COLUMNS($BU$3:CE$3),2)+1))","v":-2.225209339563146},{"$f":"IF(OR(MOD($AF30,2)=0,INDEX(relationships,INT($AF30/2)+1,CF$3)<>2),INDEX($AC$5:$AD$24,CF$3,MOD(COLUMNS($BU$3:CF$3),2)+1),INDEX($AC$5:$AD$24,INT($AF30/2)+1,MOD(COLUMNS($BU$3:CF$3),2)+1))","v":-7.8183148246802991},{"$f":"IF(OR(MOD($AF30,2)=0,INDEX(relationships,INT($AF30/2)+1,CG$3)<>2),INDEX($AC$5:$AD$24,CG$3,MOD(COLUMNS($BU$3:CG$3),2)+1),INDEX($AC$5:$AD$24,INT($AF30/2)+1,MOD(COLUMNS($BU$3:CG$3),2)+1))","v":6.2348980185873337},{"$f":"IF(OR(MOD($AF30,2)=0,INDEX(relationships,INT($AF30/2)+1,CH$3)<>2),INDEX($AC$5:$AD$24,CH$3,MOD(COLUMNS($BU$3:CH$3),2)+1),INDEX($AC$5:$AD$24,INT($AF30/2)+1,MOD(COLUMNS($BU$3:CH$3),2)+1))","v":-2.45029690981724E-15},{"$f":"IF(OR(MOD($AF30,2)=0,INDEX(relationships,INT($AF30/2)+1,CI$3)<>2),INDEX($AC$5:$AD$24,CI$3,MOD(COLUMNS($BU$3:CI$3),2)+1),INDEX($AC$5:$AD$24,INT($AF30/2)+1,MOD(COLUMNS($BU$3:CI$3),2)+1))","v":10},{"$f":"IF(OR(MOD($AF30,2)=0,INDEX(relationships,INT($AF30/2)+1,CJ$3)<>2),INDEX($AC$5:$AD$24,CJ$3,MOD(COLUMNS($BU$3:CJ$3),2)+1),INDEX($AC$5:$AD$24,INT($AF30/2)+1,MOD(COLUMNS($BU$3:CJ$3),2)+1))","v":7.8183148246802956},{"$f":"IF(OR(MOD($AF30,2)=0,INDEX(relationships,INT($AF30/2)+1,CK$3)<>2),INDEX($AC$5:$AD$24,CK$3,MOD(COLUMNS($BU$3:CK$3),2)+1),INDEX($AC$5:$AD$24,INT($AF30/2)+1,MOD(COLUMNS($BU$3:CK$3),2)+1))","v":6.2348980185873373},{"$f":"IF(OR(MOD($AF30,2)=0,INDEX(relationships,INT($AF30/2)+1,CL$3)<>2),INDEX($AC$5:$AD$24,CL$3,MOD(COLUMNS($BU$3:CL$3),2)+1),INDEX($AC$5:$AD$24,INT($AF30/2)+1,MOD(COLUMNS($BU$3:CL$3),2)+1))","v":9.7492791218182369},{"$f":"IF(OR(MOD($AF30,2)=0,INDEX(relationships,INT($AF30/2)+1,CM$3)<>2),INDEX($AC$5:$AD$24,CM$3,MOD(COLUMNS($BU$3:CM$3),2)+1),INDEX($AC$5:$AD$24,INT($AF30/2)+1,MOD(COLUMNS($BU$3:CM$3),2)+1))","v":-2.2252093395631407},{"$f":"IF(OR(MOD($AF30,2)=0,INDEX(relationships,INT($AF30/2)+1,CN$3)<>2),INDEX($AC$5:$AD$24,CN$3,MOD(COLUMNS($BU$3:CN$3),2)+1),INDEX($AC$5:$AD$24,INT($AF30/2)+1,MOD(COLUMNS($BU$3:CN$3),2)+1))","v":4.3388373911755842},{"$f":"IF(OR(MOD($AF30,2)=0,INDEX(relationships,INT($AF30/2)+1,CO$3)<>2),INDEX($AC$5:$AD$24,CO$3,MOD(COLUMNS($BU$3:CO$3),2)+1),INDEX($AC$5:$AD$24,INT($AF30/2)+1,MOD(COLUMNS($BU$3:CO$3),2)+1))","v":-9.0096886790241886},{"$f":"IF(OR(MOD($AF30,2)=0,INDEX(relationships,INT($AF30/2)+1,CP$3)<>2),INDEX($AC$5:$AD$24,CP$3,MOD(COLUMNS($BU$3:CP$3),2)+1),INDEX($AC$5:$AD$24,INT($AF30/2)+1,MOD(COLUMNS($BU$3:CP$3),2)+1))","v":-4.338837391175578},{"$f":"IF(OR(MOD($AF30,2)=0,INDEX(relationships,INT($AF30/2)+1,CQ$3)<>2),INDEX($AC$5:$AD$24,CQ$3,MOD(COLUMNS($BU$3:CQ$3),2)+1),INDEX($AC$5:$AD$24,INT($AF30/2)+1,MOD(COLUMNS($BU$3:CQ$3),2)+1))","v":-9.0096886790241921},{"$f":"IF(OR(MOD($AF30,2)=0,INDEX(relationships,INT($AF30/2)+1,CR$3)<>2),INDEX($AC$5:$AD$24,CR$3,MOD(COLUMNS($BU$3:CR$3),2)+1),INDEX($AC$5:$AD$24,INT($AF30/2)+1,MOD(COLUMNS($BU$3:CR$3),2)+1))","v":-9.7492791218182351},{"$f":"IF(OR(MOD($AF30,2)=0,INDEX(relationships,INT($AF30/2)+1,CS$3)<>2),INDEX($AC$5:$AD$24,CS$3,MOD(COLUMNS($BU$3:CS$3),2)+1),INDEX($AC$5:$AD$24,INT($AF30/2)+1,MOD(COLUMNS($BU$3:CS$3),2)+1))","v":-2.2252093395631483},{"$f":"IF(OR(MOD($AF30,2)=0,INDEX(relationships,INT($AF30/2)+1,CT$3)<>2),INDEX($AC$5:$AD$24,CT$3,MOD(COLUMNS($BU$3:CT$3),2)+1),INDEX($AC$5:$AD$24,INT($AF30/2)+1,MOD(COLUMNS($BU$3:CT$3),2)+1))","v":-7.8183148246803018},{"$f":"IF(OR(MOD($AF30,2)=0,INDEX(relationships,INT($AF30/2)+1,CU$3)<>2),INDEX($AC$5:$AD$24,CU$3,MOD(COLUMNS($BU$3:CU$3),2)+1),INDEX($AC$5:$AD$24,INT($AF30/2)+1,MOD(COLUMNS($BU$3:CU$3),2)+1))","v":6.2348980185873319},{"$f":"IF(OR(MOD($AF30,2)=0,INDEX(relationships,INT($AF30/2)+1,CV$3)<>2),INDEX($AC$5:$AD$24,CV$3,MOD(COLUMNS($BU$3:CV$3),2)+1),INDEX($AC$5:$AD$24,INT($AF30/2)+1,MOD(COLUMNS($BU$3:CV$3),2)+1))","v":-4.90059381963448E-15},{"$f":"IF(OR(MOD($AF30,2)=0,INDEX(relationships,INT($AF30/2)+1,CW$3)<>2),INDEX($AC$5:$AD$24,CW$3,MOD(COLUMNS($BU$3:CW$3),2)+1),INDEX($AC$5:$AD$24,INT($AF30/2)+1,MOD(COLUMNS($BU$3:CW$3),2)+1))","v":10},{"$f":"IF(OR(MOD($AF30,2)=0,INDEX(relationships,INT($AF30/2)+1,CX$3)<>2),INDEX($AC$5:$AD$24,CX$3,MOD(COLUMNS($BU$3:CX$3),2)+1),INDEX($AC$5:$AD$24,INT($AF30/2)+1,MOD(COLUMNS($BU$3:CX$3),2)+1))","v":7.8183148246802947},{"$f":"IF(OR(MOD($AF30,2)=0,INDEX(relationships,INT($AF30/2)+1,CY$3)<>2),INDEX($AC$5:$AD$24,CY$3,MOD(COLUMNS($BU$3:CY$3),2)+1),INDEX($AC$5:$AD$24,INT($AF30/2)+1,MOD(COLUMNS($BU$3:CY$3),2)+1))","v":6.2348980185873391},{"$f":"IF(OR(MOD($AF30,2)=0,INDEX(relationships,INT($AF30/2)+1,CZ$3)<>2),INDEX($AC$5:$AD$24,CZ$3,MOD(COLUMNS($BU$3:CZ$3),2)+1),INDEX($AC$5:$AD$24,INT($AF30/2)+1,MOD(COLUMNS($BU$3:CZ$3),2)+1))","v":9.7492791218182369},{"$f":"IF(OR(MOD($AF30,2)=0,INDEX(relationships,INT($AF30/2)+1,DA$3)<>2),INDEX($AC$5:$AD$24,DA$3,MOD(COLUMNS($BU$3:DA$3),2)+1),INDEX($AC$5:$AD$24,INT($AF30/2)+1,MOD(COLUMNS($BU$3:DA$3),2)+1))","v":-2.2252093395631385},{"$f":"IF(OR(MOD($AF30,2)=0,INDEX(relationships,INT($AF30/2)+1,DB$3)<>2),INDEX($AC$5:$AD$24,DB$3,MOD(COLUMNS($BU$3:DB$3),2)+1),INDEX($AC$5:$AD$24,INT($AF30/2)+1,MOD(COLUMNS($BU$3:DB$3),2)+1))","v":4.3388373911755869},{"$f":"IF(OR(MOD($AF30,2)=0,INDEX(relationships,INT($AF30/2)+1,DC$3)<>2),INDEX($AC$5:$AD$24,DC$3,MOD(COLUMNS($BU$3:DC$3),2)+1),INDEX($AC$5:$AD$24,INT($AF30/2)+1,MOD(COLUMNS($BU$3:DC$3),2)+1))","v":-9.0096886790241886},{"$f":"IF(OR(MOD($AF30,2)=0,INDEX(relationships,INT($AF30/2)+1,DD$3)<>2),INDEX($AC$5:$AD$24,DD$3,MOD(COLUMNS($BU$3:DD$3),2)+1),INDEX($AC$5:$AD$24,INT($AF30/2)+1,MOD(COLUMNS($BU$3:DD$3),2)+1))","v":-4.3388373911755753},{"$f":"IF(OR(MOD($AF30,2)=0,INDEX(relationships,INT($AF30/2)+1,DE$3)<>2),INDEX($AC$5:$AD$24,DE$3,MOD(COLUMNS($BU$3:DE$3),2)+1),INDEX($AC$5:$AD$24,INT($AF30/2)+1,MOD(COLUMNS($BU$3:DE$3),2)+1))","v":-9.0096886790241939},{"$f":"IF(OR(MOD($AF30,2)=0,INDEX(relationships,INT($AF30/2)+1,DF$3)<>2),INDEX($AC$5:$AD$24,DF$3,MOD(COLUMNS($BU$3:DF$3),2)+1),INDEX($AC$5:$AD$24,INT($AF30/2)+1,MOD(COLUMNS($BU$3:DF$3),2)+1))","v":-9.7492791218182351},{"$f":"IF(OR(MOD($AF30,2)=0,INDEX(relationships,INT($AF30/2)+1,DG$3)<>2),INDEX($AC$5:$AD$24,DG$3,MOD(COLUMNS($BU$3:DG$3),2)+1),INDEX($AC$5:$AD$24,INT($AF30/2)+1,MOD(COLUMNS($BU$3:DG$3),2)+1))","v":-2.2252093395631505},{"$f":"IF(OR(MOD($AF30,2)=0,INDEX(relationships,INT($AF30/2)+1,DH$3)<>2),INDEX($AC$5:$AD$24,DH$3,MOD(COLUMNS($BU$3:DH$3),2)+1),INDEX($AC$5:$AD$24,INT($AF30/2)+1,MOD(COLUMNS($BU$3:DH$3),2)+1))","v":-7.8183148246803027},{"$f":"IF(OR(MOD($AF30,2)=0,INDEX(relationships,INT($AF30/2)+1,DI$3)<>2),INDEX($AC$5:$AD$24,DI$3,MOD(COLUMNS($BU$3:DI$3),2)+1),INDEX($AC$5:$AD$24,INT($AF30/2)+1,MOD(COLUMNS($BU$3:DI$3),2)+1))","v":6.2348980185873293},null,-2.45029690981724E-15,10,-2.45029690981724E-15,10]
[null,"Siblings",{"$f":"MAX(C7,INDEX(rawData,COLUMNS($C$28:C$28),ROWS($B$29:$B31)))","v":2},{"$f":"MAX(D7,INDEX(rawData,COLUMNS($C$28:D$28),ROWS($B$29:$B31)))","v":2},{"$f":"MAX(E7,INDEX(rawData,COLUMNS($C$28:E$28),ROWS($B$29:$B31)))","v":0},{"$f":"MAX(F7,INDEX(rawData,COLUMNS($C$28:F$28),ROWS($B$29:$B31)))","v":0},{"$f":"MAX(G7,INDEX(rawData,COLUMNS($C$28:G$28),ROWS($B$29:$B31)))","v":0},{"$f":"MAX(H7,INDEX(rawData,COLUMNS($C$28:H$28),ROWS($B$29:$B31)))","v":1},{"$f":"MAX(I7,INDEX(rawData,COLUMNS($C$28:I$28),ROWS($B$29:$B31)))","v":0},{"$f":"MAX(J7,INDEX(rawData,COLUMNS($C$28:J$28),ROWS($B$29:$B31)))","v":0},{"$f":"MAX(K7,INDEX(rawData,COLUMNS($C$28:K$28),ROWS($B$29:$B31)))","v":0},{"$f":"MAX(L7,INDEX(rawData,COLUMNS($C$28:L$28),ROWS($B$29:$B31)))","v":0},{"$f":"MAX(M7,INDEX(rawData,COLUMNS($C$28:M$28),ROWS($B$29:$B31)))","v":0},{"$f":"MAX(N7,INDEX(rawData,COLUMNS($C$28:N$28),ROWS($B$29:$B31)))","v":0},{"$f":"MAX(O7,INDEX(rawData,COLUMNS($C$28:O$28),ROWS($B$29:$B31)))","v":0},{"$f":"MAX(P7,INDEX(rawData,COLUMNS($C$28:P$28),ROWS($B$29:$B31)))","v":0},{"$f":"MAX(Q7,INDEX(rawData,COLUMNS($C$28:Q$28),ROWS($B$29:$B31)))","v":0},{"$f":"MAX(R7,INDEX(rawData,COLUMNS($C$28:R$28),ROWS($B$29:$B31)))","v":0},{"$f":"MAX(S7,INDEX(rawData,COLUMNS($C$28:S$28),ROWS($B$29:$B31)))","v":0},{"$f":"MAX(T7,INDEX(rawData,COLUMNS($C$28:T$28),ROWS($B$29:$B31)))","v":0},{"$f":"MAX(U7,INDEX(rawData,COLUMNS($C$28:U$28),ROWS($B$29:$B31)))","v":0},{"$f":"MAX(V7,INDEX(rawData,COLUMNS($C$28:V$28),ROWS($B$29:$B31)))","v":0},null,null,null,null,null,null,null,null,null,26,{"$f":"IF(OR(MOD($AF31,2)=0,INDEX(relationships,INT($AF31/2)+1,AG$3)<>1),INDEX($AC$5:$AD$24,AG$3,MOD(COLUMNS($AF$3:AG$3),2)+1),INDEX($AC$5:$AD$24,INT($AF31/2)+1,MOD(COLUMNS($AF$3:AG$3),2)+1))","v":7.8183148246802983},{"$f":"IF(OR(MOD($AF31,2)=0,INDEX(relationships,INT($AF31/2)+1,AH$3)<>1),INDEX($AC$5:$AD$24,AH$3,MOD(COLUMNS($AF$3:AH$3),2)+1),INDEX($AC$5:$AD$24,INT($AF31/2)+1,MOD(COLUMNS($AF$3:AH$3),2)+1))","v":6.2348980185873355},{"$f":"IF(OR(MOD($AF31,2)=0,INDEX(relationships,INT($AF31/2)+1,AI$3)<>1),INDEX($AC$5:$AD$24,AI$3,MOD(COLUMNS($AF$3:AI$3),2)+1),INDEX($AC$5:$AD$24,INT($AF31/2)+1,MOD(COLUMNS($AF$3:AI$3),2)+1))","v":9.7492791218182369},{"$f":"IF(OR(MOD($AF31,2)=0,INDEX(relationships,INT($AF31/2)+1,AJ$3)<>1),INDEX($AC$5:$AD$24,AJ$3,MOD(COLUMNS($AF$3:AJ$3),2)+1),INDEX($AC$5:$AD$24,INT($AF31/2)+1,MOD(COLUMNS($AF$3:AJ$3),2)+1))","v":-2.2252093395631434},{"$f":"IF(OR(MOD($AF31,2)=0,INDEX(relationships,INT($AF31/2)+1,AK$3)<>1),INDEX($AC$5:$AD$24,AK$3,MOD(COLUMNS($AF$3:AK$3),2)+1),INDEX($AC$5:$AD$24,INT($AF31/2)+1,MOD(COLUMNS($AF$3:AK$3),2)+1))","v":4.3388373911755824},{"$f":"IF(OR(MOD($AF31,2)=0,INDEX(relationships,INT($AF31/2)+1,AL$3)<>1),INDEX($AC$5:$AD$24,AL$3,MOD(COLUMNS($AF$3:AL$3),2)+1),INDEX($AC$5:$AD$24,INT($AF31/2)+1,MOD(COLUMNS($AF$3:AL$3),2)+1))","v":-9.0096886790241903},{"$f":"IF(OR(MOD($AF31,2)=0,INDEX(relationships,INT($AF31/2)+1,AM$3)<>1),INDEX($AC$5:$AD$24,AM$3,MOD(COLUMNS($AF$3:AM$3),2)+1),INDEX($AC$5:$AD$24,INT($AF31/2)+1,MOD(COLUMNS($AF$3:AM$3),2)+1))","v":-4.3388373911755798},{"$f":"IF(OR(MOD($AF31,2)=0,INDEX(relationships,INT($AF31/2)+1,AN$3)<>1),INDEX($AC$5:$AD$24,AN$3,MOD(COLUMNS($AF$3:AN$3),2)+1),INDEX($AC$5:$AD$24,INT($AF31/2)+1,MOD(COLUMNS($AF$3:AN$3),2)+1))","v":-9.0096886790241921},{"$f":"IF(OR(MOD($AF31,2)=0,INDEX(relationships,INT($AF31/2)+1,AO$3)<>1),INDEX($AC$5:$AD$24,AO$3,MOD(COLUMNS($AF$3:AO$3),2)+1),INDEX($AC$5:$AD$24,INT($AF31/2)+1,MOD(COLUMNS($AF$3:AO$3),2)+1))","v":-9.7492791218182369},{"$f":"IF(OR(MOD($AF31,2)=0,INDEX(relationships,INT($AF31/2)+1,AP$3)<>1),INDEX($AC$5:$AD$24,AP$3,MOD(COLUMNS($AF$3:AP$3),2)+1),INDEX($AC$5:$AD$24,INT($AF31/2)+1,MOD(COLUMNS($AF$3:AP$3),2)+1))","v":-2.225209339563146},{"$f":"IF(OR(MOD($AF31,2)=0,INDEX(relationships,INT($AF31/2)+1,AQ$3)<>1),INDEX($AC$5:$AD$24,AQ$3,MOD(COLUMNS($AF$3:AQ$3),2)+1),INDEX($AC$5:$AD$24,INT($AF31/2)+1,MOD(COLUMNS($AF$3:AQ$3),2)+1))","v":-7.8183148246802991},{"$f":"IF(OR(MOD($AF31,2)=0,INDEX(relationships,INT($AF31/2)+1,AR$3)<>1),INDEX($AC$5:$AD$24,AR$3,MOD(COLUMNS($AF$3:AR$3),2)+1),INDEX($AC$5:$AD$24,INT($AF31/2)+1,MOD(COLUMNS($AF$3:AR$3),2)+1))","v":6.2348980185873337},{"$f":"IF(OR(MOD($AF31,2)=0,INDEX(relationships,INT($AF31/2)+1,AS$3)<>1),INDEX($AC$5:$AD$24,AS$3,MOD(COLUMNS($AF$3:AS$3),2)+1),INDEX($AC$5:$AD$24,INT($AF31/2)+1,MOD(COLUMNS($AF$3:AS$3),2)+1))","v":-2.45029690981724E-15},{"$f":"IF(OR(MOD($AF31,2)=0,INDEX(relationships,INT($AF31/2)+1,AT$3)<>1),INDEX($AC$5:$AD$24,AT$3,MOD(COLUMNS($AF$3:AT$3),2)+1),INDEX($AC$5:$AD$24,INT($AF31/2)+1,MOD(COLUMNS($AF$3:AT$3),2)+1))","v":10},{"$f":"IF(OR(MOD($AF31,2)=0,INDEX(relationships,INT($AF31/2)+1,AU$3)<>1),INDEX($AC$5:$AD$24,AU$3,MOD(COLUMNS($AF$3:AU$3),2)+1),INDEX($AC$5:$AD$24,INT($AF31/2)+1,MOD(COLUMNS($AF$3:AU$3),2)+1))","v":7.8183148246802956},{"$f":"IF(OR(MOD($AF31,2)=0,INDEX(relationships,INT($AF31/2)+1,AV$3)<>1),INDEX($AC$5:$AD$24,AV$3,MOD(COLUMNS($AF$3:AV$3),2)+1),INDEX($AC$5:$AD$24,INT($AF31/2)+1,MOD(COLUMNS($AF$3:AV$3),2)+1))","v":6.2348980185873373},{"$f":"IF(OR(MOD($AF31,2)=0,INDEX(relationships,INT($AF31/2)+1,AW$3)<>1),INDEX($AC$5:$AD$24,AW$3,MOD(COLUMNS($AF$3:AW$3),2)+1),INDEX($AC$5:$AD$24,INT($AF31/2)+1,MOD(COLUMNS($AF$3:AW$3),2)+1))","v":9.7492791218182369},{"$f":"IF(OR(MOD($AF31,2)=0,INDEX(relationships,INT($AF31/2)+1,AX$3)<>1),INDEX($AC$5:$AD$24,AX$3,MOD(COLUMNS($AF$3:AX$3),2)+1),INDEX($AC$5:$AD$24,INT($AF31/2)+1,MOD(COLUMNS($AF$3:AX$3),2)+1))","v":-2.2252093395631407},{"$f":"IF(OR(MOD($AF31,2)=0,INDEX(relationships,INT($AF31/2)+1,AY$3)<>1),INDEX($AC$5:$AD$24,AY$3,MOD(COLUMNS($AF$3:AY$3),2)+1),INDEX($AC$5:$AD$24,INT($AF31/2)+1,MOD(COLUMNS($AF$3:AY$3),2)+1))","v":4.3388373911755842},{"$f":"IF(OR(MOD($AF31,2)=0,INDEX(relationships,INT($AF31/2)+1,AZ$3)<>1),INDEX($AC$5:$AD$24,AZ$3,MOD(COLUMNS($AF$3:AZ$3),2)+1),INDEX($AC$5:$AD$24,INT($AF31/2)+1,MOD(COLUMNS($AF$3:AZ$3),2)+1))","v":-9.0096886790241886},{"$f":"IF(OR(MOD($AF31,2)=0,INDEX(relationships,INT($AF31/2)+1,BA$3)<>1),INDEX($AC$5:$AD$24,BA$3,MOD(COLUMNS($AF$3:BA$3),2)+1),INDEX($AC$5:$AD$24,INT($AF31/2)+1,MOD(COLUMNS($AF$3:BA$3),2)+1))","v":-4.338837391175578},{"$f":"IF(OR(MOD($AF31,2)=0,INDEX(relationships,INT($AF31/2)+1,BB$3)<>1),INDEX($AC$5:$AD$24,BB$3,MOD(COLUMNS($AF$3:BB$3),2)+1),INDEX($AC$5:$AD$24,INT($AF31/2)+1,MOD(COLUMNS($AF$3:BB$3),2)+1))","v":-9.0096886790241921},{"$f":"IF(OR(MOD($AF31,2)=0,INDEX(relationships,INT($AF31/2)+1,BC$3)<>1),INDEX($AC$5:$AD$24,BC$3,MOD(COLUMNS($AF$3:BC$3),2)+1),INDEX($AC$5:$AD$24,INT($AF31/2)+1,MOD(COLUMNS($AF$3:BC$3),2)+1))","v":-9.7492791218182351},{"$f":"IF(OR(MOD($AF31,2)=0,INDEX(relationships,INT($AF31/2)+1,BD$3)<>1),INDEX($AC$5:$AD$24,BD$3,MOD(COLUMNS($AF$3:BD$3),2)+1),INDEX($AC$5:$AD$24,INT($AF31/2)+1,MOD(COLUMNS($AF$3:BD$3),2)+1))","v":-2.2252093395631483},{"$f":"IF(OR(MOD($AF31,2)=0,INDEX(relationships,INT($AF31/2)+1,BE$3)<>1),INDEX($AC$5:$AD$24,BE$3,MOD(COLUMNS($AF$3:BE$3),2)+1),INDEX($AC$5:$AD$24,INT($AF31/2)+1,MOD(COLUMNS($AF$3:BE$3),2)+1))","v":-7.8183148246803018},{"$f":"IF(OR(MOD($AF31,2)=0,INDEX(relationships,INT($AF31/2)+1,BF$3)<>1),INDEX($AC$5:$AD$24,BF$3,MOD(COLUMNS($AF$3:BF$3),2)+1),INDEX($AC$5:$AD$24,INT($AF31/2)+1,MOD(COLUMNS($AF$3:BF$3),2)+1))","v":6.2348980185873319},{"$f":"IF(OR(MOD($AF31,2)=0,INDEX(relationships,INT($AF31/2)+1,BG$3)<>1),INDEX($AC$5:$AD$24,BG$3,MOD(COLUMNS($AF$3:BG$3),2)+1),INDEX($AC$5:$AD$24,INT($AF31/2)+1,MOD(COLUMNS($AF$3:BG$3),2)+1))","v":-4.90059381963448E-15},{"$f":"IF(OR(MOD($AF31,2)=0,INDEX(relationships,INT($AF31/2)+1,BH$3)<>1),INDEX($AC$5:$AD$24,BH$3,MOD(COLUMNS($AF$3:BH$3),2)+1),INDEX($AC$5:$AD$24,INT($AF31/2)+1,MOD(COLUMNS($AF$3:BH$3),2)+1))","v":10},{"$f":"IF(OR(MOD($AF31,2)=0,INDEX(relationships,INT($AF31/2)+1,BI$3)<>1),INDEX($AC$5:$AD$24,BI$3,MOD(COLUMNS($AF$3:BI$3),2)+1),INDEX($AC$5:$AD$24,INT($AF31/2)+1,MOD(COLUMNS($AF$3:BI$3),2)+1))","v":7.8183148246802947},{"$f":"IF(OR(MOD($AF31,2)=0,INDEX(relationships,INT($AF31/2)+1,BJ$3)<>1),INDEX($AC$5:$AD$24,BJ$3,MOD(COLUMNS($AF$3:BJ$3),2)+1),INDEX($AC$5:$AD$24,INT($AF31/2)+1,MOD(COLUMNS($AF$3:BJ$3),2)+1))","v":6.2348980185873391},{"$f":"IF(OR(MOD($AF31,2)=0,INDEX(relationships,INT($AF31/2)+1,BK$3)<>1),INDEX($AC$5:$AD$24,BK$3,MOD(COLUMNS($AF$3:BK$3),2)+1),INDEX($AC$5:$AD$24,INT($AF31/2)+1,MOD(COLUMNS($AF$3:BK$3),2)+1))","v":9.7492791218182369},{"$f":"IF(OR(MOD($AF31,2)=0,INDEX(relationships,INT($AF31/2)+1,BL$3)<>1),INDEX($AC$5:$AD$24,BL$3,MOD(COLUMNS($AF$3:BL$3),2)+1),INDEX($AC$5:$AD$24,INT($AF31/2)+1,MOD(COLUMNS($AF$3:BL$3),2)+1))","v":-2.2252093395631385},{"$f":"IF(OR(MOD($AF31,2)=0,INDEX(relationships,INT($AF31/2)+1,BM$3)<>1),INDEX($AC$5:$AD$24,BM$3,MOD(COLUMNS($AF$3:BM$3),2)+1),INDEX($AC$5:$AD$24,INT($AF31/2)+1,MOD(COLUMNS($AF$3:BM$3),2)+1))","v":4.3388373911755869},{"$f":"IF(OR(MOD($AF31,2)=0,INDEX(relationships,INT($AF31/2)+1,BN$3)<>1),INDEX($AC$5:$AD$24,BN$3,MOD(COLUMNS($AF$3:BN$3),2)+1),INDEX($AC$5:$AD$24,INT($AF31/2)+1,MOD(COLUMNS($AF$3:BN$3),2)+1))","v":-9.0096886790241886},{"$f":"IF(OR(MOD($AF31,2)=0,INDEX(relationships,INT($AF31/2)+1,BO$3)<>1),INDEX($AC$5:$AD$24,BO$3,MOD(COLUMNS($AF$3:BO$3),2)+1),INDEX($AC$5:$AD$24,INT($AF31/2)+1,MOD(COLUMNS($AF$3:BO$3),2)+1))","v":-4.3388373911755753},{"$f":"IF(OR(MOD($AF31,2)=0,INDEX(relationships,INT($AF31/2)+1,BP$3)<>1),INDEX($AC$5:$AD$24,BP$3,MOD(COLUMNS($AF$3:BP$3),2)+1),INDEX($AC$5:$AD$24,INT($AF31/2)+1,MOD(COLUMNS($AF$3:BP$3),2)+1))","v":-9.0096886790241939},{"$f":"IF(OR(MOD($AF31,2)=0,INDEX(relationships,INT($AF31/2)+1,BQ$3)<>1),INDEX($AC$5:$AD$24,BQ$3,MOD(COLUMNS($AF$3:BQ$3),2)+1),INDEX($AC$5:$AD$24,INT($AF31/2)+1,MOD(COLUMNS($AF$3:BQ$3),2)+1))","v":-9.7492791218182351},{"$f":"IF(OR(MOD($AF31,2)=0,INDEX(relationships,INT($AF31/2)+1,BR$3)<>1),INDEX($AC$5:$AD$24,BR$3,MOD(COLUMNS($AF$3:BR$3),2)+1),INDEX($AC$5:$AD$24,INT($AF31/2)+1,MOD(COLUMNS($AF$3:BR$3),2)+1))","v":-2.2252093395631505},{"$f":"IF(OR(MOD($AF31,2)=0,INDEX(relationships,INT($AF31/2)+1,BS$3)<>1),INDEX($AC$5:$AD$24,BS$3,MOD(COLUMNS($AF$3:BS$3),2)+1),INDEX($AC$5:$AD$24,INT($AF31/2)+1,MOD(COLUMNS($AF$3:BS$3),2)+1))","v":-7.8183148246803027},{"$f":"IF(OR(MOD($AF31,2)=0,INDEX(relationships,INT($AF31/2)+1,BT$3)<>1),INDEX($AC$5:$AD$24,BT$3,MOD(COLUMNS($AF$3:BT$3),2)+1),INDEX($AC$5:$AD$24,INT($AF31/2)+1,MOD(COLUMNS($AF$3:BT$3),2)+1))","v":6.2348980185873293},null,{"$f":"IF(OR(MOD($AF31,2)=0,INDEX(relationships,INT($AF31/2)+1,BV$3)<>2),INDEX($AC$5:$AD$24,BV$3,MOD(COLUMNS($BU$3:BV$3),2)+1),INDEX($AC$5:$AD$24,INT($AF31/2)+1,MOD(COLUMNS($BU$3:BV$3),2)+1))","v":7.8183148246802983},{"$f":"IF(OR(MOD($AF31,2)=0,INDEX(relationships,INT($AF31/2)+1,BW$3)<>2),INDEX($AC$5:$AD$24,BW$3,MOD(COLUMNS($BU$3:BW$3),2)+1),INDEX($AC$5:$AD$24,INT($AF31/2)+1,MOD(COLUMNS($BU$3:BW$3),2)+1))","v":6.2348980185873355},{"$f":"IF(OR(MOD($AF31,2)=0,INDEX(relationships,INT($AF31/2)+1,BX$3)<>2),INDEX($AC$5:$AD$24,BX$3,MOD(COLUMNS($BU$3:BX$3),2)+1),INDEX($AC$5:$AD$24,INT($AF31/2)+1,MOD(COLUMNS($BU$3:BX$3),2)+1))","v":9.7492791218182369},{"$f":"IF(OR(MOD($AF31,2)=0,INDEX(relationships,INT($AF31/2)+1,BY$3)<>2),INDEX($AC$5:$AD$24,BY$3,MOD(COLUMNS($BU$3:BY$3),2)+1),INDEX($AC$5:$AD$24,INT($AF31/2)+1,MOD(COLUMNS($BU$3:BY$3),2)+1))","v":-2.2252093395631434},{"$f":"IF(OR(MOD($AF31,2)=0,INDEX(relationships,INT($AF31/2)+1,BZ$3)<>2),INDEX($AC$5:$AD$24,BZ$3,MOD(COLUMNS($BU$3:BZ$3),2)+1),INDEX($AC$5:$AD$24,INT($AF31/2)+1,MOD(COLUMNS($BU$3:BZ$3),2)+1))","v":4.3388373911755824},{"$f":"IF(OR(MOD($AF31,2)=0,INDEX(relationships,INT($AF31/2)+1,CA$3)<>2),INDEX($AC$5:$AD$24,CA$3,MOD(COLUMNS($BU$3:CA$3),2)+1),INDEX($AC$5:$AD$24,INT($AF31/2)+1,MOD(COLUMNS($BU$3:CA$3),2)+1))","v":-9.0096886790241903},{"$f":"IF(OR(MOD($AF31,2)=0,INDEX(relationships,INT($AF31/2)+1,CB$3)<>2),INDEX($AC$5:$AD$24,CB$3,MOD(COLUMNS($BU$3:CB$3),2)+1),INDEX($AC$5:$AD$24,INT($AF31/2)+1,MOD(COLUMNS($BU$3:CB$3),2)+1))","v":-4.3388373911755798},{"$f":"IF(OR(MOD($AF31,2)=0,INDEX(relationships,INT($AF31/2)+1,CC$3)<>2),INDEX($AC$5:$AD$24,CC$3,MOD(COLUMNS($BU$3:CC$3),2)+1),INDEX($AC$5:$AD$24,INT($AF31/2)+1,MOD(COLUMNS($BU$3:CC$3),2)+1))","v":-9.0096886790241921},{"$f":"IF(OR(MOD($AF31,2)=0,INDEX(relationships,INT($AF31/2)+1,CD$3)<>2),INDEX($AC$5:$AD$24,CD$3,MOD(COLUMNS($BU$3:CD$3),2)+1),INDEX($AC$5:$AD$24,INT($AF31/2)+1,MOD(COLUMNS($BU$3:CD$3),2)+1))","v":-9.7492791218182369},{"$f":"IF(OR(MOD($AF31,2)=0,INDEX(relationships,INT($AF31/2)+1,CE$3)<>2),INDEX($AC$5:$AD$24,CE$3,MOD(COLUMNS($BU$3:CE$3),2)+1),INDEX($AC$5:$AD$24,INT($AF31/2)+1,MOD(COLUMNS($BU$3:CE$3),2)+1))","v":-2.225209339563146},{"$f":"IF(OR(MOD($AF31,2)=0,INDEX(relationships,INT($AF31/2)+1,CF$3)<>2),INDEX($AC$5:$AD$24,CF$3,MOD(COLUMNS($BU$3:CF$3),2)+1),INDEX($AC$5:$AD$24,INT($AF31/2)+1,MOD(COLUMNS($BU$3:CF$3),2)+1))","v":-7.8183148246802991},{"$f":"IF(OR(MOD($AF31,2)=0,INDEX(relationships,INT($AF31/2)+1,CG$3)<>2),INDEX($AC$5:$AD$24,CG$3,MOD(COLUMNS($BU$3:CG$3),2)+1),INDEX($AC$5:$AD$24,INT($AF31/2)+1,MOD(COLUMNS($BU$3:CG$3),2)+1))","v":6.2348980185873337},{"$f":"IF(OR(MOD($AF31,2)=0,INDEX(relationships,INT($AF31/2)+1,CH$3)<>2),INDEX($AC$5:$AD$24,CH$3,MOD(COLUMNS($BU$3:CH$3),2)+1),INDEX($AC$5:$AD$24,INT($AF31/2)+1,MOD(COLUMNS($BU$3:CH$3),2)+1))","v":-2.45029690981724E-15},{"$f":"IF(OR(MOD($AF31,2)=0,INDEX(relationships,INT($AF31/2)+1,CI$3)<>2),INDEX($AC$5:$AD$24,CI$3,MOD(COLUMNS($BU$3:CI$3),2)+1),INDEX($AC$5:$AD$24,INT($AF31/2)+1,MOD(COLUMNS($BU$3:CI$3),2)+1))","v":10},{"$f":"IF(OR(MOD($AF31,2)=0,INDEX(relationships,INT($AF31/2)+1,CJ$3)<>2),INDEX($AC$5:$AD$24,CJ$3,MOD(COLUMNS($BU$3:CJ$3),2)+1),INDEX($AC$5:$AD$24,INT($AF31/2)+1,MOD(COLUMNS($BU$3:CJ$3),2)+1))","v":7.8183148246802956},{"$f":"IF(OR(MOD($AF31,2)=0,INDEX(relationships,INT($AF31/2)+1,CK$3)<>2),INDEX($AC$5:$AD$24,CK$3,MOD(COLUMNS($BU$3:CK$3),2)+1),INDEX($AC$5:$AD$24,INT($AF31/2)+1,MOD(COLUMNS($BU$3:CK$3),2)+1))","v":6.2348980185873373},{"$f":"IF(OR(MOD($AF31,2)=0,INDEX(relationships,INT($AF31/2)+1,CL$3)<>2),INDEX($AC$5:$AD$24,CL$3,MOD(COLUMNS($BU$3:CL$3),2)+1),INDEX($AC$5:$AD$24,INT($AF31/2)+1,MOD(COLUMNS($BU$3:CL$3),2)+1))","v":9.7492791218182369},{"$f":"IF(OR(MOD($AF31,2)=0,INDEX(relationships,INT($AF31/2)+1,CM$3)<>2),INDEX($AC$5:$AD$24,CM$3,MOD(COLUMNS($BU$3:CM$3),2)+1),INDEX($AC$5:$AD$24,INT($AF31/2)+1,MOD(COLUMNS($BU$3:CM$3),2)+1))","v":-2.2252093395631407},{"$f":"IF(OR(MOD($AF31,2)=0,INDEX(relationships,INT($AF31/2)+1,CN$3)<>2),INDEX($AC$5:$AD$24,CN$3,MOD(COLUMNS($BU$3:CN$3),2)+1),INDEX($AC$5:$AD$24,INT($AF31/2)+1,MOD(COLUMNS($BU$3:CN$3),2)+1))","v":4.3388373911755842},{"$f":"IF(OR(MOD($AF31,2)=0,INDEX(relationships,INT($AF31/2)+1,CO$3)<>2),INDEX($AC$5:$AD$24,CO$3,MOD(COLUMNS($BU$3:CO$3),2)+1),INDEX($AC$5:$AD$24,INT($AF31/2)+1,MOD(COLUMNS($BU$3:CO$3),2)+1))","v":-9.0096886790241886},{"$f":"IF(OR(MOD($AF31,2)=0,INDEX(relationships,INT($AF31/2)+1,CP$3)<>2),INDEX($AC$5:$AD$24,CP$3,MOD(COLUMNS($BU$3:CP$3),2)+1),INDEX($AC$5:$AD$24,INT($AF31/2)+1,MOD(COLUMNS($BU$3:CP$3),2)+1))","v":-4.338837391175578},{"$f":"IF(OR(MOD($AF31,2)=0,INDEX(relationships,INT($AF31/2)+1,CQ$3)<>2),INDEX($AC$5:$AD$24,CQ$3,MOD(COLUMNS($BU$3:CQ$3),2)+1),INDEX($AC$5:$AD$24,INT($AF31/2)+1,MOD(COLUMNS($BU$3:CQ$3),2)+1))","v":-9.0096886790241921},{"$f":"IF(OR(MOD($AF31,2)=0,INDEX(relationships,INT($AF31/2)+1,CR$3)<>2),INDEX($AC$5:$AD$24,CR$3,MOD(COLUMNS($BU$3:CR$3),2)+1),INDEX($AC$5:$AD$24,INT($AF31/2)+1,MOD(COLUMNS($BU$3:CR$3),2)+1))","v":-9.7492791218182351},{"$f":"IF(OR(MOD($AF31,2)=0,INDEX(relationships,INT($AF31/2)+1,CS$3)<>2),INDEX($AC$5:$AD$24,CS$3,MOD(COLUMNS($BU$3:CS$3),2)+1),INDEX($AC$5:$AD$24,INT($AF31/2)+1,MOD(COLUMNS($BU$3:CS$3),2)+1))","v":-2.2252093395631483},{"$f":"IF(OR(MOD($AF31,2)=0,INDEX(relationships,INT($AF31/2)+1,CT$3)<>2),INDEX($AC$5:$AD$24,CT$3,MOD(COLUMNS($BU$3:CT$3),2)+1),INDEX($AC$5:$AD$24,INT($AF31/2)+1,MOD(COLUMNS($BU$3:CT$3),2)+1))","v":-7.8183148246803018},{"$f":"IF(OR(MOD($AF31,2)=0,INDEX(relationships,INT($AF31/2)+1,CU$3)<>2),INDEX($AC$5:$AD$24,CU$3,MOD(COLUMNS($BU$3:CU$3),2)+1),INDEX($AC$5:$AD$24,INT($AF31/2)+1,MOD(COLUMNS($BU$3:CU$3),2)+1))","v":6.2348980185873319},{"$f":"IF(OR(MOD($AF31,2)=0,INDEX(relationships,INT($AF31/2)+1,CV$3)<>2),INDEX($AC$5:$AD$24,CV$3,MOD(COLUMNS($BU$3:CV$3),2)+1),INDEX($AC$5:$AD$24,INT($AF31/2)+1,MOD(COLUMNS($BU$3:CV$3),2)+1))","v":-4.90059381963448E-15},{"$f":"IF(OR(MOD($AF31,2)=0,INDEX(relationships,INT($AF31/2)+1,CW$3)<>2),INDEX($AC$5:$AD$24,CW$3,MOD(COLUMNS($BU$3:CW$3),2)+1),INDEX($AC$5:$AD$24,INT($AF31/2)+1,MOD(COLUMNS($BU$3:CW$3),2)+1))","v":10},{"$f":"IF(OR(MOD($AF31,2)=0,INDEX(relationships,INT($AF31/2)+1,CX$3)<>2),INDEX($AC$5:$AD$24,CX$3,MOD(COLUMNS($BU$3:CX$3),2)+1),INDEX($AC$5:$AD$24,INT($AF31/2)+1,MOD(COLUMNS($BU$3:CX$3),2)+1))","v":7.8183148246802947},{"$f":"IF(OR(MOD($AF31,2)=0,INDEX(relationships,INT($AF31/2)+1,CY$3)<>2),INDEX($AC$5:$AD$24,CY$3,MOD(COLUMNS($BU$3:CY$3),2)+1),INDEX($AC$5:$AD$24,INT($AF31/2)+1,MOD(COLUMNS($BU$3:CY$3),2)+1))","v":6.2348980185873391},{"$f":"IF(OR(MOD($AF31,2)=0,INDEX(relationships,INT($AF31/2)+1,CZ$3)<>2),INDEX($AC$5:$AD$24,CZ$3,MOD(COLUMNS($BU$3:CZ$3),2)+1),INDEX($AC$5:$AD$24,INT($AF31/2)+1,MOD(COLUMNS($BU$3:CZ$3),2)+1))","v":9.7492791218182369},{"$f":"IF(OR(MOD($AF31,2)=0,INDEX(relationships,INT($AF31/2)+1,DA$3)<>2),INDEX($AC$5:$AD$24,DA$3,MOD(COLUMNS($BU$3:DA$3),2)+1),INDEX($AC$5:$AD$24,INT($AF31/2)+1,MOD(COLUMNS($BU$3:DA$3),2)+1))","v":-2.2252093395631385},{"$f":"IF(OR(MOD($AF31,2)=0,INDEX(relationships,INT($AF31/2)+1,DB$3)<>2),INDEX($AC$5:$AD$24,DB$3,MOD(COLUMNS($BU$3:DB$3),2)+1),INDEX($AC$5:$AD$24,INT($AF31/2)+1,MOD(COLUMNS($BU$3:DB$3),2)+1))","v":4.3388373911755869},{"$f":"IF(OR(MOD($AF31,2)=0,INDEX(relationships,INT($AF31/2)+1,DC$3)<>2),INDEX($AC$5:$AD$24,DC$3,MOD(COLUMNS($BU$3:DC$3),2)+1),INDEX($AC$5:$AD$24,INT($AF31/2)+1,MOD(COLUMNS($BU$3:DC$3),2)+1))","v":-9.0096886790241886},{"$f":"IF(OR(MOD($AF31,2)=0,INDEX(relationships,INT($AF31/2)+1,DD$3)<>2),INDEX($AC$5:$AD$24,DD$3,MOD(COLUMNS($BU$3:DD$3),2)+1),INDEX($AC$5:$AD$24,INT($AF31/2)+1,MOD(COLUMNS($BU$3:DD$3),2)+1))","v":-4.3388373911755753},{"$f":"IF(OR(MOD($AF31,2)=0,INDEX(relationships,INT($AF31/2)+1,DE$3)<>2),INDEX($AC$5:$AD$24,DE$3,MOD(COLUMNS($BU$3:DE$3),2)+1),INDEX($AC$5:$AD$24,INT($AF31/2)+1,MOD(COLUMNS($BU$3:DE$3),2)+1))","v":-9.0096886790241939},{"$f":"IF(OR(MOD($AF31,2)=0,INDEX(relationships,INT($AF31/2)+1,DF$3)<>2),INDEX($AC$5:$AD$24,DF$3,MOD(COLUMNS($BU$3:DF$3),2)+1),INDEX($AC$5:$AD$24,INT($AF31/2)+1,MOD(COLUMNS($BU$3:DF$3),2)+1))","v":-9.7492791218182351},{"$f":"IF(OR(MOD($AF31,2)=0,INDEX(relationships,INT($AF31/2)+1,DG$3)<>2),INDEX($AC$5:$AD$24,DG$3,MOD(COLUMNS($BU$3:DG$3),2)+1),INDEX($AC$5:$AD$24,INT($AF31/2)+1,MOD(COLUMNS($BU$3:DG$3),2)+1))","v":-2.2252093395631505},{"$f":"IF(OR(MOD($AF31,2)=0,INDEX(relationships,INT($AF31/2)+1,DH$3)<>2),INDEX($AC$5:$AD$24,DH$3,MOD(COLUMNS($BU$3:DH$3),2)+1),INDEX($AC$5:$AD$24,INT($AF31/2)+1,MOD(COLUMNS($BU$3:DH$3),2)+1))","v":-7.8183148246803027},{"$f":"IF(OR(MOD($AF31,2)=0,INDEX(relationships,INT($AF31/2)+1,DI$3)<>2),INDEX($AC$5:$AD$24,DI$3,MOD(COLUMNS($BU$3:DI$3),2)+1),INDEX($AC$5:$AD$24,INT($AF31/2)+1,MOD(COLUMNS($BU$3:DI$3),2)+1))","v":6.2348980185873293},null,-2.45029690981724E-15,10,-2.45029690981724E-15,10]
[null,"Grandparents",{"$f":"MAX(C8,INDEX(rawData,COLUMNS($C$28:C$28),ROWS($B$29:$B32)))","v":0},{"$f":"MAX(D8,INDEX(rawData,COLUMNS($C$28:D$28),ROWS($B$29:$B32)))","v":0},{"$f":"MAX(E8,INDEX(rawData,COLUMNS($C$28:E$28),ROWS($B$29:$B32)))","v":0},{"$f":"MAX(F8,INDEX(rawData,COLUMNS($C$28:F$28),ROWS($B$29:$B32)))","v":0},{"$f":"MAX(G8,INDEX(rawData,COLUMNS($C$28:G$28),ROWS($B$29:$B32)))","v":0},{"$f":"MAX(H8,INDEX(rawData,COLUMNS($C$28:H$28),ROWS($B$29:$B32)))","v":1},{"$f":"MAX(I8,INDEX(rawData,COLUMNS($C$28:I$28),ROWS($B$29:$B32)))","v":0},{"$f":"MAX(J8,INDEX(rawData,COLUMNS($C$28:J$28),ROWS($B$29:$B32)))","v":0},{"$f":"MAX(K8,INDEX(rawData,COLUMNS($C$28:K$28),ROWS($B$29:$B32)))","v":0},{"$f":"MAX(L8,INDEX(rawData,COLUMNS($C$28:L$28),ROWS($B$29:$B32)))","v":0},{"$f":"MAX(M8,INDEX(rawData,COLUMNS($C$28:M$28),ROWS($B$29:$B32)))","v":0},{"$f":"MAX(N8,INDEX(rawData,COLUMNS($C$28:N$28),ROWS($B$29:$B32)))","v":0},{"$f":"MAX(O8,INDEX(rawData,COLUMNS($C$28:O$28),ROWS($B$29:$B32)))","v":0},{"$f":"MAX(P8,INDEX(rawData,COLUMNS($C$28:P$28),ROWS($B$29:$B32)))","v":0},{"$f":"MAX(Q8,INDEX(rawData,COLUMNS($C$28:Q$28),ROWS($B$29:$B32)))","v":0},{"$f":"MAX(R8,INDEX(rawData,COLUMNS($C$28:R$28),ROWS($B$29:$B32)))","v":0},{"$f":"MAX(S8,INDEX(rawData,COLUMNS($C$28:S$28),ROWS($B$29:$B32)))","v":0},{"$f":"MAX(T8,INDEX(rawData,COLUMNS($C$28:T$28),ROWS($B$29:$B32)))","v":0},{"$f":"MAX(U8,INDEX(rawData,COLUMNS($C$28:U$28),ROWS($B$29:$B32)))","v":0},{"$f":"MAX(V8,INDEX(rawData,COLUMNS($C$28:V$28),ROWS($B$29:$B32)))","v":0},null,null,null,null,null,null,null,null,null,27,{"$f":"IF(OR(MOD($AF32,2)=0,INDEX(relationships,INT($AF32/2)+1,AG$3)<>1),INDEX($AC$5:$AD$24,AG$3,MOD(COLUMNS($AF$3:AG$3),2)+1),INDEX($AC$5:$AD$24,INT($AF32/2)+1,MOD(COLUMNS($AF$3:AG$3),2)+1))","v":7.8183148246802983},{"$f":"IF(OR(MOD($AF32,2)=0,INDEX(relationships,INT($AF32/2)+1,AH$3)<>1),INDEX($AC$5:$AD$24,AH$3,MOD(COLUMNS($AF$3:AH$3),2)+1),INDEX($AC$5:$AD$24,INT($AF32/2)+1,MOD(COLUMNS($AF$3:AH$3),2)+1))","v":6.2348980185873355},{"$f":"IF(OR(MOD($AF32,2)=0,INDEX(relationships,INT($AF32/2)+1,AI$3)<>1),INDEX($AC$5:$AD$24,AI$3,MOD(COLUMNS($AF$3:AI$3),2)+1),INDEX($AC$5:$AD$24,INT($AF32/2)+1,MOD(COLUMNS($AF$3:AI$3),2)+1))","v":9.7492791218182369},{"$f":"IF(OR(MOD($AF32,2)=0,INDEX(relationships,INT($AF32/2)+1,AJ$3)<>1),INDEX($AC$5:$AD$24,AJ$3,MOD(COLUMNS($AF$3:AJ$3),2)+1),INDEX($AC$5:$AD$24,INT($AF32/2)+1,MOD(COLUMNS($AF$3:AJ$3),2)+1))","v":-2.2252093395631434},{"$f":"IF(OR(MOD($AF32,2)=0,INDEX(relationships,INT($AF32/2)+1,AK$3)<>1),INDEX($AC$5:$AD$24,AK$3,MOD(COLUMNS($AF$3:AK$3),2)+1),INDEX($AC$5:$AD$24,INT($AF32/2)+1,MOD(COLUMNS($AF$3:AK$3),2)+1))","v":4.3388373911755824},{"$f":"IF(OR(MOD($AF32,2)=0,INDEX(relationships,INT($AF32/2)+1,AL$3)<>1),INDEX($AC$5:$AD$24,AL$3,MOD(COLUMNS($AF$3:AL$3),2)+1),INDEX($AC$5:$AD$24,INT($AF32/2)+1,MOD(COLUMNS($AF$3:AL$3),2)+1))","v":-9.0096886790241903},{"$f":"IF(OR(MOD($AF32,2)=0,INDEX(relationships,INT($AF32/2)+1,AM$3)<>1),INDEX($AC$5:$AD$24,AM$3,MOD(COLUMNS($AF$3:AM$3),2)+1),INDEX($AC$5:$AD$24,INT($AF32/2)+1,MOD(COLUMNS($AF$3:AM$3),2)+1))","v":-4.3388373911755798},{"$f":"IF(OR(MOD($AF32,2)=0,INDEX(relationships,INT($AF32/2)+1,AN$3)<>1),INDEX($AC$5:$AD$24,AN$3,MOD(COLUMNS($AF$3:AN$3),2)+1),INDEX($AC$5:$AD$24,INT($AF32/2)+1,MOD(COLUMNS($AF$3:AN$3),2)+1))","v":-9.0096886790241921},{"$f":"IF(OR(MOD($AF32,2)=0,INDEX(relationships,INT($AF32/2)+1,AO$3)<>1),INDEX($AC$5:$AD$24,AO$3,MOD(COLUMNS($AF$3:AO$3),2)+1),INDEX($AC$5:$AD$24,INT($AF32/2)+1,MOD(COLUMNS($AF$3:AO$3),2)+1))","v":-9.7492791218182369},{"$f":"IF(OR(MOD($AF32,2)=0,INDEX(relationships,INT($AF32/2)+1,AP$3)<>1),INDEX($AC$5:$AD$24,AP$3,MOD(COLUMNS($AF$3:AP$3),2)+1),INDEX($AC$5:$AD$24,INT($AF32/2)+1,MOD(COLUMNS($AF$3:AP$3),2)+1))","v":-2.225209339563146},{"$f":"IF(OR(MOD($AF32,2)=0,INDEX(relationships,INT($AF32/2)+1,AQ$3)<>1),INDEX($AC$5:$AD$24,AQ$3,MOD(COLUMNS($AF$3:AQ$3),2)+1),INDEX($AC$5:$AD$24,INT($AF32/2)+1,MOD(COLUMNS($AF$3:AQ$3),2)+1))","v":-7.8183148246802991},{"$f":"IF(OR(MOD($AF32,2)=0,INDEX(relationships,INT($AF32/2)+1,AR$3)<>1),INDEX($AC$5:$AD$24,AR$3,MOD(COLUMNS($AF$3:AR$3),2)+1),INDEX($AC$5:$AD$24,INT($AF32/2)+1,MOD(COLUMNS($AF$3:AR$3),2)+1))","v":6.2348980185873337},{"$f":"IF(OR(MOD($AF32,2)=0,INDEX(relationships,INT($AF32/2)+1,AS$3)<>1),INDEX($AC$5:$AD$24,AS$3,MOD(COLUMNS($AF$3:AS$3),2)+1),INDEX($AC$5:$AD$24,INT($AF32/2)+1,MOD(COLUMNS($AF$3:AS$3),2)+1))","v":-2.45029690981724E-15},{"$f":"IF(OR(MOD($AF32,2)=0,INDEX(relationships,INT($AF32/2)+1,AT$3)<>1),INDEX($AC$5:$AD$24,AT$3,MOD(COLUMNS($AF$3:AT$3),2)+1),INDEX($AC$5:$AD$24,INT($AF32/2)+1,MOD(COLUMNS($AF$3:AT$3),2)+1))","v":10},{"$f":"IF(OR(MOD($AF32,2)=0,INDEX(relationships,INT($AF32/2)+1,AU$3)<>1),INDEX($AC$5:$AD$24,AU$3,MOD(COLUMNS($AF$3:AU$3),2)+1),INDEX($AC$5:$AD$24,INT($AF32/2)+1,MOD(COLUMNS($AF$3:AU$3),2)+1))","v":7.8183148246802956},{"$f":"IF(OR(MOD($AF32,2)=0,INDEX(relationships,INT($AF32/2)+1,AV$3)<>1),INDEX($AC$5:$AD$24,AV$3,MOD(COLUMNS($AF$3:AV$3),2)+1),INDEX($AC$5:$AD$24,INT($AF32/2)+1,MOD(COLUMNS($AF$3:AV$3),2)+1))","v":6.2348980185873373},{"$f":"IF(OR(MOD($AF32,2)=0,INDEX(relationships,INT($AF32/2)+1,AW$3)<>1),INDEX($AC$5:$AD$24,AW$3,MOD(COLUMNS($AF$3:AW$3),2)+1),INDEX($AC$5:$AD$24,INT($AF32/2)+1,MOD(COLUMNS($AF$3:AW$3),2)+1))","v":9.7492791218182369},{"$f":"IF(OR(MOD($AF32,2)=0,INDEX(relationships,INT($AF32/2)+1,AX$3)<>1),INDEX($AC$5:$AD$24,AX$3,MOD(COLUMNS($AF$3:AX$3),2)+1),INDEX($AC$5:$AD$24,INT($AF32/2)+1,MOD(COLUMNS($AF$3:AX$3),2)+1))","v":-2.2252093395631407},{"$f":"IF(OR(MOD($AF32,2)=0,INDEX(relationships,INT($AF32/2)+1,AY$3)<>1),INDEX($AC$5:$AD$24,AY$3,MOD(COLUMNS($AF$3:AY$3),2)+1),INDEX($AC$5:$AD$24,INT($AF32/2)+1,MOD(COLUMNS($AF$3:AY$3),2)+1))","v":4.3388373911755842},{"$f":"IF(OR(MOD($AF32,2)=0,INDEX(relationships,INT($AF32/2)+1,AZ$3)<>1),INDEX($AC$5:$AD$24,AZ$3,MOD(COLUMNS($AF$3:AZ$3),2)+1),INDEX($AC$5:$AD$24,INT($AF32/2)+1,MOD(COLUMNS($AF$3:AZ$3),2)+1))","v":-9.0096886790241886},{"$f":"IF(OR(MOD($AF32,2)=0,INDEX(relationships,INT($AF32/2)+1,BA$3)<>1),INDEX($AC$5:$AD$24,BA$3,MOD(COLUMNS($AF$3:BA$3),2)+1),INDEX($AC$5:$AD$24,INT($AF32/2)+1,MOD(COLUMNS($AF$3:BA$3),2)+1))","v":-4.338837391175578},{"$f":"IF(OR(MOD($AF32,2)=0,INDEX(relationships,INT($AF32/2)+1,BB$3)<>1),INDEX($AC$5:$AD$24,BB$3,MOD(COLUMNS($AF$3:BB$3),2)+1),INDEX($AC$5:$AD$24,INT($AF32/2)+1,MOD(COLUMNS($AF$3:BB$3),2)+1))","v":-9.0096886790241921},{"$f":"IF(OR(MOD($AF32,2)=0,INDEX(relationships,INT($AF32/2)+1,BC$3)<>1),INDEX($AC$5:$AD$24,BC$3,MOD(COLUMNS($AF$3:BC$3),2)+1),INDEX($AC$5:$AD$24,INT($AF32/2)+1,MOD(COLUMNS($AF$3:BC$3),2)+1))","v":-9.7492791218182351},{"$f":"IF(OR(MOD($AF32,2)=0,INDEX(relationships,INT($AF32/2)+1,BD$3)<>1),INDEX($AC$5:$AD$24,BD$3,MOD(COLUMNS($AF$3:BD$3),2)+1),INDEX($AC$5:$AD$24,INT($AF32/2)+1,MOD(COLUMNS($AF$3:BD$3),2)+1))","v":-2.2252093395631483},{"$f":"IF(OR(MOD($AF32,2)=0,INDEX(relationships,INT($AF32/2)+1,BE$3)<>1),INDEX($AC$5:$AD$24,BE$3,MOD(COLUMNS($AF$3:BE$3),2)+1),INDEX($AC$5:$AD$24,INT($AF32/2)+1,MOD(COLUMNS($AF$3:BE$3),2)+1))","v":-7.8183148246803018},{"$f":"IF(OR(MOD($AF32,2)=0,INDEX(relationships,INT($AF32/2)+1,BF$3)<>1),INDEX($AC$5:$AD$24,BF$3,MOD(COLUMNS($AF$3:BF$3),2)+1),INDEX($AC$5:$AD$24,INT($AF32/2)+1,MOD(COLUMNS($AF$3:BF$3),2)+1))","v":6.2348980185873319},{"$f":"IF(OR(MOD($AF32,2)=0,INDEX(relationships,INT($AF32/2)+1,BG$3)<>1),INDEX($AC$5:$AD$24,BG$3,MOD(COLUMNS($AF$3:BG$3),2)+1),INDEX($AC$5:$AD$24,INT($AF32/2)+1,MOD(COLUMNS($AF$3:BG$3),2)+1))","v":-4.90059381963448E-15},{"$f":"IF(OR(MOD($AF32,2)=0,INDEX(relationships,INT($AF32/2)+1,BH$3)<>1),INDEX($AC$5:$AD$24,BH$3,MOD(COLUMNS($AF$3:BH$3),2)+1),INDEX($AC$5:$AD$24,INT($AF32/2)+1,MOD(COLUMNS($AF$3:BH$3),2)+1))","v":10},{"$f":"IF(OR(MOD($AF32,2)=0,INDEX(relationships,INT($AF32/2)+1,BI$3)<>1),INDEX($AC$5:$AD$24,BI$3,MOD(COLUMNS($AF$3:BI$3),2)+1),INDEX($AC$5:$AD$24,INT($AF32/2)+1,MOD(COLUMNS($AF$3:BI$3),2)+1))","v":7.8183148246802947},{"$f":"IF(OR(MOD($AF32,2)=0,INDEX(relationships,INT($AF32/2)+1,BJ$3)<>1),INDEX($AC$5:$AD$24,BJ$3,MOD(COLUMNS($AF$3:BJ$3),2)+1),INDEX($AC$5:$AD$24,INT($AF32/2)+1,MOD(COLUMNS($AF$3:BJ$3),2)+1))","v":6.2348980185873391},{"$f":"IF(OR(MOD($AF32,2)=0,INDEX(relationships,INT($AF32/2)+1,BK$3)<>1),INDEX($AC$5:$AD$24,BK$3,MOD(COLUMNS($AF$3:BK$3),2)+1),INDEX($AC$5:$AD$24,INT($AF32/2)+1,MOD(COLUMNS($AF$3:BK$3),2)+1))","v":9.7492791218182369},{"$f":"IF(OR(MOD($AF32,2)=0,INDEX(relationships,INT($AF32/2)+1,BL$3)<>1),INDEX($AC$5:$AD$24,BL$3,MOD(COLUMNS($AF$3:BL$3),2)+1),INDEX($AC$5:$AD$24,INT($AF32/2)+1,MOD(COLUMNS($AF$3:BL$3),2)+1))","v":-2.2252093395631385},{"$f":"IF(OR(MOD($AF32,2)=0,INDEX(relationships,INT($AF32/2)+1,BM$3)<>1),INDEX($AC$5:$AD$24,BM$3,MOD(COLUMNS($AF$3:BM$3),2)+1),INDEX($AC$5:$AD$24,INT($AF32/2)+1,MOD(COLUMNS($AF$3:BM$3),2)+1))","v":4.3388373911755869},{"$f":"IF(OR(MOD($AF32,2)=0,INDEX(relationships,INT($AF32/2)+1,BN$3)<>1),INDEX($AC$5:$AD$24,BN$3,MOD(COLUMNS($AF$3:BN$3),2)+1),INDEX($AC$5:$AD$24,INT($AF32/2)+1,MOD(COLUMNS($AF$3:BN$3),2)+1))","v":-9.0096886790241886},{"$f":"IF(OR(MOD($AF32,2)=0,INDEX(relationships,INT($AF32/2)+1,BO$3)<>1),INDEX($AC$5:$AD$24,BO$3,MOD(COLUMNS($AF$3:BO$3),2)+1),INDEX($AC$5:$AD$24,INT($AF32/2)+1,MOD(COLUMNS($AF$3:BO$3),2)+1))","v":-4.3388373911755753},{"$f":"IF(OR(MOD($AF32,2)=0,INDEX(relationships,INT($AF32/2)+1,BP$3)<>1),INDEX($AC$5:$AD$24,BP$3,MOD(COLUMNS($AF$3:BP$3),2)+1),INDEX($AC$5:$AD$24,INT($AF32/2)+1,MOD(COLUMNS($AF$3:BP$3),2)+1))","v":-9.0096886790241939},{"$f":"IF(OR(MOD($AF32,2)=0,INDEX(relationships,INT($AF32/2)+1,BQ$3)<>1),INDEX($AC$5:$AD$24,BQ$3,MOD(COLUMNS($AF$3:BQ$3),2)+1),INDEX($AC$5:$AD$24,INT($AF32/2)+1,MOD(COLUMNS($AF$3:BQ$3),2)+1))","v":-9.7492791218182351},{"$f":"IF(OR(MOD($AF32,2)=0,INDEX(relationships,INT($AF32/2)+1,BR$3)<>1),INDEX($AC$5:$AD$24,BR$3,MOD(COLUMNS($AF$3:BR$3),2)+1),INDEX($AC$5:$AD$24,INT($AF32/2)+1,MOD(COLUMNS($AF$3:BR$3),2)+1))","v":-2.2252093395631505},{"$f":"IF(OR(MOD($AF32,2)=0,INDEX(relationships,INT($AF32/2)+1,BS$3)<>1),INDEX($AC$5:$AD$24,BS$3,MOD(COLUMNS($AF$3:BS$3),2)+1),INDEX($AC$5:$AD$24,INT($AF32/2)+1,MOD(COLUMNS($AF$3:BS$3),2)+1))","v":-7.8183148246803027},{"$f":"IF(OR(MOD($AF32,2)=0,INDEX(relationships,INT($AF32/2)+1,BT$3)<>1),INDEX($AC$5:$AD$24,BT$3,MOD(COLUMNS($AF$3:BT$3),2)+1),INDEX($AC$5:$AD$24,INT($AF32/2)+1,MOD(COLUMNS($AF$3:BT$3),2)+1))","v":6.2348980185873293},null,{"$f":"IF(OR(MOD($AF32,2)=0,INDEX(relationships,INT($AF32/2)+1,BV$3)<>2),INDEX($AC$5:$AD$24,BV$3,MOD(COLUMNS($BU$3:BV$3),2)+1),INDEX($AC$5:$AD$24,INT($AF32/2)+1,MOD(COLUMNS($BU$3:BV$3),2)+1))","v":7.8183148246802983},{"$f":"IF(OR(MOD($AF32,2)=0,INDEX(relationships,INT($AF32/2)+1,BW$3)<>2),INDEX($AC$5:$AD$24,BW$3,MOD(COLUMNS($BU$3:BW$3),2)+1),INDEX($AC$5:$AD$24,INT($AF32/2)+1,MOD(COLUMNS($BU$3:BW$3),2)+1))","v":6.2348980185873355},{"$f":"IF(OR(MOD($AF32,2)=0,INDEX(relationships,INT($AF32/2)+1,BX$3)<>2),INDEX($AC$5:$AD$24,BX$3,MOD(COLUMNS($BU$3:BX$3),2)+1),INDEX($AC$5:$AD$24,INT($AF32/2)+1,MOD(COLUMNS($BU$3:BX$3),2)+1))","v":9.7492791218182369},{"$f":"IF(OR(MOD($AF32,2)=0,INDEX(relationships,INT($AF32/2)+1,BY$3)<>2),INDEX($AC$5:$AD$24,BY$3,MOD(COLUMNS($BU$3:BY$3),2)+1),INDEX($AC$5:$AD$24,INT($AF32/2)+1,MOD(COLUMNS($BU$3:BY$3),2)+1))","v":-2.2252093395631434},{"$f":"IF(OR(MOD($AF32,2)=0,INDEX(relationships,INT($AF32/2)+1,BZ$3)<>2),INDEX($AC$5:$AD$24,BZ$3,MOD(COLUMNS($BU$3:BZ$3),2)+1),INDEX($AC$5:$AD$24,INT($AF32/2)+1,MOD(COLUMNS($BU$3:BZ$3),2)+1))","v":4.3388373911755824},{"$f":"IF(OR(MOD($AF32,2)=0,INDEX(relationships,INT($AF32/2)+1,CA$3)<>2),INDEX($AC$5:$AD$24,CA$3,MOD(COLUMNS($BU$3:CA$3),2)+1),INDEX($AC$5:$AD$24,INT($AF32/2)+1,MOD(COLUMNS($BU$3:CA$3),2)+1))","v":-9.0096886790241903},{"$f":"IF(OR(MOD($AF32,2)=0,INDEX(relationships,INT($AF32/2)+1,CB$3)<>2),INDEX($AC$5:$AD$24,CB$3,MOD(COLUMNS($BU$3:CB$3),2)+1),INDEX($AC$5:$AD$24,INT($AF32/2)+1,MOD(COLUMNS($BU$3:CB$3),2)+1))","v":-4.3388373911755798},{"$f":"IF(OR(MOD($AF32,2)=0,INDEX(relationships,INT($AF32/2)+1,CC$3)<>2),INDEX($AC$5:$AD$24,CC$3,MOD(COLUMNS($BU$3:CC$3),2)+1),INDEX($AC$5:$AD$24,INT($AF32/2)+1,MOD(COLUMNS($BU$3:CC$3),2)+1))","v":-9.0096886790241921},{"$f":"IF(OR(MOD($AF32,2)=0,INDEX(relationships,INT($AF32/2)+1,CD$3)<>2),INDEX($AC$5:$AD$24,CD$3,MOD(COLUMNS($BU$3:CD$3),2)+1),INDEX($AC$5:$AD$24,INT($AF32/2)+1,MOD(COLUMNS($BU$3:CD$3),2)+1))","v":-9.7492791218182369},{"$f":"IF(OR(MOD($AF32,2)=0,INDEX(relationships,INT($AF32/2)+1,CE$3)<>2),INDEX($AC$5:$AD$24,CE$3,MOD(COLUMNS($BU$3:CE$3),2)+1),INDEX($AC$5:$AD$24,INT($AF32/2)+1,MOD(COLUMNS($BU$3:CE$3),2)+1))","v":-2.225209339563146},{"$f":"IF(OR(MOD($AF32,2)=0,INDEX(relationships,INT($AF32/2)+1,CF$3)<>2),INDEX($AC$5:$AD$24,CF$3,MOD(COLUMNS($BU$3:CF$3),2)+1),INDEX($AC$5:$AD$24,INT($AF32/2)+1,MOD(COLUMNS($BU$3:CF$3),2)+1))","v":-7.8183148246802991},{"$f":"IF(OR(MOD($AF32,2)=0,INDEX(relationships,INT($AF32/2)+1,CG$3)<>2),INDEX($AC$5:$AD$24,CG$3,MOD(COLUMNS($BU$3:CG$3),2)+1),INDEX($AC$5:$AD$24,INT($AF32/2)+1,MOD(COLUMNS($BU$3:CG$3),2)+1))","v":6.2348980185873337},{"$f":"IF(OR(MOD($AF32,2)=0,INDEX(relationships,INT($AF32/2)+1,CH$3)<>2),INDEX($AC$5:$AD$24,CH$3,MOD(COLUMNS($BU$3:CH$3),2)+1),INDEX($AC$5:$AD$24,INT($AF32/2)+1,MOD(COLUMNS($BU$3:CH$3),2)+1))","v":-2.45029690981724E-15},{"$f":"IF(OR(MOD($AF32,2)=0,INDEX(relationships,INT($AF32/2)+1,CI$3)<>2),INDEX($AC$5:$AD$24,CI$3,MOD(COLUMNS($BU$3:CI$3),2)+1),INDEX($AC$5:$AD$24,INT($AF32/2)+1,MOD(COLUMNS($BU$3:CI$3),2)+1))","v":10},{"$f":"IF(OR(MOD($AF32,2)=0,INDEX(relationships,INT($AF32/2)+1,CJ$3)<>2),INDEX($AC$5:$AD$24,CJ$3,MOD(COLUMNS($BU$3:CJ$3),2)+1),INDEX($AC$5:$AD$24,INT($AF32/2)+1,MOD(COLUMNS($BU$3:CJ$3),2)+1))","v":7.8183148246802956},{"$f":"IF(OR(MOD($AF32,2)=0,INDEX(relationships,INT($AF32/2)+1,CK$3)<>2),INDEX($AC$5:$AD$24,CK$3,MOD(COLUMNS($BU$3:CK$3),2)+1),INDEX($AC$5:$AD$24,INT($AF32/2)+1,MOD(COLUMNS($BU$3:CK$3),2)+1))","v":6.2348980185873373},{"$f":"IF(OR(MOD($AF32,2)=0,INDEX(relationships,INT($AF32/2)+1,CL$3)<>2),INDEX($AC$5:$AD$24,CL$3,MOD(COLUMNS($BU$3:CL$3),2)+1),INDEX($AC$5:$AD$24,INT($AF32/2)+1,MOD(COLUMNS($BU$3:CL$3),2)+1))","v":9.7492791218182369},{"$f":"IF(OR(MOD($AF32,2)=0,INDEX(relationships,INT($AF32/2)+1,CM$3)<>2),INDEX($AC$5:$AD$24,CM$3,MOD(COLUMNS($BU$3:CM$3),2)+1),INDEX($AC$5:$AD$24,INT($AF32/2)+1,MOD(COLUMNS($BU$3:CM$3),2)+1))","v":-2.2252093395631407},{"$f":"IF(OR(MOD($AF32,2)=0,INDEX(relationships,INT($AF32/2)+1,CN$3)<>2),INDEX($AC$5:$AD$24,CN$3,MOD(COLUMNS($BU$3:CN$3),2)+1),INDEX($AC$5:$AD$24,INT($AF32/2)+1,MOD(COLUMNS($BU$3:CN$3),2)+1))","v":4.3388373911755842},{"$f":"IF(OR(MOD($AF32,2)=0,INDEX(relationships,INT($AF32/2)+1,CO$3)<>2),INDEX($AC$5:$AD$24,CO$3,MOD(COLUMNS($BU$3:CO$3),2)+1),INDEX($AC$5:$AD$24,INT($AF32/2)+1,MOD(COLUMNS($BU$3:CO$3),2)+1))","v":-9.0096886790241886},{"$f":"IF(OR(MOD($AF32,2)=0,INDEX(relationships,INT($AF32/2)+1,CP$3)<>2),INDEX($AC$5:$AD$24,CP$3,MOD(COLUMNS($BU$3:CP$3),2)+1),INDEX($AC$5:$AD$24,INT($AF32/2)+1,MOD(COLUMNS($BU$3:CP$3),2)+1))","v":-4.338837391175578},{"$f":"IF(OR(MOD($AF32,2)=0,INDEX(relationships,INT($AF32/2)+1,CQ$3)<>2),INDEX($AC$5:$AD$24,CQ$3,MOD(COLUMNS($BU$3:CQ$3),2)+1),INDEX($AC$5:$AD$24,INT($AF32/2)+1,MOD(COLUMNS($BU$3:CQ$3),2)+1))","v":-9.0096886790241921},{"$f":"IF(OR(MOD($AF32,2)=0,INDEX(relationships,INT($AF32/2)+1,CR$3)<>2),INDEX($AC$5:$AD$24,CR$3,MOD(COLUMNS($BU$3:CR$3),2)+1),INDEX($AC$5:$AD$24,INT($AF32/2)+1,MOD(COLUMNS($BU$3:CR$3),2)+1))","v":-9.7492791218182351},{"$f":"IF(OR(MOD($AF32,2)=0,INDEX(relationships,INT($AF32/2)+1,CS$3)<>2),INDEX($AC$5:$AD$24,CS$3,MOD(COLUMNS($BU$3:CS$3),2)+1),INDEX($AC$5:$AD$24,INT($AF32/2)+1,MOD(COLUMNS($BU$3:CS$3),2)+1))","v":-2.2252093395631483},{"$f":"IF(OR(MOD($AF32,2)=0,INDEX(relationships,INT($AF32/2)+1,CT$3)<>2),INDEX($AC$5:$AD$24,CT$3,MOD(COLUMNS($BU$3:CT$3),2)+1),INDEX($AC$5:$AD$24,INT($AF32/2)+1,MOD(COLUMNS($BU$3:CT$3),2)+1))","v":-7.8183148246803018},{"$f":"IF(OR(MOD($AF32,2)=0,INDEX(relationships,INT($AF32/2)+1,CU$3)<>2),INDEX($AC$5:$AD$24,CU$3,MOD(COLUMNS($BU$3:CU$3),2)+1),INDEX($AC$5:$AD$24,INT($AF32/2)+1,MOD(COLUMNS($BU$3:CU$3),2)+1))","v":6.2348980185873319},{"$f":"IF(OR(MOD($AF32,2)=0,INDEX(relationships,INT($AF32/2)+1,CV$3)<>2),INDEX($AC$5:$AD$24,CV$3,MOD(COLUMNS($BU$3:CV$3),2)+1),INDEX($AC$5:$AD$24,INT($AF32/2)+1,MOD(COLUMNS($BU$3:CV$3),2)+1))","v":-4.90059381963448E-15},{"$f":"IF(OR(MOD($AF32,2)=0,INDEX(relationships,INT($AF32/2)+1,CW$3)<>2),INDEX($AC$5:$AD$24,CW$3,MOD(COLUMNS($BU$3:CW$3),2)+1),INDEX($AC$5:$AD$24,INT($AF32/2)+1,MOD(COLUMNS($BU$3:CW$3),2)+1))","v":10},{"$f":"IF(OR(MOD($AF32,2)=0,INDEX(relationships,INT($AF32/2)+1,CX$3)<>2),INDEX($AC$5:$AD$24,CX$3,MOD(COLUMNS($BU$3:CX$3),2)+1),INDEX($AC$5:$AD$24,INT($AF32/2)+1,MOD(COLUMNS($BU$3:CX$3),2)+1))","v":7.8183148246802947},{"$f":"IF(OR(MOD($AF32,2)=0,INDEX(relationships,INT($AF32/2)+1,CY$3)<>2),INDEX($AC$5:$AD$24,CY$3,MOD(COLUMNS($BU$3:CY$3),2)+1),INDEX($AC$5:$AD$24,INT($AF32/2)+1,MOD(COLUMNS($BU$3:CY$3),2)+1))","v":6.2348980185873391},{"$f":"IF(OR(MOD($AF32,2)=0,INDEX(relationships,INT($AF32/2)+1,CZ$3)<>2),INDEX($AC$5:$AD$24,CZ$3,MOD(COLUMNS($BU$3:CZ$3),2)+1),INDEX($AC$5:$AD$24,INT($AF32/2)+1,MOD(COLUMNS($BU$3:CZ$3),2)+1))","v":9.7492791218182369},{"$f":"IF(OR(MOD($AF32,2)=0,INDEX(relationships,INT($AF32/2)+1,DA$3)<>2),INDEX($AC$5:$AD$24,DA$3,MOD(COLUMNS($BU$3:DA$3),2)+1),INDEX($AC$5:$AD$24,INT($AF32/2)+1,MOD(COLUMNS($BU$3:DA$3),2)+1))","v":-2.2252093395631385},{"$f":"IF(OR(MOD($AF32,2)=0,INDEX(relationships,INT($AF32/2)+1,DB$3)<>2),INDEX($AC$5:$AD$24,DB$3,MOD(COLUMNS($BU$3:DB$3),2)+1),INDEX($AC$5:$AD$24,INT($AF32/2)+1,MOD(COLUMNS($BU$3:DB$3),2)+1))","v":4.3388373911755869},{"$f":"IF(OR(MOD($AF32,2)=0,INDEX(relationships,INT($AF32/2)+1,DC$3)<>2),INDEX($AC$5:$AD$24,DC$3,MOD(COLUMNS($BU$3:DC$3),2)+1),INDEX($AC$5:$AD$24,INT($AF32/2)+1,MOD(COLUMNS($BU$3:DC$3),2)+1))","v":-9.0096886790241886},{"$f":"IF(OR(MOD($AF32,2)=0,INDEX(relationships,INT($AF32/2)+1,DD$3)<>2),INDEX($AC$5:$AD$24,DD$3,MOD(COLUMNS($BU$3:DD$3),2)+1),INDEX($AC$5:$AD$24,INT($AF32/2)+1,MOD(COLUMNS($BU$3:DD$3),2)+1))","v":-4.3388373911755753},{"$f":"IF(OR(MOD($AF32,2)=0,INDEX(relationships,INT($AF32/2)+1,DE$3)<>2),INDEX($AC$5:$AD$24,DE$3,MOD(COLUMNS($BU$3:DE$3),2)+1),INDEX($AC$5:$AD$24,INT($AF32/2)+1,MOD(COLUMNS($BU$3:DE$3),2)+1))","v":-9.0096886790241939},{"$f":"IF(OR(MOD($AF32,2)=0,INDEX(relationships,INT($AF32/2)+1,DF$3)<>2),INDEX($AC$5:$AD$24,DF$3,MOD(COLUMNS($BU$3:DF$3),2)+1),INDEX($AC$5:$AD$24,INT($AF32/2)+1,MOD(COLUMNS($BU$3:DF$3),2)+1))","v":-9.7492791218182351},{"$f":"IF(OR(MOD($AF32,2)=0,INDEX(relationships,INT($AF32/2)+1,DG$3)<>2),INDEX($AC$5:$AD$24,DG$3,MOD(COLUMNS($BU$3:DG$3),2)+1),INDEX($AC$5:$AD$24,INT($AF32/2)+1,MOD(COLUMNS($BU$3:DG$3),2)+1))","v":-2.2252093395631505},{"$f":"IF(OR(MOD($AF32,2)=0,INDEX(relationships,INT($AF32/2)+1,DH$3)<>2),INDEX($AC$5:$AD$24,DH$3,MOD(COLUMNS($BU$3:DH$3),2)+1),INDEX($AC$5:$AD$24,INT($AF32/2)+1,MOD(COLUMNS($BU$3:DH$3),2)+1))","v":-7.8183148246803027},{"$f":"IF(OR(MOD($AF32,2)=0,INDEX(relationships,INT($AF32/2)+1,DI$3)<>2),INDEX($AC$5:$AD$24,DI$3,MOD(COLUMNS($BU$3:DI$3),2)+1),INDEX($AC$5:$AD$24,INT($AF32/2)+1,MOD(COLUMNS($BU$3:DI$3),2)+1))","v":6.2348980185873293},null,-2.45029690981724E-15,10,-2.45029690981724E-15,10]
[null,"Sports clubs",{"$f":"MAX(C9,INDEX(rawData,COLUMNS($C$28:C$28),ROWS($B$29:$B33)))","v":0},{"$f":"MAX(D9,INDEX(rawData,COLUMNS($C$28:D$28),ROWS($B$29:$B33)))","v":0},{"$f":"MAX(E9,INDEX(rawData,COLUMNS($C$28:E$28),ROWS($B$29:$B33)))","v":0},{"$f":"MAX(F9,INDEX(rawData,COLUMNS($C$28:F$28),ROWS($B$29:$B33)))","v":0},{"$f":"MAX(G9,INDEX(rawData,COLUMNS($C$28:G$28),ROWS($B$29:$B33)))","v":0},{"$f":"MAX(H9,INDEX(rawData,COLUMNS($C$28:H$28),ROWS($B$29:$B33)))","v":1},{"$f":"MAX(I9,INDEX(rawData,COLUMNS($C$28:I$28),ROWS($B$29:$B33)))","v":0},{"$f":"MAX(J9,INDEX(rawData,COLUMNS($C$28:J$28),ROWS($B$29:$B33)))","v":0},{"$f":"MAX(K9,INDEX(rawData,COLUMNS($C$28:K$28),ROWS($B$29:$B33)))","v":0},{"$f":"MAX(L9,INDEX(rawData,COLUMNS($C$28:L$28),ROWS($B$29:$B33)))","v":0},{"$f":"MAX(M9,INDEX(rawData,COLUMNS($C$28:M$28),ROWS($B$29:$B33)))","v":0},{"$f":"MAX(N9,INDEX(rawData,COLUMNS($C$28:N$28),ROWS($B$29:$B33)))","v":0},{"$f":"MAX(O9,INDEX(rawData,COLUMNS($C$28:O$28),ROWS($B$29:$B33)))","v":0},{"$f":"MAX(P9,INDEX(rawData,COLUMNS($C$28:P$28),ROWS($B$29:$B33)))","v":0},{"$f":"MAX(Q9,INDEX(rawData,COLUMNS($C$28:Q$28),ROWS($B$29:$B33)))","v":0},{"$f":"MAX(R9,INDEX(rawData,COLUMNS($C$28:R$28),ROWS($B$29:$B33)))","v":0},{"$f":"MAX(S9,INDEX(rawData,COLUMNS($C$28:S$28),ROWS($B$29:$B33)))","v":0},{"$f":"MAX(T9,INDEX(rawData,COLUMNS($C$28:T$28),ROWS($B$29:$B33)))","v":0},{"$f":"MAX(U9,INDEX(rawData,COLUMNS($C$28:U$28),ROWS($B$29:$B33)))","v":0},{"$f":"MAX(V9,INDEX(rawData,COLUMNS($C$28:V$28),ROWS($B$29:$B33)))","v":0},null,null,null,null,null,null,null,null,null,28,{"$f":"IF(OR(MOD($AF33,2)=0,INDEX(relationships,INT($AF33/2)+1,AG$3)<>1),INDEX($AC$5:$AD$24,AG$3,MOD(COLUMNS($AF$3:AG$3),2)+1),INDEX($AC$5:$AD$24,INT($AF33/2)+1,MOD(COLUMNS($AF$3:AG$3),2)+1))","v":7.8183148246802983},{"$f":"IF(OR(MOD($AF33,2)=0,INDEX(relationships,INT($AF33/2)+1,AH$3)<>1),INDEX($AC$5:$AD$24,AH$3,MOD(COLUMNS($AF$3:AH$3),2)+1),INDEX($AC$5:$AD$24,INT($AF33/2)+1,MOD(COLUMNS($AF$3:AH$3),2)+1))","v":6.2348980185873355},{"$f":"IF(OR(MOD($AF33,2)=0,INDEX(relationships,INT($AF33/2)+1,AI$3)<>1),INDEX($AC$5:$AD$24,AI$3,MOD(COLUMNS($AF$3:AI$3),2)+1),INDEX($AC$5:$AD$24,INT($AF33/2)+1,MOD(COLUMNS($AF$3:AI$3),2)+1))","v":9.7492791218182369},{"$f":"IF(OR(MOD($AF33,2)=0,INDEX(relationships,INT($AF33/2)+1,AJ$3)<>1),INDEX($AC$5:$AD$24,AJ$3,MOD(COLUMNS($AF$3:AJ$3),2)+1),INDEX($AC$5:$AD$24,INT($AF33/2)+1,MOD(COLUMNS($AF$3:AJ$3),2)+1))","v":-2.2252093395631434},{"$f":"IF(OR(MOD($AF33,2)=0,INDEX(relationships,INT($AF33/2)+1,AK$3)<>1),INDEX($AC$5:$AD$24,AK$3,MOD(COLUMNS($AF$3:AK$3),2)+1),INDEX($AC$5:$AD$24,INT($AF33/2)+1,MOD(COLUMNS($AF$3:AK$3),2)+1))","v":4.3388373911755824},{"$f":"IF(OR(MOD($AF33,2)=0,INDEX(relationships,INT($AF33/2)+1,AL$3)<>1),INDEX($AC$5:$AD$24,AL$3,MOD(COLUMNS($AF$3:AL$3),2)+1),INDEX($AC$5:$AD$24,INT($AF33/2)+1,MOD(COLUMNS($AF$3:AL$3),2)+1))","v":-9.0096886790241903},{"$f":"IF(OR(MOD($AF33,2)=0,INDEX(relationships,INT($AF33/2)+1,AM$3)<>1),INDEX($AC$5:$AD$24,AM$3,MOD(COLUMNS($AF$3:AM$3),2)+1),INDEX($AC$5:$AD$24,INT($AF33/2)+1,MOD(COLUMNS($AF$3:AM$3),2)+1))","v":-4.3388373911755798},{"$f":"IF(OR(MOD($AF33,2)=0,INDEX(relationships,INT($AF33/2)+1,AN$3)<>1),INDEX($AC$5:$AD$24,AN$3,MOD(COLUMNS($AF$3:AN$3),2)+1),INDEX($AC$5:$AD$24,INT($AF33/2)+1,MOD(COLUMNS($AF$3:AN$3),2)+1))","v":-9.0096886790241921},{"$f":"IF(OR(MOD($AF33,2)=0,INDEX(relationships,INT($AF33/2)+1,AO$3)<>1),INDEX($AC$5:$AD$24,AO$3,MOD(COLUMNS($AF$3:AO$3),2)+1),INDEX($AC$5:$AD$24,INT($AF33/2)+1,MOD(COLUMNS($AF$3:AO$3),2)+1))","v":-9.7492791218182369},{"$f":"IF(OR(MOD($AF33,2)=0,INDEX(relationships,INT($AF33/2)+1,AP$3)<>1),INDEX($AC$5:$AD$24,AP$3,MOD(COLUMNS($AF$3:AP$3),2)+1),INDEX($AC$5:$AD$24,INT($AF33/2)+1,MOD(COLUMNS($AF$3:AP$3),2)+1))","v":-2.225209339563146},{"$f":"IF(OR(MOD($AF33,2)=0,INDEX(relationships,INT($AF33/2)+1,AQ$3)<>1),INDEX($AC$5:$AD$24,AQ$3,MOD(COLUMNS($AF$3:AQ$3),2)+1),INDEX($AC$5:$AD$24,INT($AF33/2)+1,MOD(COLUMNS($AF$3:AQ$3),2)+1))","v":-7.8183148246802991},{"$f":"IF(OR(MOD($AF33,2)=0,INDEX(relationships,INT($AF33/2)+1,AR$3)<>1),INDEX($AC$5:$AD$24,AR$3,MOD(COLUMNS($AF$3:AR$3),2)+1),INDEX($AC$5:$AD$24,INT($AF33/2)+1,MOD(COLUMNS($AF$3:AR$3),2)+1))","v":6.2348980185873337},{"$f":"IF(OR(MOD($AF33,2)=0,INDEX(relationships,INT($AF33/2)+1,AS$3)<>1),INDEX($AC$5:$AD$24,AS$3,MOD(COLUMNS($AF$3:AS$3),2)+1),INDEX($AC$5:$AD$24,INT($AF33/2)+1,MOD(COLUMNS($AF$3:AS$3),2)+1))","v":-2.45029690981724E-15},{"$f":"IF(OR(MOD($AF33,2)=0,INDEX(relationships,INT($AF33/2)+1,AT$3)<>1),INDEX($AC$5:$AD$24,AT$3,MOD(COLUMNS($AF$3:AT$3),2)+1),INDEX($AC$5:$AD$24,INT($AF33/2)+1,MOD(COLUMNS($AF$3:AT$3),2)+1))","v":10},{"$f":"IF(OR(MOD($AF33,2)=0,INDEX(relationships,INT($AF33/2)+1,AU$3)<>1),INDEX($AC$5:$AD$24,AU$3,MOD(COLUMNS($AF$3:AU$3),2)+1),INDEX($AC$5:$AD$24,INT($AF33/2)+1,MOD(COLUMNS($AF$3:AU$3),2)+1))","v":7.8183148246802956},{"$f":"IF(OR(MOD($AF33,2)=0,INDEX(relationships,INT($AF33/2)+1,AV$3)<>1),INDEX($AC$5:$AD$24,AV$3,MOD(COLUMNS($AF$3:AV$3),2)+1),INDEX($AC$5:$AD$24,INT($AF33/2)+1,MOD(COLUMNS($AF$3:AV$3),2)+1))","v":6.2348980185873373},{"$f":"IF(OR(MOD($AF33,2)=0,INDEX(relationships,INT($AF33/2)+1,AW$3)<>1),INDEX($AC$5:$AD$24,AW$3,MOD(COLUMNS($AF$3:AW$3),2)+1),INDEX($AC$5:$AD$24,INT($AF33/2)+1,MOD(COLUMNS($AF$3:AW$3),2)+1))","v":9.7492791218182369},{"$f":"IF(OR(MOD($AF33,2)=0,INDEX(relationships,INT($AF33/2)+1,AX$3)<>1),INDEX($AC$5:$AD$24,AX$3,MOD(COLUMNS($AF$3:AX$3),2)+1),INDEX($AC$5:$AD$24,INT($AF33/2)+1,MOD(COLUMNS($AF$3:AX$3),2)+1))","v":-2.2252093395631407},{"$f":"IF(OR(MOD($AF33,2)=0,INDEX(relationships,INT($AF33/2)+1,AY$3)<>1),INDEX($AC$5:$AD$24,AY$3,MOD(COLUMNS($AF$3:AY$3),2)+1),INDEX($AC$5:$AD$24,INT($AF33/2)+1,MOD(COLUMNS($AF$3:AY$3),2)+1))","v":4.3388373911755842},{"$f":"IF(OR(MOD($AF33,2)=0,INDEX(relationships,INT($AF33/2)+1,AZ$3)<>1),INDEX($AC$5:$AD$24,AZ$3,MOD(COLUMNS($AF$3:AZ$3),2)+1),INDEX($AC$5:$AD$24,INT($AF33/2)+1,MOD(COLUMNS($AF$3:AZ$3),2)+1))","v":-9.0096886790241886},{"$f":"IF(OR(MOD($AF33,2)=0,INDEX(relationships,INT($AF33/2)+1,BA$3)<>1),INDEX($AC$5:$AD$24,BA$3,MOD(COLUMNS($AF$3:BA$3),2)+1),INDEX($AC$5:$AD$24,INT($AF33/2)+1,MOD(COLUMNS($AF$3:BA$3),2)+1))","v":-4.338837391175578},{"$f":"IF(OR(MOD($AF33,2)=0,INDEX(relationships,INT($AF33/2)+1,BB$3)<>1),INDEX($AC$5:$AD$24,BB$3,MOD(COLUMNS($AF$3:BB$3),2)+1),INDEX($AC$5:$AD$24,INT($AF33/2)+1,MOD(COLUMNS($AF$3:BB$3),2)+1))","v":-9.0096886790241921},{"$f":"IF(OR(MOD($AF33,2)=0,INDEX(relationships,INT($AF33/2)+1,BC$3)<>1),INDEX($AC$5:$AD$24,BC$3,MOD(COLUMNS($AF$3:BC$3),2)+1),INDEX($AC$5:$AD$24,INT($AF33/2)+1,MOD(COLUMNS($AF$3:BC$3),2)+1))","v":-9.7492791218182351},{"$f":"IF(OR(MOD($AF33,2)=0,INDEX(relationships,INT($AF33/2)+1,BD$3)<>1),INDEX($AC$5:$AD$24,BD$3,MOD(COLUMNS($AF$3:BD$3),2)+1),INDEX($AC$5:$AD$24,INT($AF33/2)+1,MOD(COLUMNS($AF$3:BD$3),2)+1))","v":-2.2252093395631483},{"$f":"IF(OR(MOD($AF33,2)=0,INDEX(relationships,INT($AF33/2)+1,BE$3)<>1),INDEX($AC$5:$AD$24,BE$3,MOD(COLUMNS($AF$3:BE$3),2)+1),INDEX($AC$5:$AD$24,INT($AF33/2)+1,MOD(COLUMNS($AF$3:BE$3),2)+1))","v":-7.8183148246803018},{"$f":"IF(OR(MOD($AF33,2)=0,INDEX(relationships,INT($AF33/2)+1,BF$3)<>1),INDEX($AC$5:$AD$24,BF$3,MOD(COLUMNS($AF$3:BF$3),2)+1),INDEX($AC$5:$AD$24,INT($AF33/2)+1,MOD(COLUMNS($AF$3:BF$3),2)+1))","v":6.2348980185873319},{"$f":"IF(OR(MOD($AF33,2)=0,INDEX(relationships,INT($AF33/2)+1,BG$3)<>1),INDEX($AC$5:$AD$24,BG$3,MOD(COLUMNS($AF$3:BG$3),2)+1),INDEX($AC$5:$AD$24,INT($AF33/2)+1,MOD(COLUMNS($AF$3:BG$3),2)+1))","v":-4.90059381963448E-15},{"$f":"IF(OR(MOD($AF33,2)=0,INDEX(relationships,INT($AF33/2)+1,BH$3)<>1),INDEX($AC$5:$AD$24,BH$3,MOD(COLUMNS($AF$3:BH$3),2)+1),INDEX($AC$5:$AD$24,INT($AF33/2)+1,MOD(COLUMNS($AF$3:BH$3),2)+1))","v":10},{"$f":"IF(OR(MOD($AF33,2)=0,INDEX(relationships,INT($AF33/2)+1,BI$3)<>1),INDEX($AC$5:$AD$24,BI$3,MOD(COLUMNS($AF$3:BI$3),2)+1),INDEX($AC$5:$AD$24,INT($AF33/2)+1,MOD(COLUMNS($AF$3:BI$3),2)+1))","v":7.8183148246802947},{"$f":"IF(OR(MOD($AF33,2)=0,INDEX(relationships,INT($AF33/2)+1,BJ$3)<>1),INDEX($AC$5:$AD$24,BJ$3,MOD(COLUMNS($AF$3:BJ$3),2)+1),INDEX($AC$5:$AD$24,INT($AF33/2)+1,MOD(COLUMNS($AF$3:BJ$3),2)+1))","v":6.2348980185873391},{"$f":"IF(OR(MOD($AF33,2)=0,INDEX(relationships,INT($AF33/2)+1,BK$3)<>1),INDEX($AC$5:$AD$24,BK$3,MOD(COLUMNS($AF$3:BK$3),2)+1),INDEX($AC$5:$AD$24,INT($AF33/2)+1,MOD(COLUMNS($AF$3:BK$3),2)+1))","v":9.7492791218182369},{"$f":"IF(OR(MOD($AF33,2)=0,INDEX(relationships,INT($AF33/2)+1,BL$3)<>1),INDEX($AC$5:$AD$24,BL$3,MOD(COLUMNS($AF$3:BL$3),2)+1),INDEX($AC$5:$AD$24,INT($AF33/2)+1,MOD(COLUMNS($AF$3:BL$3),2)+1))","v":-2.2252093395631385},{"$f":"IF(OR(MOD($AF33,2)=0,INDEX(relationships,INT($AF33/2)+1,BM$3)<>1),INDEX($AC$5:$AD$24,BM$3,MOD(COLUMNS($AF$3:BM$3),2)+1),INDEX($AC$5:$AD$24,INT($AF33/2)+1,MOD(COLUMNS($AF$3:BM$3),2)+1))","v":4.3388373911755869},{"$f":"IF(OR(MOD($AF33,2)=0,INDEX(relationships,INT($AF33/2)+1,BN$3)<>1),INDEX($AC$5:$AD$24,BN$3,MOD(COLUMNS($AF$3:BN$3),2)+1),INDEX($AC$5:$AD$24,INT($AF33/2)+1,MOD(COLUMNS($AF$3:BN$3),2)+1))","v":-9.0096886790241886},{"$f":"IF(OR(MOD($AF33,2)=0,INDEX(relationships,INT($AF33/2)+1,BO$3)<>1),INDEX($AC$5:$AD$24,BO$3,MOD(COLUMNS($AF$3:BO$3),2)+1),INDEX($AC$5:$AD$24,INT($AF33/2)+1,MOD(COLUMNS($AF$3:BO$3),2)+1))","v":-4.3388373911755753},{"$f":"IF(OR(MOD($AF33,2)=0,INDEX(relationships,INT($AF33/2)+1,BP$3)<>1),INDEX($AC$5:$AD$24,BP$3,MOD(COLUMNS($AF$3:BP$3),2)+1),INDEX($AC$5:$AD$24,INT($AF33/2)+1,MOD(COLUMNS($AF$3:BP$3),2)+1))","v":-9.0096886790241939},{"$f":"IF(OR(MOD($AF33,2)=0,INDEX(relationships,INT($AF33/2)+1,BQ$3)<>1),INDEX($AC$5:$AD$24,BQ$3,MOD(COLUMNS($AF$3:BQ$3),2)+1),INDEX($AC$5:$AD$24,INT($AF33/2)+1,MOD(COLUMNS($AF$3:BQ$3),2)+1))","v":-9.7492791218182351},{"$f":"IF(OR(MOD($AF33,2)=0,INDEX(relationships,INT($AF33/2)+1,BR$3)<>1),INDEX($AC$5:$AD$24,BR$3,MOD(COLUMNS($AF$3:BR$3),2)+1),INDEX($AC$5:$AD$24,INT($AF33/2)+1,MOD(COLUMNS($AF$3:BR$3),2)+1))","v":-2.2252093395631505},{"$f":"IF(OR(MOD($AF33,2)=0,INDEX(relationships,INT($AF33/2)+1,BS$3)<>1),INDEX($AC$5:$AD$24,BS$3,MOD(COLUMNS($AF$3:BS$3),2)+1),INDEX($AC$5:$AD$24,INT($AF33/2)+1,MOD(COLUMNS($AF$3:BS$3),2)+1))","v":-7.8183148246803027},{"$f":"IF(OR(MOD($AF33,2)=0,INDEX(relationships,INT($AF33/2)+1,BT$3)<>1),INDEX($AC$5:$AD$24,BT$3,MOD(COLUMNS($AF$3:BT$3),2)+1),INDEX($AC$5:$AD$24,INT($AF33/2)+1,MOD(COLUMNS($AF$3:BT$3),2)+1))","v":6.2348980185873293},null,{"$f":"IF(OR(MOD($AF33,2)=0,INDEX(relationships,INT($AF33/2)+1,BV$3)<>2),INDEX($AC$5:$AD$24,BV$3,MOD(COLUMNS($BU$3:BV$3),2)+1),INDEX($AC$5:$AD$24,INT($AF33/2)+1,MOD(COLUMNS($BU$3:BV$3),2)+1))","v":7.8183148246802983},{"$f":"IF(OR(MOD($AF33,2)=0,INDEX(relationships,INT($AF33/2)+1,BW$3)<>2),INDEX($AC$5:$AD$24,BW$3,MOD(COLUMNS($BU$3:BW$3),2)+1),INDEX($AC$5:$AD$24,INT($AF33/2)+1,MOD(COLUMNS($BU$3:BW$3),2)+1))","v":6.2348980185873355},{"$f":"IF(OR(MOD($AF33,2)=0,INDEX(relationships,INT($AF33/2)+1,BX$3)<>2),INDEX($AC$5:$AD$24,BX$3,MOD(COLUMNS($BU$3:BX$3),2)+1),INDEX($AC$5:$AD$24,INT($AF33/2)+1,MOD(COLUMNS($BU$3:BX$3),2)+1))","v":9.7492791218182369},{"$f":"IF(OR(MOD($AF33,2)=0,INDEX(relationships,INT($AF33/2)+1,BY$3)<>2),INDEX($AC$5:$AD$24,BY$3,MOD(COLUMNS($BU$3:BY$3),2)+1),INDEX($AC$5:$AD$24,INT($AF33/2)+1,MOD(COLUMNS($BU$3:BY$3),2)+1))","v":-2.2252093395631434},{"$f":"IF(OR(MOD($AF33,2)=0,INDEX(relationships,INT($AF33/2)+1,BZ$3)<>2),INDEX($AC$5:$AD$24,BZ$3,MOD(COLUMNS($BU$3:BZ$3),2)+1),INDEX($AC$5:$AD$24,INT($AF33/2)+1,MOD(COLUMNS($BU$3:BZ$3),2)+1))","v":4.3388373911755824},{"$f":"IF(OR(MOD($AF33,2)=0,INDEX(relationships,INT($AF33/2)+1,CA$3)<>2),INDEX($AC$5:$AD$24,CA$3,MOD(COLUMNS($BU$3:CA$3),2)+1),INDEX($AC$5:$AD$24,INT($AF33/2)+1,MOD(COLUMNS($BU$3:CA$3),2)+1))","v":-9.0096886790241903},{"$f":"IF(OR(MOD($AF33,2)=0,INDEX(relationships,INT($AF33/2)+1,CB$3)<>2),INDEX($AC$5:$AD$24,CB$3,MOD(COLUMNS($BU$3:CB$3),2)+1),INDEX($AC$5:$AD$24,INT($AF33/2)+1,MOD(COLUMNS($BU$3:CB$3),2)+1))","v":-4.3388373911755798},{"$f":"IF(OR(MOD($AF33,2)=0,INDEX(relationships,INT($AF33/2)+1,CC$3)<>2),INDEX($AC$5:$AD$24,CC$3,MOD(COLUMNS($BU$3:CC$3),2)+1),INDEX($AC$5:$AD$24,INT($AF33/2)+1,MOD(COLUMNS($BU$3:CC$3),2)+1))","v":-9.0096886790241921},{"$f":"IF(OR(MOD($AF33,2)=0,INDEX(relationships,INT($AF33/2)+1,CD$3)<>2),INDEX($AC$5:$AD$24,CD$3,MOD(COLUMNS($BU$3:CD$3),2)+1),INDEX($AC$5:$AD$24,INT($AF33/2)+1,MOD(COLUMNS($BU$3:CD$3),2)+1))","v":-9.7492791218182369},{"$f":"IF(OR(MOD($AF33,2)=0,INDEX(relationships,INT($AF33/2)+1,CE$3)<>2),INDEX($AC$5:$AD$24,CE$3,MOD(COLUMNS($BU$3:CE$3),2)+1),INDEX($AC$5:$AD$24,INT($AF33/2)+1,MOD(COLUMNS($BU$3:CE$3),2)+1))","v":-2.225209339563146},{"$f":"IF(OR(MOD($AF33,2)=0,INDEX(relationships,INT($AF33/2)+1,CF$3)<>2),INDEX($AC$5:$AD$24,CF$3,MOD(COLUMNS($BU$3:CF$3),2)+1),INDEX($AC$5:$AD$24,INT($AF33/2)+1,MOD(COLUMNS($BU$3:CF$3),2)+1))","v":-7.8183148246802991},{"$f":"IF(OR(MOD($AF33,2)=0,INDEX(relationships,INT($AF33/2)+1,CG$3)<>2),INDEX($AC$5:$AD$24,CG$3,MOD(COLUMNS($BU$3:CG$3),2)+1),INDEX($AC$5:$AD$24,INT($AF33/2)+1,MOD(COLUMNS($BU$3:CG$3),2)+1))","v":6.2348980185873337},{"$f":"IF(OR(MOD($AF33,2)=0,INDEX(relationships,INT($AF33/2)+1,CH$3)<>2),INDEX($AC$5:$AD$24,CH$3,MOD(COLUMNS($BU$3:CH$3),2)+1),INDEX($AC$5:$AD$24,INT($AF33/2)+1,MOD(COLUMNS($BU$3:CH$3),2)+1))","v":-2.45029690981724E-15},{"$f":"IF(OR(MOD($AF33,2)=0,INDEX(relationships,INT($AF33/2)+1,CI$3)<>2),INDEX($AC$5:$AD$24,CI$3,MOD(COLUMNS($BU$3:CI$3),2)+1),INDEX($AC$5:$AD$24,INT($AF33/2)+1,MOD(COLUMNS($BU$3:CI$3),2)+1))","v":10},{"$f":"IF(OR(MOD($AF33,2)=0,INDEX(relationships,INT($AF33/2)+1,CJ$3)<>2),INDEX($AC$5:$AD$24,CJ$3,MOD(COLUMNS($BU$3:CJ$3),2)+1),INDEX($AC$5:$AD$24,INT($AF33/2)+1,MOD(COLUMNS($BU$3:CJ$3),2)+1))","v":7.8183148246802956},{"$f":"IF(OR(MOD($AF33,2)=0,INDEX(relationships,INT($AF33/2)+1,CK$3)<>2),INDEX($AC$5:$AD$24,CK$3,MOD(COLUMNS($BU$3:CK$3),2)+1),INDEX($AC$5:$AD$24,INT($AF33/2)+1,MOD(COLUMNS($BU$3:CK$3),2)+1))","v":6.2348980185873373},{"$f":"IF(OR(MOD($AF33,2)=0,INDEX(relationships,INT($AF33/2)+1,CL$3)<>2),INDEX($AC$5:$AD$24,CL$3,MOD(COLUMNS($BU$3:CL$3),2)+1),INDEX($AC$5:$AD$24,INT($AF33/2)+1,MOD(COLUMNS($BU$3:CL$3),2)+1))","v":9.7492791218182369},{"$f":"IF(OR(MOD($AF33,2)=0,INDEX(relationships,INT($AF33/2)+1,CM$3)<>2),INDEX($AC$5:$AD$24,CM$3,MOD(COLUMNS($BU$3:CM$3),2)+1),INDEX($AC$5:$AD$24,INT($AF33/2)+1,MOD(COLUMNS($BU$3:CM$3),2)+1))","v":-2.2252093395631407},{"$f":"IF(OR(MOD($AF33,2)=0,INDEX(relationships,INT($AF33/2)+1,CN$3)<>2),INDEX($AC$5:$AD$24,CN$3,MOD(COLUMNS($BU$3:CN$3),2)+1),INDEX($AC$5:$AD$24,INT($AF33/2)+1,MOD(COLUMNS($BU$3:CN$3),2)+1))","v":4.3388373911755842},{"$f":"IF(OR(MOD($AF33,2)=0,INDEX(relationships,INT($AF33/2)+1,CO$3)<>2),INDEX($AC$5:$AD$24,CO$3,MOD(COLUMNS($BU$3:CO$3),2)+1),INDEX($AC$5:$AD$24,INT($AF33/2)+1,MOD(COLUMNS($BU$3:CO$3),2)+1))","v":-9.0096886790241886},{"$f":"IF(OR(MOD($AF33,2)=0,INDEX(relationships,INT($AF33/2)+1,CP$3)<>2),INDEX($AC$5:$AD$24,CP$3,MOD(COLUMNS($BU$3:CP$3),2)+1),INDEX($AC$5:$AD$24,INT($AF33/2)+1,MOD(COLUMNS($BU$3:CP$3),2)+1))","v":-4.338837391175578},{"$f":"IF(OR(MOD($AF33,2)=0,INDEX(relationships,INT($AF33/2)+1,CQ$3)<>2),INDEX($AC$5:$AD$24,CQ$3,MOD(COLUMNS($BU$3:CQ$3),2)+1),INDEX($AC$5:$AD$24,INT($AF33/2)+1,MOD(COLUMNS($BU$3:CQ$3),2)+1))","v":-9.0096886790241921},{"$f":"IF(OR(MOD($AF33,2)=0,INDEX(relationships,INT($AF33/2)+1,CR$3)<>2),INDEX($AC$5:$AD$24,CR$3,MOD(COLUMNS($BU$3:CR$3),2)+1),INDEX($AC$5:$AD$24,INT($AF33/2)+1,MOD(COLUMNS($BU$3:CR$3),2)+1))","v":-9.7492791218182351},{"$f":"IF(OR(MOD($AF33,2)=0,INDEX(relationships,INT($AF33/2)+1,CS$3)<>2),INDEX($AC$5:$AD$24,CS$3,MOD(COLUMNS($BU$3:CS$3),2)+1),INDEX($AC$5:$AD$24,INT($AF33/2)+1,MOD(COLUMNS($BU$3:CS$3),2)+1))","v":-2.2252093395631483},{"$f":"IF(OR(MOD($AF33,2)=0,INDEX(relationships,INT($AF33/2)+1,CT$3)<>2),INDEX($AC$5:$AD$24,CT$3,MOD(COLUMNS($BU$3:CT$3),2)+1),INDEX($AC$5:$AD$24,INT($AF33/2)+1,MOD(COLUMNS($BU$3:CT$3),2)+1))","v":-7.8183148246803018},{"$f":"IF(OR(MOD($AF33,2)=0,INDEX(relationships,INT($AF33/2)+1,CU$3)<>2),INDEX($AC$5:$AD$24,CU$3,MOD(COLUMNS($BU$3:CU$3),2)+1),INDEX($AC$5:$AD$24,INT($AF33/2)+1,MOD(COLUMNS($BU$3:CU$3),2)+1))","v":6.2348980185873319},{"$f":"IF(OR(MOD($AF33,2)=0,INDEX(relationships,INT($AF33/2)+1,CV$3)<>2),INDEX($AC$5:$AD$24,CV$3,MOD(COLUMNS($BU$3:CV$3),2)+1),INDEX($AC$5:$AD$24,INT($AF33/2)+1,MOD(COLUMNS($BU$3:CV$3),2)+1))","v":-4.90059381963448E-15},{"$f":"IF(OR(MOD($AF33,2)=0,INDEX(relationships,INT($AF33/2)+1,CW$3)<>2),INDEX($AC$5:$AD$24,CW$3,MOD(COLUMNS($BU$3:CW$3),2)+1),INDEX($AC$5:$AD$24,INT($AF33/2)+1,MOD(COLUMNS($BU$3:CW$3),2)+1))","v":10},{"$f":"IF(OR(MOD($AF33,2)=0,INDEX(relationships,INT($AF33/2)+1,CX$3)<>2),INDEX($AC$5:$AD$24,CX$3,MOD(COLUMNS($BU$3:CX$3),2)+1),INDEX($AC$5:$AD$24,INT($AF33/2)+1,MOD(COLUMNS($BU$3:CX$3),2)+1))","v":7.8183148246802947},{"$f":"IF(OR(MOD($AF33,2)=0,INDEX(relationships,INT($AF33/2)+1,CY$3)<>2),INDEX($AC$5:$AD$24,CY$3,MOD(COLUMNS($BU$3:CY$3),2)+1),INDEX($AC$5:$AD$24,INT($AF33/2)+1,MOD(COLUMNS($BU$3:CY$3),2)+1))","v":6.2348980185873391},{"$f":"IF(OR(MOD($AF33,2)=0,INDEX(relationships,INT($AF33/2)+1,CZ$3)<>2),INDEX($AC$5:$AD$24,CZ$3,MOD(COLUMNS($BU$3:CZ$3),2)+1),INDEX($AC$5:$AD$24,INT($AF33/2)+1,MOD(COLUMNS($BU$3:CZ$3),2)+1))","v":9.7492791218182369},{"$f":"IF(OR(MOD($AF33,2)=0,INDEX(relationships,INT($AF33/2)+1,DA$3)<>2),INDEX($AC$5:$AD$24,DA$3,MOD(COLUMNS($BU$3:DA$3),2)+1),INDEX($AC$5:$AD$24,INT($AF33/2)+1,MOD(COLUMNS($BU$3:DA$3),2)+1))","v":-2.2252093395631385},{"$f":"IF(OR(MOD($AF33,2)=0,INDEX(relationships,INT($AF33/2)+1,DB$3)<>2),INDEX($AC$5:$AD$24,DB$3,MOD(COLUMNS($BU$3:DB$3),2)+1),INDEX($AC$5:$AD$24,INT($AF33/2)+1,MOD(COLUMNS($BU$3:DB$3),2)+1))","v":4.3388373911755869},{"$f":"IF(OR(MOD($AF33,2)=0,INDEX(relationships,INT($AF33/2)+1,DC$3)<>2),INDEX($AC$5:$AD$24,DC$3,MOD(COLUMNS($BU$3:DC$3),2)+1),INDEX($AC$5:$AD$24,INT($AF33/2)+1,MOD(COLUMNS($BU$3:DC$3),2)+1))","v":-9.0096886790241886},{"$f":"IF(OR(MOD($AF33,2)=0,INDEX(relationships,INT($AF33/2)+1,DD$3)<>2),INDEX($AC$5:$AD$24,DD$3,MOD(COLUMNS($BU$3:DD$3),2)+1),INDEX($AC$5:$AD$24,INT($AF33/2)+1,MOD(COLUMNS($BU$3:DD$3),2)+1))","v":-4.3388373911755753},{"$f":"IF(OR(MOD($AF33,2)=0,INDEX(relationships,INT($AF33/2)+1,DE$3)<>2),INDEX($AC$5:$AD$24,DE$3,MOD(COLUMNS($BU$3:DE$3),2)+1),INDEX($AC$5:$AD$24,INT($AF33/2)+1,MOD(COLUMNS($BU$3:DE$3),2)+1))","v":-9.0096886790241939},{"$f":"IF(OR(MOD($AF33,2)=0,INDEX(relationships,INT($AF33/2)+1,DF$3)<>2),INDEX($AC$5:$AD$24,DF$3,MOD(COLUMNS($BU$3:DF$3),2)+1),INDEX($AC$5:$AD$24,INT($AF33/2)+1,MOD(COLUMNS($BU$3:DF$3),2)+1))","v":-9.7492791218182351},{"$f":"IF(OR(MOD($AF33,2)=0,INDEX(relationships,INT($AF33/2)+1,DG$3)<>2),INDEX($AC$5:$AD$24,DG$3,MOD(COLUMNS($BU$3:DG$3),2)+1),INDEX($AC$5:$AD$24,INT($AF33/2)+1,MOD(COLUMNS($BU$3:DG$3),2)+1))","v":-2.2252093395631505},{"$f":"IF(OR(MOD($AF33,2)=0,INDEX(relationships,INT($AF33/2)+1,DH$3)<>2),INDEX($AC$5:$AD$24,DH$3,MOD(COLUMNS($BU$3:DH$3),2)+1),INDEX($AC$5:$AD$24,INT($AF33/2)+1,MOD(COLUMNS($BU$3:DH$3),2)+1))","v":-7.8183148246803027},{"$f":"IF(OR(MOD($AF33,2)=0,INDEX(relationships,INT($AF33/2)+1,DI$3)<>2),INDEX($AC$5:$AD$24,DI$3,MOD(COLUMNS($BU$3:DI$3),2)+1),INDEX($AC$5:$AD$24,INT($AF33/2)+1,MOD(COLUMNS($BU$3:DI$3),2)+1))","v":6.2348980185873293},null,-2.45029690981724E-15,10,-2.45029690981724E-15,10]
[null,"Social media group chats",{"$f":"MAX(C10,INDEX(rawData,COLUMNS($C$28:C$28),ROWS($B$29:$B34)))","v":1},{"$f":"MAX(D10,INDEX(rawData,COLUMNS($C$28:D$28),ROWS($B$29:$B34)))","v":0},{"$f":"MAX(E10,INDEX(rawData,COLUMNS($C$28:E$28),ROWS($B$29:$B34)))","v":1},{"$f":"MAX(F10,INDEX(rawData,COLUMNS($C$28:F$28),ROWS($B$29:$B34)))","v":1},{"$f":"MAX(G10,INDEX(rawData,COLUMNS($C$28:G$28),ROWS($B$29:$B34)))","v":1},{"$f":"MAX(H10,INDEX(rawData,COLUMNS($C$28:H$28),ROWS($B$29:$B34)))","v":0},{"$f":"MAX(I10,INDEX(rawData,COLUMNS($C$28:I$28),ROWS($B$29:$B34)))","v":0},{"$f":"MAX(J10,INDEX(rawData,COLUMNS($C$28:J$28),ROWS($B$29:$B34)))","v":0},{"$f":"MAX(K10,INDEX(rawData,COLUMNS($C$28:K$28),ROWS($B$29:$B34)))","v":0},{"$f":"MAX(L10,INDEX(rawData,COLUMNS($C$28:L$28),ROWS($B$29:$B34)))","v":0},{"$f":"MAX(M10,INDEX(rawData,COLUMNS($C$28:M$28),ROWS($B$29:$B34)))","v":0},{"$f":"MAX(N10,INDEX(rawData,COLUMNS($C$28:N$28),ROWS($B$29:$B34)))","v":0},{"$f":"MAX(O10,INDEX(rawData,COLUMNS($C$28:O$28),ROWS($B$29:$B34)))","v":0},{"$f":"MAX(P10,INDEX(rawData,COLUMNS($C$28:P$28),ROWS($B$29:$B34)))","v":0},{"$f":"MAX(Q10,INDEX(rawData,COLUMNS($C$28:Q$28),ROWS($B$29:$B34)))","v":0},{"$f":"MAX(R10,INDEX(rawData,COLUMNS($C$28:R$28),ROWS($B$29:$B34)))","v":0},{"$f":"MAX(S10,INDEX(rawData,COLUMNS($C$28:S$28),ROWS($B$29:$B34)))","v":0},{"$f":"MAX(T10,INDEX(rawData,COLUMNS($C$28:T$28),ROWS($B$29:$B34)))","v":0},{"$f":"MAX(U10,INDEX(rawData,COLUMNS($C$28:U$28),ROWS($B$29:$B34)))","v":0},{"$f":"MAX(V10,INDEX(rawData,COLUMNS($C$28:V$28),ROWS($B$29:$B34)))","v":0},null,null,null,null,null,null,null,null,null,29,{"$f":"IF(OR(MOD($AF34,2)=0,INDEX(relationships,INT($AF34/2)+1,AG$3)<>1),INDEX($AC$5:$AD$24,AG$3,MOD(COLUMNS($AF$3:AG$3),2)+1),INDEX($AC$5:$AD$24,INT($AF34/2)+1,MOD(COLUMNS($AF$3:AG$3),2)+1))","v":7.8183148246802983},{"$f":"IF(OR(MOD($AF34,2)=0,INDEX(relationships,INT($AF34/2)+1,AH$3)<>1),INDEX($AC$5:$AD$24,AH$3,MOD(COLUMNS($AF$3:AH$3),2)+1),INDEX($AC$5:$AD$24,INT($AF34/2)+1,MOD(COLUMNS($AF$3:AH$3),2)+1))","v":6.2348980185873355},{"$f":"IF(OR(MOD($AF34,2)=0,INDEX(relationships,INT($AF34/2)+1,AI$3)<>1),INDEX($AC$5:$AD$24,AI$3,MOD(COLUMNS($AF$3:AI$3),2)+1),INDEX($AC$5:$AD$24,INT($AF34/2)+1,MOD(COLUMNS($AF$3:AI$3),2)+1))","v":9.7492791218182369},{"$f":"IF(OR(MOD($AF34,2)=0,INDEX(relationships,INT($AF34/2)+1,AJ$3)<>1),INDEX($AC$5:$AD$24,AJ$3,MOD(COLUMNS($AF$3:AJ$3),2)+1),INDEX($AC$5:$AD$24,INT($AF34/2)+1,MOD(COLUMNS($AF$3:AJ$3),2)+1))","v":-2.2252093395631434},{"$f":"IF(OR(MOD($AF34,2)=0,INDEX(relationships,INT($AF34/2)+1,AK$3)<>1),INDEX($AC$5:$AD$24,AK$3,MOD(COLUMNS($AF$3:AK$3),2)+1),INDEX($AC$5:$AD$24,INT($AF34/2)+1,MOD(COLUMNS($AF$3:AK$3),2)+1))","v":4.3388373911755824},{"$f":"IF(OR(MOD($AF34,2)=0,INDEX(relationships,INT($AF34/2)+1,AL$3)<>1),INDEX($AC$5:$AD$24,AL$3,MOD(COLUMNS($AF$3:AL$3),2)+1),INDEX($AC$5:$AD$24,INT($AF34/2)+1,MOD(COLUMNS($AF$3:AL$3),2)+1))","v":-9.0096886790241903},{"$f":"IF(OR(MOD($AF34,2)=0,INDEX(relationships,INT($AF34/2)+1,AM$3)<>1),INDEX($AC$5:$AD$24,AM$3,MOD(COLUMNS($AF$3:AM$3),2)+1),INDEX($AC$5:$AD$24,INT($AF34/2)+1,MOD(COLUMNS($AF$3:AM$3),2)+1))","v":-4.3388373911755798},{"$f":"IF(OR(MOD($AF34,2)=0,INDEX(relationships,INT($AF34/2)+1,AN$3)<>1),INDEX($AC$5:$AD$24,AN$3,MOD(COLUMNS($AF$3:AN$3),2)+1),INDEX($AC$5:$AD$24,INT($AF34/2)+1,MOD(COLUMNS($AF$3:AN$3),2)+1))","v":-9.0096886790241921},{"$f":"IF(OR(MOD($AF34,2)=0,INDEX(relationships,INT($AF34/2)+1,AO$3)<>1),INDEX($AC$5:$AD$24,AO$3,MOD(COLUMNS($AF$3:AO$3),2)+1),INDEX($AC$5:$AD$24,INT($AF34/2)+1,MOD(COLUMNS($AF$3:AO$3),2)+1))","v":-9.7492791218182369},{"$f":"IF(OR(MOD($AF34,2)=0,INDEX(relationships,INT($AF34/2)+1,AP$3)<>1),INDEX($AC$5:$AD$24,AP$3,MOD(COLUMNS($AF$3:AP$3),2)+1),INDEX($AC$5:$AD$24,INT($AF34/2)+1,MOD(COLUMNS($AF$3:AP$3),2)+1))","v":-2.225209339563146},{"$f":"IF(OR(MOD($AF34,2)=0,INDEX(relationships,INT($AF34/2)+1,AQ$3)<>1),INDEX($AC$5:$AD$24,AQ$3,MOD(COLUMNS($AF$3:AQ$3),2)+1),INDEX($AC$5:$AD$24,INT($AF34/2)+1,MOD(COLUMNS($AF$3:AQ$3),2)+1))","v":-7.8183148246802991},{"$f":"IF(OR(MOD($AF34,2)=0,INDEX(relationships,INT($AF34/2)+1,AR$3)<>1),INDEX($AC$5:$AD$24,AR$3,MOD(COLUMNS($AF$3:AR$3),2)+1),INDEX($AC$5:$AD$24,INT($AF34/2)+1,MOD(COLUMNS($AF$3:AR$3),2)+1))","v":6.2348980185873337},{"$f":"IF(OR(MOD($AF34,2)=0,INDEX(relationships,INT($AF34/2)+1,AS$3)<>1),INDEX($AC$5:$AD$24,AS$3,MOD(COLUMNS($AF$3:AS$3),2)+1),INDEX($AC$5:$AD$24,INT($AF34/2)+1,MOD(COLUMNS($AF$3:AS$3),2)+1))","v":-2.45029690981724E-15},{"$f":"IF(OR(MOD($AF34,2)=0,INDEX(relationships,INT($AF34/2)+1,AT$3)<>1),INDEX($AC$5:$AD$24,AT$3,MOD(COLUMNS($AF$3:AT$3),2)+1),INDEX($AC$5:$AD$24,INT($AF34/2)+1,MOD(COLUMNS($AF$3:AT$3),2)+1))","v":10},{"$f":"IF(OR(MOD($AF34,2)=0,INDEX(relationships,INT($AF34/2)+1,AU$3)<>1),INDEX($AC$5:$AD$24,AU$3,MOD(COLUMNS($AF$3:AU$3),2)+1),INDEX($AC$5:$AD$24,INT($AF34/2)+1,MOD(COLUMNS($AF$3:AU$3),2)+1))","v":7.8183148246802956},{"$f":"IF(OR(MOD($AF34,2)=0,INDEX(relationships,INT($AF34/2)+1,AV$3)<>1),INDEX($AC$5:$AD$24,AV$3,MOD(COLUMNS($AF$3:AV$3),2)+1),INDEX($AC$5:$AD$24,INT($AF34/2)+1,MOD(COLUMNS($AF$3:AV$3),2)+1))","v":6.2348980185873373},{"$f":"IF(OR(MOD($AF34,2)=0,INDEX(relationships,INT($AF34/2)+1,AW$3)<>1),INDEX($AC$5:$AD$24,AW$3,MOD(COLUMNS($AF$3:AW$3),2)+1),INDEX($AC$5:$AD$24,INT($AF34/2)+1,MOD(COLUMNS($AF$3:AW$3),2)+1))","v":9.7492791218182369},{"$f":"IF(OR(MOD($AF34,2)=0,INDEX(relationships,INT($AF34/2)+1,AX$3)<>1),INDEX($AC$5:$AD$24,AX$3,MOD(COLUMNS($AF$3:AX$3),2)+1),INDEX($AC$5:$AD$24,INT($AF34/2)+1,MOD(COLUMNS($AF$3:AX$3),2)+1))","v":-2.2252093395631407},{"$f":"IF(OR(MOD($AF34,2)=0,INDEX(relationships,INT($AF34/2)+1,AY$3)<>1),INDEX($AC$5:$AD$24,AY$3,MOD(COLUMNS($AF$3:AY$3),2)+1),INDEX($AC$5:$AD$24,INT($AF34/2)+1,MOD(COLUMNS($AF$3:AY$3),2)+1))","v":4.3388373911755842},{"$f":"IF(OR(MOD($AF34,2)=0,INDEX(relationships,INT($AF34/2)+1,AZ$3)<>1),INDEX($AC$5:$AD$24,AZ$3,MOD(COLUMNS($AF$3:AZ$3),2)+1),INDEX($AC$5:$AD$24,INT($AF34/2)+1,MOD(COLUMNS($AF$3:AZ$3),2)+1))","v":-9.0096886790241886},{"$f":"IF(OR(MOD($AF34,2)=0,INDEX(relationships,INT($AF34/2)+1,BA$3)<>1),INDEX($AC$5:$AD$24,BA$3,MOD(COLUMNS($AF$3:BA$3),2)+1),INDEX($AC$5:$AD$24,INT($AF34/2)+1,MOD(COLUMNS($AF$3:BA$3),2)+1))","v":-4.338837391175578},{"$f":"IF(OR(MOD($AF34,2)=0,INDEX(relationships,INT($AF34/2)+1,BB$3)<>1),INDEX($AC$5:$AD$24,BB$3,MOD(COLUMNS($AF$3:BB$3),2)+1),INDEX($AC$5:$AD$24,INT($AF34/2)+1,MOD(COLUMNS($AF$3:BB$3),2)+1))","v":-9.0096886790241921},{"$f":"IF(OR(MOD($AF34,2)=0,INDEX(relationships,INT($AF34/2)+1,BC$3)<>1),INDEX($AC$5:$AD$24,BC$3,MOD(COLUMNS($AF$3:BC$3),2)+1),INDEX($AC$5:$AD$24,INT($AF34/2)+1,MOD(COLUMNS($AF$3:BC$3),2)+1))","v":-9.7492791218182351},{"$f":"IF(OR(MOD($AF34,2)=0,INDEX(relationships,INT($AF34/2)+1,BD$3)<>1),INDEX($AC$5:$AD$24,BD$3,MOD(COLUMNS($AF$3:BD$3),2)+1),INDEX($AC$5:$AD$24,INT($AF34/2)+1,MOD(COLUMNS($AF$3:BD$3),2)+1))","v":-2.2252093395631483},{"$f":"IF(OR(MOD($AF34,2)=0,INDEX(relationships,INT($AF34/2)+1,BE$3)<>1),INDEX($AC$5:$AD$24,BE$3,MOD(COLUMNS($AF$3:BE$3),2)+1),INDEX($AC$5:$AD$24,INT($AF34/2)+1,MOD(COLUMNS($AF$3:BE$3),2)+1))","v":-7.8183148246803018},{"$f":"IF(OR(MOD($AF34,2)=0,INDEX(relationships,INT($AF34/2)+1,BF$3)<>1),INDEX($AC$5:$AD$24,BF$3,MOD(COLUMNS($AF$3:BF$3),2)+1),INDEX($AC$5:$AD$24,INT($AF34/2)+1,MOD(COLUMNS($AF$3:BF$3),2)+1))","v":6.2348980185873319},{"$f":"IF(OR(MOD($AF34,2)=0,INDEX(relationships,INT($AF34/2)+1,BG$3)<>1),INDEX($AC$5:$AD$24,BG$3,MOD(COLUMNS($AF$3:BG$3),2)+1),INDEX($AC$5:$AD$24,INT($AF34/2)+1,MOD(COLUMNS($AF$3:BG$3),2)+1))","v":-4.90059381963448E-15},{"$f":"IF(OR(MOD($AF34,2)=0,INDEX(relationships,INT($AF34/2)+1,BH$3)<>1),INDEX($AC$5:$AD$24,BH$3,MOD(COLUMNS($AF$3:BH$3),2)+1),INDEX($AC$5:$AD$24,INT($AF34/2)+1,MOD(COLUMNS($AF$3:BH$3),2)+1))","v":10},{"$f":"IF(OR(MOD($AF34,2)=0,INDEX(relationships,INT($AF34/2)+1,BI$3)<>1),INDEX($AC$5:$AD$24,BI$3,MOD(COLUMNS($AF$3:BI$3),2)+1),INDEX($AC$5:$AD$24,INT($AF34/2)+1,MOD(COLUMNS($AF$3:BI$3),2)+1))","v":7.8183148246802947},{"$f":"IF(OR(MOD($AF34,2)=0,INDEX(relationships,INT($AF34/2)+1,BJ$3)<>1),INDEX($AC$5:$AD$24,BJ$3,MOD(COLUMNS($AF$3:BJ$3),2)+1),INDEX($AC$5:$AD$24,INT($AF34/2)+1,MOD(COLUMNS($AF$3:BJ$3),2)+1))","v":6.2348980185873391},{"$f":"IF(OR(MOD($AF34,2)=0,INDEX(relationships,INT($AF34/2)+1,BK$3)<>1),INDEX($AC$5:$AD$24,BK$3,MOD(COLUMNS($AF$3:BK$3),2)+1),INDEX($AC$5:$AD$24,INT($AF34/2)+1,MOD(COLUMNS($AF$3:BK$3),2)+1))","v":9.7492791218182369},{"$f":"IF(OR(MOD($AF34,2)=0,INDEX(relationships,INT($AF34/2)+1,BL$3)<>1),INDEX($AC$5:$AD$24,BL$3,MOD(COLUMNS($AF$3:BL$3),2)+1),INDEX($AC$5:$AD$24,INT($AF34/2)+1,MOD(COLUMNS($AF$3:BL$3),2)+1))","v":-2.2252093395631385},{"$f":"IF(OR(MOD($AF34,2)=0,INDEX(relationships,INT($AF34/2)+1,BM$3)<>1),INDEX($AC$5:$AD$24,BM$3,MOD(COLUMNS($AF$3:BM$3),2)+1),INDEX($AC$5:$AD$24,INT($AF34/2)+1,MOD(COLUMNS($AF$3:BM$3),2)+1))","v":4.3388373911755869},{"$f":"IF(OR(MOD($AF34,2)=0,INDEX(relationships,INT($AF34/2)+1,BN$3)<>1),INDEX($AC$5:$AD$24,BN$3,MOD(COLUMNS($AF$3:BN$3),2)+1),INDEX($AC$5:$AD$24,INT($AF34/2)+1,MOD(COLUMNS($AF$3:BN$3),2)+1))","v":-9.0096886790241886},{"$f":"IF(OR(MOD($AF34,2)=0,INDEX(relationships,INT($AF34/2)+1,BO$3)<>1),INDEX($AC$5:$AD$24,BO$3,MOD(COLUMNS($AF$3:BO$3),2)+1),INDEX($AC$5:$AD$24,INT($AF34/2)+1,MOD(COLUMNS($AF$3:BO$3),2)+1))","v":-4.3388373911755753},{"$f":"IF(OR(MOD($AF34,2)=0,INDEX(relationships,INT($AF34/2)+1,BP$3)<>1),INDEX($AC$5:$AD$24,BP$3,MOD(COLUMNS($AF$3:BP$3),2)+1),INDEX($AC$5:$AD$24,INT($AF34/2)+1,MOD(COLUMNS($AF$3:BP$3),2)+1))","v":-9.0096886790241939},{"$f":"IF(OR(MOD($AF34,2)=0,INDEX(relationships,INT($AF34/2)+1,BQ$3)<>1),INDEX($AC$5:$AD$24,BQ$3,MOD(COLUMNS($AF$3:BQ$3),2)+1),INDEX($AC$5:$AD$24,INT($AF34/2)+1,MOD(COLUMNS($AF$3:BQ$3),2)+1))","v":-9.7492791218182351},{"$f":"IF(OR(MOD($AF34,2)=0,INDEX(relationships,INT($AF34/2)+1,BR$3)<>1),INDEX($AC$5:$AD$24,BR$3,MOD(COLUMNS($AF$3:BR$3),2)+1),INDEX($AC$5:$AD$24,INT($AF34/2)+1,MOD(COLUMNS($AF$3:BR$3),2)+1))","v":-2.2252093395631505},{"$f":"IF(OR(MOD($AF34,2)=0,INDEX(relationships,INT($AF34/2)+1,BS$3)<>1),INDEX($AC$5:$AD$24,BS$3,MOD(COLUMNS($AF$3:BS$3),2)+1),INDEX($AC$5:$AD$24,INT($AF34/2)+1,MOD(COLUMNS($AF$3:BS$3),2)+1))","v":-7.8183148246803027},{"$f":"IF(OR(MOD($AF34,2)=0,INDEX(relationships,INT($AF34/2)+1,BT$3)<>1),INDEX($AC$5:$AD$24,BT$3,MOD(COLUMNS($AF$3:BT$3),2)+1),INDEX($AC$5:$AD$24,INT($AF34/2)+1,MOD(COLUMNS($AF$3:BT$3),2)+1))","v":6.2348980185873293},null,{"$f":"IF(OR(MOD($AF34,2)=0,INDEX(relationships,INT($AF34/2)+1,BV$3)<>2),INDEX($AC$5:$AD$24,BV$3,MOD(COLUMNS($BU$3:BV$3),2)+1),INDEX($AC$5:$AD$24,INT($AF34/2)+1,MOD(COLUMNS($BU$3:BV$3),2)+1))","v":7.8183148246802983},{"$f":"IF(OR(MOD($AF34,2)=0,INDEX(relationships,INT($AF34/2)+1,BW$3)<>2),INDEX($AC$5:$AD$24,BW$3,MOD(COLUMNS($BU$3:BW$3),2)+1),INDEX($AC$5:$AD$24,INT($AF34/2)+1,MOD(COLUMNS($BU$3:BW$3),2)+1))","v":6.2348980185873355},{"$f":"IF(OR(MOD($AF34,2)=0,INDEX(relationships,INT($AF34/2)+1,BX$3)<>2),INDEX($AC$5:$AD$24,BX$3,MOD(COLUMNS($BU$3:BX$3),2)+1),INDEX($AC$5:$AD$24,INT($AF34/2)+1,MOD(COLUMNS($BU$3:BX$3),2)+1))","v":9.7492791218182369},{"$f":"IF(OR(MOD($AF34,2)=0,INDEX(relationships,INT($AF34/2)+1,BY$3)<>2),INDEX($AC$5:$AD$24,BY$3,MOD(COLUMNS($BU$3:BY$3),2)+1),INDEX($AC$5:$AD$24,INT($AF34/2)+1,MOD(COLUMNS($BU$3:BY$3),2)+1))","v":-2.2252093395631434},{"$f":"IF(OR(MOD($AF34,2)=0,INDEX(relationships,INT($AF34/2)+1,BZ$3)<>2),INDEX($AC$5:$AD$24,BZ$3,MOD(COLUMNS($BU$3:BZ$3),2)+1),INDEX($AC$5:$AD$24,INT($AF34/2)+1,MOD(COLUMNS($BU$3:BZ$3),2)+1))","v":4.3388373911755824},{"$f":"IF(OR(MOD($AF34,2)=0,INDEX(relationships,INT($AF34/2)+1,CA$3)<>2),INDEX($AC$5:$AD$24,CA$3,MOD(COLUMNS($BU$3:CA$3),2)+1),INDEX($AC$5:$AD$24,INT($AF34/2)+1,MOD(COLUMNS($BU$3:CA$3),2)+1))","v":-9.0096886790241903},{"$f":"IF(OR(MOD($AF34,2)=0,INDEX(relationships,INT($AF34/2)+1,CB$3)<>2),INDEX($AC$5:$AD$24,CB$3,MOD(COLUMNS($BU$3:CB$3),2)+1),INDEX($AC$5:$AD$24,INT($AF34/2)+1,MOD(COLUMNS($BU$3:CB$3),2)+1))","v":-4.3388373911755798},{"$f":"IF(OR(MOD($AF34,2)=0,INDEX(relationships,INT($AF34/2)+1,CC$3)<>2),INDEX($AC$5:$AD$24,CC$3,MOD(COLUMNS($BU$3:CC$3),2)+1),INDEX($AC$5:$AD$24,INT($AF34/2)+1,MOD(COLUMNS($BU$3:CC$3),2)+1))","v":-9.0096886790241921},{"$f":"IF(OR(MOD($AF34,2)=0,INDEX(relationships,INT($AF34/2)+1,CD$3)<>2),INDEX($AC$5:$AD$24,CD$3,MOD(COLUMNS($BU$3:CD$3),2)+1),INDEX($AC$5:$AD$24,INT($AF34/2)+1,MOD(COLUMNS($BU$3:CD$3),2)+1))","v":-9.7492791218182369},{"$f":"IF(OR(MOD($AF34,2)=0,INDEX(relationships,INT($AF34/2)+1,CE$3)<>2),INDEX($AC$5:$AD$24,CE$3,MOD(COLUMNS($BU$3:CE$3),2)+1),INDEX($AC$5:$AD$24,INT($AF34/2)+1,MOD(COLUMNS($BU$3:CE$3),2)+1))","v":-2.225209339563146},{"$f":"IF(OR(MOD($AF34,2)=0,INDEX(relationships,INT($AF34/2)+1,CF$3)<>2),INDEX($AC$5:$AD$24,CF$3,MOD(COLUMNS($BU$3:CF$3),2)+1),INDEX($AC$5:$AD$24,INT($AF34/2)+1,MOD(COLUMNS($BU$3:CF$3),2)+1))","v":-7.8183148246802991},{"$f":"IF(OR(MOD($AF34,2)=0,INDEX(relationships,INT($AF34/2)+1,CG$3)<>2),INDEX($AC$5:$AD$24,CG$3,MOD(COLUMNS($BU$3:CG$3),2)+1),INDEX($AC$5:$AD$24,INT($AF34/2)+1,MOD(COLUMNS($BU$3:CG$3),2)+1))","v":6.2348980185873337},{"$f":"IF(OR(MOD($AF34,2)=0,INDEX(relationships,INT($AF34/2)+1,CH$3)<>2),INDEX($AC$5:$AD$24,CH$3,MOD(COLUMNS($BU$3:CH$3),2)+1),INDEX($AC$5:$AD$24,INT($AF34/2)+1,MOD(COLUMNS($BU$3:CH$3),2)+1))","v":-2.45029690981724E-15},{"$f":"IF(OR(MOD($AF34,2)=0,INDEX(relationships,INT($AF34/2)+1,CI$3)<>2),INDEX($AC$5:$AD$24,CI$3,MOD(COLUMNS($BU$3:CI$3),2)+1),INDEX($AC$5:$AD$24,INT($AF34/2)+1,MOD(COLUMNS($BU$3:CI$3),2)+1))","v":10},{"$f":"IF(OR(MOD($AF34,2)=0,INDEX(relationships,INT($AF34/2)+1,CJ$3)<>2),INDEX($AC$5:$AD$24,CJ$3,MOD(COLUMNS($BU$3:CJ$3),2)+1),INDEX($AC$5:$AD$24,INT($AF34/2)+1,MOD(COLUMNS($BU$3:CJ$3),2)+1))","v":7.8183148246802956},{"$f":"IF(OR(MOD($AF34,2)=0,INDEX(relationships,INT($AF34/2)+1,CK$3)<>2),INDEX($AC$5:$AD$24,CK$3,MOD(COLUMNS($BU$3:CK$3),2)+1),INDEX($AC$5:$AD$24,INT($AF34/2)+1,MOD(COLUMNS($BU$3:CK$3),2)+1))","v":6.2348980185873373},{"$f":"IF(OR(MOD($AF34,2)=0,INDEX(relationships,INT($AF34/2)+1,CL$3)<>2),INDEX($AC$5:$AD$24,CL$3,MOD(COLUMNS($BU$3:CL$3),2)+1),INDEX($AC$5:$AD$24,INT($AF34/2)+1,MOD(COLUMNS($BU$3:CL$3),2)+1))","v":9.7492791218182369},{"$f":"IF(OR(MOD($AF34,2)=0,INDEX(relationships,INT($AF34/2)+1,CM$3)<>2),INDEX($AC$5:$AD$24,CM$3,MOD(COLUMNS($BU$3:CM$3),2)+1),INDEX($AC$5:$AD$24,INT($AF34/2)+1,MOD(COLUMNS($BU$3:CM$3),2)+1))","v":-2.2252093395631407},{"$f":"IF(OR(MOD($AF34,2)=0,INDEX(relationships,INT($AF34/2)+1,CN$3)<>2),INDEX($AC$5:$AD$24,CN$3,MOD(COLUMNS($BU$3:CN$3),2)+1),INDEX($AC$5:$AD$24,INT($AF34/2)+1,MOD(COLUMNS($BU$3:CN$3),2)+1))","v":4.3388373911755842},{"$f":"IF(OR(MOD($AF34,2)=0,INDEX(relationships,INT($AF34/2)+1,CO$3)<>2),INDEX($AC$5:$AD$24,CO$3,MOD(COLUMNS($BU$3:CO$3),2)+1),INDEX($AC$5:$AD$24,INT($AF34/2)+1,MOD(COLUMNS($BU$3:CO$3),2)+1))","v":-9.0096886790241886},{"$f":"IF(OR(MOD($AF34,2)=0,INDEX(relationships,INT($AF34/2)+1,CP$3)<>2),INDEX($AC$5:$AD$24,CP$3,MOD(COLUMNS($BU$3:CP$3),2)+1),INDEX($AC$5:$AD$24,INT($AF34/2)+1,MOD(COLUMNS($BU$3:CP$3),2)+1))","v":-4.338837391175578},{"$f":"IF(OR(MOD($AF34,2)=0,INDEX(relationships,INT($AF34/2)+1,CQ$3)<>2),INDEX($AC$5:$AD$24,CQ$3,MOD(COLUMNS($BU$3:CQ$3),2)+1),INDEX($AC$5:$AD$24,INT($AF34/2)+1,MOD(COLUMNS($BU$3:CQ$3),2)+1))","v":-9.0096886790241921},{"$f":"IF(OR(MOD($AF34,2)=0,INDEX(relationships,INT($AF34/2)+1,CR$3)<>2),INDEX($AC$5:$AD$24,CR$3,MOD(COLUMNS($BU$3:CR$3),2)+1),INDEX($AC$5:$AD$24,INT($AF34/2)+1,MOD(COLUMNS($BU$3:CR$3),2)+1))","v":-9.7492791218182351},{"$f":"IF(OR(MOD($AF34,2)=0,INDEX(relationships,INT($AF34/2)+1,CS$3)<>2),INDEX($AC$5:$AD$24,CS$3,MOD(COLUMNS($BU$3:CS$3),2)+1),INDEX($AC$5:$AD$24,INT($AF34/2)+1,MOD(COLUMNS($BU$3:CS$3),2)+1))","v":-2.2252093395631483},{"$f":"IF(OR(MOD($AF34,2)=0,INDEX(relationships,INT($AF34/2)+1,CT$3)<>2),INDEX($AC$5:$AD$24,CT$3,MOD(COLUMNS($BU$3:CT$3),2)+1),INDEX($AC$5:$AD$24,INT($AF34/2)+1,MOD(COLUMNS($BU$3:CT$3),2)+1))","v":-7.8183148246803018},{"$f":"IF(OR(MOD($AF34,2)=0,INDEX(relationships,INT($AF34/2)+1,CU$3)<>2),INDEX($AC$5:$AD$24,CU$3,MOD(COLUMNS($BU$3:CU$3),2)+1),INDEX($AC$5:$AD$24,INT($AF34/2)+1,MOD(COLUMNS($BU$3:CU$3),2)+1))","v":6.2348980185873319},{"$f":"IF(OR(MOD($AF34,2)=0,INDEX(relationships,INT($AF34/2)+1,CV$3)<>2),INDEX($AC$5:$AD$24,CV$3,MOD(COLUMNS($BU$3:CV$3),2)+1),INDEX($AC$5:$AD$24,INT($AF34/2)+1,MOD(COLUMNS($BU$3:CV$3),2)+1))","v":-4.90059381963448E-15},{"$f":"IF(OR(MOD($AF34,2)=0,INDEX(relationships,INT($AF34/2)+1,CW$3)<>2),INDEX($AC$5:$AD$24,CW$3,MOD(COLUMNS($BU$3:CW$3),2)+1),INDEX($AC$5:$AD$24,INT($AF34/2)+1,MOD(COLUMNS($BU$3:CW$3),2)+1))","v":10},{"$f":"IF(OR(MOD($AF34,2)=0,INDEX(relationships,INT($AF34/2)+1,CX$3)<>2),INDEX($AC$5:$AD$24,CX$3,MOD(COLUMNS($BU$3:CX$3),2)+1),INDEX($AC$5:$AD$24,INT($AF34/2)+1,MOD(COLUMNS($BU$3:CX$3),2)+1))","v":7.8183148246802947},{"$f":"IF(OR(MOD($AF34,2)=0,INDEX(relationships,INT($AF34/2)+1,CY$3)<>2),INDEX($AC$5:$AD$24,CY$3,MOD(COLUMNS($BU$3:CY$3),2)+1),INDEX($AC$5:$AD$24,INT($AF34/2)+1,MOD(COLUMNS($BU$3:CY$3),2)+1))","v":6.2348980185873391},{"$f":"IF(OR(MOD($AF34,2)=0,INDEX(relationships,INT($AF34/2)+1,CZ$3)<>2),INDEX($AC$5:$AD$24,CZ$3,MOD(COLUMNS($BU$3:CZ$3),2)+1),INDEX($AC$5:$AD$24,INT($AF34/2)+1,MOD(COLUMNS($BU$3:CZ$3),2)+1))","v":9.7492791218182369},{"$f":"IF(OR(MOD($AF34,2)=0,INDEX(relationships,INT($AF34/2)+1,DA$3)<>2),INDEX($AC$5:$AD$24,DA$3,MOD(COLUMNS($BU$3:DA$3),2)+1),INDEX($AC$5:$AD$24,INT($AF34/2)+1,MOD(COLUMNS($BU$3:DA$3),2)+1))","v":-2.2252093395631385},{"$f":"IF(OR(MOD($AF34,2)=0,INDEX(relationships,INT($AF34/2)+1,DB$3)<>2),INDEX($AC$5:$AD$24,DB$3,MOD(COLUMNS($BU$3:DB$3),2)+1),INDEX($AC$5:$AD$24,INT($AF34/2)+1,MOD(COLUMNS($BU$3:DB$3),2)+1))","v":4.3388373911755869},{"$f":"IF(OR(MOD($AF34,2)=0,INDEX(relationships,INT($AF34/2)+1,DC$3)<>2),INDEX($AC$5:$AD$24,DC$3,MOD(COLUMNS($BU$3:DC$3),2)+1),INDEX($AC$5:$AD$24,INT($AF34/2)+1,MOD(COLUMNS($BU$3:DC$3),2)+1))","v":-9.0096886790241886},{"$f":"IF(OR(MOD($AF34,2)=0,INDEX(relationships,INT($AF34/2)+1,DD$3)<>2),INDEX($AC$5:$AD$24,DD$3,MOD(COLUMNS($BU$3:DD$3),2)+1),INDEX($AC$5:$AD$24,INT($AF34/2)+1,MOD(COLUMNS($BU$3:DD$3),2)+1))","v":-4.3388373911755753},{"$f":"IF(OR(MOD($AF34,2)=0,INDEX(relationships,INT($AF34/2)+1,DE$3)<>2),INDEX($AC$5:$AD$24,DE$3,MOD(COLUMNS($BU$3:DE$3),2)+1),INDEX($AC$5:$AD$24,INT($AF34/2)+1,MOD(COLUMNS($BU$3:DE$3),2)+1))","v":-9.0096886790241939},{"$f":"IF(OR(MOD($AF34,2)=0,INDEX(relationships,INT($AF34/2)+1,DF$3)<>2),INDEX($AC$5:$AD$24,DF$3,MOD(COLUMNS($BU$3:DF$3),2)+1),INDEX($AC$5:$AD$24,INT($AF34/2)+1,MOD(COLUMNS($BU$3:DF$3),2)+1))","v":-9.7492791218182351},{"$f":"IF(OR(MOD($AF34,2)=0,INDEX(relationships,INT($AF34/2)+1,DG$3)<>2),INDEX($AC$5:$AD$24,DG$3,MOD(COLUMNS($BU$3:DG$3),2)+1),INDEX($AC$5:$AD$24,INT($AF34/2)+1,MOD(COLUMNS($BU$3:DG$3),2)+1))","v":-2.2252093395631505},{"$f":"IF(OR(MOD($AF34,2)=0,INDEX(relationships,INT($AF34/2)+1,DH$3)<>2),INDEX($AC$5:$AD$24,DH$3,MOD(COLUMNS($BU$3:DH$3),2)+1),INDEX($AC$5:$AD$24,INT($AF34/2)+1,MOD(COLUMNS($BU$3:DH$3),2)+1))","v":-7.8183148246803027},{"$f":"IF(OR(MOD($AF34,2)=0,INDEX(relationships,INT($AF34/2)+1,DI$3)<>2),INDEX($AC$5:$AD$24,DI$3,MOD(COLUMNS($BU$3:DI$3),2)+1),INDEX($AC$5:$AD$24,INT($AF34/2)+1,MOD(COLUMNS($BU$3:DI$3),2)+1))","v":6.2348980185873293},null,-2.45029690981724E-15,10,-2.45029690981724E-15,10]
[null,"Colleagues ",{"$f":"MAX(C11,INDEX(rawData,COLUMNS($C$28:C$28),ROWS($B$29:$B35)))","v":0},{"$f":"MAX(D11,INDEX(rawData,COLUMNS($C$28:D$28),ROWS($B$29:$B35)))","v":2},{"$f":"MAX(E11,INDEX(rawData,COLUMNS($C$28:E$28),ROWS($B$29:$B35)))","v":0},{"$f":"MAX(F11,INDEX(rawData,COLUMNS($C$28:F$28),ROWS($B$29:$B35)))","v":0},{"$f":"MAX(G11,INDEX(rawData,COLUMNS($C$28:G$28),ROWS($B$29:$B35)))","v":0},{"$f":"MAX(H11,INDEX(rawData,COLUMNS($C$28:H$28),ROWS($B$29:$B35)))","v":0},{"$f":"MAX(I11,INDEX(rawData,COLUMNS($C$28:I$28),ROWS($B$29:$B35)))","v":0},{"$f":"MAX(J11,INDEX(rawData,COLUMNS($C$28:J$28),ROWS($B$29:$B35)))","v":0},{"$f":"MAX(K11,INDEX(rawData,COLUMNS($C$28:K$28),ROWS($B$29:$B35)))","v":0},{"$f":"MAX(L11,INDEX(rawData,COLUMNS($C$28:L$28),ROWS($B$29:$B35)))","v":0},{"$f":"MAX(M11,INDEX(rawData,COLUMNS($C$28:M$28),ROWS($B$29:$B35)))","v":0},{"$f":"MAX(N11,INDEX(rawData,COLUMNS($C$28:N$28),ROWS($B$29:$B35)))","v":0},{"$f":"MAX(O11,INDEX(rawData,COLUMNS($C$28:O$28),ROWS($B$29:$B35)))","v":0},{"$f":"MAX(P11,INDEX(rawData,COLUMNS($C$28:P$28),ROWS($B$29:$B35)))","v":0},{"$f":"MAX(Q11,INDEX(rawData,COLUMNS($C$28:Q$28),ROWS($B$29:$B35)))","v":0},{"$f":"MAX(R11,INDEX(rawData,COLUMNS($C$28:R$28),ROWS($B$29:$B35)))","v":0},{"$f":"MAX(S11,INDEX(rawData,COLUMNS($C$28:S$28),ROWS($B$29:$B35)))","v":0},{"$f":"MAX(T11,INDEX(rawData,COLUMNS($C$28:T$28),ROWS($B$29:$B35)))","v":0},{"$f":"MAX(U11,INDEX(rawData,COLUMNS($C$28:U$28),ROWS($B$29:$B35)))","v":0},{"$f":"MAX(V11,INDEX(rawData,COLUMNS($C$28:V$28),ROWS($B$29:$B35)))","v":0},null,null,null,null,null,null,null,null,null,30,{"$f":"IF(OR(MOD($AF35,2)=0,INDEX(relationships,INT($AF35/2)+1,AG$3)<>1),INDEX($AC$5:$AD$24,AG$3,MOD(COLUMNS($AF$3:AG$3),2)+1),INDEX($AC$5:$AD$24,INT($AF35/2)+1,MOD(COLUMNS($AF$3:AG$3),2)+1))","v":7.8183148246802983},{"$f":"IF(OR(MOD($AF35,2)=0,INDEX(relationships,INT($AF35/2)+1,AH$3)<>1),INDEX($AC$5:$AD$24,AH$3,MOD(COLUMNS($AF$3:AH$3),2)+1),INDEX($AC$5:$AD$24,INT($AF35/2)+1,MOD(COLUMNS($AF$3:AH$3),2)+1))","v":6.2348980185873355},{"$f":"IF(OR(MOD($AF35,2)=0,INDEX(relationships,INT($AF35/2)+1,AI$3)<>1),INDEX($AC$5:$AD$24,AI$3,MOD(COLUMNS($AF$3:AI$3),2)+1),INDEX($AC$5:$AD$24,INT($AF35/2)+1,MOD(COLUMNS($AF$3:AI$3),2)+1))","v":9.7492791218182369},{"$f":"IF(OR(MOD($AF35,2)=0,INDEX(relationships,INT($AF35/2)+1,AJ$3)<>1),INDEX($AC$5:$AD$24,AJ$3,MOD(COLUMNS($AF$3:AJ$3),2)+1),INDEX($AC$5:$AD$24,INT($AF35/2)+1,MOD(COLUMNS($AF$3:AJ$3),2)+1))","v":-2.2252093395631434},{"$f":"IF(OR(MOD($AF35,2)=0,INDEX(relationships,INT($AF35/2)+1,AK$3)<>1),INDEX($AC$5:$AD$24,AK$3,MOD(COLUMNS($AF$3:AK$3),2)+1),INDEX($AC$5:$AD$24,INT($AF35/2)+1,MOD(COLUMNS($AF$3:AK$3),2)+1))","v":4.3388373911755824},{"$f":"IF(OR(MOD($AF35,2)=0,INDEX(relationships,INT($AF35/2)+1,AL$3)<>1),INDEX($AC$5:$AD$24,AL$3,MOD(COLUMNS($AF$3:AL$3),2)+1),INDEX($AC$5:$AD$24,INT($AF35/2)+1,MOD(COLUMNS($AF$3:AL$3),2)+1))","v":-9.0096886790241903},{"$f":"IF(OR(MOD($AF35,2)=0,INDEX(relationships,INT($AF35/2)+1,AM$3)<>1),INDEX($AC$5:$AD$24,AM$3,MOD(COLUMNS($AF$3:AM$3),2)+1),INDEX($AC$5:$AD$24,INT($AF35/2)+1,MOD(COLUMNS($AF$3:AM$3),2)+1))","v":-4.3388373911755798},{"$f":"IF(OR(MOD($AF35,2)=0,INDEX(relationships,INT($AF35/2)+1,AN$3)<>1),INDEX($AC$5:$AD$24,AN$3,MOD(COLUMNS($AF$3:AN$3),2)+1),INDEX($AC$5:$AD$24,INT($AF35/2)+1,MOD(COLUMNS($AF$3:AN$3),2)+1))","v":-9.0096886790241921},{"$f":"IF(OR(MOD($AF35,2)=0,INDEX(relationships,INT($AF35/2)+1,AO$3)<>1),INDEX($AC$5:$AD$24,AO$3,MOD(COLUMNS($AF$3:AO$3),2)+1),INDEX($AC$5:$AD$24,INT($AF35/2)+1,MOD(COLUMNS($AF$3:AO$3),2)+1))","v":-9.7492791218182369},{"$f":"IF(OR(MOD($AF35,2)=0,INDEX(relationships,INT($AF35/2)+1,AP$3)<>1),INDEX($AC$5:$AD$24,AP$3,MOD(COLUMNS($AF$3:AP$3),2)+1),INDEX($AC$5:$AD$24,INT($AF35/2)+1,MOD(COLUMNS($AF$3:AP$3),2)+1))","v":-2.225209339563146},{"$f":"IF(OR(MOD($AF35,2)=0,INDEX(relationships,INT($AF35/2)+1,AQ$3)<>1),INDEX($AC$5:$AD$24,AQ$3,MOD(COLUMNS($AF$3:AQ$3),2)+1),INDEX($AC$5:$AD$24,INT($AF35/2)+1,MOD(COLUMNS($AF$3:AQ$3),2)+1))","v":-7.8183148246802991},{"$f":"IF(OR(MOD($AF35,2)=0,INDEX(relationships,INT($AF35/2)+1,AR$3)<>1),INDEX($AC$5:$AD$24,AR$3,MOD(COLUMNS($AF$3:AR$3),2)+1),INDEX($AC$5:$AD$24,INT($AF35/2)+1,MOD(COLUMNS($AF$3:AR$3),2)+1))","v":6.2348980185873337},{"$f":"IF(OR(MOD($AF35,2)=0,INDEX(relationships,INT($AF35/2)+1,AS$3)<>1),INDEX($AC$5:$AD$24,AS$3,MOD(COLUMNS($AF$3:AS$3),2)+1),INDEX($AC$5:$AD$24,INT($AF35/2)+1,MOD(COLUMNS($AF$3:AS$3),2)+1))","v":-2.45029690981724E-15},{"$f":"IF(OR(MOD($AF35,2)=0,INDEX(relationships,INT($AF35/2)+1,AT$3)<>1),INDEX($AC$5:$AD$24,AT$3,MOD(COLUMNS($AF$3:AT$3),2)+1),INDEX($AC$5:$AD$24,INT($AF35/2)+1,MOD(COLUMNS($AF$3:AT$3),2)+1))","v":10},{"$f":"IF(OR(MOD($AF35,2)=0,INDEX(relationships,INT($AF35/2)+1,AU$3)<>1),INDEX($AC$5:$AD$24,AU$3,MOD(COLUMNS($AF$3:AU$3),2)+1),INDEX($AC$5:$AD$24,INT($AF35/2)+1,MOD(COLUMNS($AF$3:AU$3),2)+1))","v":7.8183148246802956},{"$f":"IF(OR(MOD($AF35,2)=0,INDEX(relationships,INT($AF35/2)+1,AV$3)<>1),INDEX($AC$5:$AD$24,AV$3,MOD(COLUMNS($AF$3:AV$3),2)+1),INDEX($AC$5:$AD$24,INT($AF35/2)+1,MOD(COLUMNS($AF$3:AV$3),2)+1))","v":6.2348980185873373},{"$f":"IF(OR(MOD($AF35,2)=0,INDEX(relationships,INT($AF35/2)+1,AW$3)<>1),INDEX($AC$5:$AD$24,AW$3,MOD(COLUMNS($AF$3:AW$3),2)+1),INDEX($AC$5:$AD$24,INT($AF35/2)+1,MOD(COLUMNS($AF$3:AW$3),2)+1))","v":9.7492791218182369},{"$f":"IF(OR(MOD($AF35,2)=0,INDEX(relationships,INT($AF35/2)+1,AX$3)<>1),INDEX($AC$5:$AD$24,AX$3,MOD(COLUMNS($AF$3:AX$3),2)+1),INDEX($AC$5:$AD$24,INT($AF35/2)+1,MOD(COLUMNS($AF$3:AX$3),2)+1))","v":-2.2252093395631407},{"$f":"IF(OR(MOD($AF35,2)=0,INDEX(relationships,INT($AF35/2)+1,AY$3)<>1),INDEX($AC$5:$AD$24,AY$3,MOD(COLUMNS($AF$3:AY$3),2)+1),INDEX($AC$5:$AD$24,INT($AF35/2)+1,MOD(COLUMNS($AF$3:AY$3),2)+1))","v":4.3388373911755842},{"$f":"IF(OR(MOD($AF35,2)=0,INDEX(relationships,INT($AF35/2)+1,AZ$3)<>1),INDEX($AC$5:$AD$24,AZ$3,MOD(COLUMNS($AF$3:AZ$3),2)+1),INDEX($AC$5:$AD$24,INT($AF35/2)+1,MOD(COLUMNS($AF$3:AZ$3),2)+1))","v":-9.0096886790241886},{"$f":"IF(OR(MOD($AF35,2)=0,INDEX(relationships,INT($AF35/2)+1,BA$3)<>1),INDEX($AC$5:$AD$24,BA$3,MOD(COLUMNS($AF$3:BA$3),2)+1),INDEX($AC$5:$AD$24,INT($AF35/2)+1,MOD(COLUMNS($AF$3:BA$3),2)+1))","v":-4.338837391175578},{"$f":"IF(OR(MOD($AF35,2)=0,INDEX(relationships,INT($AF35/2)+1,BB$3)<>1),INDEX($AC$5:$AD$24,BB$3,MOD(COLUMNS($AF$3:BB$3),2)+1),INDEX($AC$5:$AD$24,INT($AF35/2)+1,MOD(COLUMNS($AF$3:BB$3),2)+1))","v":-9.0096886790241921},{"$f":"IF(OR(MOD($AF35,2)=0,INDEX(relationships,INT($AF35/2)+1,BC$3)<>1),INDEX($AC$5:$AD$24,BC$3,MOD(COLUMNS($AF$3:BC$3),2)+1),INDEX($AC$5:$AD$24,INT($AF35/2)+1,MOD(COLUMNS($AF$3:BC$3),2)+1))","v":-9.7492791218182351},{"$f":"IF(OR(MOD($AF35,2)=0,INDEX(relationships,INT($AF35/2)+1,BD$3)<>1),INDEX($AC$5:$AD$24,BD$3,MOD(COLUMNS($AF$3:BD$3),2)+1),INDEX($AC$5:$AD$24,INT($AF35/2)+1,MOD(COLUMNS($AF$3:BD$3),2)+1))","v":-2.2252093395631483},{"$f":"IF(OR(MOD($AF35,2)=0,INDEX(relationships,INT($AF35/2)+1,BE$3)<>1),INDEX($AC$5:$AD$24,BE$3,MOD(COLUMNS($AF$3:BE$3),2)+1),INDEX($AC$5:$AD$24,INT($AF35/2)+1,MOD(COLUMNS($AF$3:BE$3),2)+1))","v":-7.8183148246803018},{"$f":"IF(OR(MOD($AF35,2)=0,INDEX(relationships,INT($AF35/2)+1,BF$3)<>1),INDEX($AC$5:$AD$24,BF$3,MOD(COLUMNS($AF$3:BF$3),2)+1),INDEX($AC$5:$AD$24,INT($AF35/2)+1,MOD(COLUMNS($AF$3:BF$3),2)+1))","v":6.2348980185873319},{"$f":"IF(OR(MOD($AF35,2)=0,INDEX(relationships,INT($AF35/2)+1,BG$3)<>1),INDEX($AC$5:$AD$24,BG$3,MOD(COLUMNS($AF$3:BG$3),2)+1),INDEX($AC$5:$AD$24,INT($AF35/2)+1,MOD(COLUMNS($AF$3:BG$3),2)+1))","v":-4.90059381963448E-15},{"$f":"IF(OR(MOD($AF35,2)=0,INDEX(relationships,INT($AF35/2)+1,BH$3)<>1),INDEX($AC$5:$AD$24,BH$3,MOD(COLUMNS($AF$3:BH$3),2)+1),INDEX($AC$5:$AD$24,INT($AF35/2)+1,MOD(COLUMNS($AF$3:BH$3),2)+1))","v":10},{"$f":"IF(OR(MOD($AF35,2)=0,INDEX(relationships,INT($AF35/2)+1,BI$3)<>1),INDEX($AC$5:$AD$24,BI$3,MOD(COLUMNS($AF$3:BI$3),2)+1),INDEX($AC$5:$AD$24,INT($AF35/2)+1,MOD(COLUMNS($AF$3:BI$3),2)+1))","v":7.8183148246802947},{"$f":"IF(OR(MOD($AF35,2)=0,INDEX(relationships,INT($AF35/2)+1,BJ$3)<>1),INDEX($AC$5:$AD$24,BJ$3,MOD(COLUMNS($AF$3:BJ$3),2)+1),INDEX($AC$5:$AD$24,INT($AF35/2)+1,MOD(COLUMNS($AF$3:BJ$3),2)+1))","v":6.2348980185873391},{"$f":"IF(OR(MOD($AF35,2)=0,INDEX(relationships,INT($AF35/2)+1,BK$3)<>1),INDEX($AC$5:$AD$24,BK$3,MOD(COLUMNS($AF$3:BK$3),2)+1),INDEX($AC$5:$AD$24,INT($AF35/2)+1,MOD(COLUMNS($AF$3:BK$3),2)+1))","v":9.7492791218182369},{"$f":"IF(OR(MOD($AF35,2)=0,INDEX(relationships,INT($AF35/2)+1,BL$3)<>1),INDEX($AC$5:$AD$24,BL$3,MOD(COLUMNS($AF$3:BL$3),2)+1),INDEX($AC$5:$AD$24,INT($AF35/2)+1,MOD(COLUMNS($AF$3:BL$3),2)+1))","v":-2.2252093395631385},{"$f":"IF(OR(MOD($AF35,2)=0,INDEX(relationships,INT($AF35/2)+1,BM$3)<>1),INDEX($AC$5:$AD$24,BM$3,MOD(COLUMNS($AF$3:BM$3),2)+1),INDEX($AC$5:$AD$24,INT($AF35/2)+1,MOD(COLUMNS($AF$3:BM$3),2)+1))","v":4.3388373911755869},{"$f":"IF(OR(MOD($AF35,2)=0,INDEX(relationships,INT($AF35/2)+1,BN$3)<>1),INDEX($AC$5:$AD$24,BN$3,MOD(COLUMNS($AF$3:BN$3),2)+1),INDEX($AC$5:$AD$24,INT($AF35/2)+1,MOD(COLUMNS($AF$3:BN$3),2)+1))","v":-9.0096886790241886},{"$f":"IF(OR(MOD($AF35,2)=0,INDEX(relationships,INT($AF35/2)+1,BO$3)<>1),INDEX($AC$5:$AD$24,BO$3,MOD(COLUMNS($AF$3:BO$3),2)+1),INDEX($AC$5:$AD$24,INT($AF35/2)+1,MOD(COLUMNS($AF$3:BO$3),2)+1))","v":-4.3388373911755753},{"$f":"IF(OR(MOD($AF35,2)=0,INDEX(relationships,INT($AF35/2)+1,BP$3)<>1),INDEX($AC$5:$AD$24,BP$3,MOD(COLUMNS($AF$3:BP$3),2)+1),INDEX($AC$5:$AD$24,INT($AF35/2)+1,MOD(COLUMNS($AF$3:BP$3),2)+1))","v":-9.0096886790241939},{"$f":"IF(OR(MOD($AF35,2)=0,INDEX(relationships,INT($AF35/2)+1,BQ$3)<>1),INDEX($AC$5:$AD$24,BQ$3,MOD(COLUMNS($AF$3:BQ$3),2)+1),INDEX($AC$5:$AD$24,INT($AF35/2)+1,MOD(COLUMNS($AF$3:BQ$3),2)+1))","v":-9.7492791218182351},{"$f":"IF(OR(MOD($AF35,2)=0,INDEX(relationships,INT($AF35/2)+1,BR$3)<>1),INDEX($AC$5:$AD$24,BR$3,MOD(COLUMNS($AF$3:BR$3),2)+1),INDEX($AC$5:$AD$24,INT($AF35/2)+1,MOD(COLUMNS($AF$3:BR$3),2)+1))","v":-2.2252093395631505},{"$f":"IF(OR(MOD($AF35,2)=0,INDEX(relationships,INT($AF35/2)+1,BS$3)<>1),INDEX($AC$5:$AD$24,BS$3,MOD(COLUMNS($AF$3:BS$3),2)+1),INDEX($AC$5:$AD$24,INT($AF35/2)+1,MOD(COLUMNS($AF$3:BS$3),2)+1))","v":-7.8183148246803027},{"$f":"IF(OR(MOD($AF35,2)=0,INDEX(relationships,INT($AF35/2)+1,BT$3)<>1),INDEX($AC$5:$AD$24,BT$3,MOD(COLUMNS($AF$3:BT$3),2)+1),INDEX($AC$5:$AD$24,INT($AF35/2)+1,MOD(COLUMNS($AF$3:BT$3),2)+1))","v":6.2348980185873293},null,{"$f":"IF(OR(MOD($AF35,2)=0,INDEX(relationships,INT($AF35/2)+1,BV$3)<>2),INDEX($AC$5:$AD$24,BV$3,MOD(COLUMNS($BU$3:BV$3),2)+1),INDEX($AC$5:$AD$24,INT($AF35/2)+1,MOD(COLUMNS($BU$3:BV$3),2)+1))","v":7.8183148246802983},{"$f":"IF(OR(MOD($AF35,2)=0,INDEX(relationships,INT($AF35/2)+1,BW$3)<>2),INDEX($AC$5:$AD$24,BW$3,MOD(COLUMNS($BU$3:BW$3),2)+1),INDEX($AC$5:$AD$24,INT($AF35/2)+1,MOD(COLUMNS($BU$3:BW$3),2)+1))","v":6.2348980185873355},{"$f":"IF(OR(MOD($AF35,2)=0,INDEX(relationships,INT($AF35/2)+1,BX$3)<>2),INDEX($AC$5:$AD$24,BX$3,MOD(COLUMNS($BU$3:BX$3),2)+1),INDEX($AC$5:$AD$24,INT($AF35/2)+1,MOD(COLUMNS($BU$3:BX$3),2)+1))","v":9.7492791218182369},{"$f":"IF(OR(MOD($AF35,2)=0,INDEX(relationships,INT($AF35/2)+1,BY$3)<>2),INDEX($AC$5:$AD$24,BY$3,MOD(COLUMNS($BU$3:BY$3),2)+1),INDEX($AC$5:$AD$24,INT($AF35/2)+1,MOD(COLUMNS($BU$3:BY$3),2)+1))","v":-2.2252093395631434},{"$f":"IF(OR(MOD($AF35,2)=0,INDEX(relationships,INT($AF35/2)+1,BZ$3)<>2),INDEX($AC$5:$AD$24,BZ$3,MOD(COLUMNS($BU$3:BZ$3),2)+1),INDEX($AC$5:$AD$24,INT($AF35/2)+1,MOD(COLUMNS($BU$3:BZ$3),2)+1))","v":4.3388373911755824},{"$f":"IF(OR(MOD($AF35,2)=0,INDEX(relationships,INT($AF35/2)+1,CA$3)<>2),INDEX($AC$5:$AD$24,CA$3,MOD(COLUMNS($BU$3:CA$3),2)+1),INDEX($AC$5:$AD$24,INT($AF35/2)+1,MOD(COLUMNS($BU$3:CA$3),2)+1))","v":-9.0096886790241903},{"$f":"IF(OR(MOD($AF35,2)=0,INDEX(relationships,INT($AF35/2)+1,CB$3)<>2),INDEX($AC$5:$AD$24,CB$3,MOD(COLUMNS($BU$3:CB$3),2)+1),INDEX($AC$5:$AD$24,INT($AF35/2)+1,MOD(COLUMNS($BU$3:CB$3),2)+1))","v":-4.3388373911755798},{"$f":"IF(OR(MOD($AF35,2)=0,INDEX(relationships,INT($AF35/2)+1,CC$3)<>2),INDEX($AC$5:$AD$24,CC$3,MOD(COLUMNS($BU$3:CC$3),2)+1),INDEX($AC$5:$AD$24,INT($AF35/2)+1,MOD(COLUMNS($BU$3:CC$3),2)+1))","v":-9.0096886790241921},{"$f":"IF(OR(MOD($AF35,2)=0,INDEX(relationships,INT($AF35/2)+1,CD$3)<>2),INDEX($AC$5:$AD$24,CD$3,MOD(COLUMNS($BU$3:CD$3),2)+1),INDEX($AC$5:$AD$24,INT($AF35/2)+1,MOD(COLUMNS($BU$3:CD$3),2)+1))","v":-9.7492791218182369},{"$f":"IF(OR(MOD($AF35,2)=0,INDEX(relationships,INT($AF35/2)+1,CE$3)<>2),INDEX($AC$5:$AD$24,CE$3,MOD(COLUMNS($BU$3:CE$3),2)+1),INDEX($AC$5:$AD$24,INT($AF35/2)+1,MOD(COLUMNS($BU$3:CE$3),2)+1))","v":-2.225209339563146},{"$f":"IF(OR(MOD($AF35,2)=0,INDEX(relationships,INT($AF35/2)+1,CF$3)<>2),INDEX($AC$5:$AD$24,CF$3,MOD(COLUMNS($BU$3:CF$3),2)+1),INDEX($AC$5:$AD$24,INT($AF35/2)+1,MOD(COLUMNS($BU$3:CF$3),2)+1))","v":-7.8183148246802991},{"$f":"IF(OR(MOD($AF35,2)=0,INDEX(relationships,INT($AF35/2)+1,CG$3)<>2),INDEX($AC$5:$AD$24,CG$3,MOD(COLUMNS($BU$3:CG$3),2)+1),INDEX($AC$5:$AD$24,INT($AF35/2)+1,MOD(COLUMNS($BU$3:CG$3),2)+1))","v":6.2348980185873337},{"$f":"IF(OR(MOD($AF35,2)=0,INDEX(relationships,INT($AF35/2)+1,CH$3)<>2),INDEX($AC$5:$AD$24,CH$3,MOD(COLUMNS($BU$3:CH$3),2)+1),INDEX($AC$5:$AD$24,INT($AF35/2)+1,MOD(COLUMNS($BU$3:CH$3),2)+1))","v":-2.45029690981724E-15},{"$f":"IF(OR(MOD($AF35,2)=0,INDEX(relationships,INT($AF35/2)+1,CI$3)<>2),INDEX($AC$5:$AD$24,CI$3,MOD(COLUMNS($BU$3:CI$3),2)+1),INDEX($AC$5:$AD$24,INT($AF35/2)+1,MOD(COLUMNS($BU$3:CI$3),2)+1))","v":10},{"$f":"IF(OR(MOD($AF35,2)=0,INDEX(relationships,INT($AF35/2)+1,CJ$3)<>2),INDEX($AC$5:$AD$24,CJ$3,MOD(COLUMNS($BU$3:CJ$3),2)+1),INDEX($AC$5:$AD$24,INT($AF35/2)+1,MOD(COLUMNS($BU$3:CJ$3),2)+1))","v":7.8183148246802956},{"$f":"IF(OR(MOD($AF35,2)=0,INDEX(relationships,INT($AF35/2)+1,CK$3)<>2),INDEX($AC$5:$AD$24,CK$3,MOD(COLUMNS($BU$3:CK$3),2)+1),INDEX($AC$5:$AD$24,INT($AF35/2)+1,MOD(COLUMNS($BU$3:CK$3),2)+1))","v":6.2348980185873373},{"$f":"IF(OR(MOD($AF35,2)=0,INDEX(relationships,INT($AF35/2)+1,CL$3)<>2),INDEX($AC$5:$AD$24,CL$3,MOD(COLUMNS($BU$3:CL$3),2)+1),INDEX($AC$5:$AD$24,INT($AF35/2)+1,MOD(COLUMNS($BU$3:CL$3),2)+1))","v":9.7492791218182369},{"$f":"IF(OR(MOD($AF35,2)=0,INDEX(relationships,INT($AF35/2)+1,CM$3)<>2),INDEX($AC$5:$AD$24,CM$3,MOD(COLUMNS($BU$3:CM$3),2)+1),INDEX($AC$5:$AD$24,INT($AF35/2)+1,MOD(COLUMNS($BU$3:CM$3),2)+1))","v":-2.2252093395631407},{"$f":"IF(OR(MOD($AF35,2)=0,INDEX(relationships,INT($AF35/2)+1,CN$3)<>2),INDEX($AC$5:$AD$24,CN$3,MOD(COLUMNS($BU$3:CN$3),2)+1),INDEX($AC$5:$AD$24,INT($AF35/2)+1,MOD(COLUMNS($BU$3:CN$3),2)+1))","v":4.3388373911755842},{"$f":"IF(OR(MOD($AF35,2)=0,INDEX(relationships,INT($AF35/2)+1,CO$3)<>2),INDEX($AC$5:$AD$24,CO$3,MOD(COLUMNS($BU$3:CO$3),2)+1),INDEX($AC$5:$AD$24,INT($AF35/2)+1,MOD(COLUMNS($BU$3:CO$3),2)+1))","v":-9.0096886790241886},{"$f":"IF(OR(MOD($AF35,2)=0,INDEX(relationships,INT($AF35/2)+1,CP$3)<>2),INDEX($AC$5:$AD$24,CP$3,MOD(COLUMNS($BU$3:CP$3),2)+1),INDEX($AC$5:$AD$24,INT($AF35/2)+1,MOD(COLUMNS($BU$3:CP$3),2)+1))","v":-4.338837391175578},{"$f":"IF(OR(MOD($AF35,2)=0,INDEX(relationships,INT($AF35/2)+1,CQ$3)<>2),INDEX($AC$5:$AD$24,CQ$3,MOD(COLUMNS($BU$3:CQ$3),2)+1),INDEX($AC$5:$AD$24,INT($AF35/2)+1,MOD(COLUMNS($BU$3:CQ$3),2)+1))","v":-9.0096886790241921},{"$f":"IF(OR(MOD($AF35,2)=0,INDEX(relationships,INT($AF35/2)+1,CR$3)<>2),INDEX($AC$5:$AD$24,CR$3,MOD(COLUMNS($BU$3:CR$3),2)+1),INDEX($AC$5:$AD$24,INT($AF35/2)+1,MOD(COLUMNS($BU$3:CR$3),2)+1))","v":-9.7492791218182351},{"$f":"IF(OR(MOD($AF35,2)=0,INDEX(relationships,INT($AF35/2)+1,CS$3)<>2),INDEX($AC$5:$AD$24,CS$3,MOD(COLUMNS($BU$3:CS$3),2)+1),INDEX($AC$5:$AD$24,INT($AF35/2)+1,MOD(COLUMNS($BU$3:CS$3),2)+1))","v":-2.2252093395631483},{"$f":"IF(OR(MOD($AF35,2)=0,INDEX(relationships,INT($AF35/2)+1,CT$3)<>2),INDEX($AC$5:$AD$24,CT$3,MOD(COLUMNS($BU$3:CT$3),2)+1),INDEX($AC$5:$AD$24,INT($AF35/2)+1,MOD(COLUMNS($BU$3:CT$3),2)+1))","v":-7.8183148246803018},{"$f":"IF(OR(MOD($AF35,2)=0,INDEX(relationships,INT($AF35/2)+1,CU$3)<>2),INDEX($AC$5:$AD$24,CU$3,MOD(COLUMNS($BU$3:CU$3),2)+1),INDEX($AC$5:$AD$24,INT($AF35/2)+1,MOD(COLUMNS($BU$3:CU$3),2)+1))","v":6.2348980185873319},{"$f":"IF(OR(MOD($AF35,2)=0,INDEX(relationships,INT($AF35/2)+1,CV$3)<>2),INDEX($AC$5:$AD$24,CV$3,MOD(COLUMNS($BU$3:CV$3),2)+1),INDEX($AC$5:$AD$24,INT($AF35/2)+1,MOD(COLUMNS($BU$3:CV$3),2)+1))","v":-4.90059381963448E-15},{"$f":"IF(OR(MOD($AF35,2)=0,INDEX(relationships,INT($AF35/2)+1,CW$3)<>2),INDEX($AC$5:$AD$24,CW$3,MOD(COLUMNS($BU$3:CW$3),2)+1),INDEX($AC$5:$AD$24,INT($AF35/2)+1,MOD(COLUMNS($BU$3:CW$3),2)+1))","v":10},{"$f":"IF(OR(MOD($AF35,2)=0,INDEX(relationships,INT($AF35/2)+1,CX$3)<>2),INDEX($AC$5:$AD$24,CX$3,MOD(COLUMNS($BU$3:CX$3),2)+1),INDEX($AC$5:$AD$24,INT($AF35/2)+1,MOD(COLUMNS($BU$3:CX$3),2)+1))","v":7.8183148246802947},{"$f":"IF(OR(MOD($AF35,2)=0,INDEX(relationships,INT($AF35/2)+1,CY$3)<>2),INDEX($AC$5:$AD$24,CY$3,MOD(COLUMNS($BU$3:CY$3),2)+1),INDEX($AC$5:$AD$24,INT($AF35/2)+1,MOD(COLUMNS($BU$3:CY$3),2)+1))","v":6.2348980185873391},{"$f":"IF(OR(MOD($AF35,2)=0,INDEX(relationships,INT($AF35/2)+1,CZ$3)<>2),INDEX($AC$5:$AD$24,CZ$3,MOD(COLUMNS($BU$3:CZ$3),2)+1),INDEX($AC$5:$AD$24,INT($AF35/2)+1,MOD(COLUMNS($BU$3:CZ$3),2)+1))","v":9.7492791218182369},{"$f":"IF(OR(MOD($AF35,2)=0,INDEX(relationships,INT($AF35/2)+1,DA$3)<>2),INDEX($AC$5:$AD$24,DA$3,MOD(COLUMNS($BU$3:DA$3),2)+1),INDEX($AC$5:$AD$24,INT($AF35/2)+1,MOD(COLUMNS($BU$3:DA$3),2)+1))","v":-2.2252093395631385},{"$f":"IF(OR(MOD($AF35,2)=0,INDEX(relationships,INT($AF35/2)+1,DB$3)<>2),INDEX($AC$5:$AD$24,DB$3,MOD(COLUMNS($BU$3:DB$3),2)+1),INDEX($AC$5:$AD$24,INT($AF35/2)+1,MOD(COLUMNS($BU$3:DB$3),2)+1))","v":4.3388373911755869},{"$f":"IF(OR(MOD($AF35,2)=0,INDEX(relationships,INT($AF35/2)+1,DC$3)<>2),INDEX($AC$5:$AD$24,DC$3,MOD(COLUMNS($BU$3:DC$3),2)+1),INDEX($AC$5:$AD$24,INT($AF35/2)+1,MOD(COLUMNS($BU$3:DC$3),2)+1))","v":-9.0096886790241886},{"$f":"IF(OR(MOD($AF35,2)=0,INDEX(relationships,INT($AF35/2)+1,DD$3)<>2),INDEX($AC$5:$AD$24,DD$3,MOD(COLUMNS($BU$3:DD$3),2)+1),INDEX($AC$5:$AD$24,INT($AF35/2)+1,MOD(COLUMNS($BU$3:DD$3),2)+1))","v":-4.3388373911755753},{"$f":"IF(OR(MOD($AF35,2)=0,INDEX(relationships,INT($AF35/2)+1,DE$3)<>2),INDEX($AC$5:$AD$24,DE$3,MOD(COLUMNS($BU$3:DE$3),2)+1),INDEX($AC$5:$AD$24,INT($AF35/2)+1,MOD(COLUMNS($BU$3:DE$3),2)+1))","v":-9.0096886790241939},{"$f":"IF(OR(MOD($AF35,2)=0,INDEX(relationships,INT($AF35/2)+1,DF$3)<>2),INDEX($AC$5:$AD$24,DF$3,MOD(COLUMNS($BU$3:DF$3),2)+1),INDEX($AC$5:$AD$24,INT($AF35/2)+1,MOD(COLUMNS($BU$3:DF$3),2)+1))","v":-9.7492791218182351},{"$f":"IF(OR(MOD($AF35,2)=0,INDEX(relationships,INT($AF35/2)+1,DG$3)<>2),INDEX($AC$5:$AD$24,DG$3,MOD(COLUMNS($BU$3:DG$3),2)+1),INDEX($AC$5:$AD$24,INT($AF35/2)+1,MOD(COLUMNS($BU$3:DG$3),2)+1))","v":-2.2252093395631505},{"$f":"IF(OR(MOD($AF35,2)=0,INDEX(relationships,INT($AF35/2)+1,DH$3)<>2),INDEX($AC$5:$AD$24,DH$3,MOD(COLUMNS($BU$3:DH$3),2)+1),INDEX($AC$5:$AD$24,INT($AF35/2)+1,MOD(COLUMNS($BU$3:DH$3),2)+1))","v":-7.8183148246803027},{"$f":"IF(OR(MOD($AF35,2)=0,INDEX(relationships,INT($AF35/2)+1,DI$3)<>2),INDEX($AC$5:$AD$24,DI$3,MOD(COLUMNS($BU$3:DI$3),2)+1),INDEX($AC$5:$AD$24,INT($AF35/2)+1,MOD(COLUMNS($BU$3:DI$3),2)+1))","v":6.2348980185873293},null,-2.45029690981724E-15,10,-2.45029690981724E-15,10]
[null,0,{"$f":"MAX(C12,INDEX(rawData,COLUMNS($C$28:C$28),ROWS($B$29:$B36)))","v":0},{"$f":"MAX(D12,INDEX(rawData,COLUMNS($C$28:D$28),ROWS($B$29:$B36)))","v":0},{"$f":"MAX(E12,INDEX(rawData,COLUMNS($C$28:E$28),ROWS($B$29:$B36)))","v":0},{"$f":"MAX(F12,INDEX(rawData,COLUMNS($C$28:F$28),ROWS($B$29:$B36)))","v":0},{"$f":"MAX(G12,INDEX(rawData,COLUMNS($C$28:G$28),ROWS($B$29:$B36)))","v":0},{"$f":"MAX(H12,INDEX(rawData,COLUMNS($C$28:H$28),ROWS($B$29:$B36)))","v":0},{"$f":"MAX(I12,INDEX(rawData,COLUMNS($C$28:I$28),ROWS($B$29:$B36)))","v":0},{"$f":"MAX(J12,INDEX(rawData,COLUMNS($C$28:J$28),ROWS($B$29:$B36)))","v":0},{"$f":"MAX(K12,INDEX(rawData,COLUMNS($C$28:K$28),ROWS($B$29:$B36)))","v":0},{"$f":"MAX(L12,INDEX(rawData,COLUMNS($C$28:L$28),ROWS($B$29:$B36)))","v":0},{"$f":"MAX(M12,INDEX(rawData,COLUMNS($C$28:M$28),ROWS($B$29:$B36)))","v":0},{"$f":"MAX(N12,INDEX(rawData,COLUMNS($C$28:N$28),ROWS($B$29:$B36)))","v":0},{"$f":"MAX(O12,INDEX(rawData,COLUMNS($C$28:O$28),ROWS($B$29:$B36)))","v":0},{"$f":"MAX(P12,INDEX(rawData,COLUMNS($C$28:P$28),ROWS($B$29:$B36)))","v":0},{"$f":"MAX(Q12,INDEX(rawData,COLUMNS($C$28:Q$28),ROWS($B$29:$B36)))","v":0},{"$f":"MAX(R12,INDEX(rawData,COLUMNS($C$28:R$28),ROWS($B$29:$B36)))","v":0},{"$f":"MAX(S12,INDEX(rawData,COLUMNS($C$28:S$28),ROWS($B$29:$B36)))","v":0},{"$f":"MAX(T12,INDEX(rawData,COLUMNS($C$28:T$28),ROWS($B$29:$B36)))","v":0},{"$f":"MAX(U12,INDEX(rawData,COLUMNS($C$28:U$28),ROWS($B$29:$B36)))","v":0},{"$f":"MAX(V12,INDEX(rawData,COLUMNS($C$28:V$28),ROWS($B$29:$B36)))","v":0},null,null,null,null,null,null,null,null,null,31,{"$f":"IF(OR(MOD($AF36,2)=0,INDEX(relationships,INT($AF36/2)+1,AG$3)<>1),INDEX($AC$5:$AD$24,AG$3,MOD(COLUMNS($AF$3:AG$3),2)+1),INDEX($AC$5:$AD$24,INT($AF36/2)+1,MOD(COLUMNS($AF$3:AG$3),2)+1))","v":7.8183148246802983},{"$f":"IF(OR(MOD($AF36,2)=0,INDEX(relationships,INT($AF36/2)+1,AH$3)<>1),INDEX($AC$5:$AD$24,AH$3,MOD(COLUMNS($AF$3:AH$3),2)+1),INDEX($AC$5:$AD$24,INT($AF36/2)+1,MOD(COLUMNS($AF$3:AH$3),2)+1))","v":6.2348980185873355},{"$f":"IF(OR(MOD($AF36,2)=0,INDEX(relationships,INT($AF36/2)+1,AI$3)<>1),INDEX($AC$5:$AD$24,AI$3,MOD(COLUMNS($AF$3:AI$3),2)+1),INDEX($AC$5:$AD$24,INT($AF36/2)+1,MOD(COLUMNS($AF$3:AI$3),2)+1))","v":9.7492791218182369},{"$f":"IF(OR(MOD($AF36,2)=0,INDEX(relationships,INT($AF36/2)+1,AJ$3)<>1),INDEX($AC$5:$AD$24,AJ$3,MOD(COLUMNS($AF$3:AJ$3),2)+1),INDEX($AC$5:$AD$24,INT($AF36/2)+1,MOD(COLUMNS($AF$3:AJ$3),2)+1))","v":-2.2252093395631434},{"$f":"IF(OR(MOD($AF36,2)=0,INDEX(relationships,INT($AF36/2)+1,AK$3)<>1),INDEX($AC$5:$AD$24,AK$3,MOD(COLUMNS($AF$3:AK$3),2)+1),INDEX($AC$5:$AD$24,INT($AF36/2)+1,MOD(COLUMNS($AF$3:AK$3),2)+1))","v":4.3388373911755824},{"$f":"IF(OR(MOD($AF36,2)=0,INDEX(relationships,INT($AF36/2)+1,AL$3)<>1),INDEX($AC$5:$AD$24,AL$3,MOD(COLUMNS($AF$3:AL$3),2)+1),INDEX($AC$5:$AD$24,INT($AF36/2)+1,MOD(COLUMNS($AF$3:AL$3),2)+1))","v":-9.0096886790241903},{"$f":"IF(OR(MOD($AF36,2)=0,INDEX(relationships,INT($AF36/2)+1,AM$3)<>1),INDEX($AC$5:$AD$24,AM$3,MOD(COLUMNS($AF$3:AM$3),2)+1),INDEX($AC$5:$AD$24,INT($AF36/2)+1,MOD(COLUMNS($AF$3:AM$3),2)+1))","v":-4.3388373911755798},{"$f":"IF(OR(MOD($AF36,2)=0,INDEX(relationships,INT($AF36/2)+1,AN$3)<>1),INDEX($AC$5:$AD$24,AN$3,MOD(COLUMNS($AF$3:AN$3),2)+1),INDEX($AC$5:$AD$24,INT($AF36/2)+1,MOD(COLUMNS($AF$3:AN$3),2)+1))","v":-9.0096886790241921},{"$f":"IF(OR(MOD($AF36,2)=0,INDEX(relationships,INT($AF36/2)+1,AO$3)<>1),INDEX($AC$5:$AD$24,AO$3,MOD(COLUMNS($AF$3:AO$3),2)+1),INDEX($AC$5:$AD$24,INT($AF36/2)+1,MOD(COLUMNS($AF$3:AO$3),2)+1))","v":-9.7492791218182369},{"$f":"IF(OR(MOD($AF36,2)=0,INDEX(relationships,INT($AF36/2)+1,AP$3)<>1),INDEX($AC$5:$AD$24,AP$3,MOD(COLUMNS($AF$3:AP$3),2)+1),INDEX($AC$5:$AD$24,INT($AF36/2)+1,MOD(COLUMNS($AF$3:AP$3),2)+1))","v":-2.225209339563146},{"$f":"IF(OR(MOD($AF36,2)=0,INDEX(relationships,INT($AF36/2)+1,AQ$3)<>1),INDEX($AC$5:$AD$24,AQ$3,MOD(COLUMNS($AF$3:AQ$3),2)+1),INDEX($AC$5:$AD$24,INT($AF36/2)+1,MOD(COLUMNS($AF$3:AQ$3),2)+1))","v":-7.8183148246802991},{"$f":"IF(OR(MOD($AF36,2)=0,INDEX(relationships,INT($AF36/2)+1,AR$3)<>1),INDEX($AC$5:$AD$24,AR$3,MOD(COLUMNS($AF$3:AR$3),2)+1),INDEX($AC$5:$AD$24,INT($AF36/2)+1,MOD(COLUMNS($AF$3:AR$3),2)+1))","v":6.2348980185873337},{"$f":"IF(OR(MOD($AF36,2)=0,INDEX(relationships,INT($AF36/2)+1,AS$3)<>1),INDEX($AC$5:$AD$24,AS$3,MOD(COLUMNS($AF$3:AS$3),2)+1),INDEX($AC$5:$AD$24,INT($AF36/2)+1,MOD(COLUMNS($AF$3:AS$3),2)+1))","v":-2.45029690981724E-15},{"$f":"IF(OR(MOD($AF36,2)=0,INDEX(relationships,INT($AF36/2)+1,AT$3)<>1),INDEX($AC$5:$AD$24,AT$3,MOD(COLUMNS($AF$3:AT$3),2)+1),INDEX($AC$5:$AD$24,INT($AF36/2)+1,MOD(COLUMNS($AF$3:AT$3),2)+1))","v":10},{"$f":"IF(OR(MOD($AF36,2)=0,INDEX(relationships,INT($AF36/2)+1,AU$3)<>1),INDEX($AC$5:$AD$24,AU$3,MOD(COLUMNS($AF$3:AU$3),2)+1),INDEX($AC$5:$AD$24,INT($AF36/2)+1,MOD(COLUMNS($AF$3:AU$3),2)+1))","v":7.8183148246802956},{"$f":"IF(OR(MOD($AF36,2)=0,INDEX(relationships,INT($AF36/2)+1,AV$3)<>1),INDEX($AC$5:$AD$24,AV$3,MOD(COLUMNS($AF$3:AV$3),2)+1),INDEX($AC$5:$AD$24,INT($AF36/2)+1,MOD(COLUMNS($AF$3:AV$3),2)+1))","v":6.2348980185873373},{"$f":"IF(OR(MOD($AF36,2)=0,INDEX(relationships,INT($AF36/2)+1,AW$3)<>1),INDEX($AC$5:$AD$24,AW$3,MOD(COLUMNS($AF$3:AW$3),2)+1),INDEX($AC$5:$AD$24,INT($AF36/2)+1,MOD(COLUMNS($AF$3:AW$3),2)+1))","v":9.7492791218182369},{"$f":"IF(OR(MOD($AF36,2)=0,INDEX(relationships,INT($AF36/2)+1,AX$3)<>1),INDEX($AC$5:$AD$24,AX$3,MOD(COLUMNS($AF$3:AX$3),2)+1),INDEX($AC$5:$AD$24,INT($AF36/2)+1,MOD(COLUMNS($AF$3:AX$3),2)+1))","v":-2.2252093395631407},{"$f":"IF(OR(MOD($AF36,2)=0,INDEX(relationships,INT($AF36/2)+1,AY$3)<>1),INDEX($AC$5:$AD$24,AY$3,MOD(COLUMNS($AF$3:AY$3),2)+1),INDEX($AC$5:$AD$24,INT($AF36/2)+1,MOD(COLUMNS($AF$3:AY$3),2)+1))","v":4.3388373911755842},{"$f":"IF(OR(MOD($AF36,2)=0,INDEX(relationships,INT($AF36/2)+1,AZ$3)<>1),INDEX($AC$5:$AD$24,AZ$3,MOD(COLUMNS($AF$3:AZ$3),2)+1),INDEX($AC$5:$AD$24,INT($AF36/2)+1,MOD(COLUMNS($AF$3:AZ$3),2)+1))","v":-9.0096886790241886},{"$f":"IF(OR(MOD($AF36,2)=0,INDEX(relationships,INT($AF36/2)+1,BA$3)<>1),INDEX($AC$5:$AD$24,BA$3,MOD(COLUMNS($AF$3:BA$3),2)+1),INDEX($AC$5:$AD$24,INT($AF36/2)+1,MOD(COLUMNS($AF$3:BA$3),2)+1))","v":-4.338837391175578},{"$f":"IF(OR(MOD($AF36,2)=0,INDEX(relationships,INT($AF36/2)+1,BB$3)<>1),INDEX($AC$5:$AD$24,BB$3,MOD(COLUMNS($AF$3:BB$3),2)+1),INDEX($AC$5:$AD$24,INT($AF36/2)+1,MOD(COLUMNS($AF$3:BB$3),2)+1))","v":-9.0096886790241921},{"$f":"IF(OR(MOD($AF36,2)=0,INDEX(relationships,INT($AF36/2)+1,BC$3)<>1),INDEX($AC$5:$AD$24,BC$3,MOD(COLUMNS($AF$3:BC$3),2)+1),INDEX($AC$5:$AD$24,INT($AF36/2)+1,MOD(COLUMNS($AF$3:BC$3),2)+1))","v":-9.7492791218182351},{"$f":"IF(OR(MOD($AF36,2)=0,INDEX(relationships,INT($AF36/2)+1,BD$3)<>1),INDEX($AC$5:$AD$24,BD$3,MOD(COLUMNS($AF$3:BD$3),2)+1),INDEX($AC$5:$AD$24,INT($AF36/2)+1,MOD(COLUMNS($AF$3:BD$3),2)+1))","v":-2.2252093395631483},{"$f":"IF(OR(MOD($AF36,2)=0,INDEX(relationships,INT($AF36/2)+1,BE$3)<>1),INDEX($AC$5:$AD$24,BE$3,MOD(COLUMNS($AF$3:BE$3),2)+1),INDEX($AC$5:$AD$24,INT($AF36/2)+1,MOD(COLUMNS($AF$3:BE$3),2)+1))","v":-7.8183148246803018},{"$f":"IF(OR(MOD($AF36,2)=0,INDEX(relationships,INT($AF36/2)+1,BF$3)<>1),INDEX($AC$5:$AD$24,BF$3,MOD(COLUMNS($AF$3:BF$3),2)+1),INDEX($AC$5:$AD$24,INT($AF36/2)+1,MOD(COLUMNS($AF$3:BF$3),2)+1))","v":6.2348980185873319},{"$f":"IF(OR(MOD($AF36,2)=0,INDEX(relationships,INT($AF36/2)+1,BG$3)<>1),INDEX($AC$5:$AD$24,BG$3,MOD(COLUMNS($AF$3:BG$3),2)+1),INDEX($AC$5:$AD$24,INT($AF36/2)+1,MOD(COLUMNS($AF$3:BG$3),2)+1))","v":-4.90059381963448E-15},{"$f":"IF(OR(MOD($AF36,2)=0,INDEX(relationships,INT($AF36/2)+1,BH$3)<>1),INDEX($AC$5:$AD$24,BH$3,MOD(COLUMNS($AF$3:BH$3),2)+1),INDEX($AC$5:$AD$24,INT($AF36/2)+1,MOD(COLUMNS($AF$3:BH$3),2)+1))","v":10},{"$f":"IF(OR(MOD($AF36,2)=0,INDEX(relationships,INT($AF36/2)+1,BI$3)<>1),INDEX($AC$5:$AD$24,BI$3,MOD(COLUMNS($AF$3:BI$3),2)+1),INDEX($AC$5:$AD$24,INT($AF36/2)+1,MOD(COLUMNS($AF$3:BI$3),2)+1))","v":7.8183148246802947},{"$f":"IF(OR(MOD($AF36,2)=0,INDEX(relationships,INT($AF36/2)+1,BJ$3)<>1),INDEX($AC$5:$AD$24,BJ$3,MOD(COLUMNS($AF$3:BJ$3),2)+1),INDEX($AC$5:$AD$24,INT($AF36/2)+1,MOD(COLUMNS($AF$3:BJ$3),2)+1))","v":6.2348980185873391},{"$f":"IF(OR(MOD($AF36,2)=0,INDEX(relationships,INT($AF36/2)+1,BK$3)<>1),INDEX($AC$5:$AD$24,BK$3,MOD(COLUMNS($AF$3:BK$3),2)+1),INDEX($AC$5:$AD$24,INT($AF36/2)+1,MOD(COLUMNS($AF$3:BK$3),2)+1))","v":9.7492791218182369},{"$f":"IF(OR(MOD($AF36,2)=0,INDEX(relationships,INT($AF36/2)+1,BL$3)<>1),INDEX($AC$5:$AD$24,BL$3,MOD(COLUMNS($AF$3:BL$3),2)+1),INDEX($AC$5:$AD$24,INT($AF36/2)+1,MOD(COLUMNS($AF$3:BL$3),2)+1))","v":-2.2252093395631385},{"$f":"IF(OR(MOD($AF36,2)=0,INDEX(relationships,INT($AF36/2)+1,BM$3)<>1),INDEX($AC$5:$AD$24,BM$3,MOD(COLUMNS($AF$3:BM$3),2)+1),INDEX($AC$5:$AD$24,INT($AF36/2)+1,MOD(COLUMNS($AF$3:BM$3),2)+1))","v":4.3388373911755869},{"$f":"IF(OR(MOD($AF36,2)=0,INDEX(relationships,INT($AF36/2)+1,BN$3)<>1),INDEX($AC$5:$AD$24,BN$3,MOD(COLUMNS($AF$3:BN$3),2)+1),INDEX($AC$5:$AD$24,INT($AF36/2)+1,MOD(COLUMNS($AF$3:BN$3),2)+1))","v":-9.0096886790241886},{"$f":"IF(OR(MOD($AF36,2)=0,INDEX(relationships,INT($AF36/2)+1,BO$3)<>1),INDEX($AC$5:$AD$24,BO$3,MOD(COLUMNS($AF$3:BO$3),2)+1),INDEX($AC$5:$AD$24,INT($AF36/2)+1,MOD(COLUMNS($AF$3:BO$3),2)+1))","v":-4.3388373911755753},{"$f":"IF(OR(MOD($AF36,2)=0,INDEX(relationships,INT($AF36/2)+1,BP$3)<>1),INDEX($AC$5:$AD$24,BP$3,MOD(COLUMNS($AF$3:BP$3),2)+1),INDEX($AC$5:$AD$24,INT($AF36/2)+1,MOD(COLUMNS($AF$3:BP$3),2)+1))","v":-9.0096886790241939},{"$f":"IF(OR(MOD($AF36,2)=0,INDEX(relationships,INT($AF36/2)+1,BQ$3)<>1),INDEX($AC$5:$AD$24,BQ$3,MOD(COLUMNS($AF$3:BQ$3),2)+1),INDEX($AC$5:$AD$24,INT($AF36/2)+1,MOD(COLUMNS($AF$3:BQ$3),2)+1))","v":-9.7492791218182351},{"$f":"IF(OR(MOD($AF36,2)=0,INDEX(relationships,INT($AF36/2)+1,BR$3)<>1),INDEX($AC$5:$AD$24,BR$3,MOD(COLUMNS($AF$3:BR$3),2)+1),INDEX($AC$5:$AD$24,INT($AF36/2)+1,MOD(COLUMNS($AF$3:BR$3),2)+1))","v":-2.2252093395631505},{"$f":"IF(OR(MOD($AF36,2)=0,INDEX(relationships,INT($AF36/2)+1,BS$3)<>1),INDEX($AC$5:$AD$24,BS$3,MOD(COLUMNS($AF$3:BS$3),2)+1),INDEX($AC$5:$AD$24,INT($AF36/2)+1,MOD(COLUMNS($AF$3:BS$3),2)+1))","v":-7.8183148246803027},{"$f":"IF(OR(MOD($AF36,2)=0,INDEX(relationships,INT($AF36/2)+1,BT$3)<>1),INDEX($AC$5:$AD$24,BT$3,MOD(COLUMNS($AF$3:BT$3),2)+1),INDEX($AC$5:$AD$24,INT($AF36/2)+1,MOD(COLUMNS($AF$3:BT$3),2)+1))","v":6.2348980185873293},null,{"$f":"IF(OR(MOD($AF36,2)=0,INDEX(relationships,INT($AF36/2)+1,BV$3)<>2),INDEX($AC$5:$AD$24,BV$3,MOD(COLUMNS($BU$3:BV$3),2)+1),INDEX($AC$5:$AD$24,INT($AF36/2)+1,MOD(COLUMNS($BU$3:BV$3),2)+1))","v":7.8183148246802983},{"$f":"IF(OR(MOD($AF36,2)=0,INDEX(relationships,INT($AF36/2)+1,BW$3)<>2),INDEX($AC$5:$AD$24,BW$3,MOD(COLUMNS($BU$3:BW$3),2)+1),INDEX($AC$5:$AD$24,INT($AF36/2)+1,MOD(COLUMNS($BU$3:BW$3),2)+1))","v":6.2348980185873355},{"$f":"IF(OR(MOD($AF36,2)=0,INDEX(relationships,INT($AF36/2)+1,BX$3)<>2),INDEX($AC$5:$AD$24,BX$3,MOD(COLUMNS($BU$3:BX$3),2)+1),INDEX($AC$5:$AD$24,INT($AF36/2)+1,MOD(COLUMNS($BU$3:BX$3),2)+1))","v":9.7492791218182369},{"$f":"IF(OR(MOD($AF36,2)=0,INDEX(relationships,INT($AF36/2)+1,BY$3)<>2),INDEX($AC$5:$AD$24,BY$3,MOD(COLUMNS($BU$3:BY$3),2)+1),INDEX($AC$5:$AD$24,INT($AF36/2)+1,MOD(COLUMNS($BU$3:BY$3),2)+1))","v":-2.2252093395631434},{"$f":"IF(OR(MOD($AF36,2)=0,INDEX(relationships,INT($AF36/2)+1,BZ$3)<>2),INDEX($AC$5:$AD$24,BZ$3,MOD(COLUMNS($BU$3:BZ$3),2)+1),INDEX($AC$5:$AD$24,INT($AF36/2)+1,MOD(COLUMNS($BU$3:BZ$3),2)+1))","v":4.3388373911755824},{"$f":"IF(OR(MOD($AF36,2)=0,INDEX(relationships,INT($AF36/2)+1,CA$3)<>2),INDEX($AC$5:$AD$24,CA$3,MOD(COLUMNS($BU$3:CA$3),2)+1),INDEX($AC$5:$AD$24,INT($AF36/2)+1,MOD(COLUMNS($BU$3:CA$3),2)+1))","v":-9.0096886790241903},{"$f":"IF(OR(MOD($AF36,2)=0,INDEX(relationships,INT($AF36/2)+1,CB$3)<>2),INDEX($AC$5:$AD$24,CB$3,MOD(COLUMNS($BU$3:CB$3),2)+1),INDEX($AC$5:$AD$24,INT($AF36/2)+1,MOD(COLUMNS($BU$3:CB$3),2)+1))","v":-4.3388373911755798},{"$f":"IF(OR(MOD($AF36,2)=0,INDEX(relationships,INT($AF36/2)+1,CC$3)<>2),INDEX($AC$5:$AD$24,CC$3,MOD(COLUMNS($BU$3:CC$3),2)+1),INDEX($AC$5:$AD$24,INT($AF36/2)+1,MOD(COLUMNS($BU$3:CC$3),2)+1))","v":-9.0096886790241921},{"$f":"IF(OR(MOD($AF36,2)=0,INDEX(relationships,INT($AF36/2)+1,CD$3)<>2),INDEX($AC$5:$AD$24,CD$3,MOD(COLUMNS($BU$3:CD$3),2)+1),INDEX($AC$5:$AD$24,INT($AF36/2)+1,MOD(COLUMNS($BU$3:CD$3),2)+1))","v":-9.7492791218182369},{"$f":"IF(OR(MOD($AF36,2)=0,INDEX(relationships,INT($AF36/2)+1,CE$3)<>2),INDEX($AC$5:$AD$24,CE$3,MOD(COLUMNS($BU$3:CE$3),2)+1),INDEX($AC$5:$AD$24,INT($AF36/2)+1,MOD(COLUMNS($BU$3:CE$3),2)+1))","v":-2.225209339563146},{"$f":"IF(OR(MOD($AF36,2)=0,INDEX(relationships,INT($AF36/2)+1,CF$3)<>2),INDEX($AC$5:$AD$24,CF$3,MOD(COLUMNS($BU$3:CF$3),2)+1),INDEX($AC$5:$AD$24,INT($AF36/2)+1,MOD(COLUMNS($BU$3:CF$3),2)+1))","v":-7.8183148246802991},{"$f":"IF(OR(MOD($AF36,2)=0,INDEX(relationships,INT($AF36/2)+1,CG$3)<>2),INDEX($AC$5:$AD$24,CG$3,MOD(COLUMNS($BU$3:CG$3),2)+1),INDEX($AC$5:$AD$24,INT($AF36/2)+1,MOD(COLUMNS($BU$3:CG$3),2)+1))","v":6.2348980185873337},{"$f":"IF(OR(MOD($AF36,2)=0,INDEX(relationships,INT($AF36/2)+1,CH$3)<>2),INDEX($AC$5:$AD$24,CH$3,MOD(COLUMNS($BU$3:CH$3),2)+1),INDEX($AC$5:$AD$24,INT($AF36/2)+1,MOD(COLUMNS($BU$3:CH$3),2)+1))","v":-2.45029690981724E-15},{"$f":"IF(OR(MOD($AF36,2)=0,INDEX(relationships,INT($AF36/2)+1,CI$3)<>2),INDEX($AC$5:$AD$24,CI$3,MOD(COLUMNS($BU$3:CI$3),2)+1),INDEX($AC$5:$AD$24,INT($AF36/2)+1,MOD(COLUMNS($BU$3:CI$3),2)+1))","v":10},{"$f":"IF(OR(MOD($AF36,2)=0,INDEX(relationships,INT($AF36/2)+1,CJ$3)<>2),INDEX($AC$5:$AD$24,CJ$3,MOD(COLUMNS($BU$3:CJ$3),2)+1),INDEX($AC$5:$AD$24,INT($AF36/2)+1,MOD(COLUMNS($BU$3:CJ$3),2)+1))","v":7.8183148246802956},{"$f":"IF(OR(MOD($AF36,2)=0,INDEX(relationships,INT($AF36/2)+1,CK$3)<>2),INDEX($AC$5:$AD$24,CK$3,MOD(COLUMNS($BU$3:CK$3),2)+1),INDEX($AC$5:$AD$24,INT($AF36/2)+1,MOD(COLUMNS($BU$3:CK$3),2)+1))","v":6.2348980185873373},{"$f":"IF(OR(MOD($AF36,2)=0,INDEX(relationships,INT($AF36/2)+1,CL$3)<>2),INDEX($AC$5:$AD$24,CL$3,MOD(COLUMNS($BU$3:CL$3),2)+1),INDEX($AC$5:$AD$24,INT($AF36/2)+1,MOD(COLUMNS($BU$3:CL$3),2)+1))","v":9.7492791218182369},{"$f":"IF(OR(MOD($AF36,2)=0,INDEX(relationships,INT($AF36/2)+1,CM$3)<>2),INDEX($AC$5:$AD$24,CM$3,MOD(COLUMNS($BU$3:CM$3),2)+1),INDEX($AC$5:$AD$24,INT($AF36/2)+1,MOD(COLUMNS($BU$3:CM$3),2)+1))","v":-2.2252093395631407},{"$f":"IF(OR(MOD($AF36,2)=0,INDEX(relationships,INT($AF36/2)+1,CN$3)<>2),INDEX($AC$5:$AD$24,CN$3,MOD(COLUMNS($BU$3:CN$3),2)+1),INDEX($AC$5:$AD$24,INT($AF36/2)+1,MOD(COLUMNS($BU$3:CN$3),2)+1))","v":4.3388373911755842},{"$f":"IF(OR(MOD($AF36,2)=0,INDEX(relationships,INT($AF36/2)+1,CO$3)<>2),INDEX($AC$5:$AD$24,CO$3,MOD(COLUMNS($BU$3:CO$3),2)+1),INDEX($AC$5:$AD$24,INT($AF36/2)+1,MOD(COLUMNS($BU$3:CO$3),2)+1))","v":-9.0096886790241886},{"$f":"IF(OR(MOD($AF36,2)=0,INDEX(relationships,INT($AF36/2)+1,CP$3)<>2),INDEX($AC$5:$AD$24,CP$3,MOD(COLUMNS($BU$3:CP$3),2)+1),INDEX($AC$5:$AD$24,INT($AF36/2)+1,MOD(COLUMNS($BU$3:CP$3),2)+1))","v":-4.338837391175578},{"$f":"IF(OR(MOD($AF36,2)=0,INDEX(relationships,INT($AF36/2)+1,CQ$3)<>2),INDEX($AC$5:$AD$24,CQ$3,MOD(COLUMNS($BU$3:CQ$3),2)+1),INDEX($AC$5:$AD$24,INT($AF36/2)+1,MOD(COLUMNS($BU$3:CQ$3),2)+1))","v":-9.0096886790241921},{"$f":"IF(OR(MOD($AF36,2)=0,INDEX(relationships,INT($AF36/2)+1,CR$3)<>2),INDEX($AC$5:$AD$24,CR$3,MOD(COLUMNS($BU$3:CR$3),2)+1),INDEX($AC$5:$AD$24,INT($AF36/2)+1,MOD(COLUMNS($BU$3:CR$3),2)+1))","v":-9.7492791218182351},{"$f":"IF(OR(MOD($AF36,2)=0,INDEX(relationships,INT($AF36/2)+1,CS$3)<>2),INDEX($AC$5:$AD$24,CS$3,MOD(COLUMNS($BU$3:CS$3),2)+1),INDEX($AC$5:$AD$24,INT($AF36/2)+1,MOD(COLUMNS($BU$3:CS$3),2)+1))","v":-2.2252093395631483},{"$f":"IF(OR(MOD($AF36,2)=0,INDEX(relationships,INT($AF36/2)+1,CT$3)<>2),INDEX($AC$5:$AD$24,CT$3,MOD(COLUMNS($BU$3:CT$3),2)+1),INDEX($AC$5:$AD$24,INT($AF36/2)+1,MOD(COLUMNS($BU$3:CT$3),2)+1))","v":-7.8183148246803018},{"$f":"IF(OR(MOD($AF36,2)=0,INDEX(relationships,INT($AF36/2)+1,CU$3)<>2),INDEX($AC$5:$AD$24,CU$3,MOD(COLUMNS($BU$3:CU$3),2)+1),INDEX($AC$5:$AD$24,INT($AF36/2)+1,MOD(COLUMNS($BU$3:CU$3),2)+1))","v":6.2348980185873319},{"$f":"IF(OR(MOD($AF36,2)=0,INDEX(relationships,INT($AF36/2)+1,CV$3)<>2),INDEX($AC$5:$AD$24,CV$3,MOD(COLUMNS($BU$3:CV$3),2)+1),INDEX($AC$5:$AD$24,INT($AF36/2)+1,MOD(COLUMNS($BU$3:CV$3),2)+1))","v":-4.90059381963448E-15},{"$f":"IF(OR(MOD($AF36,2)=0,INDEX(relationships,INT($AF36/2)+1,CW$3)<>2),INDEX($AC$5:$AD$24,CW$3,MOD(COLUMNS($BU$3:CW$3),2)+1),INDEX($AC$5:$AD$24,INT($AF36/2)+1,MOD(COLUMNS($BU$3:CW$3),2)+1))","v":10},{"$f":"IF(OR(MOD($AF36,2)=0,INDEX(relationships,INT($AF36/2)+1,CX$3)<>2),INDEX($AC$5:$AD$24,CX$3,MOD(COLUMNS($BU$3:CX$3),2)+1),INDEX($AC$5:$AD$24,INT($AF36/2)+1,MOD(COLUMNS($BU$3:CX$3),2)+1))","v":7.8183148246802947},{"$f":"IF(OR(MOD($AF36,2)=0,INDEX(relationships,INT($AF36/2)+1,CY$3)<>2),INDEX($AC$5:$AD$24,CY$3,MOD(COLUMNS($BU$3:CY$3),2)+1),INDEX($AC$5:$AD$24,INT($AF36/2)+1,MOD(COLUMNS($BU$3:CY$3),2)+1))","v":6.2348980185873391},{"$f":"IF(OR(MOD($AF36,2)=0,INDEX(relationships,INT($AF36/2)+1,CZ$3)<>2),INDEX($AC$5:$AD$24,CZ$3,MOD(COLUMNS($BU$3:CZ$3),2)+1),INDEX($AC$5:$AD$24,INT($AF36/2)+1,MOD(COLUMNS($BU$3:CZ$3),2)+1))","v":9.7492791218182369},{"$f":"IF(OR(MOD($AF36,2)=0,INDEX(relationships,INT($AF36/2)+1,DA$3)<>2),INDEX($AC$5:$AD$24,DA$3,MOD(COLUMNS($BU$3:DA$3),2)+1),INDEX($AC$5:$AD$24,INT($AF36/2)+1,MOD(COLUMNS($BU$3:DA$3),2)+1))","v":-2.2252093395631385},{"$f":"IF(OR(MOD($AF36,2)=0,INDEX(relationships,INT($AF36/2)+1,DB$3)<>2),INDEX($AC$5:$AD$24,DB$3,MOD(COLUMNS($BU$3:DB$3),2)+1),INDEX($AC$5:$AD$24,INT($AF36/2)+1,MOD(COLUMNS($BU$3:DB$3),2)+1))","v":4.3388373911755869},{"$f":"IF(OR(MOD($AF36,2)=0,INDEX(relationships,INT($AF36/2)+1,DC$3)<>2),INDEX($AC$5:$AD$24,DC$3,MOD(COLUMNS($BU$3:DC$3),2)+1),INDEX($AC$5:$AD$24,INT($AF36/2)+1,MOD(COLUMNS($BU$3:DC$3),2)+1))","v":-9.0096886790241886},{"$f":"IF(OR(MOD($AF36,2)=0,INDEX(relationships,INT($AF36/2)+1,DD$3)<>2),INDEX($AC$5:$AD$24,DD$3,MOD(COLUMNS($BU$3:DD$3),2)+1),INDEX($AC$5:$AD$24,INT($AF36/2)+1,MOD(COLUMNS($BU$3:DD$3),2)+1))","v":-4.3388373911755753},{"$f":"IF(OR(MOD($AF36,2)=0,INDEX(relationships,INT($AF36/2)+1,DE$3)<>2),INDEX($AC$5:$AD$24,DE$3,MOD(COLUMNS($BU$3:DE$3),2)+1),INDEX($AC$5:$AD$24,INT($AF36/2)+1,MOD(COLUMNS($BU$3:DE$3),2)+1))","v":-9.0096886790241939},{"$f":"IF(OR(MOD($AF36,2)=0,INDEX(relationships,INT($AF36/2)+1,DF$3)<>2),INDEX($AC$5:$AD$24,DF$3,MOD(COLUMNS($BU$3:DF$3),2)+1),INDEX($AC$5:$AD$24,INT($AF36/2)+1,MOD(COLUMNS($BU$3:DF$3),2)+1))","v":-9.7492791218182351},{"$f":"IF(OR(MOD($AF36,2)=0,INDEX(relationships,INT($AF36/2)+1,DG$3)<>2),INDEX($AC$5:$AD$24,DG$3,MOD(COLUMNS($BU$3:DG$3),2)+1),INDEX($AC$5:$AD$24,INT($AF36/2)+1,MOD(COLUMNS($BU$3:DG$3),2)+1))","v":-2.2252093395631505},{"$f":"IF(OR(MOD($AF36,2)=0,INDEX(relationships,INT($AF36/2)+1,DH$3)<>2),INDEX($AC$5:$AD$24,DH$3,MOD(COLUMNS($BU$3:DH$3),2)+1),INDEX($AC$5:$AD$24,INT($AF36/2)+1,MOD(COLUMNS($BU$3:DH$3),2)+1))","v":-7.8183148246803027},{"$f":"IF(OR(MOD($AF36,2)=0,INDEX(relationships,INT($AF36/2)+1,DI$3)<>2),INDEX($AC$5:$AD$24,DI$3,MOD(COLUMNS($BU$3:DI$3),2)+1),INDEX($AC$5:$AD$24,INT($AF36/2)+1,MOD(COLUMNS($BU$3:DI$3),2)+1))","v":6.2348980185873293},null,-2.45029690981724E-15,10,-2.45029690981724E-15,10]
[null,0,{"$f":"MAX(C13,INDEX(rawData,COLUMNS($C$28:C$28),ROWS($B$29:$B37)))","v":0},{"$f":"MAX(D13,INDEX(rawData,COLUMNS($C$28:D$28),ROWS($B$29:$B37)))","v":0},{"$f":"MAX(E13,INDEX(rawData,COLUMNS($C$28:E$28),ROWS($B$29:$B37)))","v":0},{"$f":"MAX(F13,INDEX(rawData,COLUMNS($C$28:F$28),ROWS($B$29:$B37)))","v":0},{"$f":"MAX(G13,INDEX(rawData,COLUMNS($C$28:G$28),ROWS($B$29:$B37)))","v":0},{"$f":"MAX(H13,INDEX(rawData,COLUMNS($C$28:H$28),ROWS($B$29:$B37)))","v":0},{"$f":"MAX(I13,INDEX(rawData,COLUMNS($C$28:I$28),ROWS($B$29:$B37)))","v":0},{"$f":"MAX(J13,INDEX(rawData,COLUMNS($C$28:J$28),ROWS($B$29:$B37)))","v":0},{"$f":"MAX(K13,INDEX(rawData,COLUMNS($C$28:K$28),ROWS($B$29:$B37)))","v":0},{"$f":"MAX(L13,INDEX(rawData,COLUMNS($C$28:L$28),ROWS($B$29:$B37)))","v":0},{"$f":"MAX(M13,INDEX(rawData,COLUMNS($C$28:M$28),ROWS($B$29:$B37)))","v":0},{"$f":"MAX(N13,INDEX(rawData,COLUMNS($C$28:N$28),ROWS($B$29:$B37)))","v":0},{"$f":"MAX(O13,INDEX(rawData,COLUMNS($C$28:O$28),ROWS($B$29:$B37)))","v":0},{"$f":"MAX(P13,INDEX(rawData,COLUMNS($C$28:P$28),ROWS($B$29:$B37)))","v":0},{"$f":"MAX(Q13,INDEX(rawData,COLUMNS($C$28:Q$28),ROWS($B$29:$B37)))","v":0},{"$f":"MAX(R13,INDEX(rawData,COLUMNS($C$28:R$28),ROWS($B$29:$B37)))","v":0},{"$f":"MAX(S13,INDEX(rawData,COLUMNS($C$28:S$28),ROWS($B$29:$B37)))","v":0},{"$f":"MAX(T13,INDEX(rawData,COLUMNS($C$28:T$28),ROWS($B$29:$B37)))","v":0},{"$f":"MAX(U13,INDEX(rawData,COLUMNS($C$28:U$28),ROWS($B$29:$B37)))","v":0},{"$f":"MAX(V13,INDEX(rawData,COLUMNS($C$28:V$28),ROWS($B$29:$B37)))","v":0},null,null,null,null,null,null,null,null,null,32,{"$f":"IF(OR(MOD($AF37,2)=0,INDEX(relationships,INT($AF37/2)+1,AG$3)<>1),INDEX($AC$5:$AD$24,AG$3,MOD(COLUMNS($AF$3:AG$3),2)+1),INDEX($AC$5:$AD$24,INT($AF37/2)+1,MOD(COLUMNS($AF$3:AG$3),2)+1))","v":7.8183148246802983},{"$f":"IF(OR(MOD($AF37,2)=0,INDEX(relationships,INT($AF37/2)+1,AH$3)<>1),INDEX($AC$5:$AD$24,AH$3,MOD(COLUMNS($AF$3:AH$3),2)+1),INDEX($AC$5:$AD$24,INT($AF37/2)+1,MOD(COLUMNS($AF$3:AH$3),2)+1))","v":6.2348980185873355},{"$f":"IF(OR(MOD($AF37,2)=0,INDEX(relationships,INT($AF37/2)+1,AI$3)<>1),INDEX($AC$5:$AD$24,AI$3,MOD(COLUMNS($AF$3:AI$3),2)+1),INDEX($AC$5:$AD$24,INT($AF37/2)+1,MOD(COLUMNS($AF$3:AI$3),2)+1))","v":9.7492791218182369},{"$f":"IF(OR(MOD($AF37,2)=0,INDEX(relationships,INT($AF37/2)+1,AJ$3)<>1),INDEX($AC$5:$AD$24,AJ$3,MOD(COLUMNS($AF$3:AJ$3),2)+1),INDEX($AC$5:$AD$24,INT($AF37/2)+1,MOD(COLUMNS($AF$3:AJ$3),2)+1))","v":-2.2252093395631434},{"$f":"IF(OR(MOD($AF37,2)=0,INDEX(relationships,INT($AF37/2)+1,AK$3)<>1),INDEX($AC$5:$AD$24,AK$3,MOD(COLUMNS($AF$3:AK$3),2)+1),INDEX($AC$5:$AD$24,INT($AF37/2)+1,MOD(COLUMNS($AF$3:AK$3),2)+1))","v":4.3388373911755824},{"$f":"IF(OR(MOD($AF37,2)=0,INDEX(relationships,INT($AF37/2)+1,AL$3)<>1),INDEX($AC$5:$AD$24,AL$3,MOD(COLUMNS($AF$3:AL$3),2)+1),INDEX($AC$5:$AD$24,INT($AF37/2)+1,MOD(COLUMNS($AF$3:AL$3),2)+1))","v":-9.0096886790241903},{"$f":"IF(OR(MOD($AF37,2)=0,INDEX(relationships,INT($AF37/2)+1,AM$3)<>1),INDEX($AC$5:$AD$24,AM$3,MOD(COLUMNS($AF$3:AM$3),2)+1),INDEX($AC$5:$AD$24,INT($AF37/2)+1,MOD(COLUMNS($AF$3:AM$3),2)+1))","v":-4.3388373911755798},{"$f":"IF(OR(MOD($AF37,2)=0,INDEX(relationships,INT($AF37/2)+1,AN$3)<>1),INDEX($AC$5:$AD$24,AN$3,MOD(COLUMNS($AF$3:AN$3),2)+1),INDEX($AC$5:$AD$24,INT($AF37/2)+1,MOD(COLUMNS($AF$3:AN$3),2)+1))","v":-9.0096886790241921},{"$f":"IF(OR(MOD($AF37,2)=0,INDEX(relationships,INT($AF37/2)+1,AO$3)<>1),INDEX($AC$5:$AD$24,AO$3,MOD(COLUMNS($AF$3:AO$3),2)+1),INDEX($AC$5:$AD$24,INT($AF37/2)+1,MOD(COLUMNS($AF$3:AO$3),2)+1))","v":-9.7492791218182369},{"$f":"IF(OR(MOD($AF37,2)=0,INDEX(relationships,INT($AF37/2)+1,AP$3)<>1),INDEX($AC$5:$AD$24,AP$3,MOD(COLUMNS($AF$3:AP$3),2)+1),INDEX($AC$5:$AD$24,INT($AF37/2)+1,MOD(COLUMNS($AF$3:AP$3),2)+1))","v":-2.225209339563146},{"$f":"IF(OR(MOD($AF37,2)=0,INDEX(relationships,INT($AF37/2)+1,AQ$3)<>1),INDEX($AC$5:$AD$24,AQ$3,MOD(COLUMNS($AF$3:AQ$3),2)+1),INDEX($AC$5:$AD$24,INT($AF37/2)+1,MOD(COLUMNS($AF$3:AQ$3),2)+1))","v":-7.8183148246802991},{"$f":"IF(OR(MOD($AF37,2)=0,INDEX(relationships,INT($AF37/2)+1,AR$3)<>1),INDEX($AC$5:$AD$24,AR$3,MOD(COLUMNS($AF$3:AR$3),2)+1),INDEX($AC$5:$AD$24,INT($AF37/2)+1,MOD(COLUMNS($AF$3:AR$3),2)+1))","v":6.2348980185873337},{"$f":"IF(OR(MOD($AF37,2)=0,INDEX(relationships,INT($AF37/2)+1,AS$3)<>1),INDEX($AC$5:$AD$24,AS$3,MOD(COLUMNS($AF$3:AS$3),2)+1),INDEX($AC$5:$AD$24,INT($AF37/2)+1,MOD(COLUMNS($AF$3:AS$3),2)+1))","v":-2.45029690981724E-15},{"$f":"IF(OR(MOD($AF37,2)=0,INDEX(relationships,INT($AF37/2)+1,AT$3)<>1),INDEX($AC$5:$AD$24,AT$3,MOD(COLUMNS($AF$3:AT$3),2)+1),INDEX($AC$5:$AD$24,INT($AF37/2)+1,MOD(COLUMNS($AF$3:AT$3),2)+1))","v":10},{"$f":"IF(OR(MOD($AF37,2)=0,INDEX(relationships,INT($AF37/2)+1,AU$3)<>1),INDEX($AC$5:$AD$24,AU$3,MOD(COLUMNS($AF$3:AU$3),2)+1),INDEX($AC$5:$AD$24,INT($AF37/2)+1,MOD(COLUMNS($AF$3:AU$3),2)+1))","v":7.8183148246802956},{"$f":"IF(OR(MOD($AF37,2)=0,INDEX(relationships,INT($AF37/2)+1,AV$3)<>1),INDEX($AC$5:$AD$24,AV$3,MOD(COLUMNS($AF$3:AV$3),2)+1),INDEX($AC$5:$AD$24,INT($AF37/2)+1,MOD(COLUMNS($AF$3:AV$3),2)+1))","v":6.2348980185873373},{"$f":"IF(OR(MOD($AF37,2)=0,INDEX(relationships,INT($AF37/2)+1,AW$3)<>1),INDEX($AC$5:$AD$24,AW$3,MOD(COLUMNS($AF$3:AW$3),2)+1),INDEX($AC$5:$AD$24,INT($AF37/2)+1,MOD(COLUMNS($AF$3:AW$3),2)+1))","v":9.7492791218182369},{"$f":"IF(OR(MOD($AF37,2)=0,INDEX(relationships,INT($AF37/2)+1,AX$3)<>1),INDEX($AC$5:$AD$24,AX$3,MOD(COLUMNS($AF$3:AX$3),2)+1),INDEX($AC$5:$AD$24,INT($AF37/2)+1,MOD(COLUMNS($AF$3:AX$3),2)+1))","v":-2.2252093395631407},{"$f":"IF(OR(MOD($AF37,2)=0,INDEX(relationships,INT($AF37/2)+1,AY$3)<>1),INDEX($AC$5:$AD$24,AY$3,MOD(COLUMNS($AF$3:AY$3),2)+1),INDEX($AC$5:$AD$24,INT($AF37/2)+1,MOD(COLUMNS($AF$3:AY$3),2)+1))","v":4.3388373911755842},{"$f":"IF(OR(MOD($AF37,2)=0,INDEX(relationships,INT($AF37/2)+1,AZ$3)<>1),INDEX($AC$5:$AD$24,AZ$3,MOD(COLUMNS($AF$3:AZ$3),2)+1),INDEX($AC$5:$AD$24,INT($AF37/2)+1,MOD(COLUMNS($AF$3:AZ$3),2)+1))","v":-9.0096886790241886},{"$f":"IF(OR(MOD($AF37,2)=0,INDEX(relationships,INT($AF37/2)+1,BA$3)<>1),INDEX($AC$5:$AD$24,BA$3,MOD(COLUMNS($AF$3:BA$3),2)+1),INDEX($AC$5:$AD$24,INT($AF37/2)+1,MOD(COLUMNS($AF$3:BA$3),2)+1))","v":-4.338837391175578},{"$f":"IF(OR(MOD($AF37,2)=0,INDEX(relationships,INT($AF37/2)+1,BB$3)<>1),INDEX($AC$5:$AD$24,BB$3,MOD(COLUMNS($AF$3:BB$3),2)+1),INDEX($AC$5:$AD$24,INT($AF37/2)+1,MOD(COLUMNS($AF$3:BB$3),2)+1))","v":-9.0096886790241921},{"$f":"IF(OR(MOD($AF37,2)=0,INDEX(relationships,INT($AF37/2)+1,BC$3)<>1),INDEX($AC$5:$AD$24,BC$3,MOD(COLUMNS($AF$3:BC$3),2)+1),INDEX($AC$5:$AD$24,INT($AF37/2)+1,MOD(COLUMNS($AF$3:BC$3),2)+1))","v":-9.7492791218182351},{"$f":"IF(OR(MOD($AF37,2)=0,INDEX(relationships,INT($AF37/2)+1,BD$3)<>1),INDEX($AC$5:$AD$24,BD$3,MOD(COLUMNS($AF$3:BD$3),2)+1),INDEX($AC$5:$AD$24,INT($AF37/2)+1,MOD(COLUMNS($AF$3:BD$3),2)+1))","v":-2.2252093395631483},{"$f":"IF(OR(MOD($AF37,2)=0,INDEX(relationships,INT($AF37/2)+1,BE$3)<>1),INDEX($AC$5:$AD$24,BE$3,MOD(COLUMNS($AF$3:BE$3),2)+1),INDEX($AC$5:$AD$24,INT($AF37/2)+1,MOD(COLUMNS($AF$3:BE$3),2)+1))","v":-7.8183148246803018},{"$f":"IF(OR(MOD($AF37,2)=0,INDEX(relationships,INT($AF37/2)+1,BF$3)<>1),INDEX($AC$5:$AD$24,BF$3,MOD(COLUMNS($AF$3:BF$3),2)+1),INDEX($AC$5:$AD$24,INT($AF37/2)+1,MOD(COLUMNS($AF$3:BF$3),2)+1))","v":6.2348980185873319},{"$f":"IF(OR(MOD($AF37,2)=0,INDEX(relationships,INT($AF37/2)+1,BG$3)<>1),INDEX($AC$5:$AD$24,BG$3,MOD(COLUMNS($AF$3:BG$3),2)+1),INDEX($AC$5:$AD$24,INT($AF37/2)+1,MOD(COLUMNS($AF$3:BG$3),2)+1))","v":-4.90059381963448E-15},{"$f":"IF(OR(MOD($AF37,2)=0,INDEX(relationships,INT($AF37/2)+1,BH$3)<>1),INDEX($AC$5:$AD$24,BH$3,MOD(COLUMNS($AF$3:BH$3),2)+1),INDEX($AC$5:$AD$24,INT($AF37/2)+1,MOD(COLUMNS($AF$3:BH$3),2)+1))","v":10},{"$f":"IF(OR(MOD($AF37,2)=0,INDEX(relationships,INT($AF37/2)+1,BI$3)<>1),INDEX($AC$5:$AD$24,BI$3,MOD(COLUMNS($AF$3:BI$3),2)+1),INDEX($AC$5:$AD$24,INT($AF37/2)+1,MOD(COLUMNS($AF$3:BI$3),2)+1))","v":7.8183148246802947},{"$f":"IF(OR(MOD($AF37,2)=0,INDEX(relationships,INT($AF37/2)+1,BJ$3)<>1),INDEX($AC$5:$AD$24,BJ$3,MOD(COLUMNS($AF$3:BJ$3),2)+1),INDEX($AC$5:$AD$24,INT($AF37/2)+1,MOD(COLUMNS($AF$3:BJ$3),2)+1))","v":6.2348980185873391},{"$f":"IF(OR(MOD($AF37,2)=0,INDEX(relationships,INT($AF37/2)+1,BK$3)<>1),INDEX($AC$5:$AD$24,BK$3,MOD(COLUMNS($AF$3:BK$3),2)+1),INDEX($AC$5:$AD$24,INT($AF37/2)+1,MOD(COLUMNS($AF$3:BK$3),2)+1))","v":9.7492791218182369},{"$f":"IF(OR(MOD($AF37,2)=0,INDEX(relationships,INT($AF37/2)+1,BL$3)<>1),INDEX($AC$5:$AD$24,BL$3,MOD(COLUMNS($AF$3:BL$3),2)+1),INDEX($AC$5:$AD$24,INT($AF37/2)+1,MOD(COLUMNS($AF$3:BL$3),2)+1))","v":-2.2252093395631385},{"$f":"IF(OR(MOD($AF37,2)=0,INDEX(relationships,INT($AF37/2)+1,BM$3)<>1),INDEX($AC$5:$AD$24,BM$3,MOD(COLUMNS($AF$3:BM$3),2)+1),INDEX($AC$5:$AD$24,INT($AF37/2)+1,MOD(COLUMNS($AF$3:BM$3),2)+1))","v":4.3388373911755869},{"$f":"IF(OR(MOD($AF37,2)=0,INDEX(relationships,INT($AF37/2)+1,BN$3)<>1),INDEX($AC$5:$AD$24,BN$3,MOD(COLUMNS($AF$3:BN$3),2)+1),INDEX($AC$5:$AD$24,INT($AF37/2)+1,MOD(COLUMNS($AF$3:BN$3),2)+1))","v":-9.0096886790241886},{"$f":"IF(OR(MOD($AF37,2)=0,INDEX(relationships,INT($AF37/2)+1,BO$3)<>1),INDEX($AC$5:$AD$24,BO$3,MOD(COLUMNS($AF$3:BO$3),2)+1),INDEX($AC$5:$AD$24,INT($AF37/2)+1,MOD(COLUMNS($AF$3:BO$3),2)+1))","v":-4.3388373911755753},{"$f":"IF(OR(MOD($AF37,2)=0,INDEX(relationships,INT($AF37/2)+1,BP$3)<>1),INDEX($AC$5:$AD$24,BP$3,MOD(COLUMNS($AF$3:BP$3),2)+1),INDEX($AC$5:$AD$24,INT($AF37/2)+1,MOD(COLUMNS($AF$3:BP$3),2)+1))","v":-9.0096886790241939},{"$f":"IF(OR(MOD($AF37,2)=0,INDEX(relationships,INT($AF37/2)+1,BQ$3)<>1),INDEX($AC$5:$AD$24,BQ$3,MOD(COLUMNS($AF$3:BQ$3),2)+1),INDEX($AC$5:$AD$24,INT($AF37/2)+1,MOD(COLUMNS($AF$3:BQ$3),2)+1))","v":-9.7492791218182351},{"$f":"IF(OR(MOD($AF37,2)=0,INDEX(relationships,INT($AF37/2)+1,BR$3)<>1),INDEX($AC$5:$AD$24,BR$3,MOD(COLUMNS($AF$3:BR$3),2)+1),INDEX($AC$5:$AD$24,INT($AF37/2)+1,MOD(COLUMNS($AF$3:BR$3),2)+1))","v":-2.2252093395631505},{"$f":"IF(OR(MOD($AF37,2)=0,INDEX(relationships,INT($AF37/2)+1,BS$3)<>1),INDEX($AC$5:$AD$24,BS$3,MOD(COLUMNS($AF$3:BS$3),2)+1),INDEX($AC$5:$AD$24,INT($AF37/2)+1,MOD(COLUMNS($AF$3:BS$3),2)+1))","v":-7.8183148246803027},{"$f":"IF(OR(MOD($AF37,2)=0,INDEX(relationships,INT($AF37/2)+1,BT$3)<>1),INDEX($AC$5:$AD$24,BT$3,MOD(COLUMNS($AF$3:BT$3),2)+1),INDEX($AC$5:$AD$24,INT($AF37/2)+1,MOD(COLUMNS($AF$3:BT$3),2)+1))","v":6.2348980185873293},null,{"$f":"IF(OR(MOD($AF37,2)=0,INDEX(relationships,INT($AF37/2)+1,BV$3)<>2),INDEX($AC$5:$AD$24,BV$3,MOD(COLUMNS($BU$3:BV$3),2)+1),INDEX($AC$5:$AD$24,INT($AF37/2)+1,MOD(COLUMNS($BU$3:BV$3),2)+1))","v":7.8183148246802983},{"$f":"IF(OR(MOD($AF37,2)=0,INDEX(relationships,INT($AF37/2)+1,BW$3)<>2),INDEX($AC$5:$AD$24,BW$3,MOD(COLUMNS($BU$3:BW$3),2)+1),INDEX($AC$5:$AD$24,INT($AF37/2)+1,MOD(COLUMNS($BU$3:BW$3),2)+1))","v":6.2348980185873355},{"$f":"IF(OR(MOD($AF37,2)=0,INDEX(relationships,INT($AF37/2)+1,BX$3)<>2),INDEX($AC$5:$AD$24,BX$3,MOD(COLUMNS($BU$3:BX$3),2)+1),INDEX($AC$5:$AD$24,INT($AF37/2)+1,MOD(COLUMNS($BU$3:BX$3),2)+1))","v":9.7492791218182369},{"$f":"IF(OR(MOD($AF37,2)=0,INDEX(relationships,INT($AF37/2)+1,BY$3)<>2),INDEX($AC$5:$AD$24,BY$3,MOD(COLUMNS($BU$3:BY$3),2)+1),INDEX($AC$5:$AD$24,INT($AF37/2)+1,MOD(COLUMNS($BU$3:BY$3),2)+1))","v":-2.2252093395631434},{"$f":"IF(OR(MOD($AF37,2)=0,INDEX(relationships,INT($AF37/2)+1,BZ$3)<>2),INDEX($AC$5:$AD$24,BZ$3,MOD(COLUMNS($BU$3:BZ$3),2)+1),INDEX($AC$5:$AD$24,INT($AF37/2)+1,MOD(COLUMNS($BU$3:BZ$3),2)+1))","v":4.3388373911755824},{"$f":"IF(OR(MOD($AF37,2)=0,INDEX(relationships,INT($AF37/2)+1,CA$3)<>2),INDEX($AC$5:$AD$24,CA$3,MOD(COLUMNS($BU$3:CA$3),2)+1),INDEX($AC$5:$AD$24,INT($AF37/2)+1,MOD(COLUMNS($BU$3:CA$3),2)+1))","v":-9.0096886790241903},{"$f":"IF(OR(MOD($AF37,2)=0,INDEX(relationships,INT($AF37/2)+1,CB$3)<>2),INDEX($AC$5:$AD$24,CB$3,MOD(COLUMNS($BU$3:CB$3),2)+1),INDEX($AC$5:$AD$24,INT($AF37/2)+1,MOD(COLUMNS($BU$3:CB$3),2)+1))","v":-4.3388373911755798},{"$f":"IF(OR(MOD($AF37,2)=0,INDEX(relationships,INT($AF37/2)+1,CC$3)<>2),INDEX($AC$5:$AD$24,CC$3,MOD(COLUMNS($BU$3:CC$3),2)+1),INDEX($AC$5:$AD$24,INT($AF37/2)+1,MOD(COLUMNS($BU$3:CC$3),2)+1))","v":-9.0096886790241921},{"$f":"IF(OR(MOD($AF37,2)=0,INDEX(relationships,INT($AF37/2)+1,CD$3)<>2),INDEX($AC$5:$AD$24,CD$3,MOD(COLUMNS($BU$3:CD$3),2)+1),INDEX($AC$5:$AD$24,INT($AF37/2)+1,MOD(COLUMNS($BU$3:CD$3),2)+1))","v":-9.7492791218182369},{"$f":"IF(OR(MOD($AF37,2)=0,INDEX(relationships,INT($AF37/2)+1,CE$3)<>2),INDEX($AC$5:$AD$24,CE$3,MOD(COLUMNS($BU$3:CE$3),2)+1),INDEX($AC$5:$AD$24,INT($AF37/2)+1,MOD(COLUMNS($BU$3:CE$3),2)+1))","v":-2.225209339563146},{"$f":"IF(OR(MOD($AF37,2)=0,INDEX(relationships,INT($AF37/2)+1,CF$3)<>2),INDEX($AC$5:$AD$24,CF$3,MOD(COLUMNS($BU$3:CF$3),2)+1),INDEX($AC$5:$AD$24,INT($AF37/2)+1,MOD(COLUMNS($BU$3:CF$3),2)+1))","v":-7.8183148246802991},{"$f":"IF(OR(MOD($AF37,2)=0,INDEX(relationships,INT($AF37/2)+1,CG$3)<>2),INDEX($AC$5:$AD$24,CG$3,MOD(COLUMNS($BU$3:CG$3),2)+1),INDEX($AC$5:$AD$24,INT($AF37/2)+1,MOD(COLUMNS($BU$3:CG$3),2)+1))","v":6.2348980185873337},{"$f":"IF(OR(MOD($AF37,2)=0,INDEX(relationships,INT($AF37/2)+1,CH$3)<>2),INDEX($AC$5:$AD$24,CH$3,MOD(COLUMNS($BU$3:CH$3),2)+1),INDEX($AC$5:$AD$24,INT($AF37/2)+1,MOD(COLUMNS($BU$3:CH$3),2)+1))","v":-2.45029690981724E-15},{"$f":"IF(OR(MOD($AF37,2)=0,INDEX(relationships,INT($AF37/2)+1,CI$3)<>2),INDEX($AC$5:$AD$24,CI$3,MOD(COLUMNS($BU$3:CI$3),2)+1),INDEX($AC$5:$AD$24,INT($AF37/2)+1,MOD(COLUMNS($BU$3:CI$3),2)+1))","v":10},{"$f":"IF(OR(MOD($AF37,2)=0,INDEX(relationships,INT($AF37/2)+1,CJ$3)<>2),INDEX($AC$5:$AD$24,CJ$3,MOD(COLUMNS($BU$3:CJ$3),2)+1),INDEX($AC$5:$AD$24,INT($AF37/2)+1,MOD(COLUMNS($BU$3:CJ$3),2)+1))","v":7.8183148246802956},{"$f":"IF(OR(MOD($AF37,2)=0,INDEX(relationships,INT($AF37/2)+1,CK$3)<>2),INDEX($AC$5:$AD$24,CK$3,MOD(COLUMNS($BU$3:CK$3),2)+1),INDEX($AC$5:$AD$24,INT($AF37/2)+1,MOD(COLUMNS($BU$3:CK$3),2)+1))","v":6.2348980185873373},{"$f":"IF(OR(MOD($AF37,2)=0,INDEX(relationships,INT($AF37/2)+1,CL$3)<>2),INDEX($AC$5:$AD$24,CL$3,MOD(COLUMNS($BU$3:CL$3),2)+1),INDEX($AC$5:$AD$24,INT($AF37/2)+1,MOD(COLUMNS($BU$3:CL$3),2)+1))","v":9.7492791218182369},{"$f":"IF(OR(MOD($AF37,2)=0,INDEX(relationships,INT($AF37/2)+1,CM$3)<>2),INDEX($AC$5:$AD$24,CM$3,MOD(COLUMNS($BU$3:CM$3),2)+1),INDEX($AC$5:$AD$24,INT($AF37/2)+1,MOD(COLUMNS($BU$3:CM$3),2)+1))","v":-2.2252093395631407},{"$f":"IF(OR(MOD($AF37,2)=0,INDEX(relationships,INT($AF37/2)+1,CN$3)<>2),INDEX($AC$5:$AD$24,CN$3,MOD(COLUMNS($BU$3:CN$3),2)+1),INDEX($AC$5:$AD$24,INT($AF37/2)+1,MOD(COLUMNS($BU$3:CN$3),2)+1))","v":4.3388373911755842},{"$f":"IF(OR(MOD($AF37,2)=0,INDEX(relationships,INT($AF37/2)+1,CO$3)<>2),INDEX($AC$5:$AD$24,CO$3,MOD(COLUMNS($BU$3:CO$3),2)+1),INDEX($AC$5:$AD$24,INT($AF37/2)+1,MOD(COLUMNS($BU$3:CO$3),2)+1))","v":-9.0096886790241886},{"$f":"IF(OR(MOD($AF37,2)=0,INDEX(relationships,INT($AF37/2)+1,CP$3)<>2),INDEX($AC$5:$AD$24,CP$3,MOD(COLUMNS($BU$3:CP$3),2)+1),INDEX($AC$5:$AD$24,INT($AF37/2)+1,MOD(COLUMNS($BU$3:CP$3),2)+1))","v":-4.338837391175578},{"$f":"IF(OR(MOD($AF37,2)=0,INDEX(relationships,INT($AF37/2)+1,CQ$3)<>2),INDEX($AC$5:$AD$24,CQ$3,MOD(COLUMNS($BU$3:CQ$3),2)+1),INDEX($AC$5:$AD$24,INT($AF37/2)+1,MOD(COLUMNS($BU$3:CQ$3),2)+1))","v":-9.0096886790241921},{"$f":"IF(OR(MOD($AF37,2)=0,INDEX(relationships,INT($AF37/2)+1,CR$3)<>2),INDEX($AC$5:$AD$24,CR$3,MOD(COLUMNS($BU$3:CR$3),2)+1),INDEX($AC$5:$AD$24,INT($AF37/2)+1,MOD(COLUMNS($BU$3:CR$3),2)+1))","v":-9.7492791218182351},{"$f":"IF(OR(MOD($AF37,2)=0,INDEX(relationships,INT($AF37/2)+1,CS$3)<>2),INDEX($AC$5:$AD$24,CS$3,MOD(COLUMNS($BU$3:CS$3),2)+1),INDEX($AC$5:$AD$24,INT($AF37/2)+1,MOD(COLUMNS($BU$3:CS$3),2)+1))","v":-2.2252093395631483},{"$f":"IF(OR(MOD($AF37,2)=0,INDEX(relationships,INT($AF37/2)+1,CT$3)<>2),INDEX($AC$5:$AD$24,CT$3,MOD(COLUMNS($BU$3:CT$3),2)+1),INDEX($AC$5:$AD$24,INT($AF37/2)+1,MOD(COLUMNS($BU$3:CT$3),2)+1))","v":-7.8183148246803018},{"$f":"IF(OR(MOD($AF37,2)=0,INDEX(relationships,INT($AF37/2)+1,CU$3)<>2),INDEX($AC$5:$AD$24,CU$3,MOD(COLUMNS($BU$3:CU$3),2)+1),INDEX($AC$5:$AD$24,INT($AF37/2)+1,MOD(COLUMNS($BU$3:CU$3),2)+1))","v":6.2348980185873319},{"$f":"IF(OR(MOD($AF37,2)=0,INDEX(relationships,INT($AF37/2)+1,CV$3)<>2),INDEX($AC$5:$AD$24,CV$3,MOD(COLUMNS($BU$3:CV$3),2)+1),INDEX($AC$5:$AD$24,INT($AF37/2)+1,MOD(COLUMNS($BU$3:CV$3),2)+1))","v":-4.90059381963448E-15},{"$f":"IF(OR(MOD($AF37,2)=0,INDEX(relationships,INT($AF37/2)+1,CW$3)<>2),INDEX($AC$5:$AD$24,CW$3,MOD(COLUMNS($BU$3:CW$3),2)+1),INDEX($AC$5:$AD$24,INT($AF37/2)+1,MOD(COLUMNS($BU$3:CW$3),2)+1))","v":10},{"$f":"IF(OR(MOD($AF37,2)=0,INDEX(relationships,INT($AF37/2)+1,CX$3)<>2),INDEX($AC$5:$AD$24,CX$3,MOD(COLUMNS($BU$3:CX$3),2)+1),INDEX($AC$5:$AD$24,INT($AF37/2)+1,MOD(COLUMNS($BU$3:CX$3),2)+1))","v":7.8183148246802947},{"$f":"IF(OR(MOD($AF37,2)=0,INDEX(relationships,INT($AF37/2)+1,CY$3)<>2),INDEX($AC$5:$AD$24,CY$3,MOD(COLUMNS($BU$3:CY$3),2)+1),INDEX($AC$5:$AD$24,INT($AF37/2)+1,MOD(COLUMNS($BU$3:CY$3),2)+1))","v":6.2348980185873391},{"$f":"IF(OR(MOD($AF37,2)=0,INDEX(relationships,INT($AF37/2)+1,CZ$3)<>2),INDEX($AC$5:$AD$24,CZ$3,MOD(COLUMNS($BU$3:CZ$3),2)+1),INDEX($AC$5:$AD$24,INT($AF37/2)+1,MOD(COLUMNS($BU$3:CZ$3),2)+1))","v":9.7492791218182369},{"$f":"IF(OR(MOD($AF37,2)=0,INDEX(relationships,INT($AF37/2)+1,DA$3)<>2),INDEX($AC$5:$AD$24,DA$3,MOD(COLUMNS($BU$3:DA$3),2)+1),INDEX($AC$5:$AD$24,INT($AF37/2)+1,MOD(COLUMNS($BU$3:DA$3),2)+1))","v":-2.2252093395631385},{"$f":"IF(OR(MOD($AF37,2)=0,INDEX(relationships,INT($AF37/2)+1,DB$3)<>2),INDEX($AC$5:$AD$24,DB$3,MOD(COLUMNS($BU$3:DB$3),2)+1),INDEX($AC$5:$AD$24,INT($AF37/2)+1,MOD(COLUMNS($BU$3:DB$3),2)+1))","v":4.3388373911755869},{"$f":"IF(OR(MOD($AF37,2)=0,INDEX(relationships,INT($AF37/2)+1,DC$3)<>2),INDEX($AC$5:$AD$24,DC$3,MOD(COLUMNS($BU$3:DC$3),2)+1),INDEX($AC$5:$AD$24,INT($AF37/2)+1,MOD(COLUMNS($BU$3:DC$3),2)+1))","v":-9.0096886790241886},{"$f":"IF(OR(MOD($AF37,2)=0,INDEX(relationships,INT($AF37/2)+1,DD$3)<>2),INDEX($AC$5:$AD$24,DD$3,MOD(COLUMNS($BU$3:DD$3),2)+1),INDEX($AC$5:$AD$24,INT($AF37/2)+1,MOD(COLUMNS($BU$3:DD$3),2)+1))","v":-4.3388373911755753},{"$f":"IF(OR(MOD($AF37,2)=0,INDEX(relationships,INT($AF37/2)+1,DE$3)<>2),INDEX($AC$5:$AD$24,DE$3,MOD(COLUMNS($BU$3:DE$3),2)+1),INDEX($AC$5:$AD$24,INT($AF37/2)+1,MOD(COLUMNS($BU$3:DE$3),2)+1))","v":-9.0096886790241939},{"$f":"IF(OR(MOD($AF37,2)=0,INDEX(relationships,INT($AF37/2)+1,DF$3)<>2),INDEX($AC$5:$AD$24,DF$3,MOD(COLUMNS($BU$3:DF$3),2)+1),INDEX($AC$5:$AD$24,INT($AF37/2)+1,MOD(COLUMNS($BU$3:DF$3),2)+1))","v":-9.7492791218182351},{"$f":"IF(OR(MOD($AF37,2)=0,INDEX(relationships,INT($AF37/2)+1,DG$3)<>2),INDEX($AC$5:$AD$24,DG$3,MOD(COLUMNS($BU$3:DG$3),2)+1),INDEX($AC$5:$AD$24,INT($AF37/2)+1,MOD(COLUMNS($BU$3:DG$3),2)+1))","v":-2.2252093395631505},{"$f":"IF(OR(MOD($AF37,2)=0,INDEX(relationships,INT($AF37/2)+1,DH$3)<>2),INDEX($AC$5:$AD$24,DH$3,MOD(COLUMNS($BU$3:DH$3),2)+1),INDEX($AC$5:$AD$24,INT($AF37/2)+1,MOD(COLUMNS($BU$3:DH$3),2)+1))","v":-7.8183148246803027},{"$f":"IF(OR(MOD($AF37,2)=0,INDEX(relationships,INT($AF37/2)+1,DI$3)<>2),INDEX($AC$5:$AD$24,DI$3,MOD(COLUMNS($BU$3:DI$3),2)+1),INDEX($AC$5:$AD$24,INT($AF37/2)+1,MOD(COLUMNS($BU$3:DI$3),2)+1))","v":6.2348980185873293},null,-2.45029690981724E-15,10,-2.45029690981724E-15,10]
[null,0,{"$f":"MAX(C14,INDEX(rawData,COLUMNS($C$28:C$28),ROWS($B$29:$B38)))","v":0},{"$f":"MAX(D14,INDEX(rawData,COLUMNS($C$28:D$28),ROWS($B$29:$B38)))","v":0},{"$f":"MAX(E14,INDEX(rawData,COLUMNS($C$28:E$28),ROWS($B$29:$B38)))","v":0},{"$f":"MAX(F14,INDEX(rawData,COLUMNS($C$28:F$28),ROWS($B$29:$B38)))","v":0},{"$f":"MAX(G14,INDEX(rawData,COLUMNS($C$28:G$28),ROWS($B$29:$B38)))","v":0},{"$f":"MAX(H14,INDEX(rawData,COLUMNS($C$28:H$28),ROWS($B$29:$B38)))","v":0},{"$f":"MAX(I14,INDEX(rawData,COLUMNS($C$28:I$28),ROWS($B$29:$B38)))","v":0},{"$f":"MAX(J14,INDEX(rawData,COLUMNS($C$28:J$28),ROWS($B$29:$B38)))","v":0},{"$f":"MAX(K14,INDEX(rawData,COLUMNS($C$28:K$28),ROWS($B$29:$B38)))","v":0},{"$f":"MAX(L14,INDEX(rawData,COLUMNS($C$28:L$28),ROWS($B$29:$B38)))","v":0},{"$f":"MAX(M14,INDEX(rawData,COLUMNS($C$28:M$28),ROWS($B$29:$B38)))","v":0},{"$f":"MAX(N14,INDEX(rawData,COLUMNS($C$28:N$28),ROWS($B$29:$B38)))","v":0},{"$f":"MAX(O14,INDEX(rawData,COLUMNS($C$28:O$28),ROWS($B$29:$B38)))","v":0},{"$f":"MAX(P14,INDEX(rawData,COLUMNS($C$28:P$28),ROWS($B$29:$B38)))","v":0},{"$f":"MAX(Q14,INDEX(rawData,COLUMNS($C$28:Q$28),ROWS($B$29:$B38)))","v":0},{"$f":"MAX(R14,INDEX(rawData,COLUMNS($C$28:R$28),ROWS($B$29:$B38)))","v":0},{"$f":"MAX(S14,INDEX(rawData,COLUMNS($C$28:S$28),ROWS($B$29:$B38)))","v":0},{"$f":"MAX(T14,INDEX(rawData,COLUMNS($C$28:T$28),ROWS($B$29:$B38)))","v":0},{"$f":"MAX(U14,INDEX(rawData,COLUMNS($C$28:U$28),ROWS($B$29:$B38)))","v":0},{"$f":"MAX(V14,INDEX(rawData,COLUMNS($C$28:V$28),ROWS($B$29:$B38)))","v":0},null,null,null,null,null,null,null,null,null,33,{"$f":"IF(OR(MOD($AF38,2)=0,INDEX(relationships,INT($AF38/2)+1,AG$3)<>1),INDEX($AC$5:$AD$24,AG$3,MOD(COLUMNS($AF$3:AG$3),2)+1),INDEX($AC$5:$AD$24,INT($AF38/2)+1,MOD(COLUMNS($AF$3:AG$3),2)+1))","v":7.8183148246802983},{"$f":"IF(OR(MOD($AF38,2)=0,INDEX(relationships,INT($AF38/2)+1,AH$3)<>1),INDEX($AC$5:$AD$24,AH$3,MOD(COLUMNS($AF$3:AH$3),2)+1),INDEX($AC$5:$AD$24,INT($AF38/2)+1,MOD(COLUMNS($AF$3:AH$3),2)+1))","v":6.2348980185873355},{"$f":"IF(OR(MOD($AF38,2)=0,INDEX(relationships,INT($AF38/2)+1,AI$3)<>1),INDEX($AC$5:$AD$24,AI$3,MOD(COLUMNS($AF$3:AI$3),2)+1),INDEX($AC$5:$AD$24,INT($AF38/2)+1,MOD(COLUMNS($AF$3:AI$3),2)+1))","v":9.7492791218182369},{"$f":"IF(OR(MOD($AF38,2)=0,INDEX(relationships,INT($AF38/2)+1,AJ$3)<>1),INDEX($AC$5:$AD$24,AJ$3,MOD(COLUMNS($AF$3:AJ$3),2)+1),INDEX($AC$5:$AD$24,INT($AF38/2)+1,MOD(COLUMNS($AF$3:AJ$3),2)+1))","v":-2.2252093395631434},{"$f":"IF(OR(MOD($AF38,2)=0,INDEX(relationships,INT($AF38/2)+1,AK$3)<>1),INDEX($AC$5:$AD$24,AK$3,MOD(COLUMNS($AF$3:AK$3),2)+1),INDEX($AC$5:$AD$24,INT($AF38/2)+1,MOD(COLUMNS($AF$3:AK$3),2)+1))","v":4.3388373911755824},{"$f":"IF(OR(MOD($AF38,2)=0,INDEX(relationships,INT($AF38/2)+1,AL$3)<>1),INDEX($AC$5:$AD$24,AL$3,MOD(COLUMNS($AF$3:AL$3),2)+1),INDEX($AC$5:$AD$24,INT($AF38/2)+1,MOD(COLUMNS($AF$3:AL$3),2)+1))","v":-9.0096886790241903},{"$f":"IF(OR(MOD($AF38,2)=0,INDEX(relationships,INT($AF38/2)+1,AM$3)<>1),INDEX($AC$5:$AD$24,AM$3,MOD(COLUMNS($AF$3:AM$3),2)+1),INDEX($AC$5:$AD$24,INT($AF38/2)+1,MOD(COLUMNS($AF$3:AM$3),2)+1))","v":-4.3388373911755798},{"$f":"IF(OR(MOD($AF38,2)=0,INDEX(relationships,INT($AF38/2)+1,AN$3)<>1),INDEX($AC$5:$AD$24,AN$3,MOD(COLUMNS($AF$3:AN$3),2)+1),INDEX($AC$5:$AD$24,INT($AF38/2)+1,MOD(COLUMNS($AF$3:AN$3),2)+1))","v":-9.0096886790241921},{"$f":"IF(OR(MOD($AF38,2)=0,INDEX(relationships,INT($AF38/2)+1,AO$3)<>1),INDEX($AC$5:$AD$24,AO$3,MOD(COLUMNS($AF$3:AO$3),2)+1),INDEX($AC$5:$AD$24,INT($AF38/2)+1,MOD(COLUMNS($AF$3:AO$3),2)+1))","v":-9.7492791218182369},{"$f":"IF(OR(MOD($AF38,2)=0,INDEX(relationships,INT($AF38/2)+1,AP$3)<>1),INDEX($AC$5:$AD$24,AP$3,MOD(COLUMNS($AF$3:AP$3),2)+1),INDEX($AC$5:$AD$24,INT($AF38/2)+1,MOD(COLUMNS($AF$3:AP$3),2)+1))","v":-2.225209339563146},{"$f":"IF(OR(MOD($AF38,2)=0,INDEX(relationships,INT($AF38/2)+1,AQ$3)<>1),INDEX($AC$5:$AD$24,AQ$3,MOD(COLUMNS($AF$3:AQ$3),2)+1),INDEX($AC$5:$AD$24,INT($AF38/2)+1,MOD(COLUMNS($AF$3:AQ$3),2)+1))","v":-7.8183148246802991},{"$f":"IF(OR(MOD($AF38,2)=0,INDEX(relationships,INT($AF38/2)+1,AR$3)<>1),INDEX($AC$5:$AD$24,AR$3,MOD(COLUMNS($AF$3:AR$3),2)+1),INDEX($AC$5:$AD$24,INT($AF38/2)+1,MOD(COLUMNS($AF$3:AR$3),2)+1))","v":6.2348980185873337},{"$f":"IF(OR(MOD($AF38,2)=0,INDEX(relationships,INT($AF38/2)+1,AS$3)<>1),INDEX($AC$5:$AD$24,AS$3,MOD(COLUMNS($AF$3:AS$3),2)+1),INDEX($AC$5:$AD$24,INT($AF38/2)+1,MOD(COLUMNS($AF$3:AS$3),2)+1))","v":-2.45029690981724E-15},{"$f":"IF(OR(MOD($AF38,2)=0,INDEX(relationships,INT($AF38/2)+1,AT$3)<>1),INDEX($AC$5:$AD$24,AT$3,MOD(COLUMNS($AF$3:AT$3),2)+1),INDEX($AC$5:$AD$24,INT($AF38/2)+1,MOD(COLUMNS($AF$3:AT$3),2)+1))","v":10},{"$f":"IF(OR(MOD($AF38,2)=0,INDEX(relationships,INT($AF38/2)+1,AU$3)<>1),INDEX($AC$5:$AD$24,AU$3,MOD(COLUMNS($AF$3:AU$3),2)+1),INDEX($AC$5:$AD$24,INT($AF38/2)+1,MOD(COLUMNS($AF$3:AU$3),2)+1))","v":7.8183148246802956},{"$f":"IF(OR(MOD($AF38,2)=0,INDEX(relationships,INT($AF38/2)+1,AV$3)<>1),INDEX($AC$5:$AD$24,AV$3,MOD(COLUMNS($AF$3:AV$3),2)+1),INDEX($AC$5:$AD$24,INT($AF38/2)+1,MOD(COLUMNS($AF$3:AV$3),2)+1))","v":6.2348980185873373},{"$f":"IF(OR(MOD($AF38,2)=0,INDEX(relationships,INT($AF38/2)+1,AW$3)<>1),INDEX($AC$5:$AD$24,AW$3,MOD(COLUMNS($AF$3:AW$3),2)+1),INDEX($AC$5:$AD$24,INT($AF38/2)+1,MOD(COLUMNS($AF$3:AW$3),2)+1))","v":9.7492791218182369},{"$f":"IF(OR(MOD($AF38,2)=0,INDEX(relationships,INT($AF38/2)+1,AX$3)<>1),INDEX($AC$5:$AD$24,AX$3,MOD(COLUMNS($AF$3:AX$3),2)+1),INDEX($AC$5:$AD$24,INT($AF38/2)+1,MOD(COLUMNS($AF$3:AX$3),2)+1))","v":-2.2252093395631407},{"$f":"IF(OR(MOD($AF38,2)=0,INDEX(relationships,INT($AF38/2)+1,AY$3)<>1),INDEX($AC$5:$AD$24,AY$3,MOD(COLUMNS($AF$3:AY$3),2)+1),INDEX($AC$5:$AD$24,INT($AF38/2)+1,MOD(COLUMNS($AF$3:AY$3),2)+1))","v":4.3388373911755842},{"$f":"IF(OR(MOD($AF38,2)=0,INDEX(relationships,INT($AF38/2)+1,AZ$3)<>1),INDEX($AC$5:$AD$24,AZ$3,MOD(COLUMNS($AF$3:AZ$3),2)+1),INDEX($AC$5:$AD$24,INT($AF38/2)+1,MOD(COLUMNS($AF$3:AZ$3),2)+1))","v":-9.0096886790241886},{"$f":"IF(OR(MOD($AF38,2)=0,INDEX(relationships,INT($AF38/2)+1,BA$3)<>1),INDEX($AC$5:$AD$24,BA$3,MOD(COLUMNS($AF$3:BA$3),2)+1),INDEX($AC$5:$AD$24,INT($AF38/2)+1,MOD(COLUMNS($AF$3:BA$3),2)+1))","v":-4.338837391175578},{"$f":"IF(OR(MOD($AF38,2)=0,INDEX(relationships,INT($AF38/2)+1,BB$3)<>1),INDEX($AC$5:$AD$24,BB$3,MOD(COLUMNS($AF$3:BB$3),2)+1),INDEX($AC$5:$AD$24,INT($AF38/2)+1,MOD(COLUMNS($AF$3:BB$3),2)+1))","v":-9.0096886790241921},{"$f":"IF(OR(MOD($AF38,2)=0,INDEX(relationships,INT($AF38/2)+1,BC$3)<>1),INDEX($AC$5:$AD$24,BC$3,MOD(COLUMNS($AF$3:BC$3),2)+1),INDEX($AC$5:$AD$24,INT($AF38/2)+1,MOD(COLUMNS($AF$3:BC$3),2)+1))","v":-9.7492791218182351},{"$f":"IF(OR(MOD($AF38,2)=0,INDEX(relationships,INT($AF38/2)+1,BD$3)<>1),INDEX($AC$5:$AD$24,BD$3,MOD(COLUMNS($AF$3:BD$3),2)+1),INDEX($AC$5:$AD$24,INT($AF38/2)+1,MOD(COLUMNS($AF$3:BD$3),2)+1))","v":-2.2252093395631483},{"$f":"IF(OR(MOD($AF38,2)=0,INDEX(relationships,INT($AF38/2)+1,BE$3)<>1),INDEX($AC$5:$AD$24,BE$3,MOD(COLUMNS($AF$3:BE$3),2)+1),INDEX($AC$5:$AD$24,INT($AF38/2)+1,MOD(COLUMNS($AF$3:BE$3),2)+1))","v":-7.8183148246803018},{"$f":"IF(OR(MOD($AF38,2)=0,INDEX(relationships,INT($AF38/2)+1,BF$3)<>1),INDEX($AC$5:$AD$24,BF$3,MOD(COLUMNS($AF$3:BF$3),2)+1),INDEX($AC$5:$AD$24,INT($AF38/2)+1,MOD(COLUMNS($AF$3:BF$3),2)+1))","v":6.2348980185873319},{"$f":"IF(OR(MOD($AF38,2)=0,INDEX(relationships,INT($AF38/2)+1,BG$3)<>1),INDEX($AC$5:$AD$24,BG$3,MOD(COLUMNS($AF$3:BG$3),2)+1),INDEX($AC$5:$AD$24,INT($AF38/2)+1,MOD(COLUMNS($AF$3:BG$3),2)+1))","v":-4.90059381963448E-15},{"$f":"IF(OR(MOD($AF38,2)=0,INDEX(relationships,INT($AF38/2)+1,BH$3)<>1),INDEX($AC$5:$AD$24,BH$3,MOD(COLUMNS($AF$3:BH$3),2)+1),INDEX($AC$5:$AD$24,INT($AF38/2)+1,MOD(COLUMNS($AF$3:BH$3),2)+1))","v":10},{"$f":"IF(OR(MOD($AF38,2)=0,INDEX(relationships,INT($AF38/2)+1,BI$3)<>1),INDEX($AC$5:$AD$24,BI$3,MOD(COLUMNS($AF$3:BI$3),2)+1),INDEX($AC$5:$AD$24,INT($AF38/2)+1,MOD(COLUMNS($AF$3:BI$3),2)+1))","v":7.8183148246802947},{"$f":"IF(OR(MOD($AF38,2)=0,INDEX(relationships,INT($AF38/2)+1,BJ$3)<>1),INDEX($AC$5:$AD$24,BJ$3,MOD(COLUMNS($AF$3:BJ$3),2)+1),INDEX($AC$5:$AD$24,INT($AF38/2)+1,MOD(COLUMNS($AF$3:BJ$3),2)+1))","v":6.2348980185873391},{"$f":"IF(OR(MOD($AF38,2)=0,INDEX(relationships,INT($AF38/2)+1,BK$3)<>1),INDEX($AC$5:$AD$24,BK$3,MOD(COLUMNS($AF$3:BK$3),2)+1),INDEX($AC$5:$AD$24,INT($AF38/2)+1,MOD(COLUMNS($AF$3:BK$3),2)+1))","v":9.7492791218182369},{"$f":"IF(OR(MOD($AF38,2)=0,INDEX(relationships,INT($AF38/2)+1,BL$3)<>1),INDEX($AC$5:$AD$24,BL$3,MOD(COLUMNS($AF$3:BL$3),2)+1),INDEX($AC$5:$AD$24,INT($AF38/2)+1,MOD(COLUMNS($AF$3:BL$3),2)+1))","v":-2.2252093395631385},{"$f":"IF(OR(MOD($AF38,2)=0,INDEX(relationships,INT($AF38/2)+1,BM$3)<>1),INDEX($AC$5:$AD$24,BM$3,MOD(COLUMNS($AF$3:BM$3),2)+1),INDEX($AC$5:$AD$24,INT($AF38/2)+1,MOD(COLUMNS($AF$3:BM$3),2)+1))","v":4.3388373911755869},{"$f":"IF(OR(MOD($AF38,2)=0,INDEX(relationships,INT($AF38/2)+1,BN$3)<>1),INDEX($AC$5:$AD$24,BN$3,MOD(COLUMNS($AF$3:BN$3),2)+1),INDEX($AC$5:$AD$24,INT($AF38/2)+1,MOD(COLUMNS($AF$3:BN$3),2)+1))","v":-9.0096886790241886},{"$f":"IF(OR(MOD($AF38,2)=0,INDEX(relationships,INT($AF38/2)+1,BO$3)<>1),INDEX($AC$5:$AD$24,BO$3,MOD(COLUMNS($AF$3:BO$3),2)+1),INDEX($AC$5:$AD$24,INT($AF38/2)+1,MOD(COLUMNS($AF$3:BO$3),2)+1))","v":-4.3388373911755753},{"$f":"IF(OR(MOD($AF38,2)=0,INDEX(relationships,INT($AF38/2)+1,BP$3)<>1),INDEX($AC$5:$AD$24,BP$3,MOD(COLUMNS($AF$3:BP$3),2)+1),INDEX($AC$5:$AD$24,INT($AF38/2)+1,MOD(COLUMNS($AF$3:BP$3),2)+1))","v":-9.0096886790241939},{"$f":"IF(OR(MOD($AF38,2)=0,INDEX(relationships,INT($AF38/2)+1,BQ$3)<>1),INDEX($AC$5:$AD$24,BQ$3,MOD(COLUMNS($AF$3:BQ$3),2)+1),INDEX($AC$5:$AD$24,INT($AF38/2)+1,MOD(COLUMNS($AF$3:BQ$3),2)+1))","v":-9.7492791218182351},{"$f":"IF(OR(MOD($AF38,2)=0,INDEX(relationships,INT($AF38/2)+1,BR$3)<>1),INDEX($AC$5:$AD$24,BR$3,MOD(COLUMNS($AF$3:BR$3),2)+1),INDEX($AC$5:$AD$24,INT($AF38/2)+1,MOD(COLUMNS($AF$3:BR$3),2)+1))","v":-2.2252093395631505},{"$f":"IF(OR(MOD($AF38,2)=0,INDEX(relationships,INT($AF38/2)+1,BS$3)<>1),INDEX($AC$5:$AD$24,BS$3,MOD(COLUMNS($AF$3:BS$3),2)+1),INDEX($AC$5:$AD$24,INT($AF38/2)+1,MOD(COLUMNS($AF$3:BS$3),2)+1))","v":-7.8183148246803027},{"$f":"IF(OR(MOD($AF38,2)=0,INDEX(relationships,INT($AF38/2)+1,BT$3)<>1),INDEX($AC$5:$AD$24,BT$3,MOD(COLUMNS($AF$3:BT$3),2)+1),INDEX($AC$5:$AD$24,INT($AF38/2)+1,MOD(COLUMNS($AF$3:BT$3),2)+1))","v":6.2348980185873293},null,{"$f":"IF(OR(MOD($AF38,2)=0,INDEX(relationships,INT($AF38/2)+1,BV$3)<>2),INDEX($AC$5:$AD$24,BV$3,MOD(COLUMNS($BU$3:BV$3),2)+1),INDEX($AC$5:$AD$24,INT($AF38/2)+1,MOD(COLUMNS($BU$3:BV$3),2)+1))","v":7.8183148246802983},{"$f":"IF(OR(MOD($AF38,2)=0,INDEX(relationships,INT($AF38/2)+1,BW$3)<>2),INDEX($AC$5:$AD$24,BW$3,MOD(COLUMNS($BU$3:BW$3),2)+1),INDEX($AC$5:$AD$24,INT($AF38/2)+1,MOD(COLUMNS($BU$3:BW$3),2)+1))","v":6.2348980185873355},{"$f":"IF(OR(MOD($AF38,2)=0,INDEX(relationships,INT($AF38/2)+1,BX$3)<>2),INDEX($AC$5:$AD$24,BX$3,MOD(COLUMNS($BU$3:BX$3),2)+1),INDEX($AC$5:$AD$24,INT($AF38/2)+1,MOD(COLUMNS($BU$3:BX$3),2)+1))","v":9.7492791218182369},{"$f":"IF(OR(MOD($AF38,2)=0,INDEX(relationships,INT($AF38/2)+1,BY$3)<>2),INDEX($AC$5:$AD$24,BY$3,MOD(COLUMNS($BU$3:BY$3),2)+1),INDEX($AC$5:$AD$24,INT($AF38/2)+1,MOD(COLUMNS($BU$3:BY$3),2)+1))","v":-2.2252093395631434},{"$f":"IF(OR(MOD($AF38,2)=0,INDEX(relationships,INT($AF38/2)+1,BZ$3)<>2),INDEX($AC$5:$AD$24,BZ$3,MOD(COLUMNS($BU$3:BZ$3),2)+1),INDEX($AC$5:$AD$24,INT($AF38/2)+1,MOD(COLUMNS($BU$3:BZ$3),2)+1))","v":4.3388373911755824},{"$f":"IF(OR(MOD($AF38,2)=0,INDEX(relationships,INT($AF38/2)+1,CA$3)<>2),INDEX($AC$5:$AD$24,CA$3,MOD(COLUMNS($BU$3:CA$3),2)+1),INDEX($AC$5:$AD$24,INT($AF38/2)+1,MOD(COLUMNS($BU$3:CA$3),2)+1))","v":-9.0096886790241903},{"$f":"IF(OR(MOD($AF38,2)=0,INDEX(relationships,INT($AF38/2)+1,CB$3)<>2),INDEX($AC$5:$AD$24,CB$3,MOD(COLUMNS($BU$3:CB$3),2)+1),INDEX($AC$5:$AD$24,INT($AF38/2)+1,MOD(COLUMNS($BU$3:CB$3),2)+1))","v":-4.3388373911755798},{"$f":"IF(OR(MOD($AF38,2)=0,INDEX(relationships,INT($AF38/2)+1,CC$3)<>2),INDEX($AC$5:$AD$24,CC$3,MOD(COLUMNS($BU$3:CC$3),2)+1),INDEX($AC$5:$AD$24,INT($AF38/2)+1,MOD(COLUMNS($BU$3:CC$3),2)+1))","v":-9.0096886790241921},{"$f":"IF(OR(MOD($AF38,2)=0,INDEX(relationships,INT($AF38/2)+1,CD$3)<>2),INDEX($AC$5:$AD$24,CD$3,MOD(COLUMNS($BU$3:CD$3),2)+1),INDEX($AC$5:$AD$24,INT($AF38/2)+1,MOD(COLUMNS($BU$3:CD$3),2)+1))","v":-9.7492791218182369},{"$f":"IF(OR(MOD($AF38,2)=0,INDEX(relationships,INT($AF38/2)+1,CE$3)<>2),INDEX($AC$5:$AD$24,CE$3,MOD(COLUMNS($BU$3:CE$3),2)+1),INDEX($AC$5:$AD$24,INT($AF38/2)+1,MOD(COLUMNS($BU$3:CE$3),2)+1))","v":-2.225209339563146},{"$f":"IF(OR(MOD($AF38,2)=0,INDEX(relationships,INT($AF38/2)+1,CF$3)<>2),INDEX($AC$5:$AD$24,CF$3,MOD(COLUMNS($BU$3:CF$3),2)+1),INDEX($AC$5:$AD$24,INT($AF38/2)+1,MOD(COLUMNS($BU$3:CF$3),2)+1))","v":-7.8183148246802991},{"$f":"IF(OR(MOD($AF38,2)=0,INDEX(relationships,INT($AF38/2)+1,CG$3)<>2),INDEX($AC$5:$AD$24,CG$3,MOD(COLUMNS($BU$3:CG$3),2)+1),INDEX($AC$5:$AD$24,INT($AF38/2)+1,MOD(COLUMNS($BU$3:CG$3),2)+1))","v":6.2348980185873337},{"$f":"IF(OR(MOD($AF38,2)=0,INDEX(relationships,INT($AF38/2)+1,CH$3)<>2),INDEX($AC$5:$AD$24,CH$3,MOD(COLUMNS($BU$3:CH$3),2)+1),INDEX($AC$5:$AD$24,INT($AF38/2)+1,MOD(COLUMNS($BU$3:CH$3),2)+1))","v":-2.45029690981724E-15},{"$f":"IF(OR(MOD($AF38,2)=0,INDEX(relationships,INT($AF38/2)+1,CI$3)<>2),INDEX($AC$5:$AD$24,CI$3,MOD(COLUMNS($BU$3:CI$3),2)+1),INDEX($AC$5:$AD$24,INT($AF38/2)+1,MOD(COLUMNS($BU$3:CI$3),2)+1))","v":10},{"$f":"IF(OR(MOD($AF38,2)=0,INDEX(relationships,INT($AF38/2)+1,CJ$3)<>2),INDEX($AC$5:$AD$24,CJ$3,MOD(COLUMNS($BU$3:CJ$3),2)+1),INDEX($AC$5:$AD$24,INT($AF38/2)+1,MOD(COLUMNS($BU$3:CJ$3),2)+1))","v":7.8183148246802956},{"$f":"IF(OR(MOD($AF38,2)=0,INDEX(relationships,INT($AF38/2)+1,CK$3)<>2),INDEX($AC$5:$AD$24,CK$3,MOD(COLUMNS($BU$3:CK$3),2)+1),INDEX($AC$5:$AD$24,INT($AF38/2)+1,MOD(COLUMNS($BU$3:CK$3),2)+1))","v":6.2348980185873373},{"$f":"IF(OR(MOD($AF38,2)=0,INDEX(relationships,INT($AF38/2)+1,CL$3)<>2),INDEX($AC$5:$AD$24,CL$3,MOD(COLUMNS($BU$3:CL$3),2)+1),INDEX($AC$5:$AD$24,INT($AF38/2)+1,MOD(COLUMNS($BU$3:CL$3),2)+1))","v":9.7492791218182369},{"$f":"IF(OR(MOD($AF38,2)=0,INDEX(relationships,INT($AF38/2)+1,CM$3)<>2),INDEX($AC$5:$AD$24,CM$3,MOD(COLUMNS($BU$3:CM$3),2)+1),INDEX($AC$5:$AD$24,INT($AF38/2)+1,MOD(COLUMNS($BU$3:CM$3),2)+1))","v":-2.2252093395631407},{"$f":"IF(OR(MOD($AF38,2)=0,INDEX(relationships,INT($AF38/2)+1,CN$3)<>2),INDEX($AC$5:$AD$24,CN$3,MOD(COLUMNS($BU$3:CN$3),2)+1),INDEX($AC$5:$AD$24,INT($AF38/2)+1,MOD(COLUMNS($BU$3:CN$3),2)+1))","v":4.3388373911755842},{"$f":"IF(OR(MOD($AF38,2)=0,INDEX(relationships,INT($AF38/2)+1,CO$3)<>2),INDEX($AC$5:$AD$24,CO$3,MOD(COLUMNS($BU$3:CO$3),2)+1),INDEX($AC$5:$AD$24,INT($AF38/2)+1,MOD(COLUMNS($BU$3:CO$3),2)+1))","v":-9.0096886790241886},{"$f":"IF(OR(MOD($AF38,2)=0,INDEX(relationships,INT($AF38/2)+1,CP$3)<>2),INDEX($AC$5:$AD$24,CP$3,MOD(COLUMNS($BU$3:CP$3),2)+1),INDEX($AC$5:$AD$24,INT($AF38/2)+1,MOD(COLUMNS($BU$3:CP$3),2)+1))","v":-4.338837391175578},{"$f":"IF(OR(MOD($AF38,2)=0,INDEX(relationships,INT($AF38/2)+1,CQ$3)<>2),INDEX($AC$5:$AD$24,CQ$3,MOD(COLUMNS($BU$3:CQ$3),2)+1),INDEX($AC$5:$AD$24,INT($AF38/2)+1,MOD(COLUMNS($BU$3:CQ$3),2)+1))","v":-9.0096886790241921},{"$f":"IF(OR(MOD($AF38,2)=0,INDEX(relationships,INT($AF38/2)+1,CR$3)<>2),INDEX($AC$5:$AD$24,CR$3,MOD(COLUMNS($BU$3:CR$3),2)+1),INDEX($AC$5:$AD$24,INT($AF38/2)+1,MOD(COLUMNS($BU$3:CR$3),2)+1))","v":-9.7492791218182351},{"$f":"IF(OR(MOD($AF38,2)=0,INDEX(relationships,INT($AF38/2)+1,CS$3)<>2),INDEX($AC$5:$AD$24,CS$3,MOD(COLUMNS($BU$3:CS$3),2)+1),INDEX($AC$5:$AD$24,INT($AF38/2)+1,MOD(COLUMNS($BU$3:CS$3),2)+1))","v":-2.2252093395631483},{"$f":"IF(OR(MOD($AF38,2)=0,INDEX(relationships,INT($AF38/2)+1,CT$3)<>2),INDEX($AC$5:$AD$24,CT$3,MOD(COLUMNS($BU$3:CT$3),2)+1),INDEX($AC$5:$AD$24,INT($AF38/2)+1,MOD(COLUMNS($BU$3:CT$3),2)+1))","v":-7.8183148246803018},{"$f":"IF(OR(MOD($AF38,2)=0,INDEX(relationships,INT($AF38/2)+1,CU$3)<>2),INDEX($AC$5:$AD$24,CU$3,MOD(COLUMNS($BU$3:CU$3),2)+1),INDEX($AC$5:$AD$24,INT($AF38/2)+1,MOD(COLUMNS($BU$3:CU$3),2)+1))","v":6.2348980185873319},{"$f":"IF(OR(MOD($AF38,2)=0,INDEX(relationships,INT($AF38/2)+1,CV$3)<>2),INDEX($AC$5:$AD$24,CV$3,MOD(COLUMNS($BU$3:CV$3),2)+1),INDEX($AC$5:$AD$24,INT($AF38/2)+1,MOD(COLUMNS($BU$3:CV$3),2)+1))","v":-4.90059381963448E-15},{"$f":"IF(OR(MOD($AF38,2)=0,INDEX(relationships,INT($AF38/2)+1,CW$3)<>2),INDEX($AC$5:$AD$24,CW$3,MOD(COLUMNS($BU$3:CW$3),2)+1),INDEX($AC$5:$AD$24,INT($AF38/2)+1,MOD(COLUMNS($BU$3:CW$3),2)+1))","v":10},{"$f":"IF(OR(MOD($AF38,2)=0,INDEX(relationships,INT($AF38/2)+1,CX$3)<>2),INDEX($AC$5:$AD$24,CX$3,MOD(COLUMNS($BU$3:CX$3),2)+1),INDEX($AC$5:$AD$24,INT($AF38/2)+1,MOD(COLUMNS($BU$3:CX$3),2)+1))","v":7.8183148246802947},{"$f":"IF(OR(MOD($AF38,2)=0,INDEX(relationships,INT($AF38/2)+1,CY$3)<>2),INDEX($AC$5:$AD$24,CY$3,MOD(COLUMNS($BU$3:CY$3),2)+1),INDEX($AC$5:$AD$24,INT($AF38/2)+1,MOD(COLUMNS($BU$3:CY$3),2)+1))","v":6.2348980185873391},{"$f":"IF(OR(MOD($AF38,2)=0,INDEX(relationships,INT($AF38/2)+1,CZ$3)<>2),INDEX($AC$5:$AD$24,CZ$3,MOD(COLUMNS($BU$3:CZ$3),2)+1),INDEX($AC$5:$AD$24,INT($AF38/2)+1,MOD(COLUMNS($BU$3:CZ$3),2)+1))","v":9.7492791218182369},{"$f":"IF(OR(MOD($AF38,2)=0,INDEX(relationships,INT($AF38/2)+1,DA$3)<>2),INDEX($AC$5:$AD$24,DA$3,MOD(COLUMNS($BU$3:DA$3),2)+1),INDEX($AC$5:$AD$24,INT($AF38/2)+1,MOD(COLUMNS($BU$3:DA$3),2)+1))","v":-2.2252093395631385},{"$f":"IF(OR(MOD($AF38,2)=0,INDEX(relationships,INT($AF38/2)+1,DB$3)<>2),INDEX($AC$5:$AD$24,DB$3,MOD(COLUMNS($BU$3:DB$3),2)+1),INDEX($AC$5:$AD$24,INT($AF38/2)+1,MOD(COLUMNS($BU$3:DB$3),2)+1))","v":4.3388373911755869},{"$f":"IF(OR(MOD($AF38,2)=0,INDEX(relationships,INT($AF38/2)+1,DC$3)<>2),INDEX($AC$5:$AD$24,DC$3,MOD(COLUMNS($BU$3:DC$3),2)+1),INDEX($AC$5:$AD$24,INT($AF38/2)+1,MOD(COLUMNS($BU$3:DC$3),2)+1))","v":-9.0096886790241886},{"$f":"IF(OR(MOD($AF38,2)=0,INDEX(relationships,INT($AF38/2)+1,DD$3)<>2),INDEX($AC$5:$AD$24,DD$3,MOD(COLUMNS($BU$3:DD$3),2)+1),INDEX($AC$5:$AD$24,INT($AF38/2)+1,MOD(COLUMNS($BU$3:DD$3),2)+1))","v":-4.3388373911755753},{"$f":"IF(OR(MOD($AF38,2)=0,INDEX(relationships,INT($AF38/2)+1,DE$3)<>2),INDEX($AC$5:$AD$24,DE$3,MOD(COLUMNS($BU$3:DE$3),2)+1),INDEX($AC$5:$AD$24,INT($AF38/2)+1,MOD(COLUMNS($BU$3:DE$3),2)+1))","v":-9.0096886790241939},{"$f":"IF(OR(MOD($AF38,2)=0,INDEX(relationships,INT($AF38/2)+1,DF$3)<>2),INDEX($AC$5:$AD$24,DF$3,MOD(COLUMNS($BU$3:DF$3),2)+1),INDEX($AC$5:$AD$24,INT($AF38/2)+1,MOD(COLUMNS($BU$3:DF$3),2)+1))","v":-9.7492791218182351},{"$f":"IF(OR(MOD($AF38,2)=0,INDEX(relationships,INT($AF38/2)+1,DG$3)<>2),INDEX($AC$5:$AD$24,DG$3,MOD(COLUMNS($BU$3:DG$3),2)+1),INDEX($AC$5:$AD$24,INT($AF38/2)+1,MOD(COLUMNS($BU$3:DG$3),2)+1))","v":-2.2252093395631505},{"$f":"IF(OR(MOD($AF38,2)=0,INDEX(relationships,INT($AF38/2)+1,DH$3)<>2),INDEX($AC$5:$AD$24,DH$3,MOD(COLUMNS($BU$3:DH$3),2)+1),INDEX($AC$5:$AD$24,INT($AF38/2)+1,MOD(COLUMNS($BU$3:DH$3),2)+1))","v":-7.8183148246803027},{"$f":"IF(OR(MOD($AF38,2)=0,INDEX(relationships,INT($AF38/2)+1,DI$3)<>2),INDEX($AC$5:$AD$24,DI$3,MOD(COLUMNS($BU$3:DI$3),2)+1),INDEX($AC$5:$AD$24,INT($AF38/2)+1,MOD(COLUMNS($BU$3:DI$3),2)+1))","v":6.2348980185873293},null,-2.45029690981724E-15,10,-2.45029690981724E-15,10]
[null,0,{"$f":"MAX(C15,INDEX(rawData,COLUMNS($C$28:C$28),ROWS($B$29:$B39)))","v":0},{"$f":"MAX(D15,INDEX(rawData,COLUMNS($C$28:D$28),ROWS($B$29:$B39)))","v":0},{"$f":"MAX(E15,INDEX(rawData,COLUMNS($C$28:E$28),ROWS($B$29:$B39)))","v":0},{"$f":"MAX(F15,INDEX(rawData,COLUMNS($C$28:F$28),ROWS($B$29:$B39)))","v":0},{"$f":"MAX(G15,INDEX(rawData,COLUMNS($C$28:G$28),ROWS($B$29:$B39)))","v":0},{"$f":"MAX(H15,INDEX(rawData,COLUMNS($C$28:H$28),ROWS($B$29:$B39)))","v":0},{"$f":"MAX(I15,INDEX(rawData,COLUMNS($C$28:I$28),ROWS($B$29:$B39)))","v":0},{"$f":"MAX(J15,INDEX(rawData,COLUMNS($C$28:J$28),ROWS($B$29:$B39)))","v":0},{"$f":"MAX(K15,INDEX(rawData,COLUMNS($C$28:K$28),ROWS($B$29:$B39)))","v":0},{"$f":"MAX(L15,INDEX(rawData,COLUMNS($C$28:L$28),ROWS($B$29:$B39)))","v":0},{"$f":"MAX(M15,INDEX(rawData,COLUMNS($C$28:M$28),ROWS($B$29:$B39)))","v":0},{"$f":"MAX(N15,INDEX(rawData,COLUMNS($C$28:N$28),ROWS($B$29:$B39)))","v":0},{"$f":"MAX(O15,INDEX(rawData,COLUMNS($C$28:O$28),ROWS($B$29:$B39)))","v":0},{"$f":"MAX(P15,INDEX(rawData,COLUMNS($C$28:P$28),ROWS($B$29:$B39)))","v":0},{"$f":"MAX(Q15,INDEX(rawData,COLUMNS($C$28:Q$28),ROWS($B$29:$B39)))","v":0},{"$f":"MAX(R15,INDEX(rawData,COLUMNS($C$28:R$28),ROWS($B$29:$B39)))","v":0},{"$f":"MAX(S15,INDEX(rawData,COLUMNS($C$28:S$28),ROWS($B$29:$B39)))","v":0},{"$f":"MAX(T15,INDEX(rawData,COLUMNS($C$28:T$28),ROWS($B$29:$B39)))","v":0},{"$f":"MAX(U15,INDEX(rawData,COLUMNS($C$28:U$28),ROWS($B$29:$B39)))","v":0},{"$f":"MAX(V15,INDEX(rawData,COLUMNS($C$28:V$28),ROWS($B$29:$B39)))","v":0},null,null,null,null,null,null,null,null,null,34,{"$f":"IF(OR(MOD($AF39,2)=0,INDEX(relationships,INT($AF39/2)+1,AG$3)<>1),INDEX($AC$5:$AD$24,AG$3,MOD(COLUMNS($AF$3:AG$3),2)+1),INDEX($AC$5:$AD$24,INT($AF39/2)+1,MOD(COLUMNS($AF$3:AG$3),2)+1))","v":7.8183148246802983},{"$f":"IF(OR(MOD($AF39,2)=0,INDEX(relationships,INT($AF39/2)+1,AH$3)<>1),INDEX($AC$5:$AD$24,AH$3,MOD(COLUMNS($AF$3:AH$3),2)+1),INDEX($AC$5:$AD$24,INT($AF39/2)+1,MOD(COLUMNS($AF$3:AH$3),2)+1))","v":6.2348980185873355},{"$f":"IF(OR(MOD($AF39,2)=0,INDEX(relationships,INT($AF39/2)+1,AI$3)<>1),INDEX($AC$5:$AD$24,AI$3,MOD(COLUMNS($AF$3:AI$3),2)+1),INDEX($AC$5:$AD$24,INT($AF39/2)+1,MOD(COLUMNS($AF$3:AI$3),2)+1))","v":9.7492791218182369},{"$f":"IF(OR(MOD($AF39,2)=0,INDEX(relationships,INT($AF39/2)+1,AJ$3)<>1),INDEX($AC$5:$AD$24,AJ$3,MOD(COLUMNS($AF$3:AJ$3),2)+1),INDEX($AC$5:$AD$24,INT($AF39/2)+1,MOD(COLUMNS($AF$3:AJ$3),2)+1))","v":-2.2252093395631434},{"$f":"IF(OR(MOD($AF39,2)=0,INDEX(relationships,INT($AF39/2)+1,AK$3)<>1),INDEX($AC$5:$AD$24,AK$3,MOD(COLUMNS($AF$3:AK$3),2)+1),INDEX($AC$5:$AD$24,INT($AF39/2)+1,MOD(COLUMNS($AF$3:AK$3),2)+1))","v":4.3388373911755824},{"$f":"IF(OR(MOD($AF39,2)=0,INDEX(relationships,INT($AF39/2)+1,AL$3)<>1),INDEX($AC$5:$AD$24,AL$3,MOD(COLUMNS($AF$3:AL$3),2)+1),INDEX($AC$5:$AD$24,INT($AF39/2)+1,MOD(COLUMNS($AF$3:AL$3),2)+1))","v":-9.0096886790241903},{"$f":"IF(OR(MOD($AF39,2)=0,INDEX(relationships,INT($AF39/2)+1,AM$3)<>1),INDEX($AC$5:$AD$24,AM$3,MOD(COLUMNS($AF$3:AM$3),2)+1),INDEX($AC$5:$AD$24,INT($AF39/2)+1,MOD(COLUMNS($AF$3:AM$3),2)+1))","v":-4.3388373911755798},{"$f":"IF(OR(MOD($AF39,2)=0,INDEX(relationships,INT($AF39/2)+1,AN$3)<>1),INDEX($AC$5:$AD$24,AN$3,MOD(COLUMNS($AF$3:AN$3),2)+1),INDEX($AC$5:$AD$24,INT($AF39/2)+1,MOD(COLUMNS($AF$3:AN$3),2)+1))","v":-9.0096886790241921},{"$f":"IF(OR(MOD($AF39,2)=0,INDEX(relationships,INT($AF39/2)+1,AO$3)<>1),INDEX($AC$5:$AD$24,AO$3,MOD(COLUMNS($AF$3:AO$3),2)+1),INDEX($AC$5:$AD$24,INT($AF39/2)+1,MOD(COLUMNS($AF$3:AO$3),2)+1))","v":-9.7492791218182369},{"$f":"IF(OR(MOD($AF39,2)=0,INDEX(relationships,INT($AF39/2)+1,AP$3)<>1),INDEX($AC$5:$AD$24,AP$3,MOD(COLUMNS($AF$3:AP$3),2)+1),INDEX($AC$5:$AD$24,INT($AF39/2)+1,MOD(COLUMNS($AF$3:AP$3),2)+1))","v":-2.225209339563146},{"$f":"IF(OR(MOD($AF39,2)=0,INDEX(relationships,INT($AF39/2)+1,AQ$3)<>1),INDEX($AC$5:$AD$24,AQ$3,MOD(COLUMNS($AF$3:AQ$3),2)+1),INDEX($AC$5:$AD$24,INT($AF39/2)+1,MOD(COLUMNS($AF$3:AQ$3),2)+1))","v":-7.8183148246802991},{"$f":"IF(OR(MOD($AF39,2)=0,INDEX(relationships,INT($AF39/2)+1,AR$3)<>1),INDEX($AC$5:$AD$24,AR$3,MOD(COLUMNS($AF$3:AR$3),2)+1),INDEX($AC$5:$AD$24,INT($AF39/2)+1,MOD(COLUMNS($AF$3:AR$3),2)+1))","v":6.2348980185873337},{"$f":"IF(OR(MOD($AF39,2)=0,INDEX(relationships,INT($AF39/2)+1,AS$3)<>1),INDEX($AC$5:$AD$24,AS$3,MOD(COLUMNS($AF$3:AS$3),2)+1),INDEX($AC$5:$AD$24,INT($AF39/2)+1,MOD(COLUMNS($AF$3:AS$3),2)+1))","v":-2.45029690981724E-15},{"$f":"IF(OR(MOD($AF39,2)=0,INDEX(relationships,INT($AF39/2)+1,AT$3)<>1),INDEX($AC$5:$AD$24,AT$3,MOD(COLUMNS($AF$3:AT$3),2)+1),INDEX($AC$5:$AD$24,INT($AF39/2)+1,MOD(COLUMNS($AF$3:AT$3),2)+1))","v":10},{"$f":"IF(OR(MOD($AF39,2)=0,INDEX(relationships,INT($AF39/2)+1,AU$3)<>1),INDEX($AC$5:$AD$24,AU$3,MOD(COLUMNS($AF$3:AU$3),2)+1),INDEX($AC$5:$AD$24,INT($AF39/2)+1,MOD(COLUMNS($AF$3:AU$3),2)+1))","v":7.8183148246802956},{"$f":"IF(OR(MOD($AF39,2)=0,INDEX(relationships,INT($AF39/2)+1,AV$3)<>1),INDEX($AC$5:$AD$24,AV$3,MOD(COLUMNS($AF$3:AV$3),2)+1),INDEX($AC$5:$AD$24,INT($AF39/2)+1,MOD(COLUMNS($AF$3:AV$3),2)+1))","v":6.2348980185873373},{"$f":"IF(OR(MOD($AF39,2)=0,INDEX(relationships,INT($AF39/2)+1,AW$3)<>1),INDEX($AC$5:$AD$24,AW$3,MOD(COLUMNS($AF$3:AW$3),2)+1),INDEX($AC$5:$AD$24,INT($AF39/2)+1,MOD(COLUMNS($AF$3:AW$3),2)+1))","v":9.7492791218182369},{"$f":"IF(OR(MOD($AF39,2)=0,INDEX(relationships,INT($AF39/2)+1,AX$3)<>1),INDEX($AC$5:$AD$24,AX$3,MOD(COLUMNS($AF$3:AX$3),2)+1),INDEX($AC$5:$AD$24,INT($AF39/2)+1,MOD(COLUMNS($AF$3:AX$3),2)+1))","v":-2.2252093395631407},{"$f":"IF(OR(MOD($AF39,2)=0,INDEX(relationships,INT($AF39/2)+1,AY$3)<>1),INDEX($AC$5:$AD$24,AY$3,MOD(COLUMNS($AF$3:AY$3),2)+1),INDEX($AC$5:$AD$24,INT($AF39/2)+1,MOD(COLUMNS($AF$3:AY$3),2)+1))","v":4.3388373911755842},{"$f":"IF(OR(MOD($AF39,2)=0,INDEX(relationships,INT($AF39/2)+1,AZ$3)<>1),INDEX($AC$5:$AD$24,AZ$3,MOD(COLUMNS($AF$3:AZ$3),2)+1),INDEX($AC$5:$AD$24,INT($AF39/2)+1,MOD(COLUMNS($AF$3:AZ$3),2)+1))","v":-9.0096886790241886},{"$f":"IF(OR(MOD($AF39,2)=0,INDEX(relationships,INT($AF39/2)+1,BA$3)<>1),INDEX($AC$5:$AD$24,BA$3,MOD(COLUMNS($AF$3:BA$3),2)+1),INDEX($AC$5:$AD$24,INT($AF39/2)+1,MOD(COLUMNS($AF$3:BA$3),2)+1))","v":-4.338837391175578},{"$f":"IF(OR(MOD($AF39,2)=0,INDEX(relationships,INT($AF39/2)+1,BB$3)<>1),INDEX($AC$5:$AD$24,BB$3,MOD(COLUMNS($AF$3:BB$3),2)+1),INDEX($AC$5:$AD$24,INT($AF39/2)+1,MOD(COLUMNS($AF$3:BB$3),2)+1))","v":-9.0096886790241921},{"$f":"IF(OR(MOD($AF39,2)=0,INDEX(relationships,INT($AF39/2)+1,BC$3)<>1),INDEX($AC$5:$AD$24,BC$3,MOD(COLUMNS($AF$3:BC$3),2)+1),INDEX($AC$5:$AD$24,INT($AF39/2)+1,MOD(COLUMNS($AF$3:BC$3),2)+1))","v":-9.7492791218182351},{"$f":"IF(OR(MOD($AF39,2)=0,INDEX(relationships,INT($AF39/2)+1,BD$3)<>1),INDEX($AC$5:$AD$24,BD$3,MOD(COLUMNS($AF$3:BD$3),2)+1),INDEX($AC$5:$AD$24,INT($AF39/2)+1,MOD(COLUMNS($AF$3:BD$3),2)+1))","v":-2.2252093395631483},{"$f":"IF(OR(MOD($AF39,2)=0,INDEX(relationships,INT($AF39/2)+1,BE$3)<>1),INDEX($AC$5:$AD$24,BE$3,MOD(COLUMNS($AF$3:BE$3),2)+1),INDEX($AC$5:$AD$24,INT($AF39/2)+1,MOD(COLUMNS($AF$3:BE$3),2)+1))","v":-7.8183148246803018},{"$f":"IF(OR(MOD($AF39,2)=0,INDEX(relationships,INT($AF39/2)+1,BF$3)<>1),INDEX($AC$5:$AD$24,BF$3,MOD(COLUMNS($AF$3:BF$3),2)+1),INDEX($AC$5:$AD$24,INT($AF39/2)+1,MOD(COLUMNS($AF$3:BF$3),2)+1))","v":6.2348980185873319},{"$f":"IF(OR(MOD($AF39,2)=0,INDEX(relationships,INT($AF39/2)+1,BG$3)<>1),INDEX($AC$5:$AD$24,BG$3,MOD(COLUMNS($AF$3:BG$3),2)+1),INDEX($AC$5:$AD$24,INT($AF39/2)+1,MOD(COLUMNS($AF$3:BG$3),2)+1))","v":-4.90059381963448E-15},{"$f":"IF(OR(MOD($AF39,2)=0,INDEX(relationships,INT($AF39/2)+1,BH$3)<>1),INDEX($AC$5:$AD$24,BH$3,MOD(COLUMNS($AF$3:BH$3),2)+1),INDEX($AC$5:$AD$24,INT($AF39/2)+1,MOD(COLUMNS($AF$3:BH$3),2)+1))","v":10},{"$f":"IF(OR(MOD($AF39,2)=0,INDEX(relationships,INT($AF39/2)+1,BI$3)<>1),INDEX($AC$5:$AD$24,BI$3,MOD(COLUMNS($AF$3:BI$3),2)+1),INDEX($AC$5:$AD$24,INT($AF39/2)+1,MOD(COLUMNS($AF$3:BI$3),2)+1))","v":7.8183148246802947},{"$f":"IF(OR(MOD($AF39,2)=0,INDEX(relationships,INT($AF39/2)+1,BJ$3)<>1),INDEX($AC$5:$AD$24,BJ$3,MOD(COLUMNS($AF$3:BJ$3),2)+1),INDEX($AC$5:$AD$24,INT($AF39/2)+1,MOD(COLUMNS($AF$3:BJ$3),2)+1))","v":6.2348980185873391},{"$f":"IF(OR(MOD($AF39,2)=0,INDEX(relationships,INT($AF39/2)+1,BK$3)<>1),INDEX($AC$5:$AD$24,BK$3,MOD(COLUMNS($AF$3:BK$3),2)+1),INDEX($AC$5:$AD$24,INT($AF39/2)+1,MOD(COLUMNS($AF$3:BK$3),2)+1))","v":9.7492791218182369},{"$f":"IF(OR(MOD($AF39,2)=0,INDEX(relationships,INT($AF39/2)+1,BL$3)<>1),INDEX($AC$5:$AD$24,BL$3,MOD(COLUMNS($AF$3:BL$3),2)+1),INDEX($AC$5:$AD$24,INT($AF39/2)+1,MOD(COLUMNS($AF$3:BL$3),2)+1))","v":-2.2252093395631385},{"$f":"IF(OR(MOD($AF39,2)=0,INDEX(relationships,INT($AF39/2)+1,BM$3)<>1),INDEX($AC$5:$AD$24,BM$3,MOD(COLUMNS($AF$3:BM$3),2)+1),INDEX($AC$5:$AD$24,INT($AF39/2)+1,MOD(COLUMNS($AF$3:BM$3),2)+1))","v":4.3388373911755869},{"$f":"IF(OR(MOD($AF39,2)=0,INDEX(relationships,INT($AF39/2)+1,BN$3)<>1),INDEX($AC$5:$AD$24,BN$3,MOD(COLUMNS($AF$3:BN$3),2)+1),INDEX($AC$5:$AD$24,INT($AF39/2)+1,MOD(COLUMNS($AF$3:BN$3),2)+1))","v":-9.0096886790241886},{"$f":"IF(OR(MOD($AF39,2)=0,INDEX(relationships,INT($AF39/2)+1,BO$3)<>1),INDEX($AC$5:$AD$24,BO$3,MOD(COLUMNS($AF$3:BO$3),2)+1),INDEX($AC$5:$AD$24,INT($AF39/2)+1,MOD(COLUMNS($AF$3:BO$3),2)+1))","v":-4.3388373911755753},{"$f":"IF(OR(MOD($AF39,2)=0,INDEX(relationships,INT($AF39/2)+1,BP$3)<>1),INDEX($AC$5:$AD$24,BP$3,MOD(COLUMNS($AF$3:BP$3),2)+1),INDEX($AC$5:$AD$24,INT($AF39/2)+1,MOD(COLUMNS($AF$3:BP$3),2)+1))","v":-9.0096886790241939},{"$f":"IF(OR(MOD($AF39,2)=0,INDEX(relationships,INT($AF39/2)+1,BQ$3)<>1),INDEX($AC$5:$AD$24,BQ$3,MOD(COLUMNS($AF$3:BQ$3),2)+1),INDEX($AC$5:$AD$24,INT($AF39/2)+1,MOD(COLUMNS($AF$3:BQ$3),2)+1))","v":-9.7492791218182351},{"$f":"IF(OR(MOD($AF39,2)=0,INDEX(relationships,INT($AF39/2)+1,BR$3)<>1),INDEX($AC$5:$AD$24,BR$3,MOD(COLUMNS($AF$3:BR$3),2)+1),INDEX($AC$5:$AD$24,INT($AF39/2)+1,MOD(COLUMNS($AF$3:BR$3),2)+1))","v":-2.2252093395631505},{"$f":"IF(OR(MOD($AF39,2)=0,INDEX(relationships,INT($AF39/2)+1,BS$3)<>1),INDEX($AC$5:$AD$24,BS$3,MOD(COLUMNS($AF$3:BS$3),2)+1),INDEX($AC$5:$AD$24,INT($AF39/2)+1,MOD(COLUMNS($AF$3:BS$3),2)+1))","v":-7.8183148246803027},{"$f":"IF(OR(MOD($AF39,2)=0,INDEX(relationships,INT($AF39/2)+1,BT$3)<>1),INDEX($AC$5:$AD$24,BT$3,MOD(COLUMNS($AF$3:BT$3),2)+1),INDEX($AC$5:$AD$24,INT($AF39/2)+1,MOD(COLUMNS($AF$3:BT$3),2)+1))","v":6.2348980185873293},null,{"$f":"IF(OR(MOD($AF39,2)=0,INDEX(relationships,INT($AF39/2)+1,BV$3)<>2),INDEX($AC$5:$AD$24,BV$3,MOD(COLUMNS($BU$3:BV$3),2)+1),INDEX($AC$5:$AD$24,INT($AF39/2)+1,MOD(COLUMNS($BU$3:BV$3),2)+1))","v":7.8183148246802983},{"$f":"IF(OR(MOD($AF39,2)=0,INDEX(relationships,INT($AF39/2)+1,BW$3)<>2),INDEX($AC$5:$AD$24,BW$3,MOD(COLUMNS($BU$3:BW$3),2)+1),INDEX($AC$5:$AD$24,INT($AF39/2)+1,MOD(COLUMNS($BU$3:BW$3),2)+1))","v":6.2348980185873355},{"$f":"IF(OR(MOD($AF39,2)=0,INDEX(relationships,INT($AF39/2)+1,BX$3)<>2),INDEX($AC$5:$AD$24,BX$3,MOD(COLUMNS($BU$3:BX$3),2)+1),INDEX($AC$5:$AD$24,INT($AF39/2)+1,MOD(COLUMNS($BU$3:BX$3),2)+1))","v":9.7492791218182369},{"$f":"IF(OR(MOD($AF39,2)=0,INDEX(relationships,INT($AF39/2)+1,BY$3)<>2),INDEX($AC$5:$AD$24,BY$3,MOD(COLUMNS($BU$3:BY$3),2)+1),INDEX($AC$5:$AD$24,INT($AF39/2)+1,MOD(COLUMNS($BU$3:BY$3),2)+1))","v":-2.2252093395631434},{"$f":"IF(OR(MOD($AF39,2)=0,INDEX(relationships,INT($AF39/2)+1,BZ$3)<>2),INDEX($AC$5:$AD$24,BZ$3,MOD(COLUMNS($BU$3:BZ$3),2)+1),INDEX($AC$5:$AD$24,INT($AF39/2)+1,MOD(COLUMNS($BU$3:BZ$3),2)+1))","v":4.3388373911755824},{"$f":"IF(OR(MOD($AF39,2)=0,INDEX(relationships,INT($AF39/2)+1,CA$3)<>2),INDEX($AC$5:$AD$24,CA$3,MOD(COLUMNS($BU$3:CA$3),2)+1),INDEX($AC$5:$AD$24,INT($AF39/2)+1,MOD(COLUMNS($BU$3:CA$3),2)+1))","v":-9.0096886790241903},{"$f":"IF(OR(MOD($AF39,2)=0,INDEX(relationships,INT($AF39/2)+1,CB$3)<>2),INDEX($AC$5:$AD$24,CB$3,MOD(COLUMNS($BU$3:CB$3),2)+1),INDEX($AC$5:$AD$24,INT($AF39/2)+1,MOD(COLUMNS($BU$3:CB$3),2)+1))","v":-4.3388373911755798},{"$f":"IF(OR(MOD($AF39,2)=0,INDEX(relationships,INT($AF39/2)+1,CC$3)<>2),INDEX($AC$5:$AD$24,CC$3,MOD(COLUMNS($BU$3:CC$3),2)+1),INDEX($AC$5:$AD$24,INT($AF39/2)+1,MOD(COLUMNS($BU$3:CC$3),2)+1))","v":-9.0096886790241921},{"$f":"IF(OR(MOD($AF39,2)=0,INDEX(relationships,INT($AF39/2)+1,CD$3)<>2),INDEX($AC$5:$AD$24,CD$3,MOD(COLUMNS($BU$3:CD$3),2)+1),INDEX($AC$5:$AD$24,INT($AF39/2)+1,MOD(COLUMNS($BU$3:CD$3),2)+1))","v":-9.7492791218182369},{"$f":"IF(OR(MOD($AF39,2)=0,INDEX(relationships,INT($AF39/2)+1,CE$3)<>2),INDEX($AC$5:$AD$24,CE$3,MOD(COLUMNS($BU$3:CE$3),2)+1),INDEX($AC$5:$AD$24,INT($AF39/2)+1,MOD(COLUMNS($BU$3:CE$3),2)+1))","v":-2.225209339563146},{"$f":"IF(OR(MOD($AF39,2)=0,INDEX(relationships,INT($AF39/2)+1,CF$3)<>2),INDEX($AC$5:$AD$24,CF$3,MOD(COLUMNS($BU$3:CF$3),2)+1),INDEX($AC$5:$AD$24,INT($AF39/2)+1,MOD(COLUMNS($BU$3:CF$3),2)+1))","v":-7.8183148246802991},{"$f":"IF(OR(MOD($AF39,2)=0,INDEX(relationships,INT($AF39/2)+1,CG$3)<>2),INDEX($AC$5:$AD$24,CG$3,MOD(COLUMNS($BU$3:CG$3),2)+1),INDEX($AC$5:$AD$24,INT($AF39/2)+1,MOD(COLUMNS($BU$3:CG$3),2)+1))","v":6.2348980185873337},{"$f":"IF(OR(MOD($AF39,2)=0,INDEX(relationships,INT($AF39/2)+1,CH$3)<>2),INDEX($AC$5:$AD$24,CH$3,MOD(COLUMNS($BU$3:CH$3),2)+1),INDEX($AC$5:$AD$24,INT($AF39/2)+1,MOD(COLUMNS($BU$3:CH$3),2)+1))","v":-2.45029690981724E-15},{"$f":"IF(OR(MOD($AF39,2)=0,INDEX(relationships,INT($AF39/2)+1,CI$3)<>2),INDEX($AC$5:$AD$24,CI$3,MOD(COLUMNS($BU$3:CI$3),2)+1),INDEX($AC$5:$AD$24,INT($AF39/2)+1,MOD(COLUMNS($BU$3:CI$3),2)+1))","v":10},{"$f":"IF(OR(MOD($AF39,2)=0,INDEX(relationships,INT($AF39/2)+1,CJ$3)<>2),INDEX($AC$5:$AD$24,CJ$3,MOD(COLUMNS($BU$3:CJ$3),2)+1),INDEX($AC$5:$AD$24,INT($AF39/2)+1,MOD(COLUMNS($BU$3:CJ$3),2)+1))","v":7.8183148246802956},{"$f":"IF(OR(MOD($AF39,2)=0,INDEX(relationships,INT($AF39/2)+1,CK$3)<>2),INDEX($AC$5:$AD$24,CK$3,MOD(COLUMNS($BU$3:CK$3),2)+1),INDEX($AC$5:$AD$24,INT($AF39/2)+1,MOD(COLUMNS($BU$3:CK$3),2)+1))","v":6.2348980185873373},{"$f":"IF(OR(MOD($AF39,2)=0,INDEX(relationships,INT($AF39/2)+1,CL$3)<>2),INDEX($AC$5:$AD$24,CL$3,MOD(COLUMNS($BU$3:CL$3),2)+1),INDEX($AC$5:$AD$24,INT($AF39/2)+1,MOD(COLUMNS($BU$3:CL$3),2)+1))","v":9.7492791218182369},{"$f":"IF(OR(MOD($AF39,2)=0,INDEX(relationships,INT($AF39/2)+1,CM$3)<>2),INDEX($AC$5:$AD$24,CM$3,MOD(COLUMNS($BU$3:CM$3),2)+1),INDEX($AC$5:$AD$24,INT($AF39/2)+1,MOD(COLUMNS($BU$3:CM$3),2)+1))","v":-2.2252093395631407},{"$f":"IF(OR(MOD($AF39,2)=0,INDEX(relationships,INT($AF39/2)+1,CN$3)<>2),INDEX($AC$5:$AD$24,CN$3,MOD(COLUMNS($BU$3:CN$3),2)+1),INDEX($AC$5:$AD$24,INT($AF39/2)+1,MOD(COLUMNS($BU$3:CN$3),2)+1))","v":4.3388373911755842},{"$f":"IF(OR(MOD($AF39,2)=0,INDEX(relationships,INT($AF39/2)+1,CO$3)<>2),INDEX($AC$5:$AD$24,CO$3,MOD(COLUMNS($BU$3:CO$3),2)+1),INDEX($AC$5:$AD$24,INT($AF39/2)+1,MOD(COLUMNS($BU$3:CO$3),2)+1))","v":-9.0096886790241886},{"$f":"IF(OR(MOD($AF39,2)=0,INDEX(relationships,INT($AF39/2)+1,CP$3)<>2),INDEX($AC$5:$AD$24,CP$3,MOD(COLUMNS($BU$3:CP$3),2)+1),INDEX($AC$5:$AD$24,INT($AF39/2)+1,MOD(COLUMNS($BU$3:CP$3),2)+1))","v":-4.338837391175578},{"$f":"IF(OR(MOD($AF39,2)=0,INDEX(relationships,INT($AF39/2)+1,CQ$3)<>2),INDEX($AC$5:$AD$24,CQ$3,MOD(COLUMNS($BU$3:CQ$3),2)+1),INDEX($AC$5:$AD$24,INT($AF39/2)+1,MOD(COLUMNS($BU$3:CQ$3),2)+1))","v":-9.0096886790241921},{"$f":"IF(OR(MOD($AF39,2)=0,INDEX(relationships,INT($AF39/2)+1,CR$3)<>2),INDEX($AC$5:$AD$24,CR$3,MOD(COLUMNS($BU$3:CR$3),2)+1),INDEX($AC$5:$AD$24,INT($AF39/2)+1,MOD(COLUMNS($BU$3:CR$3),2)+1))","v":-9.7492791218182351},{"$f":"IF(OR(MOD($AF39,2)=0,INDEX(relationships,INT($AF39/2)+1,CS$3)<>2),INDEX($AC$5:$AD$24,CS$3,MOD(COLUMNS($BU$3:CS$3),2)+1),INDEX($AC$5:$AD$24,INT($AF39/2)+1,MOD(COLUMNS($BU$3:CS$3),2)+1))","v":-2.2252093395631483},{"$f":"IF(OR(MOD($AF39,2)=0,INDEX(relationships,INT($AF39/2)+1,CT$3)<>2),INDEX($AC$5:$AD$24,CT$3,MOD(COLUMNS($BU$3:CT$3),2)+1),INDEX($AC$5:$AD$24,INT($AF39/2)+1,MOD(COLUMNS($BU$3:CT$3),2)+1))","v":-7.8183148246803018},{"$f":"IF(OR(MOD($AF39,2)=0,INDEX(relationships,INT($AF39/2)+1,CU$3)<>2),INDEX($AC$5:$AD$24,CU$3,MOD(COLUMNS($BU$3:CU$3),2)+1),INDEX($AC$5:$AD$24,INT($AF39/2)+1,MOD(COLUMNS($BU$3:CU$3),2)+1))","v":6.2348980185873319},{"$f":"IF(OR(MOD($AF39,2)=0,INDEX(relationships,INT($AF39/2)+1,CV$3)<>2),INDEX($AC$5:$AD$24,CV$3,MOD(COLUMNS($BU$3:CV$3),2)+1),INDEX($AC$5:$AD$24,INT($AF39/2)+1,MOD(COLUMNS($BU$3:CV$3),2)+1))","v":-4.90059381963448E-15},{"$f":"IF(OR(MOD($AF39,2)=0,INDEX(relationships,INT($AF39/2)+1,CW$3)<>2),INDEX($AC$5:$AD$24,CW$3,MOD(COLUMNS($BU$3:CW$3),2)+1),INDEX($AC$5:$AD$24,INT($AF39/2)+1,MOD(COLUMNS($BU$3:CW$3),2)+1))","v":10},{"$f":"IF(OR(MOD($AF39,2)=0,INDEX(relationships,INT($AF39/2)+1,CX$3)<>2),INDEX($AC$5:$AD$24,CX$3,MOD(COLUMNS($BU$3:CX$3),2)+1),INDEX($AC$5:$AD$24,INT($AF39/2)+1,MOD(COLUMNS($BU$3:CX$3),2)+1))","v":7.8183148246802947},{"$f":"IF(OR(MOD($AF39,2)=0,INDEX(relationships,INT($AF39/2)+1,CY$3)<>2),INDEX($AC$5:$AD$24,CY$3,MOD(COLUMNS($BU$3:CY$3),2)+1),INDEX($AC$5:$AD$24,INT($AF39/2)+1,MOD(COLUMNS($BU$3:CY$3),2)+1))","v":6.2348980185873391},{"$f":"IF(OR(MOD($AF39,2)=0,INDEX(relationships,INT($AF39/2)+1,CZ$3)<>2),INDEX($AC$5:$AD$24,CZ$3,MOD(COLUMNS($BU$3:CZ$3),2)+1),INDEX($AC$5:$AD$24,INT($AF39/2)+1,MOD(COLUMNS($BU$3:CZ$3),2)+1))","v":9.7492791218182369},{"$f":"IF(OR(MOD($AF39,2)=0,INDEX(relationships,INT($AF39/2)+1,DA$3)<>2),INDEX($AC$5:$AD$24,DA$3,MOD(COLUMNS($BU$3:DA$3),2)+1),INDEX($AC$5:$AD$24,INT($AF39/2)+1,MOD(COLUMNS($BU$3:DA$3),2)+1))","v":-2.2252093395631385},{"$f":"IF(OR(MOD($AF39,2)=0,INDEX(relationships,INT($AF39/2)+1,DB$3)<>2),INDEX($AC$5:$AD$24,DB$3,MOD(COLUMNS($BU$3:DB$3),2)+1),INDEX($AC$5:$AD$24,INT($AF39/2)+1,MOD(COLUMNS($BU$3:DB$3),2)+1))","v":4.3388373911755869},{"$f":"IF(OR(MOD($AF39,2)=0,INDEX(relationships,INT($AF39/2)+1,DC$3)<>2),INDEX($AC$5:$AD$24,DC$3,MOD(COLUMNS($BU$3:DC$3),2)+1),INDEX($AC$5:$AD$24,INT($AF39/2)+1,MOD(COLUMNS($BU$3:DC$3),2)+1))","v":-9.0096886790241886},{"$f":"IF(OR(MOD($AF39,2)=0,INDEX(relationships,INT($AF39/2)+1,DD$3)<>2),INDEX($AC$5:$AD$24,DD$3,MOD(COLUMNS($BU$3:DD$3),2)+1),INDEX($AC$5:$AD$24,INT($AF39/2)+1,MOD(COLUMNS($BU$3:DD$3),2)+1))","v":-4.3388373911755753},{"$f":"IF(OR(MOD($AF39,2)=0,INDEX(relationships,INT($AF39/2)+1,DE$3)<>2),INDEX($AC$5:$AD$24,DE$3,MOD(COLUMNS($BU$3:DE$3),2)+1),INDEX($AC$5:$AD$24,INT($AF39/2)+1,MOD(COLUMNS($BU$3:DE$3),2)+1))","v":-9.0096886790241939},{"$f":"IF(OR(MOD($AF39,2)=0,INDEX(relationships,INT($AF39/2)+1,DF$3)<>2),INDEX($AC$5:$AD$24,DF$3,MOD(COLUMNS($BU$3:DF$3),2)+1),INDEX($AC$5:$AD$24,INT($AF39/2)+1,MOD(COLUMNS($BU$3:DF$3),2)+1))","v":-9.7492791218182351},{"$f":"IF(OR(MOD($AF39,2)=0,INDEX(relationships,INT($AF39/2)+1,DG$3)<>2),INDEX($AC$5:$AD$24,DG$3,MOD(COLUMNS($BU$3:DG$3),2)+1),INDEX($AC$5:$AD$24,INT($AF39/2)+1,MOD(COLUMNS($BU$3:DG$3),2)+1))","v":-2.2252093395631505},{"$f":"IF(OR(MOD($AF39,2)=0,INDEX(relationships,INT($AF39/2)+1,DH$3)<>2),INDEX($AC$5:$AD$24,DH$3,MOD(COLUMNS($BU$3:DH$3),2)+1),INDEX($AC$5:$AD$24,INT($AF39/2)+1,MOD(COLUMNS($BU$3:DH$3),2)+1))","v":-7.8183148246803027},{"$f":"IF(OR(MOD($AF39,2)=0,INDEX(relationships,INT($AF39/2)+1,DI$3)<>2),INDEX($AC$5:$AD$24,DI$3,MOD(COLUMNS($BU$3:DI$3),2)+1),INDEX($AC$5:$AD$24,INT($AF39/2)+1,MOD(COLUMNS($BU$3:DI$3),2)+1))","v":6.2348980185873293},null,-2.45029690981724E-15,10,-2.45029690981724E-15,10]
[null,0,{"$f":"MAX(C16,INDEX(rawData,COLUMNS($C$28:C$28),ROWS($B$29:$B40)))","v":0},{"$f":"MAX(D16,INDEX(rawData,COLUMNS($C$28:D$28),ROWS($B$29:$B40)))","v":0},{"$f":"MAX(E16,INDEX(rawData,COLUMNS($C$28:E$28),ROWS($B$29:$B40)))","v":0},{"$f":"MAX(F16,INDEX(rawData,COLUMNS($C$28:F$28),ROWS($B$29:$B40)))","v":0},{"$f":"MAX(G16,INDEX(rawData,COLUMNS($C$28:G$28),ROWS($B$29:$B40)))","v":0},{"$f":"MAX(H16,INDEX(rawData,COLUMNS($C$28:H$28),ROWS($B$29:$B40)))","v":0},{"$f":"MAX(I16,INDEX(rawData,COLUMNS($C$28:I$28),ROWS($B$29:$B40)))","v":0},{"$f":"MAX(J16,INDEX(rawData,COLUMNS($C$28:J$28),ROWS($B$29:$B40)))","v":0},{"$f":"MAX(K16,INDEX(rawData,COLUMNS($C$28:K$28),ROWS($B$29:$B40)))","v":0},{"$f":"MAX(L16,INDEX(rawData,COLUMNS($C$28:L$28),ROWS($B$29:$B40)))","v":0},{"$f":"MAX(M16,INDEX(rawData,COLUMNS($C$28:M$28),ROWS($B$29:$B40)))","v":0},{"$f":"MAX(N16,INDEX(rawData,COLUMNS($C$28:N$28),ROWS($B$29:$B40)))","v":0},{"$f":"MAX(O16,INDEX(rawData,COLUMNS($C$28:O$28),ROWS($B$29:$B40)))","v":0},{"$f":"MAX(P16,INDEX(rawData,COLUMNS($C$28:P$28),ROWS($B$29:$B40)))","v":0},{"$f":"MAX(Q16,INDEX(rawData,COLUMNS($C$28:Q$28),ROWS($B$29:$B40)))","v":0},{"$f":"MAX(R16,INDEX(rawData,COLUMNS($C$28:R$28),ROWS($B$29:$B40)))","v":0},{"$f":"MAX(S16,INDEX(rawData,COLUMNS($C$28:S$28),ROWS($B$29:$B40)))","v":0},{"$f":"MAX(T16,INDEX(rawData,COLUMNS($C$28:T$28),ROWS($B$29:$B40)))","v":0},{"$f":"MAX(U16,INDEX(rawData,COLUMNS($C$28:U$28),ROWS($B$29:$B40)))","v":0},{"$f":"MAX(V16,INDEX(rawData,COLUMNS($C$28:V$28),ROWS($B$29:$B40)))","v":0},null,null,null,null,null,null,null,null,null,35,{"$f":"IF(OR(MOD($AF40,2)=0,INDEX(relationships,INT($AF40/2)+1,AG$3)<>1),INDEX($AC$5:$AD$24,AG$3,MOD(COLUMNS($AF$3:AG$3),2)+1),INDEX($AC$5:$AD$24,INT($AF40/2)+1,MOD(COLUMNS($AF$3:AG$3),2)+1))","v":7.8183148246802983},{"$f":"IF(OR(MOD($AF40,2)=0,INDEX(relationships,INT($AF40/2)+1,AH$3)<>1),INDEX($AC$5:$AD$24,AH$3,MOD(COLUMNS($AF$3:AH$3),2)+1),INDEX($AC$5:$AD$24,INT($AF40/2)+1,MOD(COLUMNS($AF$3:AH$3),2)+1))","v":6.2348980185873355},{"$f":"IF(OR(MOD($AF40,2)=0,INDEX(relationships,INT($AF40/2)+1,AI$3)<>1),INDEX($AC$5:$AD$24,AI$3,MOD(COLUMNS($AF$3:AI$3),2)+1),INDEX($AC$5:$AD$24,INT($AF40/2)+1,MOD(COLUMNS($AF$3:AI$3),2)+1))","v":9.7492791218182369},{"$f":"IF(OR(MOD($AF40,2)=0,INDEX(relationships,INT($AF40/2)+1,AJ$3)<>1),INDEX($AC$5:$AD$24,AJ$3,MOD(COLUMNS($AF$3:AJ$3),2)+1),INDEX($AC$5:$AD$24,INT($AF40/2)+1,MOD(COLUMNS($AF$3:AJ$3),2)+1))","v":-2.2252093395631434},{"$f":"IF(OR(MOD($AF40,2)=0,INDEX(relationships,INT($AF40/2)+1,AK$3)<>1),INDEX($AC$5:$AD$24,AK$3,MOD(COLUMNS($AF$3:AK$3),2)+1),INDEX($AC$5:$AD$24,INT($AF40/2)+1,MOD(COLUMNS($AF$3:AK$3),2)+1))","v":4.3388373911755824},{"$f":"IF(OR(MOD($AF40,2)=0,INDEX(relationships,INT($AF40/2)+1,AL$3)<>1),INDEX($AC$5:$AD$24,AL$3,MOD(COLUMNS($AF$3:AL$3),2)+1),INDEX($AC$5:$AD$24,INT($AF40/2)+1,MOD(COLUMNS($AF$3:AL$3),2)+1))","v":-9.0096886790241903},{"$f":"IF(OR(MOD($AF40,2)=0,INDEX(relationships,INT($AF40/2)+1,AM$3)<>1),INDEX($AC$5:$AD$24,AM$3,MOD(COLUMNS($AF$3:AM$3),2)+1),INDEX($AC$5:$AD$24,INT($AF40/2)+1,MOD(COLUMNS($AF$3:AM$3),2)+1))","v":-4.3388373911755798},{"$f":"IF(OR(MOD($AF40,2)=0,INDEX(relationships,INT($AF40/2)+1,AN$3)<>1),INDEX($AC$5:$AD$24,AN$3,MOD(COLUMNS($AF$3:AN$3),2)+1),INDEX($AC$5:$AD$24,INT($AF40/2)+1,MOD(COLUMNS($AF$3:AN$3),2)+1))","v":-9.0096886790241921},{"$f":"IF(OR(MOD($AF40,2)=0,INDEX(relationships,INT($AF40/2)+1,AO$3)<>1),INDEX($AC$5:$AD$24,AO$3,MOD(COLUMNS($AF$3:AO$3),2)+1),INDEX($AC$5:$AD$24,INT($AF40/2)+1,MOD(COLUMNS($AF$3:AO$3),2)+1))","v":-9.7492791218182369},{"$f":"IF(OR(MOD($AF40,2)=0,INDEX(relationships,INT($AF40/2)+1,AP$3)<>1),INDEX($AC$5:$AD$24,AP$3,MOD(COLUMNS($AF$3:AP$3),2)+1),INDEX($AC$5:$AD$24,INT($AF40/2)+1,MOD(COLUMNS($AF$3:AP$3),2)+1))","v":-2.225209339563146},{"$f":"IF(OR(MOD($AF40,2)=0,INDEX(relationships,INT($AF40/2)+1,AQ$3)<>1),INDEX($AC$5:$AD$24,AQ$3,MOD(COLUMNS($AF$3:AQ$3),2)+1),INDEX($AC$5:$AD$24,INT($AF40/2)+1,MOD(COLUMNS($AF$3:AQ$3),2)+1))","v":-7.8183148246802991},{"$f":"IF(OR(MOD($AF40,2)=0,INDEX(relationships,INT($AF40/2)+1,AR$3)<>1),INDEX($AC$5:$AD$24,AR$3,MOD(COLUMNS($AF$3:AR$3),2)+1),INDEX($AC$5:$AD$24,INT($AF40/2)+1,MOD(COLUMNS($AF$3:AR$3),2)+1))","v":6.2348980185873337},{"$f":"IF(OR(MOD($AF40,2)=0,INDEX(relationships,INT($AF40/2)+1,AS$3)<>1),INDEX($AC$5:$AD$24,AS$3,MOD(COLUMNS($AF$3:AS$3),2)+1),INDEX($AC$5:$AD$24,INT($AF40/2)+1,MOD(COLUMNS($AF$3:AS$3),2)+1))","v":-2.45029690981724E-15},{"$f":"IF(OR(MOD($AF40,2)=0,INDEX(relationships,INT($AF40/2)+1,AT$3)<>1),INDEX($AC$5:$AD$24,AT$3,MOD(COLUMNS($AF$3:AT$3),2)+1),INDEX($AC$5:$AD$24,INT($AF40/2)+1,MOD(COLUMNS($AF$3:AT$3),2)+1))","v":10},{"$f":"IF(OR(MOD($AF40,2)=0,INDEX(relationships,INT($AF40/2)+1,AU$3)<>1),INDEX($AC$5:$AD$24,AU$3,MOD(COLUMNS($AF$3:AU$3),2)+1),INDEX($AC$5:$AD$24,INT($AF40/2)+1,MOD(COLUMNS($AF$3:AU$3),2)+1))","v":7.8183148246802956},{"$f":"IF(OR(MOD($AF40,2)=0,INDEX(relationships,INT($AF40/2)+1,AV$3)<>1),INDEX($AC$5:$AD$24,AV$3,MOD(COLUMNS($AF$3:AV$3),2)+1),INDEX($AC$5:$AD$24,INT($AF40/2)+1,MOD(COLUMNS($AF$3:AV$3),2)+1))","v":6.2348980185873373},{"$f":"IF(OR(MOD($AF40,2)=0,INDEX(relationships,INT($AF40/2)+1,AW$3)<>1),INDEX($AC$5:$AD$24,AW$3,MOD(COLUMNS($AF$3:AW$3),2)+1),INDEX($AC$5:$AD$24,INT($AF40/2)+1,MOD(COLUMNS($AF$3:AW$3),2)+1))","v":9.7492791218182369},{"$f":"IF(OR(MOD($AF40,2)=0,INDEX(relationships,INT($AF40/2)+1,AX$3)<>1),INDEX($AC$5:$AD$24,AX$3,MOD(COLUMNS($AF$3:AX$3),2)+1),INDEX($AC$5:$AD$24,INT($AF40/2)+1,MOD(COLUMNS($AF$3:AX$3),2)+1))","v":-2.2252093395631407},{"$f":"IF(OR(MOD($AF40,2)=0,INDEX(relationships,INT($AF40/2)+1,AY$3)<>1),INDEX($AC$5:$AD$24,AY$3,MOD(COLUMNS($AF$3:AY$3),2)+1),INDEX($AC$5:$AD$24,INT($AF40/2)+1,MOD(COLUMNS($AF$3:AY$3),2)+1))","v":4.3388373911755842},{"$f":"IF(OR(MOD($AF40,2)=0,INDEX(relationships,INT($AF40/2)+1,AZ$3)<>1),INDEX($AC$5:$AD$24,AZ$3,MOD(COLUMNS($AF$3:AZ$3),2)+1),INDEX($AC$5:$AD$24,INT($AF40/2)+1,MOD(COLUMNS($AF$3:AZ$3),2)+1))","v":-9.0096886790241886},{"$f":"IF(OR(MOD($AF40,2)=0,INDEX(relationships,INT($AF40/2)+1,BA$3)<>1),INDEX($AC$5:$AD$24,BA$3,MOD(COLUMNS($AF$3:BA$3),2)+1),INDEX($AC$5:$AD$24,INT($AF40/2)+1,MOD(COLUMNS($AF$3:BA$3),2)+1))","v":-4.338837391175578},{"$f":"IF(OR(MOD($AF40,2)=0,INDEX(relationships,INT($AF40/2)+1,BB$3)<>1),INDEX($AC$5:$AD$24,BB$3,MOD(COLUMNS($AF$3:BB$3),2)+1),INDEX($AC$5:$AD$24,INT($AF40/2)+1,MOD(COLUMNS($AF$3:BB$3),2)+1))","v":-9.0096886790241921},{"$f":"IF(OR(MOD($AF40,2)=0,INDEX(relationships,INT($AF40/2)+1,BC$3)<>1),INDEX($AC$5:$AD$24,BC$3,MOD(COLUMNS($AF$3:BC$3),2)+1),INDEX($AC$5:$AD$24,INT($AF40/2)+1,MOD(COLUMNS($AF$3:BC$3),2)+1))","v":-9.7492791218182351},{"$f":"IF(OR(MOD($AF40,2)=0,INDEX(relationships,INT($AF40/2)+1,BD$3)<>1),INDEX($AC$5:$AD$24,BD$3,MOD(COLUMNS($AF$3:BD$3),2)+1),INDEX($AC$5:$AD$24,INT($AF40/2)+1,MOD(COLUMNS($AF$3:BD$3),2)+1))","v":-2.2252093395631483},{"$f":"IF(OR(MOD($AF40,2)=0,INDEX(relationships,INT($AF40/2)+1,BE$3)<>1),INDEX($AC$5:$AD$24,BE$3,MOD(COLUMNS($AF$3:BE$3),2)+1),INDEX($AC$5:$AD$24,INT($AF40/2)+1,MOD(COLUMNS($AF$3:BE$3),2)+1))","v":-7.8183148246803018},{"$f":"IF(OR(MOD($AF40,2)=0,INDEX(relationships,INT($AF40/2)+1,BF$3)<>1),INDEX($AC$5:$AD$24,BF$3,MOD(COLUMNS($AF$3:BF$3),2)+1),INDEX($AC$5:$AD$24,INT($AF40/2)+1,MOD(COLUMNS($AF$3:BF$3),2)+1))","v":6.2348980185873319},{"$f":"IF(OR(MOD($AF40,2)=0,INDEX(relationships,INT($AF40/2)+1,BG$3)<>1),INDEX($AC$5:$AD$24,BG$3,MOD(COLUMNS($AF$3:BG$3),2)+1),INDEX($AC$5:$AD$24,INT($AF40/2)+1,MOD(COLUMNS($AF$3:BG$3),2)+1))","v":-4.90059381963448E-15},{"$f":"IF(OR(MOD($AF40,2)=0,INDEX(relationships,INT($AF40/2)+1,BH$3)<>1),INDEX($AC$5:$AD$24,BH$3,MOD(COLUMNS($AF$3:BH$3),2)+1),INDEX($AC$5:$AD$24,INT($AF40/2)+1,MOD(COLUMNS($AF$3:BH$3),2)+1))","v":10},{"$f":"IF(OR(MOD($AF40,2)=0,INDEX(relationships,INT($AF40/2)+1,BI$3)<>1),INDEX($AC$5:$AD$24,BI$3,MOD(COLUMNS($AF$3:BI$3),2)+1),INDEX($AC$5:$AD$24,INT($AF40/2)+1,MOD(COLUMNS($AF$3:BI$3),2)+1))","v":7.8183148246802947},{"$f":"IF(OR(MOD($AF40,2)=0,INDEX(relationships,INT($AF40/2)+1,BJ$3)<>1),INDEX($AC$5:$AD$24,BJ$3,MOD(COLUMNS($AF$3:BJ$3),2)+1),INDEX($AC$5:$AD$24,INT($AF40/2)+1,MOD(COLUMNS($AF$3:BJ$3),2)+1))","v":6.2348980185873391},{"$f":"IF(OR(MOD($AF40,2)=0,INDEX(relationships,INT($AF40/2)+1,BK$3)<>1),INDEX($AC$5:$AD$24,BK$3,MOD(COLUMNS($AF$3:BK$3),2)+1),INDEX($AC$5:$AD$24,INT($AF40/2)+1,MOD(COLUMNS($AF$3:BK$3),2)+1))","v":9.7492791218182369},{"$f":"IF(OR(MOD($AF40,2)=0,INDEX(relationships,INT($AF40/2)+1,BL$3)<>1),INDEX($AC$5:$AD$24,BL$3,MOD(COLUMNS($AF$3:BL$3),2)+1),INDEX($AC$5:$AD$24,INT($AF40/2)+1,MOD(COLUMNS($AF$3:BL$3),2)+1))","v":-2.2252093395631385},{"$f":"IF(OR(MOD($AF40,2)=0,INDEX(relationships,INT($AF40/2)+1,BM$3)<>1),INDEX($AC$5:$AD$24,BM$3,MOD(COLUMNS($AF$3:BM$3),2)+1),INDEX($AC$5:$AD$24,INT($AF40/2)+1,MOD(COLUMNS($AF$3:BM$3),2)+1))","v":4.3388373911755869},{"$f":"IF(OR(MOD($AF40,2)=0,INDEX(relationships,INT($AF40/2)+1,BN$3)<>1),INDEX($AC$5:$AD$24,BN$3,MOD(COLUMNS($AF$3:BN$3),2)+1),INDEX($AC$5:$AD$24,INT($AF40/2)+1,MOD(COLUMNS($AF$3:BN$3),2)+1))","v":-9.0096886790241886},{"$f":"IF(OR(MOD($AF40,2)=0,INDEX(relationships,INT($AF40/2)+1,BO$3)<>1),INDEX($AC$5:$AD$24,BO$3,MOD(COLUMNS($AF$3:BO$3),2)+1),INDEX($AC$5:$AD$24,INT($AF40/2)+1,MOD(COLUMNS($AF$3:BO$3),2)+1))","v":-4.3388373911755753},{"$f":"IF(OR(MOD($AF40,2)=0,INDEX(relationships,INT($AF40/2)+1,BP$3)<>1),INDEX($AC$5:$AD$24,BP$3,MOD(COLUMNS($AF$3:BP$3),2)+1),INDEX($AC$5:$AD$24,INT($AF40/2)+1,MOD(COLUMNS($AF$3:BP$3),2)+1))","v":-9.0096886790241939},{"$f":"IF(OR(MOD($AF40,2)=0,INDEX(relationships,INT($AF40/2)+1,BQ$3)<>1),INDEX($AC$5:$AD$24,BQ$3,MOD(COLUMNS($AF$3:BQ$3),2)+1),INDEX($AC$5:$AD$24,INT($AF40/2)+1,MOD(COLUMNS($AF$3:BQ$3),2)+1))","v":-9.7492791218182351},{"$f":"IF(OR(MOD($AF40,2)=0,INDEX(relationships,INT($AF40/2)+1,BR$3)<>1),INDEX($AC$5:$AD$24,BR$3,MOD(COLUMNS($AF$3:BR$3),2)+1),INDEX($AC$5:$AD$24,INT($AF40/2)+1,MOD(COLUMNS($AF$3:BR$3),2)+1))","v":-2.2252093395631505},{"$f":"IF(OR(MOD($AF40,2)=0,INDEX(relationships,INT($AF40/2)+1,BS$3)<>1),INDEX($AC$5:$AD$24,BS$3,MOD(COLUMNS($AF$3:BS$3),2)+1),INDEX($AC$5:$AD$24,INT($AF40/2)+1,MOD(COLUMNS($AF$3:BS$3),2)+1))","v":-7.8183148246803027},{"$f":"IF(OR(MOD($AF40,2)=0,INDEX(relationships,INT($AF40/2)+1,BT$3)<>1),INDEX($AC$5:$AD$24,BT$3,MOD(COLUMNS($AF$3:BT$3),2)+1),INDEX($AC$5:$AD$24,INT($AF40/2)+1,MOD(COLUMNS($AF$3:BT$3),2)+1))","v":6.2348980185873293},null,{"$f":"IF(OR(MOD($AF40,2)=0,INDEX(relationships,INT($AF40/2)+1,BV$3)<>2),INDEX($AC$5:$AD$24,BV$3,MOD(COLUMNS($BU$3:BV$3),2)+1),INDEX($AC$5:$AD$24,INT($AF40/2)+1,MOD(COLUMNS($BU$3:BV$3),2)+1))","v":7.8183148246802983},{"$f":"IF(OR(MOD($AF40,2)=0,INDEX(relationships,INT($AF40/2)+1,BW$3)<>2),INDEX($AC$5:$AD$24,BW$3,MOD(COLUMNS($BU$3:BW$3),2)+1),INDEX($AC$5:$AD$24,INT($AF40/2)+1,MOD(COLUMNS($BU$3:BW$3),2)+1))","v":6.2348980185873355},{"$f":"IF(OR(MOD($AF40,2)=0,INDEX(relationships,INT($AF40/2)+1,BX$3)<>2),INDEX($AC$5:$AD$24,BX$3,MOD(COLUMNS($BU$3:BX$3),2)+1),INDEX($AC$5:$AD$24,INT($AF40/2)+1,MOD(COLUMNS($BU$3:BX$3),2)+1))","v":9.7492791218182369},{"$f":"IF(OR(MOD($AF40,2)=0,INDEX(relationships,INT($AF40/2)+1,BY$3)<>2),INDEX($AC$5:$AD$24,BY$3,MOD(COLUMNS($BU$3:BY$3),2)+1),INDEX($AC$5:$AD$24,INT($AF40/2)+1,MOD(COLUMNS($BU$3:BY$3),2)+1))","v":-2.2252093395631434},{"$f":"IF(OR(MOD($AF40,2)=0,INDEX(relationships,INT($AF40/2)+1,BZ$3)<>2),INDEX($AC$5:$AD$24,BZ$3,MOD(COLUMNS($BU$3:BZ$3),2)+1),INDEX($AC$5:$AD$24,INT($AF40/2)+1,MOD(COLUMNS($BU$3:BZ$3),2)+1))","v":4.3388373911755824},{"$f":"IF(OR(MOD($AF40,2)=0,INDEX(relationships,INT($AF40/2)+1,CA$3)<>2),INDEX($AC$5:$AD$24,CA$3,MOD(COLUMNS($BU$3:CA$3),2)+1),INDEX($AC$5:$AD$24,INT($AF40/2)+1,MOD(COLUMNS($BU$3:CA$3),2)+1))","v":-9.0096886790241903},{"$f":"IF(OR(MOD($AF40,2)=0,INDEX(relationships,INT($AF40/2)+1,CB$3)<>2),INDEX($AC$5:$AD$24,CB$3,MOD(COLUMNS($BU$3:CB$3),2)+1),INDEX($AC$5:$AD$24,INT($AF40/2)+1,MOD(COLUMNS($BU$3:CB$3),2)+1))","v":-4.3388373911755798},{"$f":"IF(OR(MOD($AF40,2)=0,INDEX(relationships,INT($AF40/2)+1,CC$3)<>2),INDEX($AC$5:$AD$24,CC$3,MOD(COLUMNS($BU$3:CC$3),2)+1),INDEX($AC$5:$AD$24,INT($AF40/2)+1,MOD(COLUMNS($BU$3:CC$3),2)+1))","v":-9.0096886790241921},{"$f":"IF(OR(MOD($AF40,2)=0,INDEX(relationships,INT($AF40/2)+1,CD$3)<>2),INDEX($AC$5:$AD$24,CD$3,MOD(COLUMNS($BU$3:CD$3),2)+1),INDEX($AC$5:$AD$24,INT($AF40/2)+1,MOD(COLUMNS($BU$3:CD$3),2)+1))","v":-9.7492791218182369},{"$f":"IF(OR(MOD($AF40,2)=0,INDEX(relationships,INT($AF40/2)+1,CE$3)<>2),INDEX($AC$5:$AD$24,CE$3,MOD(COLUMNS($BU$3:CE$3),2)+1),INDEX($AC$5:$AD$24,INT($AF40/2)+1,MOD(COLUMNS($BU$3:CE$3),2)+1))","v":-2.225209339563146},{"$f":"IF(OR(MOD($AF40,2)=0,INDEX(relationships,INT($AF40/2)+1,CF$3)<>2),INDEX($AC$5:$AD$24,CF$3,MOD(COLUMNS($BU$3:CF$3),2)+1),INDEX($AC$5:$AD$24,INT($AF40/2)+1,MOD(COLUMNS($BU$3:CF$3),2)+1))","v":-7.8183148246802991},{"$f":"IF(OR(MOD($AF40,2)=0,INDEX(relationships,INT($AF40/2)+1,CG$3)<>2),INDEX($AC$5:$AD$24,CG$3,MOD(COLUMNS($BU$3:CG$3),2)+1),INDEX($AC$5:$AD$24,INT($AF40/2)+1,MOD(COLUMNS($BU$3:CG$3),2)+1))","v":6.2348980185873337},{"$f":"IF(OR(MOD($AF40,2)=0,INDEX(relationships,INT($AF40/2)+1,CH$3)<>2),INDEX($AC$5:$AD$24,CH$3,MOD(COLUMNS($BU$3:CH$3),2)+1),INDEX($AC$5:$AD$24,INT($AF40/2)+1,MOD(COLUMNS($BU$3:CH$3),2)+1))","v":-2.45029690981724E-15},{"$f":"IF(OR(MOD($AF40,2)=0,INDEX(relationships,INT($AF40/2)+1,CI$3)<>2),INDEX($AC$5:$AD$24,CI$3,MOD(COLUMNS($BU$3:CI$3),2)+1),INDEX($AC$5:$AD$24,INT($AF40/2)+1,MOD(COLUMNS($BU$3:CI$3),2)+1))","v":10},{"$f":"IF(OR(MOD($AF40,2)=0,INDEX(relationships,INT($AF40/2)+1,CJ$3)<>2),INDEX($AC$5:$AD$24,CJ$3,MOD(COLUMNS($BU$3:CJ$3),2)+1),INDEX($AC$5:$AD$24,INT($AF40/2)+1,MOD(COLUMNS($BU$3:CJ$3),2)+1))","v":7.8183148246802956},{"$f":"IF(OR(MOD($AF40,2)=0,INDEX(relationships,INT($AF40/2)+1,CK$3)<>2),INDEX($AC$5:$AD$24,CK$3,MOD(COLUMNS($BU$3:CK$3),2)+1),INDEX($AC$5:$AD$24,INT($AF40/2)+1,MOD(COLUMNS($BU$3:CK$3),2)+1))","v":6.2348980185873373},{"$f":"IF(OR(MOD($AF40,2)=0,INDEX(relationships,INT($AF40/2)+1,CL$3)<>2),INDEX($AC$5:$AD$24,CL$3,MOD(COLUMNS($BU$3:CL$3),2)+1),INDEX($AC$5:$AD$24,INT($AF40/2)+1,MOD(COLUMNS($BU$3:CL$3),2)+1))","v":9.7492791218182369},{"$f":"IF(OR(MOD($AF40,2)=0,INDEX(relationships,INT($AF40/2)+1,CM$3)<>2),INDEX($AC$5:$AD$24,CM$3,MOD(COLUMNS($BU$3:CM$3),2)+1),INDEX($AC$5:$AD$24,INT($AF40/2)+1,MOD(COLUMNS($BU$3:CM$3),2)+1))","v":-2.2252093395631407},{"$f":"IF(OR(MOD($AF40,2)=0,INDEX(relationships,INT($AF40/2)+1,CN$3)<>2),INDEX($AC$5:$AD$24,CN$3,MOD(COLUMNS($BU$3:CN$3),2)+1),INDEX($AC$5:$AD$24,INT($AF40/2)+1,MOD(COLUMNS($BU$3:CN$3),2)+1))","v":4.3388373911755842},{"$f":"IF(OR(MOD($AF40,2)=0,INDEX(relationships,INT($AF40/2)+1,CO$3)<>2),INDEX($AC$5:$AD$24,CO$3,MOD(COLUMNS($BU$3:CO$3),2)+1),INDEX($AC$5:$AD$24,INT($AF40/2)+1,MOD(COLUMNS($BU$3:CO$3),2)+1))","v":-9.0096886790241886},{"$f":"IF(OR(MOD($AF40,2)=0,INDEX(relationships,INT($AF40/2)+1,CP$3)<>2),INDEX($AC$5:$AD$24,CP$3,MOD(COLUMNS($BU$3:CP$3),2)+1),INDEX($AC$5:$AD$24,INT($AF40/2)+1,MOD(COLUMNS($BU$3:CP$3),2)+1))","v":-4.338837391175578},{"$f":"IF(OR(MOD($AF40,2)=0,INDEX(relationships,INT($AF40/2)+1,CQ$3)<>2),INDEX($AC$5:$AD$24,CQ$3,MOD(COLUMNS($BU$3:CQ$3),2)+1),INDEX($AC$5:$AD$24,INT($AF40/2)+1,MOD(COLUMNS($BU$3:CQ$3),2)+1))","v":-9.0096886790241921},{"$f":"IF(OR(MOD($AF40,2)=0,INDEX(relationships,INT($AF40/2)+1,CR$3)<>2),INDEX($AC$5:$AD$24,CR$3,MOD(COLUMNS($BU$3:CR$3),2)+1),INDEX($AC$5:$AD$24,INT($AF40/2)+1,MOD(COLUMNS($BU$3:CR$3),2)+1))","v":-9.7492791218182351},{"$f":"IF(OR(MOD($AF40,2)=0,INDEX(relationships,INT($AF40/2)+1,CS$3)<>2),INDEX($AC$5:$AD$24,CS$3,MOD(COLUMNS($BU$3:CS$3),2)+1),INDEX($AC$5:$AD$24,INT($AF40/2)+1,MOD(COLUMNS($BU$3:CS$3),2)+1))","v":-2.2252093395631483},{"$f":"IF(OR(MOD($AF40,2)=0,INDEX(relationships,INT($AF40/2)+1,CT$3)<>2),INDEX($AC$5:$AD$24,CT$3,MOD(COLUMNS($BU$3:CT$3),2)+1),INDEX($AC$5:$AD$24,INT($AF40/2)+1,MOD(COLUMNS($BU$3:CT$3),2)+1))","v":-7.8183148246803018},{"$f":"IF(OR(MOD($AF40,2)=0,INDEX(relationships,INT($AF40/2)+1,CU$3)<>2),INDEX($AC$5:$AD$24,CU$3,MOD(COLUMNS($BU$3:CU$3),2)+1),INDEX($AC$5:$AD$24,INT($AF40/2)+1,MOD(COLUMNS($BU$3:CU$3),2)+1))","v":6.2348980185873319},{"$f":"IF(OR(MOD($AF40,2)=0,INDEX(relationships,INT($AF40/2)+1,CV$3)<>2),INDEX($AC$5:$AD$24,CV$3,MOD(COLUMNS($BU$3:CV$3),2)+1),INDEX($AC$5:$AD$24,INT($AF40/2)+1,MOD(COLUMNS($BU$3:CV$3),2)+1))","v":-4.90059381963448E-15},{"$f":"IF(OR(MOD($AF40,2)=0,INDEX(relationships,INT($AF40/2)+1,CW$3)<>2),INDEX($AC$5:$AD$24,CW$3,MOD(COLUMNS($BU$3:CW$3),2)+1),INDEX($AC$5:$AD$24,INT($AF40/2)+1,MOD(COLUMNS($BU$3:CW$3),2)+1))","v":10},{"$f":"IF(OR(MOD($AF40,2)=0,INDEX(relationships,INT($AF40/2)+1,CX$3)<>2),INDEX($AC$5:$AD$24,CX$3,MOD(COLUMNS($BU$3:CX$3),2)+1),INDEX($AC$5:$AD$24,INT($AF40/2)+1,MOD(COLUMNS($BU$3:CX$3),2)+1))","v":7.8183148246802947},{"$f":"IF(OR(MOD($AF40,2)=0,INDEX(relationships,INT($AF40/2)+1,CY$3)<>2),INDEX($AC$5:$AD$24,CY$3,MOD(COLUMNS($BU$3:CY$3),2)+1),INDEX($AC$5:$AD$24,INT($AF40/2)+1,MOD(COLUMNS($BU$3:CY$3),2)+1))","v":6.2348980185873391},{"$f":"IF(OR(MOD($AF40,2)=0,INDEX(relationships,INT($AF40/2)+1,CZ$3)<>2),INDEX($AC$5:$AD$24,CZ$3,MOD(COLUMNS($BU$3:CZ$3),2)+1),INDEX($AC$5:$AD$24,INT($AF40/2)+1,MOD(COLUMNS($BU$3:CZ$3),2)+1))","v":9.7492791218182369},{"$f":"IF(OR(MOD($AF40,2)=0,INDEX(relationships,INT($AF40/2)+1,DA$3)<>2),INDEX($AC$5:$AD$24,DA$3,MOD(COLUMNS($BU$3:DA$3),2)+1),INDEX($AC$5:$AD$24,INT($AF40/2)+1,MOD(COLUMNS($BU$3:DA$3),2)+1))","v":-2.2252093395631385},{"$f":"IF(OR(MOD($AF40,2)=0,INDEX(relationships,INT($AF40/2)+1,DB$3)<>2),INDEX($AC$5:$AD$24,DB$3,MOD(COLUMNS($BU$3:DB$3),2)+1),INDEX($AC$5:$AD$24,INT($AF40/2)+1,MOD(COLUMNS($BU$3:DB$3),2)+1))","v":4.3388373911755869},{"$f":"IF(OR(MOD($AF40,2)=0,INDEX(relationships,INT($AF40/2)+1,DC$3)<>2),INDEX($AC$5:$AD$24,DC$3,MOD(COLUMNS($BU$3:DC$3),2)+1),INDEX($AC$5:$AD$24,INT($AF40/2)+1,MOD(COLUMNS($BU$3:DC$3),2)+1))","v":-9.0096886790241886},{"$f":"IF(OR(MOD($AF40,2)=0,INDEX(relationships,INT($AF40/2)+1,DD$3)<>2),INDEX($AC$5:$AD$24,DD$3,MOD(COLUMNS($BU$3:DD$3),2)+1),INDEX($AC$5:$AD$24,INT($AF40/2)+1,MOD(COLUMNS($BU$3:DD$3),2)+1))","v":-4.3388373911755753},{"$f":"IF(OR(MOD($AF40,2)=0,INDEX(relationships,INT($AF40/2)+1,DE$3)<>2),INDEX($AC$5:$AD$24,DE$3,MOD(COLUMNS($BU$3:DE$3),2)+1),INDEX($AC$5:$AD$24,INT($AF40/2)+1,MOD(COLUMNS($BU$3:DE$3),2)+1))","v":-9.0096886790241939},{"$f":"IF(OR(MOD($AF40,2)=0,INDEX(relationships,INT($AF40/2)+1,DF$3)<>2),INDEX($AC$5:$AD$24,DF$3,MOD(COLUMNS($BU$3:DF$3),2)+1),INDEX($AC$5:$AD$24,INT($AF40/2)+1,MOD(COLUMNS($BU$3:DF$3),2)+1))","v":-9.7492791218182351},{"$f":"IF(OR(MOD($AF40,2)=0,INDEX(relationships,INT($AF40/2)+1,DG$3)<>2),INDEX($AC$5:$AD$24,DG$3,MOD(COLUMNS($BU$3:DG$3),2)+1),INDEX($AC$5:$AD$24,INT($AF40/2)+1,MOD(COLUMNS($BU$3:DG$3),2)+1))","v":-2.2252093395631505},{"$f":"IF(OR(MOD($AF40,2)=0,INDEX(relationships,INT($AF40/2)+1,DH$3)<>2),INDEX($AC$5:$AD$24,DH$3,MOD(COLUMNS($BU$3:DH$3),2)+1),INDEX($AC$5:$AD$24,INT($AF40/2)+1,MOD(COLUMNS($BU$3:DH$3),2)+1))","v":-7.8183148246803027},{"$f":"IF(OR(MOD($AF40,2)=0,INDEX(relationships,INT($AF40/2)+1,DI$3)<>2),INDEX($AC$5:$AD$24,DI$3,MOD(COLUMNS($BU$3:DI$3),2)+1),INDEX($AC$5:$AD$24,INT($AF40/2)+1,MOD(COLUMNS($BU$3:DI$3),2)+1))","v":6.2348980185873293},null,-2.45029690981724E-15,10,-2.45029690981724E-15,10]
[null,0,{"$f":"MAX(C17,INDEX(rawData,COLUMNS($C$28:C$28),ROWS($B$29:$B41)))","v":0},{"$f":"MAX(D17,INDEX(rawData,COLUMNS($C$28:D$28),ROWS($B$29:$B41)))","v":0},{"$f":"MAX(E17,INDEX(rawData,COLUMNS($C$28:E$28),ROWS($B$29:$B41)))","v":0},{"$f":"MAX(F17,INDEX(rawData,COLUMNS($C$28:F$28),ROWS($B$29:$B41)))","v":0},{"$f":"MAX(G17,INDEX(rawData,COLUMNS($C$28:G$28),ROWS($B$29:$B41)))","v":0},{"$f":"MAX(H17,INDEX(rawData,COLUMNS($C$28:H$28),ROWS($B$29:$B41)))","v":0},{"$f":"MAX(I17,INDEX(rawData,COLUMNS($C$28:I$28),ROWS($B$29:$B41)))","v":0},{"$f":"MAX(J17,INDEX(rawData,COLUMNS($C$28:J$28),ROWS($B$29:$B41)))","v":0},{"$f":"MAX(K17,INDEX(rawData,COLUMNS($C$28:K$28),ROWS($B$29:$B41)))","v":0},{"$f":"MAX(L17,INDEX(rawData,COLUMNS($C$28:L$28),ROWS($B$29:$B41)))","v":0},{"$f":"MAX(M17,INDEX(rawData,COLUMNS($C$28:M$28),ROWS($B$29:$B41)))","v":0},{"$f":"MAX(N17,INDEX(rawData,COLUMNS($C$28:N$28),ROWS($B$29:$B41)))","v":0},{"$f":"MAX(O17,INDEX(rawData,COLUMNS($C$28:O$28),ROWS($B$29:$B41)))","v":0},{"$f":"MAX(P17,INDEX(rawData,COLUMNS($C$28:P$28),ROWS($B$29:$B41)))","v":0},{"$f":"MAX(Q17,INDEX(rawData,COLUMNS($C$28:Q$28),ROWS($B$29:$B41)))","v":0},{"$f":"MAX(R17,INDEX(rawData,COLUMNS($C$28:R$28),ROWS($B$29:$B41)))","v":0},{"$f":"MAX(S17,INDEX(rawData,COLUMNS($C$28:S$28),ROWS($B$29:$B41)))","v":0},{"$f":"MAX(T17,INDEX(rawData,COLUMNS($C$28:T$28),ROWS($B$29:$B41)))","v":0},{"$f":"MAX(U17,INDEX(rawData,COLUMNS($C$28:U$28),ROWS($B$29:$B41)))","v":0},{"$f":"MAX(V17,INDEX(rawData,COLUMNS($C$28:V$28),ROWS($B$29:$B41)))","v":0},null,null,null,null,null,null,null,null,null,36,{"$f":"IF(OR(MOD($AF41,2)=0,INDEX(relationships,INT($AF41/2)+1,AG$3)<>1),INDEX($AC$5:$AD$24,AG$3,MOD(COLUMNS($AF$3:AG$3),2)+1),INDEX($AC$5:$AD$24,INT($AF41/2)+1,MOD(COLUMNS($AF$3:AG$3),2)+1))","v":7.8183148246802983},{"$f":"IF(OR(MOD($AF41,2)=0,INDEX(relationships,INT($AF41/2)+1,AH$3)<>1),INDEX($AC$5:$AD$24,AH$3,MOD(COLUMNS($AF$3:AH$3),2)+1),INDEX($AC$5:$AD$24,INT($AF41/2)+1,MOD(COLUMNS($AF$3:AH$3),2)+1))","v":6.2348980185873355},{"$f":"IF(OR(MOD($AF41,2)=0,INDEX(relationships,INT($AF41/2)+1,AI$3)<>1),INDEX($AC$5:$AD$24,AI$3,MOD(COLUMNS($AF$3:AI$3),2)+1),INDEX($AC$5:$AD$24,INT($AF41/2)+1,MOD(COLUMNS($AF$3:AI$3),2)+1))","v":9.7492791218182369},{"$f":"IF(OR(MOD($AF41,2)=0,INDEX(relationships,INT($AF41/2)+1,AJ$3)<>1),INDEX($AC$5:$AD$24,AJ$3,MOD(COLUMNS($AF$3:AJ$3),2)+1),INDEX($AC$5:$AD$24,INT($AF41/2)+1,MOD(COLUMNS($AF$3:AJ$3),2)+1))","v":-2.2252093395631434},{"$f":"IF(OR(MOD($AF41,2)=0,INDEX(relationships,INT($AF41/2)+1,AK$3)<>1),INDEX($AC$5:$AD$24,AK$3,MOD(COLUMNS($AF$3:AK$3),2)+1),INDEX($AC$5:$AD$24,INT($AF41/2)+1,MOD(COLUMNS($AF$3:AK$3),2)+1))","v":4.3388373911755824},{"$f":"IF(OR(MOD($AF41,2)=0,INDEX(relationships,INT($AF41/2)+1,AL$3)<>1),INDEX($AC$5:$AD$24,AL$3,MOD(COLUMNS($AF$3:AL$3),2)+1),INDEX($AC$5:$AD$24,INT($AF41/2)+1,MOD(COLUMNS($AF$3:AL$3),2)+1))","v":-9.0096886790241903},{"$f":"IF(OR(MOD($AF41,2)=0,INDEX(relationships,INT($AF41/2)+1,AM$3)<>1),INDEX($AC$5:$AD$24,AM$3,MOD(COLUMNS($AF$3:AM$3),2)+1),INDEX($AC$5:$AD$24,INT($AF41/2)+1,MOD(COLUMNS($AF$3:AM$3),2)+1))","v":-4.3388373911755798},{"$f":"IF(OR(MOD($AF41,2)=0,INDEX(relationships,INT($AF41/2)+1,AN$3)<>1),INDEX($AC$5:$AD$24,AN$3,MOD(COLUMNS($AF$3:AN$3),2)+1),INDEX($AC$5:$AD$24,INT($AF41/2)+1,MOD(COLUMNS($AF$3:AN$3),2)+1))","v":-9.0096886790241921},{"$f":"IF(OR(MOD($AF41,2)=0,INDEX(relationships,INT($AF41/2)+1,AO$3)<>1),INDEX($AC$5:$AD$24,AO$3,MOD(COLUMNS($AF$3:AO$3),2)+1),INDEX($AC$5:$AD$24,INT($AF41/2)+1,MOD(COLUMNS($AF$3:AO$3),2)+1))","v":-9.7492791218182369},{"$f":"IF(OR(MOD($AF41,2)=0,INDEX(relationships,INT($AF41/2)+1,AP$3)<>1),INDEX($AC$5:$AD$24,AP$3,MOD(COLUMNS($AF$3:AP$3),2)+1),INDEX($AC$5:$AD$24,INT($AF41/2)+1,MOD(COLUMNS($AF$3:AP$3),2)+1))","v":-2.225209339563146},{"$f":"IF(OR(MOD($AF41,2)=0,INDEX(relationships,INT($AF41/2)+1,AQ$3)<>1),INDEX($AC$5:$AD$24,AQ$3,MOD(COLUMNS($AF$3:AQ$3),2)+1),INDEX($AC$5:$AD$24,INT($AF41/2)+1,MOD(COLUMNS($AF$3:AQ$3),2)+1))","v":-7.8183148246802991},{"$f":"IF(OR(MOD($AF41,2)=0,INDEX(relationships,INT($AF41/2)+1,AR$3)<>1),INDEX($AC$5:$AD$24,AR$3,MOD(COLUMNS($AF$3:AR$3),2)+1),INDEX($AC$5:$AD$24,INT($AF41/2)+1,MOD(COLUMNS($AF$3:AR$3),2)+1))","v":6.2348980185873337},{"$f":"IF(OR(MOD($AF41,2)=0,INDEX(relationships,INT($AF41/2)+1,AS$3)<>1),INDEX($AC$5:$AD$24,AS$3,MOD(COLUMNS($AF$3:AS$3),2)+1),INDEX($AC$5:$AD$24,INT($AF41/2)+1,MOD(COLUMNS($AF$3:AS$3),2)+1))","v":-2.45029690981724E-15},{"$f":"IF(OR(MOD($AF41,2)=0,INDEX(relationships,INT($AF41/2)+1,AT$3)<>1),INDEX($AC$5:$AD$24,AT$3,MOD(COLUMNS($AF$3:AT$3),2)+1),INDEX($AC$5:$AD$24,INT($AF41/2)+1,MOD(COLUMNS($AF$3:AT$3),2)+1))","v":10},{"$f":"IF(OR(MOD($AF41,2)=0,INDEX(relationships,INT($AF41/2)+1,AU$3)<>1),INDEX($AC$5:$AD$24,AU$3,MOD(COLUMNS($AF$3:AU$3),2)+1),INDEX($AC$5:$AD$24,INT($AF41/2)+1,MOD(COLUMNS($AF$3:AU$3),2)+1))","v":7.8183148246802956},{"$f":"IF(OR(MOD($AF41,2)=0,INDEX(relationships,INT($AF41/2)+1,AV$3)<>1),INDEX($AC$5:$AD$24,AV$3,MOD(COLUMNS($AF$3:AV$3),2)+1),INDEX($AC$5:$AD$24,INT($AF41/2)+1,MOD(COLUMNS($AF$3:AV$3),2)+1))","v":6.2348980185873373},{"$f":"IF(OR(MOD($AF41,2)=0,INDEX(relationships,INT($AF41/2)+1,AW$3)<>1),INDEX($AC$5:$AD$24,AW$3,MOD(COLUMNS($AF$3:AW$3),2)+1),INDEX($AC$5:$AD$24,INT($AF41/2)+1,MOD(COLUMNS($AF$3:AW$3),2)+1))","v":9.7492791218182369},{"$f":"IF(OR(MOD($AF41,2)=0,INDEX(relationships,INT($AF41/2)+1,AX$3)<>1),INDEX($AC$5:$AD$24,AX$3,MOD(COLUMNS($AF$3:AX$3),2)+1),INDEX($AC$5:$AD$24,INT($AF41/2)+1,MOD(COLUMNS($AF$3:AX$3),2)+1))","v":-2.2252093395631407},{"$f":"IF(OR(MOD($AF41,2)=0,INDEX(relationships,INT($AF41/2)+1,AY$3)<>1),INDEX($AC$5:$AD$24,AY$3,MOD(COLUMNS($AF$3:AY$3),2)+1),INDEX($AC$5:$AD$24,INT($AF41/2)+1,MOD(COLUMNS($AF$3:AY$3),2)+1))","v":4.3388373911755842},{"$f":"IF(OR(MOD($AF41,2)=0,INDEX(relationships,INT($AF41/2)+1,AZ$3)<>1),INDEX($AC$5:$AD$24,AZ$3,MOD(COLUMNS($AF$3:AZ$3),2)+1),INDEX($AC$5:$AD$24,INT($AF41/2)+1,MOD(COLUMNS($AF$3:AZ$3),2)+1))","v":-9.0096886790241886},{"$f":"IF(OR(MOD($AF41,2)=0,INDEX(relationships,INT($AF41/2)+1,BA$3)<>1),INDEX($AC$5:$AD$24,BA$3,MOD(COLUMNS($AF$3:BA$3),2)+1),INDEX($AC$5:$AD$24,INT($AF41/2)+1,MOD(COLUMNS($AF$3:BA$3),2)+1))","v":-4.338837391175578},{"$f":"IF(OR(MOD($AF41,2)=0,INDEX(relationships,INT($AF41/2)+1,BB$3)<>1),INDEX($AC$5:$AD$24,BB$3,MOD(COLUMNS($AF$3:BB$3),2)+1),INDEX($AC$5:$AD$24,INT($AF41/2)+1,MOD(COLUMNS($AF$3:BB$3),2)+1))","v":-9.0096886790241921},{"$f":"IF(OR(MOD($AF41,2)=0,INDEX(relationships,INT($AF41/2)+1,BC$3)<>1),INDEX($AC$5:$AD$24,BC$3,MOD(COLUMNS($AF$3:BC$3),2)+1),INDEX($AC$5:$AD$24,INT($AF41/2)+1,MOD(COLUMNS($AF$3:BC$3),2)+1))","v":-9.7492791218182351},{"$f":"IF(OR(MOD($AF41,2)=0,INDEX(relationships,INT($AF41/2)+1,BD$3)<>1),INDEX($AC$5:$AD$24,BD$3,MOD(COLUMNS($AF$3:BD$3),2)+1),INDEX($AC$5:$AD$24,INT($AF41/2)+1,MOD(COLUMNS($AF$3:BD$3),2)+1))","v":-2.2252093395631483},{"$f":"IF(OR(MOD($AF41,2)=0,INDEX(relationships,INT($AF41/2)+1,BE$3)<>1),INDEX($AC$5:$AD$24,BE$3,MOD(COLUMNS($AF$3:BE$3),2)+1),INDEX($AC$5:$AD$24,INT($AF41/2)+1,MOD(COLUMNS($AF$3:BE$3),2)+1))","v":-7.8183148246803018},{"$f":"IF(OR(MOD($AF41,2)=0,INDEX(relationships,INT($AF41/2)+1,BF$3)<>1),INDEX($AC$5:$AD$24,BF$3,MOD(COLUMNS($AF$3:BF$3),2)+1),INDEX($AC$5:$AD$24,INT($AF41/2)+1,MOD(COLUMNS($AF$3:BF$3),2)+1))","v":6.2348980185873319},{"$f":"IF(OR(MOD($AF41,2)=0,INDEX(relationships,INT($AF41/2)+1,BG$3)<>1),INDEX($AC$5:$AD$24,BG$3,MOD(COLUMNS($AF$3:BG$3),2)+1),INDEX($AC$5:$AD$24,INT($AF41/2)+1,MOD(COLUMNS($AF$3:BG$3),2)+1))","v":-4.90059381963448E-15},{"$f":"IF(OR(MOD($AF41,2)=0,INDEX(relationships,INT($AF41/2)+1,BH$3)<>1),INDEX($AC$5:$AD$24,BH$3,MOD(COLUMNS($AF$3:BH$3),2)+1),INDEX($AC$5:$AD$24,INT($AF41/2)+1,MOD(COLUMNS($AF$3:BH$3),2)+1))","v":10},{"$f":"IF(OR(MOD($AF41,2)=0,INDEX(relationships,INT($AF41/2)+1,BI$3)<>1),INDEX($AC$5:$AD$24,BI$3,MOD(COLUMNS($AF$3:BI$3),2)+1),INDEX($AC$5:$AD$24,INT($AF41/2)+1,MOD(COLUMNS($AF$3:BI$3),2)+1))","v":7.8183148246802947},{"$f":"IF(OR(MOD($AF41,2)=0,INDEX(relationships,INT($AF41/2)+1,BJ$3)<>1),INDEX($AC$5:$AD$24,BJ$3,MOD(COLUMNS($AF$3:BJ$3),2)+1),INDEX($AC$5:$AD$24,INT($AF41/2)+1,MOD(COLUMNS($AF$3:BJ$3),2)+1))","v":6.2348980185873391},{"$f":"IF(OR(MOD($AF41,2)=0,INDEX(relationships,INT($AF41/2)+1,BK$3)<>1),INDEX($AC$5:$AD$24,BK$3,MOD(COLUMNS($AF$3:BK$3),2)+1),INDEX($AC$5:$AD$24,INT($AF41/2)+1,MOD(COLUMNS($AF$3:BK$3),2)+1))","v":9.7492791218182369},{"$f":"IF(OR(MOD($AF41,2)=0,INDEX(relationships,INT($AF41/2)+1,BL$3)<>1),INDEX($AC$5:$AD$24,BL$3,MOD(COLUMNS($AF$3:BL$3),2)+1),INDEX($AC$5:$AD$24,INT($AF41/2)+1,MOD(COLUMNS($AF$3:BL$3),2)+1))","v":-2.2252093395631385},{"$f":"IF(OR(MOD($AF41,2)=0,INDEX(relationships,INT($AF41/2)+1,BM$3)<>1),INDEX($AC$5:$AD$24,BM$3,MOD(COLUMNS($AF$3:BM$3),2)+1),INDEX($AC$5:$AD$24,INT($AF41/2)+1,MOD(COLUMNS($AF$3:BM$3),2)+1))","v":4.3388373911755869},{"$f":"IF(OR(MOD($AF41,2)=0,INDEX(relationships,INT($AF41/2)+1,BN$3)<>1),INDEX($AC$5:$AD$24,BN$3,MOD(COLUMNS($AF$3:BN$3),2)+1),INDEX($AC$5:$AD$24,INT($AF41/2)+1,MOD(COLUMNS($AF$3:BN$3),2)+1))","v":-9.0096886790241886},{"$f":"IF(OR(MOD($AF41,2)=0,INDEX(relationships,INT($AF41/2)+1,BO$3)<>1),INDEX($AC$5:$AD$24,BO$3,MOD(COLUMNS($AF$3:BO$3),2)+1),INDEX($AC$5:$AD$24,INT($AF41/2)+1,MOD(COLUMNS($AF$3:BO$3),2)+1))","v":-4.3388373911755753},{"$f":"IF(OR(MOD($AF41,2)=0,INDEX(relationships,INT($AF41/2)+1,BP$3)<>1),INDEX($AC$5:$AD$24,BP$3,MOD(COLUMNS($AF$3:BP$3),2)+1),INDEX($AC$5:$AD$24,INT($AF41/2)+1,MOD(COLUMNS($AF$3:BP$3),2)+1))","v":-9.0096886790241939},{"$f":"IF(OR(MOD($AF41,2)=0,INDEX(relationships,INT($AF41/2)+1,BQ$3)<>1),INDEX($AC$5:$AD$24,BQ$3,MOD(COLUMNS($AF$3:BQ$3),2)+1),INDEX($AC$5:$AD$24,INT($AF41/2)+1,MOD(COLUMNS($AF$3:BQ$3),2)+1))","v":-9.7492791218182351},{"$f":"IF(OR(MOD($AF41,2)=0,INDEX(relationships,INT($AF41/2)+1,BR$3)<>1),INDEX($AC$5:$AD$24,BR$3,MOD(COLUMNS($AF$3:BR$3),2)+1),INDEX($AC$5:$AD$24,INT($AF41/2)+1,MOD(COLUMNS($AF$3:BR$3),2)+1))","v":-2.2252093395631505},{"$f":"IF(OR(MOD($AF41,2)=0,INDEX(relationships,INT($AF41/2)+1,BS$3)<>1),INDEX($AC$5:$AD$24,BS$3,MOD(COLUMNS($AF$3:BS$3),2)+1),INDEX($AC$5:$AD$24,INT($AF41/2)+1,MOD(COLUMNS($AF$3:BS$3),2)+1))","v":-7.8183148246803027},{"$f":"IF(OR(MOD($AF41,2)=0,INDEX(relationships,INT($AF41/2)+1,BT$3)<>1),INDEX($AC$5:$AD$24,BT$3,MOD(COLUMNS($AF$3:BT$3),2)+1),INDEX($AC$5:$AD$24,INT($AF41/2)+1,MOD(COLUMNS($AF$3:BT$3),2)+1))","v":6.2348980185873293},null,{"$f":"IF(OR(MOD($AF41,2)=0,INDEX(relationships,INT($AF41/2)+1,BV$3)<>2),INDEX($AC$5:$AD$24,BV$3,MOD(COLUMNS($BU$3:BV$3),2)+1),INDEX($AC$5:$AD$24,INT($AF41/2)+1,MOD(COLUMNS($BU$3:BV$3),2)+1))","v":7.8183148246802983},{"$f":"IF(OR(MOD($AF41,2)=0,INDEX(relationships,INT($AF41/2)+1,BW$3)<>2),INDEX($AC$5:$AD$24,BW$3,MOD(COLUMNS($BU$3:BW$3),2)+1),INDEX($AC$5:$AD$24,INT($AF41/2)+1,MOD(COLUMNS($BU$3:BW$3),2)+1))","v":6.2348980185873355},{"$f":"IF(OR(MOD($AF41,2)=0,INDEX(relationships,INT($AF41/2)+1,BX$3)<>2),INDEX($AC$5:$AD$24,BX$3,MOD(COLUMNS($BU$3:BX$3),2)+1),INDEX($AC$5:$AD$24,INT($AF41/2)+1,MOD(COLUMNS($BU$3:BX$3),2)+1))","v":9.7492791218182369},{"$f":"IF(OR(MOD($AF41,2)=0,INDEX(relationships,INT($AF41/2)+1,BY$3)<>2),INDEX($AC$5:$AD$24,BY$3,MOD(COLUMNS($BU$3:BY$3),2)+1),INDEX($AC$5:$AD$24,INT($AF41/2)+1,MOD(COLUMNS($BU$3:BY$3),2)+1))","v":-2.2252093395631434},{"$f":"IF(OR(MOD($AF41,2)=0,INDEX(relationships,INT($AF41/2)+1,BZ$3)<>2),INDEX($AC$5:$AD$24,BZ$3,MOD(COLUMNS($BU$3:BZ$3),2)+1),INDEX($AC$5:$AD$24,INT($AF41/2)+1,MOD(COLUMNS($BU$3:BZ$3),2)+1))","v":4.3388373911755824},{"$f":"IF(OR(MOD($AF41,2)=0,INDEX(relationships,INT($AF41/2)+1,CA$3)<>2),INDEX($AC$5:$AD$24,CA$3,MOD(COLUMNS($BU$3:CA$3),2)+1),INDEX($AC$5:$AD$24,INT($AF41/2)+1,MOD(COLUMNS($BU$3:CA$3),2)+1))","v":-9.0096886790241903},{"$f":"IF(OR(MOD($AF41,2)=0,INDEX(relationships,INT($AF41/2)+1,CB$3)<>2),INDEX($AC$5:$AD$24,CB$3,MOD(COLUMNS($BU$3:CB$3),2)+1),INDEX($AC$5:$AD$24,INT($AF41/2)+1,MOD(COLUMNS($BU$3:CB$3),2)+1))","v":-4.3388373911755798},{"$f":"IF(OR(MOD($AF41,2)=0,INDEX(relationships,INT($AF41/2)+1,CC$3)<>2),INDEX($AC$5:$AD$24,CC$3,MOD(COLUMNS($BU$3:CC$3),2)+1),INDEX($AC$5:$AD$24,INT($AF41/2)+1,MOD(COLUMNS($BU$3:CC$3),2)+1))","v":-9.0096886790241921},{"$f":"IF(OR(MOD($AF41,2)=0,INDEX(relationships,INT($AF41/2)+1,CD$3)<>2),INDEX($AC$5:$AD$24,CD$3,MOD(COLUMNS($BU$3:CD$3),2)+1),INDEX($AC$5:$AD$24,INT($AF41/2)+1,MOD(COLUMNS($BU$3:CD$3),2)+1))","v":-9.7492791218182369},{"$f":"IF(OR(MOD($AF41,2)=0,INDEX(relationships,INT($AF41/2)+1,CE$3)<>2),INDEX($AC$5:$AD$24,CE$3,MOD(COLUMNS($BU$3:CE$3),2)+1),INDEX($AC$5:$AD$24,INT($AF41/2)+1,MOD(COLUMNS($BU$3:CE$3),2)+1))","v":-2.225209339563146},{"$f":"IF(OR(MOD($AF41,2)=0,INDEX(relationships,INT($AF41/2)+1,CF$3)<>2),INDEX($AC$5:$AD$24,CF$3,MOD(COLUMNS($BU$3:CF$3),2)+1),INDEX($AC$5:$AD$24,INT($AF41/2)+1,MOD(COLUMNS($BU$3:CF$3),2)+1))","v":-7.8183148246802991},{"$f":"IF(OR(MOD($AF41,2)=0,INDEX(relationships,INT($AF41/2)+1,CG$3)<>2),INDEX($AC$5:$AD$24,CG$3,MOD(COLUMNS($BU$3:CG$3),2)+1),INDEX($AC$5:$AD$24,INT($AF41/2)+1,MOD(COLUMNS($BU$3:CG$3),2)+1))","v":6.2348980185873337},{"$f":"IF(OR(MOD($AF41,2)=0,INDEX(relationships,INT($AF41/2)+1,CH$3)<>2),INDEX($AC$5:$AD$24,CH$3,MOD(COLUMNS($BU$3:CH$3),2)+1),INDEX($AC$5:$AD$24,INT($AF41/2)+1,MOD(COLUMNS($BU$3:CH$3),2)+1))","v":-2.45029690981724E-15},{"$f":"IF(OR(MOD($AF41,2)=0,INDEX(relationships,INT($AF41/2)+1,CI$3)<>2),INDEX($AC$5:$AD$24,CI$3,MOD(COLUMNS($BU$3:CI$3),2)+1),INDEX($AC$5:$AD$24,INT($AF41/2)+1,MOD(COLUMNS($BU$3:CI$3),2)+1))","v":10},{"$f":"IF(OR(MOD($AF41,2)=0,INDEX(relationships,INT($AF41/2)+1,CJ$3)<>2),INDEX($AC$5:$AD$24,CJ$3,MOD(COLUMNS($BU$3:CJ$3),2)+1),INDEX($AC$5:$AD$24,INT($AF41/2)+1,MOD(COLUMNS($BU$3:CJ$3),2)+1))","v":7.8183148246802956},{"$f":"IF(OR(MOD($AF41,2)=0,INDEX(relationships,INT($AF41/2)+1,CK$3)<>2),INDEX($AC$5:$AD$24,CK$3,MOD(COLUMNS($BU$3:CK$3),2)+1),INDEX($AC$5:$AD$24,INT($AF41/2)+1,MOD(COLUMNS($BU$3:CK$3),2)+1))","v":6.2348980185873373},{"$f":"IF(OR(MOD($AF41,2)=0,INDEX(relationships,INT($AF41/2)+1,CL$3)<>2),INDEX($AC$5:$AD$24,CL$3,MOD(COLUMNS($BU$3:CL$3),2)+1),INDEX($AC$5:$AD$24,INT($AF41/2)+1,MOD(COLUMNS($BU$3:CL$3),2)+1))","v":9.7492791218182369},{"$f":"IF(OR(MOD($AF41,2)=0,INDEX(relationships,INT($AF41/2)+1,CM$3)<>2),INDEX($AC$5:$AD$24,CM$3,MOD(COLUMNS($BU$3:CM$3),2)+1),INDEX($AC$5:$AD$24,INT($AF41/2)+1,MOD(COLUMNS($BU$3:CM$3),2)+1))","v":-2.2252093395631407},{"$f":"IF(OR(MOD($AF41,2)=0,INDEX(relationships,INT($AF41/2)+1,CN$3)<>2),INDEX($AC$5:$AD$24,CN$3,MOD(COLUMNS($BU$3:CN$3),2)+1),INDEX($AC$5:$AD$24,INT($AF41/2)+1,MOD(COLUMNS($BU$3:CN$3),2)+1))","v":4.3388373911755842},{"$f":"IF(OR(MOD($AF41,2)=0,INDEX(relationships,INT($AF41/2)+1,CO$3)<>2),INDEX($AC$5:$AD$24,CO$3,MOD(COLUMNS($BU$3:CO$3),2)+1),INDEX($AC$5:$AD$24,INT($AF41/2)+1,MOD(COLUMNS($BU$3:CO$3),2)+1))","v":-9.0096886790241886},{"$f":"IF(OR(MOD($AF41,2)=0,INDEX(relationships,INT($AF41/2)+1,CP$3)<>2),INDEX($AC$5:$AD$24,CP$3,MOD(COLUMNS($BU$3:CP$3),2)+1),INDEX($AC$5:$AD$24,INT($AF41/2)+1,MOD(COLUMNS($BU$3:CP$3),2)+1))","v":-4.338837391175578},{"$f":"IF(OR(MOD($AF41,2)=0,INDEX(relationships,INT($AF41/2)+1,CQ$3)<>2),INDEX($AC$5:$AD$24,CQ$3,MOD(COLUMNS($BU$3:CQ$3),2)+1),INDEX($AC$5:$AD$24,INT($AF41/2)+1,MOD(COLUMNS($BU$3:CQ$3),2)+1))","v":-9.0096886790241921},{"$f":"IF(OR(MOD($AF41,2)=0,INDEX(relationships,INT($AF41/2)+1,CR$3)<>2),INDEX($AC$5:$AD$24,CR$3,MOD(COLUMNS($BU$3:CR$3),2)+1),INDEX($AC$5:$AD$24,INT($AF41/2)+1,MOD(COLUMNS($BU$3:CR$3),2)+1))","v":-9.7492791218182351},{"$f":"IF(OR(MOD($AF41,2)=0,INDEX(relationships,INT($AF41/2)+1,CS$3)<>2),INDEX($AC$5:$AD$24,CS$3,MOD(COLUMNS($BU$3:CS$3),2)+1),INDEX($AC$5:$AD$24,INT($AF41/2)+1,MOD(COLUMNS($BU$3:CS$3),2)+1))","v":-2.2252093395631483},{"$f":"IF(OR(MOD($AF41,2)=0,INDEX(relationships,INT($AF41/2)+1,CT$3)<>2),INDEX($AC$5:$AD$24,CT$3,MOD(COLUMNS($BU$3:CT$3),2)+1),INDEX($AC$5:$AD$24,INT($AF41/2)+1,MOD(COLUMNS($BU$3:CT$3),2)+1))","v":-7.8183148246803018},{"$f":"IF(OR(MOD($AF41,2)=0,INDEX(relationships,INT($AF41/2)+1,CU$3)<>2),INDEX($AC$5:$AD$24,CU$3,MOD(COLUMNS($BU$3:CU$3),2)+1),INDEX($AC$5:$AD$24,INT($AF41/2)+1,MOD(COLUMNS($BU$3:CU$3),2)+1))","v":6.2348980185873319},{"$f":"IF(OR(MOD($AF41,2)=0,INDEX(relationships,INT($AF41/2)+1,CV$3)<>2),INDEX($AC$5:$AD$24,CV$3,MOD(COLUMNS($BU$3:CV$3),2)+1),INDEX($AC$5:$AD$24,INT($AF41/2)+1,MOD(COLUMNS($BU$3:CV$3),2)+1))","v":-4.90059381963448E-15},{"$f":"IF(OR(MOD($AF41,2)=0,INDEX(relationships,INT($AF41/2)+1,CW$3)<>2),INDEX($AC$5:$AD$24,CW$3,MOD(COLUMNS($BU$3:CW$3),2)+1),INDEX($AC$5:$AD$24,INT($AF41/2)+1,MOD(COLUMNS($BU$3:CW$3),2)+1))","v":10},{"$f":"IF(OR(MOD($AF41,2)=0,INDEX(relationships,INT($AF41/2)+1,CX$3)<>2),INDEX($AC$5:$AD$24,CX$3,MOD(COLUMNS($BU$3:CX$3),2)+1),INDEX($AC$5:$AD$24,INT($AF41/2)+1,MOD(COLUMNS($BU$3:CX$3),2)+1))","v":7.8183148246802947},{"$f":"IF(OR(MOD($AF41,2)=0,INDEX(relationships,INT($AF41/2)+1,CY$3)<>2),INDEX($AC$5:$AD$24,CY$3,MOD(COLUMNS($BU$3:CY$3),2)+1),INDEX($AC$5:$AD$24,INT($AF41/2)+1,MOD(COLUMNS($BU$3:CY$3),2)+1))","v":6.2348980185873391},{"$f":"IF(OR(MOD($AF41,2)=0,INDEX(relationships,INT($AF41/2)+1,CZ$3)<>2),INDEX($AC$5:$AD$24,CZ$3,MOD(COLUMNS($BU$3:CZ$3),2)+1),INDEX($AC$5:$AD$24,INT($AF41/2)+1,MOD(COLUMNS($BU$3:CZ$3),2)+1))","v":9.7492791218182369},{"$f":"IF(OR(MOD($AF41,2)=0,INDEX(relationships,INT($AF41/2)+1,DA$3)<>2),INDEX($AC$5:$AD$24,DA$3,MOD(COLUMNS($BU$3:DA$3),2)+1),INDEX($AC$5:$AD$24,INT($AF41/2)+1,MOD(COLUMNS($BU$3:DA$3),2)+1))","v":-2.2252093395631385},{"$f":"IF(OR(MOD($AF41,2)=0,INDEX(relationships,INT($AF41/2)+1,DB$3)<>2),INDEX($AC$5:$AD$24,DB$3,MOD(COLUMNS($BU$3:DB$3),2)+1),INDEX($AC$5:$AD$24,INT($AF41/2)+1,MOD(COLUMNS($BU$3:DB$3),2)+1))","v":4.3388373911755869},{"$f":"IF(OR(MOD($AF41,2)=0,INDEX(relationships,INT($AF41/2)+1,DC$3)<>2),INDEX($AC$5:$AD$24,DC$3,MOD(COLUMNS($BU$3:DC$3),2)+1),INDEX($AC$5:$AD$24,INT($AF41/2)+1,MOD(COLUMNS($BU$3:DC$3),2)+1))","v":-9.0096886790241886},{"$f":"IF(OR(MOD($AF41,2)=0,INDEX(relationships,INT($AF41/2)+1,DD$3)<>2),INDEX($AC$5:$AD$24,DD$3,MOD(COLUMNS($BU$3:DD$3),2)+1),INDEX($AC$5:$AD$24,INT($AF41/2)+1,MOD(COLUMNS($BU$3:DD$3),2)+1))","v":-4.3388373911755753},{"$f":"IF(OR(MOD($AF41,2)=0,INDEX(relationships,INT($AF41/2)+1,DE$3)<>2),INDEX($AC$5:$AD$24,DE$3,MOD(COLUMNS($BU$3:DE$3),2)+1),INDEX($AC$5:$AD$24,INT($AF41/2)+1,MOD(COLUMNS($BU$3:DE$3),2)+1))","v":-9.0096886790241939},{"$f":"IF(OR(MOD($AF41,2)=0,INDEX(relationships,INT($AF41/2)+1,DF$3)<>2),INDEX($AC$5:$AD$24,DF$3,MOD(COLUMNS($BU$3:DF$3),2)+1),INDEX($AC$5:$AD$24,INT($AF41/2)+1,MOD(COLUMNS($BU$3:DF$3),2)+1))","v":-9.7492791218182351},{"$f":"IF(OR(MOD($AF41,2)=0,INDEX(relationships,INT($AF41/2)+1,DG$3)<>2),INDEX($AC$5:$AD$24,DG$3,MOD(COLUMNS($BU$3:DG$3),2)+1),INDEX($AC$5:$AD$24,INT($AF41/2)+1,MOD(COLUMNS($BU$3:DG$3),2)+1))","v":-2.2252093395631505},{"$f":"IF(OR(MOD($AF41,2)=0,INDEX(relationships,INT($AF41/2)+1,DH$3)<>2),INDEX($AC$5:$AD$24,DH$3,MOD(COLUMNS($BU$3:DH$3),2)+1),INDEX($AC$5:$AD$24,INT($AF41/2)+1,MOD(COLUMNS($BU$3:DH$3),2)+1))","v":-7.8183148246803027},{"$f":"IF(OR(MOD($AF41,2)=0,INDEX(relationships,INT($AF41/2)+1,DI$3)<>2),INDEX($AC$5:$AD$24,DI$3,MOD(COLUMNS($BU$3:DI$3),2)+1),INDEX($AC$5:$AD$24,INT($AF41/2)+1,MOD(COLUMNS($BU$3:DI$3),2)+1))","v":6.2348980185873293},null,-2.45029690981724E-15,10,-2.45029690981724E-15,10]
[null,0,{"$f":"MAX(C18,INDEX(rawData,COLUMNS($C$28:C$28),ROWS($B$29:$B42)))","v":0},{"$f":"MAX(D18,INDEX(rawData,COLUMNS($C$28:D$28),ROWS($B$29:$B42)))","v":0},{"$f":"MAX(E18,INDEX(rawData,COLUMNS($C$28:E$28),ROWS($B$29:$B42)))","v":0},{"$f":"MAX(F18,INDEX(rawData,COLUMNS($C$28:F$28),ROWS($B$29:$B42)))","v":0},{"$f":"MAX(G18,INDEX(rawData,COLUMNS($C$28:G$28),ROWS($B$29:$B42)))","v":0},{"$f":"MAX(H18,INDEX(rawData,COLUMNS($C$28:H$28),ROWS($B$29:$B42)))","v":0},{"$f":"MAX(I18,INDEX(rawData,COLUMNS($C$28:I$28),ROWS($B$29:$B42)))","v":0},{"$f":"MAX(J18,INDEX(rawData,COLUMNS($C$28:J$28),ROWS($B$29:$B42)))","v":0},{"$f":"MAX(K18,INDEX(rawData,COLUMNS($C$28:K$28),ROWS($B$29:$B42)))","v":0},{"$f":"MAX(L18,INDEX(rawData,COLUMNS($C$28:L$28),ROWS($B$29:$B42)))","v":0},{"$f":"MAX(M18,INDEX(rawData,COLUMNS($C$28:M$28),ROWS($B$29:$B42)))","v":0},{"$f":"MAX(N18,INDEX(rawData,COLUMNS($C$28:N$28),ROWS($B$29:$B42)))","v":0},{"$f":"MAX(O18,INDEX(rawData,COLUMNS($C$28:O$28),ROWS($B$29:$B42)))","v":0},{"$f":"MAX(P18,INDEX(rawData,COLUMNS($C$28:P$28),ROWS($B$29:$B42)))","v":0},{"$f":"MAX(Q18,INDEX(rawData,COLUMNS($C$28:Q$28),ROWS($B$29:$B42)))","v":0},{"$f":"MAX(R18,INDEX(rawData,COLUMNS($C$28:R$28),ROWS($B$29:$B42)))","v":0},{"$f":"MAX(S18,INDEX(rawData,COLUMNS($C$28:S$28),ROWS($B$29:$B42)))","v":0},{"$f":"MAX(T18,INDEX(rawData,COLUMNS($C$28:T$28),ROWS($B$29:$B42)))","v":0},{"$f":"MAX(U18,INDEX(rawData,COLUMNS($C$28:U$28),ROWS($B$29:$B42)))","v":0},{"$f":"MAX(V18,INDEX(rawData,COLUMNS($C$28:V$28),ROWS($B$29:$B42)))","v":0},null,null,null,null,null,null,null,null,null,37,{"$f":"IF(OR(MOD($AF42,2)=0,INDEX(relationships,INT($AF42/2)+1,AG$3)<>1),INDEX($AC$5:$AD$24,AG$3,MOD(COLUMNS($AF$3:AG$3),2)+1),INDEX($AC$5:$AD$24,INT($AF42/2)+1,MOD(COLUMNS($AF$3:AG$3),2)+1))","v":7.8183148246802983},{"$f":"IF(OR(MOD($AF42,2)=0,INDEX(relationships,INT($AF42/2)+1,AH$3)<>1),INDEX($AC$5:$AD$24,AH$3,MOD(COLUMNS($AF$3:AH$3),2)+1),INDEX($AC$5:$AD$24,INT($AF42/2)+1,MOD(COLUMNS($AF$3:AH$3),2)+1))","v":6.2348980185873355},{"$f":"IF(OR(MOD($AF42,2)=0,INDEX(relationships,INT($AF42/2)+1,AI$3)<>1),INDEX($AC$5:$AD$24,AI$3,MOD(COLUMNS($AF$3:AI$3),2)+1),INDEX($AC$5:$AD$24,INT($AF42/2)+1,MOD(COLUMNS($AF$3:AI$3),2)+1))","v":9.7492791218182369},{"$f":"IF(OR(MOD($AF42,2)=0,INDEX(relationships,INT($AF42/2)+1,AJ$3)<>1),INDEX($AC$5:$AD$24,AJ$3,MOD(COLUMNS($AF$3:AJ$3),2)+1),INDEX($AC$5:$AD$24,INT($AF42/2)+1,MOD(COLUMNS($AF$3:AJ$3),2)+1))","v":-2.2252093395631434},{"$f":"IF(OR(MOD($AF42,2)=0,INDEX(relationships,INT($AF42/2)+1,AK$3)<>1),INDEX($AC$5:$AD$24,AK$3,MOD(COLUMNS($AF$3:AK$3),2)+1),INDEX($AC$5:$AD$24,INT($AF42/2)+1,MOD(COLUMNS($AF$3:AK$3),2)+1))","v":4.3388373911755824},{"$f":"IF(OR(MOD($AF42,2)=0,INDEX(relationships,INT($AF42/2)+1,AL$3)<>1),INDEX($AC$5:$AD$24,AL$3,MOD(COLUMNS($AF$3:AL$3),2)+1),INDEX($AC$5:$AD$24,INT($AF42/2)+1,MOD(COLUMNS($AF$3:AL$3),2)+1))","v":-9.0096886790241903},{"$f":"IF(OR(MOD($AF42,2)=0,INDEX(relationships,INT($AF42/2)+1,AM$3)<>1),INDEX($AC$5:$AD$24,AM$3,MOD(COLUMNS($AF$3:AM$3),2)+1),INDEX($AC$5:$AD$24,INT($AF42/2)+1,MOD(COLUMNS($AF$3:AM$3),2)+1))","v":-4.3388373911755798},{"$f":"IF(OR(MOD($AF42,2)=0,INDEX(relationships,INT($AF42/2)+1,AN$3)<>1),INDEX($AC$5:$AD$24,AN$3,MOD(COLUMNS($AF$3:AN$3),2)+1),INDEX($AC$5:$AD$24,INT($AF42/2)+1,MOD(COLUMNS($AF$3:AN$3),2)+1))","v":-9.0096886790241921},{"$f":"IF(OR(MOD($AF42,2)=0,INDEX(relationships,INT($AF42/2)+1,AO$3)<>1),INDEX($AC$5:$AD$24,AO$3,MOD(COLUMNS($AF$3:AO$3),2)+1),INDEX($AC$5:$AD$24,INT($AF42/2)+1,MOD(COLUMNS($AF$3:AO$3),2)+1))","v":-9.7492791218182369},{"$f":"IF(OR(MOD($AF42,2)=0,INDEX(relationships,INT($AF42/2)+1,AP$3)<>1),INDEX($AC$5:$AD$24,AP$3,MOD(COLUMNS($AF$3:AP$3),2)+1),INDEX($AC$5:$AD$24,INT($AF42/2)+1,MOD(COLUMNS($AF$3:AP$3),2)+1))","v":-2.225209339563146},{"$f":"IF(OR(MOD($AF42,2)=0,INDEX(relationships,INT($AF42/2)+1,AQ$3)<>1),INDEX($AC$5:$AD$24,AQ$3,MOD(COLUMNS($AF$3:AQ$3),2)+1),INDEX($AC$5:$AD$24,INT($AF42/2)+1,MOD(COLUMNS($AF$3:AQ$3),2)+1))","v":-7.8183148246802991},{"$f":"IF(OR(MOD($AF42,2)=0,INDEX(relationships,INT($AF42/2)+1,AR$3)<>1),INDEX($AC$5:$AD$24,AR$3,MOD(COLUMNS($AF$3:AR$3),2)+1),INDEX($AC$5:$AD$24,INT($AF42/2)+1,MOD(COLUMNS($AF$3:AR$3),2)+1))","v":6.2348980185873337},{"$f":"IF(OR(MOD($AF42,2)=0,INDEX(relationships,INT($AF42/2)+1,AS$3)<>1),INDEX($AC$5:$AD$24,AS$3,MOD(COLUMNS($AF$3:AS$3),2)+1),INDEX($AC$5:$AD$24,INT($AF42/2)+1,MOD(COLUMNS($AF$3:AS$3),2)+1))","v":-2.45029690981724E-15},{"$f":"IF(OR(MOD($AF42,2)=0,INDEX(relationships,INT($AF42/2)+1,AT$3)<>1),INDEX($AC$5:$AD$24,AT$3,MOD(COLUMNS($AF$3:AT$3),2)+1),INDEX($AC$5:$AD$24,INT($AF42/2)+1,MOD(COLUMNS($AF$3:AT$3),2)+1))","v":10},{"$f":"IF(OR(MOD($AF42,2)=0,INDEX(relationships,INT($AF42/2)+1,AU$3)<>1),INDEX($AC$5:$AD$24,AU$3,MOD(COLUMNS($AF$3:AU$3),2)+1),INDEX($AC$5:$AD$24,INT($AF42/2)+1,MOD(COLUMNS($AF$3:AU$3),2)+1))","v":7.8183148246802956},{"$f":"IF(OR(MOD($AF42,2)=0,INDEX(relationships,INT($AF42/2)+1,AV$3)<>1),INDEX($AC$5:$AD$24,AV$3,MOD(COLUMNS($AF$3:AV$3),2)+1),INDEX($AC$5:$AD$24,INT($AF42/2)+1,MOD(COLUMNS($AF$3:AV$3),2)+1))","v":6.2348980185873373},{"$f":"IF(OR(MOD($AF42,2)=0,INDEX(relationships,INT($AF42/2)+1,AW$3)<>1),INDEX($AC$5:$AD$24,AW$3,MOD(COLUMNS($AF$3:AW$3),2)+1),INDEX($AC$5:$AD$24,INT($AF42/2)+1,MOD(COLUMNS($AF$3:AW$3),2)+1))","v":9.7492791218182369},{"$f":"IF(OR(MOD($AF42,2)=0,INDEX(relationships,INT($AF42/2)+1,AX$3)<>1),INDEX($AC$5:$AD$24,AX$3,MOD(COLUMNS($AF$3:AX$3),2)+1),INDEX($AC$5:$AD$24,INT($AF42/2)+1,MOD(COLUMNS($AF$3:AX$3),2)+1))","v":-2.2252093395631407},{"$f":"IF(OR(MOD($AF42,2)=0,INDEX(relationships,INT($AF42/2)+1,AY$3)<>1),INDEX($AC$5:$AD$24,AY$3,MOD(COLUMNS($AF$3:AY$3),2)+1),INDEX($AC$5:$AD$24,INT($AF42/2)+1,MOD(COLUMNS($AF$3:AY$3),2)+1))","v":4.3388373911755842},{"$f":"IF(OR(MOD($AF42,2)=0,INDEX(relationships,INT($AF42/2)+1,AZ$3)<>1),INDEX($AC$5:$AD$24,AZ$3,MOD(COLUMNS($AF$3:AZ$3),2)+1),INDEX($AC$5:$AD$24,INT($AF42/2)+1,MOD(COLUMNS($AF$3:AZ$3),2)+1))","v":-9.0096886790241886},{"$f":"IF(OR(MOD($AF42,2)=0,INDEX(relationships,INT($AF42/2)+1,BA$3)<>1),INDEX($AC$5:$AD$24,BA$3,MOD(COLUMNS($AF$3:BA$3),2)+1),INDEX($AC$5:$AD$24,INT($AF42/2)+1,MOD(COLUMNS($AF$3:BA$3),2)+1))","v":-4.338837391175578},{"$f":"IF(OR(MOD($AF42,2)=0,INDEX(relationships,INT($AF42/2)+1,BB$3)<>1),INDEX($AC$5:$AD$24,BB$3,MOD(COLUMNS($AF$3:BB$3),2)+1),INDEX($AC$5:$AD$24,INT($AF42/2)+1,MOD(COLUMNS($AF$3:BB$3),2)+1))","v":-9.0096886790241921},{"$f":"IF(OR(MOD($AF42,2)=0,INDEX(relationships,INT($AF42/2)+1,BC$3)<>1),INDEX($AC$5:$AD$24,BC$3,MOD(COLUMNS($AF$3:BC$3),2)+1),INDEX($AC$5:$AD$24,INT($AF42/2)+1,MOD(COLUMNS($AF$3:BC$3),2)+1))","v":-9.7492791218182351},{"$f":"IF(OR(MOD($AF42,2)=0,INDEX(relationships,INT($AF42/2)+1,BD$3)<>1),INDEX($AC$5:$AD$24,BD$3,MOD(COLUMNS($AF$3:BD$3),2)+1),INDEX($AC$5:$AD$24,INT($AF42/2)+1,MOD(COLUMNS($AF$3:BD$3),2)+1))","v":-2.2252093395631483},{"$f":"IF(OR(MOD($AF42,2)=0,INDEX(relationships,INT($AF42/2)+1,BE$3)<>1),INDEX($AC$5:$AD$24,BE$3,MOD(COLUMNS($AF$3:BE$3),2)+1),INDEX($AC$5:$AD$24,INT($AF42/2)+1,MOD(COLUMNS($AF$3:BE$3),2)+1))","v":-7.8183148246803018},{"$f":"IF(OR(MOD($AF42,2)=0,INDEX(relationships,INT($AF42/2)+1,BF$3)<>1),INDEX($AC$5:$AD$24,BF$3,MOD(COLUMNS($AF$3:BF$3),2)+1),INDEX($AC$5:$AD$24,INT($AF42/2)+1,MOD(COLUMNS($AF$3:BF$3),2)+1))","v":6.2348980185873319},{"$f":"IF(OR(MOD($AF42,2)=0,INDEX(relationships,INT($AF42/2)+1,BG$3)<>1),INDEX($AC$5:$AD$24,BG$3,MOD(COLUMNS($AF$3:BG$3),2)+1),INDEX($AC$5:$AD$24,INT($AF42/2)+1,MOD(COLUMNS($AF$3:BG$3),2)+1))","v":-4.90059381963448E-15},{"$f":"IF(OR(MOD($AF42,2)=0,INDEX(relationships,INT($AF42/2)+1,BH$3)<>1),INDEX($AC$5:$AD$24,BH$3,MOD(COLUMNS($AF$3:BH$3),2)+1),INDEX($AC$5:$AD$24,INT($AF42/2)+1,MOD(COLUMNS($AF$3:BH$3),2)+1))","v":10},{"$f":"IF(OR(MOD($AF42,2)=0,INDEX(relationships,INT($AF42/2)+1,BI$3)<>1),INDEX($AC$5:$AD$24,BI$3,MOD(COLUMNS($AF$3:BI$3),2)+1),INDEX($AC$5:$AD$24,INT($AF42/2)+1,MOD(COLUMNS($AF$3:BI$3),2)+1))","v":7.8183148246802947},{"$f":"IF(OR(MOD($AF42,2)=0,INDEX(relationships,INT($AF42/2)+1,BJ$3)<>1),INDEX($AC$5:$AD$24,BJ$3,MOD(COLUMNS($AF$3:BJ$3),2)+1),INDEX($AC$5:$AD$24,INT($AF42/2)+1,MOD(COLUMNS($AF$3:BJ$3),2)+1))","v":6.2348980185873391},{"$f":"IF(OR(MOD($AF42,2)=0,INDEX(relationships,INT($AF42/2)+1,BK$3)<>1),INDEX($AC$5:$AD$24,BK$3,MOD(COLUMNS($AF$3:BK$3),2)+1),INDEX($AC$5:$AD$24,INT($AF42/2)+1,MOD(COLUMNS($AF$3:BK$3),2)+1))","v":9.7492791218182369},{"$f":"IF(OR(MOD($AF42,2)=0,INDEX(relationships,INT($AF42/2)+1,BL$3)<>1),INDEX($AC$5:$AD$24,BL$3,MOD(COLUMNS($AF$3:BL$3),2)+1),INDEX($AC$5:$AD$24,INT($AF42/2)+1,MOD(COLUMNS($AF$3:BL$3),2)+1))","v":-2.2252093395631385},{"$f":"IF(OR(MOD($AF42,2)=0,INDEX(relationships,INT($AF42/2)+1,BM$3)<>1),INDEX($AC$5:$AD$24,BM$3,MOD(COLUMNS($AF$3:BM$3),2)+1),INDEX($AC$5:$AD$24,INT($AF42/2)+1,MOD(COLUMNS($AF$3:BM$3),2)+1))","v":4.3388373911755869},{"$f":"IF(OR(MOD($AF42,2)=0,INDEX(relationships,INT($AF42/2)+1,BN$3)<>1),INDEX($AC$5:$AD$24,BN$3,MOD(COLUMNS($AF$3:BN$3),2)+1),INDEX($AC$5:$AD$24,INT($AF42/2)+1,MOD(COLUMNS($AF$3:BN$3),2)+1))","v":-9.0096886790241886},{"$f":"IF(OR(MOD($AF42,2)=0,INDEX(relationships,INT($AF42/2)+1,BO$3)<>1),INDEX($AC$5:$AD$24,BO$3,MOD(COLUMNS($AF$3:BO$3),2)+1),INDEX($AC$5:$AD$24,INT($AF42/2)+1,MOD(COLUMNS($AF$3:BO$3),2)+1))","v":-4.3388373911755753},{"$f":"IF(OR(MOD($AF42,2)=0,INDEX(relationships,INT($AF42/2)+1,BP$3)<>1),INDEX($AC$5:$AD$24,BP$3,MOD(COLUMNS($AF$3:BP$3),2)+1),INDEX($AC$5:$AD$24,INT($AF42/2)+1,MOD(COLUMNS($AF$3:BP$3),2)+1))","v":-9.0096886790241939},{"$f":"IF(OR(MOD($AF42,2)=0,INDEX(relationships,INT($AF42/2)+1,BQ$3)<>1),INDEX($AC$5:$AD$24,BQ$3,MOD(COLUMNS($AF$3:BQ$3),2)+1),INDEX($AC$5:$AD$24,INT($AF42/2)+1,MOD(COLUMNS($AF$3:BQ$3),2)+1))","v":-9.7492791218182351},{"$f":"IF(OR(MOD($AF42,2)=0,INDEX(relationships,INT($AF42/2)+1,BR$3)<>1),INDEX($AC$5:$AD$24,BR$3,MOD(COLUMNS($AF$3:BR$3),2)+1),INDEX($AC$5:$AD$24,INT($AF42/2)+1,MOD(COLUMNS($AF$3:BR$3),2)+1))","v":-2.2252093395631505},{"$f":"IF(OR(MOD($AF42,2)=0,INDEX(relationships,INT($AF42/2)+1,BS$3)<>1),INDEX($AC$5:$AD$24,BS$3,MOD(COLUMNS($AF$3:BS$3),2)+1),INDEX($AC$5:$AD$24,INT($AF42/2)+1,MOD(COLUMNS($AF$3:BS$3),2)+1))","v":-7.8183148246803027},{"$f":"IF(OR(MOD($AF42,2)=0,INDEX(relationships,INT($AF42/2)+1,BT$3)<>1),INDEX($AC$5:$AD$24,BT$3,MOD(COLUMNS($AF$3:BT$3),2)+1),INDEX($AC$5:$AD$24,INT($AF42/2)+1,MOD(COLUMNS($AF$3:BT$3),2)+1))","v":6.2348980185873293},null,{"$f":"IF(OR(MOD($AF42,2)=0,INDEX(relationships,INT($AF42/2)+1,BV$3)<>2),INDEX($AC$5:$AD$24,BV$3,MOD(COLUMNS($BU$3:BV$3),2)+1),INDEX($AC$5:$AD$24,INT($AF42/2)+1,MOD(COLUMNS($BU$3:BV$3),2)+1))","v":7.8183148246802983},{"$f":"IF(OR(MOD($AF42,2)=0,INDEX(relationships,INT($AF42/2)+1,BW$3)<>2),INDEX($AC$5:$AD$24,BW$3,MOD(COLUMNS($BU$3:BW$3),2)+1),INDEX($AC$5:$AD$24,INT($AF42/2)+1,MOD(COLUMNS($BU$3:BW$3),2)+1))","v":6.2348980185873355},{"$f":"IF(OR(MOD($AF42,2)=0,INDEX(relationships,INT($AF42/2)+1,BX$3)<>2),INDEX($AC$5:$AD$24,BX$3,MOD(COLUMNS($BU$3:BX$3),2)+1),INDEX($AC$5:$AD$24,INT($AF42/2)+1,MOD(COLUMNS($BU$3:BX$3),2)+1))","v":9.7492791218182369},{"$f":"IF(OR(MOD($AF42,2)=0,INDEX(relationships,INT($AF42/2)+1,BY$3)<>2),INDEX($AC$5:$AD$24,BY$3,MOD(COLUMNS($BU$3:BY$3),2)+1),INDEX($AC$5:$AD$24,INT($AF42/2)+1,MOD(COLUMNS($BU$3:BY$3),2)+1))","v":-2.2252093395631434},{"$f":"IF(OR(MOD($AF42,2)=0,INDEX(relationships,INT($AF42/2)+1,BZ$3)<>2),INDEX($AC$5:$AD$24,BZ$3,MOD(COLUMNS($BU$3:BZ$3),2)+1),INDEX($AC$5:$AD$24,INT($AF42/2)+1,MOD(COLUMNS($BU$3:BZ$3),2)+1))","v":4.3388373911755824},{"$f":"IF(OR(MOD($AF42,2)=0,INDEX(relationships,INT($AF42/2)+1,CA$3)<>2),INDEX($AC$5:$AD$24,CA$3,MOD(COLUMNS($BU$3:CA$3),2)+1),INDEX($AC$5:$AD$24,INT($AF42/2)+1,MOD(COLUMNS($BU$3:CA$3),2)+1))","v":-9.0096886790241903},{"$f":"IF(OR(MOD($AF42,2)=0,INDEX(relationships,INT($AF42/2)+1,CB$3)<>2),INDEX($AC$5:$AD$24,CB$3,MOD(COLUMNS($BU$3:CB$3),2)+1),INDEX($AC$5:$AD$24,INT($AF42/2)+1,MOD(COLUMNS($BU$3:CB$3),2)+1))","v":-4.3388373911755798},{"$f":"IF(OR(MOD($AF42,2)=0,INDEX(relationships,INT($AF42/2)+1,CC$3)<>2),INDEX($AC$5:$AD$24,CC$3,MOD(COLUMNS($BU$3:CC$3),2)+1),INDEX($AC$5:$AD$24,INT($AF42/2)+1,MOD(COLUMNS($BU$3:CC$3),2)+1))","v":-9.0096886790241921},{"$f":"IF(OR(MOD($AF42,2)=0,INDEX(relationships,INT($AF42/2)+1,CD$3)<>2),INDEX($AC$5:$AD$24,CD$3,MOD(COLUMNS($BU$3:CD$3),2)+1),INDEX($AC$5:$AD$24,INT($AF42/2)+1,MOD(COLUMNS($BU$3:CD$3),2)+1))","v":-9.7492791218182369},{"$f":"IF(OR(MOD($AF42,2)=0,INDEX(relationships,INT($AF42/2)+1,CE$3)<>2),INDEX($AC$5:$AD$24,CE$3,MOD(COLUMNS($BU$3:CE$3),2)+1),INDEX($AC$5:$AD$24,INT($AF42/2)+1,MOD(COLUMNS($BU$3:CE$3),2)+1))","v":-2.225209339563146},{"$f":"IF(OR(MOD($AF42,2)=0,INDEX(relationships,INT($AF42/2)+1,CF$3)<>2),INDEX($AC$5:$AD$24,CF$3,MOD(COLUMNS($BU$3:CF$3),2)+1),INDEX($AC$5:$AD$24,INT($AF42/2)+1,MOD(COLUMNS($BU$3:CF$3),2)+1))","v":-7.8183148246802991},{"$f":"IF(OR(MOD($AF42,2)=0,INDEX(relationships,INT($AF42/2)+1,CG$3)<>2),INDEX($AC$5:$AD$24,CG$3,MOD(COLUMNS($BU$3:CG$3),2)+1),INDEX($AC$5:$AD$24,INT($AF42/2)+1,MOD(COLUMNS($BU$3:CG$3),2)+1))","v":6.2348980185873337},{"$f":"IF(OR(MOD($AF42,2)=0,INDEX(relationships,INT($AF42/2)+1,CH$3)<>2),INDEX($AC$5:$AD$24,CH$3,MOD(COLUMNS($BU$3:CH$3),2)+1),INDEX($AC$5:$AD$24,INT($AF42/2)+1,MOD(COLUMNS($BU$3:CH$3),2)+1))","v":-2.45029690981724E-15},{"$f":"IF(OR(MOD($AF42,2)=0,INDEX(relationships,INT($AF42/2)+1,CI$3)<>2),INDEX($AC$5:$AD$24,CI$3,MOD(COLUMNS($BU$3:CI$3),2)+1),INDEX($AC$5:$AD$24,INT($AF42/2)+1,MOD(COLUMNS($BU$3:CI$3),2)+1))","v":10},{"$f":"IF(OR(MOD($AF42,2)=0,INDEX(relationships,INT($AF42/2)+1,CJ$3)<>2),INDEX($AC$5:$AD$24,CJ$3,MOD(COLUMNS($BU$3:CJ$3),2)+1),INDEX($AC$5:$AD$24,INT($AF42/2)+1,MOD(COLUMNS($BU$3:CJ$3),2)+1))","v":7.8183148246802956},{"$f":"IF(OR(MOD($AF42,2)=0,INDEX(relationships,INT($AF42/2)+1,CK$3)<>2),INDEX($AC$5:$AD$24,CK$3,MOD(COLUMNS($BU$3:CK$3),2)+1),INDEX($AC$5:$AD$24,INT($AF42/2)+1,MOD(COLUMNS($BU$3:CK$3),2)+1))","v":6.2348980185873373},{"$f":"IF(OR(MOD($AF42,2)=0,INDEX(relationships,INT($AF42/2)+1,CL$3)<>2),INDEX($AC$5:$AD$24,CL$3,MOD(COLUMNS($BU$3:CL$3),2)+1),INDEX($AC$5:$AD$24,INT($AF42/2)+1,MOD(COLUMNS($BU$3:CL$3),2)+1))","v":9.7492791218182369},{"$f":"IF(OR(MOD($AF42,2)=0,INDEX(relationships,INT($AF42/2)+1,CM$3)<>2),INDEX($AC$5:$AD$24,CM$3,MOD(COLUMNS($BU$3:CM$3),2)+1),INDEX($AC$5:$AD$24,INT($AF42/2)+1,MOD(COLUMNS($BU$3:CM$3),2)+1))","v":-2.2252093395631407},{"$f":"IF(OR(MOD($AF42,2)=0,INDEX(relationships,INT($AF42/2)+1,CN$3)<>2),INDEX($AC$5:$AD$24,CN$3,MOD(COLUMNS($BU$3:CN$3),2)+1),INDEX($AC$5:$AD$24,INT($AF42/2)+1,MOD(COLUMNS($BU$3:CN$3),2)+1))","v":4.3388373911755842},{"$f":"IF(OR(MOD($AF42,2)=0,INDEX(relationships,INT($AF42/2)+1,CO$3)<>2),INDEX($AC$5:$AD$24,CO$3,MOD(COLUMNS($BU$3:CO$3),2)+1),INDEX($AC$5:$AD$24,INT($AF42/2)+1,MOD(COLUMNS($BU$3:CO$3),2)+1))","v":-9.0096886790241886},{"$f":"IF(OR(MOD($AF42,2)=0,INDEX(relationships,INT($AF42/2)+1,CP$3)<>2),INDEX($AC$5:$AD$24,CP$3,MOD(COLUMNS($BU$3:CP$3),2)+1),INDEX($AC$5:$AD$24,INT($AF42/2)+1,MOD(COLUMNS($BU$3:CP$3),2)+1))","v":-4.338837391175578},{"$f":"IF(OR(MOD($AF42,2)=0,INDEX(relationships,INT($AF42/2)+1,CQ$3)<>2),INDEX($AC$5:$AD$24,CQ$3,MOD(COLUMNS($BU$3:CQ$3),2)+1),INDEX($AC$5:$AD$24,INT($AF42/2)+1,MOD(COLUMNS($BU$3:CQ$3),2)+1))","v":-9.0096886790241921},{"$f":"IF(OR(MOD($AF42,2)=0,INDEX(relationships,INT($AF42/2)+1,CR$3)<>2),INDEX($AC$5:$AD$24,CR$3,MOD(COLUMNS($BU$3:CR$3),2)+1),INDEX($AC$5:$AD$24,INT($AF42/2)+1,MOD(COLUMNS($BU$3:CR$3),2)+1))","v":-9.7492791218182351},{"$f":"IF(OR(MOD($AF42,2)=0,INDEX(relationships,INT($AF42/2)+1,CS$3)<>2),INDEX($AC$5:$AD$24,CS$3,MOD(COLUMNS($BU$3:CS$3),2)+1),INDEX($AC$5:$AD$24,INT($AF42/2)+1,MOD(COLUMNS($BU$3:CS$3),2)+1))","v":-2.2252093395631483},{"$f":"IF(OR(MOD($AF42,2)=0,INDEX(relationships,INT($AF42/2)+1,CT$3)<>2),INDEX($AC$5:$AD$24,CT$3,MOD(COLUMNS($BU$3:CT$3),2)+1),INDEX($AC$5:$AD$24,INT($AF42/2)+1,MOD(COLUMNS($BU$3:CT$3),2)+1))","v":-7.8183148246803018},{"$f":"IF(OR(MOD($AF42,2)=0,INDEX(relationships,INT($AF42/2)+1,CU$3)<>2),INDEX($AC$5:$AD$24,CU$3,MOD(COLUMNS($BU$3:CU$3),2)+1),INDEX($AC$5:$AD$24,INT($AF42/2)+1,MOD(COLUMNS($BU$3:CU$3),2)+1))","v":6.2348980185873319},{"$f":"IF(OR(MOD($AF42,2)=0,INDEX(relationships,INT($AF42/2)+1,CV$3)<>2),INDEX($AC$5:$AD$24,CV$3,MOD(COLUMNS($BU$3:CV$3),2)+1),INDEX($AC$5:$AD$24,INT($AF42/2)+1,MOD(COLUMNS($BU$3:CV$3),2)+1))","v":-4.90059381963448E-15},{"$f":"IF(OR(MOD($AF42,2)=0,INDEX(relationships,INT($AF42/2)+1,CW$3)<>2),INDEX($AC$5:$AD$24,CW$3,MOD(COLUMNS($BU$3:CW$3),2)+1),INDEX($AC$5:$AD$24,INT($AF42/2)+1,MOD(COLUMNS($BU$3:CW$3),2)+1))","v":10},{"$f":"IF(OR(MOD($AF42,2)=0,INDEX(relationships,INT($AF42/2)+1,CX$3)<>2),INDEX($AC$5:$AD$24,CX$3,MOD(COLUMNS($BU$3:CX$3),2)+1),INDEX($AC$5:$AD$24,INT($AF42/2)+1,MOD(COLUMNS($BU$3:CX$3),2)+1))","v":7.8183148246802947},{"$f":"IF(OR(MOD($AF42,2)=0,INDEX(relationships,INT($AF42/2)+1,CY$3)<>2),INDEX($AC$5:$AD$24,CY$3,MOD(COLUMNS($BU$3:CY$3),2)+1),INDEX($AC$5:$AD$24,INT($AF42/2)+1,MOD(COLUMNS($BU$3:CY$3),2)+1))","v":6.2348980185873391},{"$f":"IF(OR(MOD($AF42,2)=0,INDEX(relationships,INT($AF42/2)+1,CZ$3)<>2),INDEX($AC$5:$AD$24,CZ$3,MOD(COLUMNS($BU$3:CZ$3),2)+1),INDEX($AC$5:$AD$24,INT($AF42/2)+1,MOD(COLUMNS($BU$3:CZ$3),2)+1))","v":9.7492791218182369},{"$f":"IF(OR(MOD($AF42,2)=0,INDEX(relationships,INT($AF42/2)+1,DA$3)<>2),INDEX($AC$5:$AD$24,DA$3,MOD(COLUMNS($BU$3:DA$3),2)+1),INDEX($AC$5:$AD$24,INT($AF42/2)+1,MOD(COLUMNS($BU$3:DA$3),2)+1))","v":-2.2252093395631385},{"$f":"IF(OR(MOD($AF42,2)=0,INDEX(relationships,INT($AF42/2)+1,DB$3)<>2),INDEX($AC$5:$AD$24,DB$3,MOD(COLUMNS($BU$3:DB$3),2)+1),INDEX($AC$5:$AD$24,INT($AF42/2)+1,MOD(COLUMNS($BU$3:DB$3),2)+1))","v":4.3388373911755869},{"$f":"IF(OR(MOD($AF42,2)=0,INDEX(relationships,INT($AF42/2)+1,DC$3)<>2),INDEX($AC$5:$AD$24,DC$3,MOD(COLUMNS($BU$3:DC$3),2)+1),INDEX($AC$5:$AD$24,INT($AF42/2)+1,MOD(COLUMNS($BU$3:DC$3),2)+1))","v":-9.0096886790241886},{"$f":"IF(OR(MOD($AF42,2)=0,INDEX(relationships,INT($AF42/2)+1,DD$3)<>2),INDEX($AC$5:$AD$24,DD$3,MOD(COLUMNS($BU$3:DD$3),2)+1),INDEX($AC$5:$AD$24,INT($AF42/2)+1,MOD(COLUMNS($BU$3:DD$3),2)+1))","v":-4.3388373911755753},{"$f":"IF(OR(MOD($AF42,2)=0,INDEX(relationships,INT($AF42/2)+1,DE$3)<>2),INDEX($AC$5:$AD$24,DE$3,MOD(COLUMNS($BU$3:DE$3),2)+1),INDEX($AC$5:$AD$24,INT($AF42/2)+1,MOD(COLUMNS($BU$3:DE$3),2)+1))","v":-9.0096886790241939},{"$f":"IF(OR(MOD($AF42,2)=0,INDEX(relationships,INT($AF42/2)+1,DF$3)<>2),INDEX($AC$5:$AD$24,DF$3,MOD(COLUMNS($BU$3:DF$3),2)+1),INDEX($AC$5:$AD$24,INT($AF42/2)+1,MOD(COLUMNS($BU$3:DF$3),2)+1))","v":-9.7492791218182351},{"$f":"IF(OR(MOD($AF42,2)=0,INDEX(relationships,INT($AF42/2)+1,DG$3)<>2),INDEX($AC$5:$AD$24,DG$3,MOD(COLUMNS($BU$3:DG$3),2)+1),INDEX($AC$5:$AD$24,INT($AF42/2)+1,MOD(COLUMNS($BU$3:DG$3),2)+1))","v":-2.2252093395631505},{"$f":"IF(OR(MOD($AF42,2)=0,INDEX(relationships,INT($AF42/2)+1,DH$3)<>2),INDEX($AC$5:$AD$24,DH$3,MOD(COLUMNS($BU$3:DH$3),2)+1),INDEX($AC$5:$AD$24,INT($AF42/2)+1,MOD(COLUMNS($BU$3:DH$3),2)+1))","v":-7.8183148246803027},{"$f":"IF(OR(MOD($AF42,2)=0,INDEX(relationships,INT($AF42/2)+1,DI$3)<>2),INDEX($AC$5:$AD$24,DI$3,MOD(COLUMNS($BU$3:DI$3),2)+1),INDEX($AC$5:$AD$24,INT($AF42/2)+1,MOD(COLUMNS($BU$3:DI$3),2)+1))","v":6.2348980185873293},null,-2.45029690981724E-15,10,-2.45029690981724E-15,10]
[null,0,{"$f":"MAX(C19,INDEX(rawData,COLUMNS($C$28:C$28),ROWS($B$29:$B43)))","v":0},{"$f":"MAX(D19,INDEX(rawData,COLUMNS($C$28:D$28),ROWS($B$29:$B43)))","v":0},{"$f":"MAX(E19,INDEX(rawData,COLUMNS($C$28:E$28),ROWS($B$29:$B43)))","v":0},{"$f":"MAX(F19,INDEX(rawData,COLUMNS($C$28:F$28),ROWS($B$29:$B43)))","v":0},{"$f":"MAX(G19,INDEX(rawData,COLUMNS($C$28:G$28),ROWS($B$29:$B43)))","v":0},{"$f":"MAX(H19,INDEX(rawData,COLUMNS($C$28:H$28),ROWS($B$29:$B43)))","v":0},{"$f":"MAX(I19,INDEX(rawData,COLUMNS($C$28:I$28),ROWS($B$29:$B43)))","v":0},{"$f":"MAX(J19,INDEX(rawData,COLUMNS($C$28:J$28),ROWS($B$29:$B43)))","v":0},{"$f":"MAX(K19,INDEX(rawData,COLUMNS($C$28:K$28),ROWS($B$29:$B43)))","v":0},{"$f":"MAX(L19,INDEX(rawData,COLUMNS($C$28:L$28),ROWS($B$29:$B43)))","v":0},{"$f":"MAX(M19,INDEX(rawData,COLUMNS($C$28:M$28),ROWS($B$29:$B43)))","v":0},{"$f":"MAX(N19,INDEX(rawData,COLUMNS($C$28:N$28),ROWS($B$29:$B43)))","v":0},{"$f":"MAX(O19,INDEX(rawData,COLUMNS($C$28:O$28),ROWS($B$29:$B43)))","v":0},{"$f":"MAX(P19,INDEX(rawData,COLUMNS($C$28:P$28),ROWS($B$29:$B43)))","v":0},{"$f":"MAX(Q19,INDEX(rawData,COLUMNS($C$28:Q$28),ROWS($B$29:$B43)))","v":0},{"$f":"MAX(R19,INDEX(rawData,COLUMNS($C$28:R$28),ROWS($B$29:$B43)))","v":0},{"$f":"MAX(S19,INDEX(rawData,COLUMNS($C$28:S$28),ROWS($B$29:$B43)))","v":0},{"$f":"MAX(T19,INDEX(rawData,COLUMNS($C$28:T$28),ROWS($B$29:$B43)))","v":0},{"$f":"MAX(U19,INDEX(rawData,COLUMNS($C$28:U$28),ROWS($B$29:$B43)))","v":0},{"$f":"MAX(V19,INDEX(rawData,COLUMNS($C$28:V$28),ROWS($B$29:$B43)))","v":0},null,null,null,null,null,null,null,null,null,38,{"$f":"IF(OR(MOD($AF43,2)=0,INDEX(relationships,INT($AF43/2)+1,AG$3)<>1),INDEX($AC$5:$AD$24,AG$3,MOD(COLUMNS($AF$3:AG$3),2)+1),INDEX($AC$5:$AD$24,INT($AF43/2)+1,MOD(COLUMNS($AF$3:AG$3),2)+1))","v":7.8183148246802983},{"$f":"IF(OR(MOD($AF43,2)=0,INDEX(relationships,INT($AF43/2)+1,AH$3)<>1),INDEX($AC$5:$AD$24,AH$3,MOD(COLUMNS($AF$3:AH$3),2)+1),INDEX($AC$5:$AD$24,INT($AF43/2)+1,MOD(COLUMNS($AF$3:AH$3),2)+1))","v":6.2348980185873355},{"$f":"IF(OR(MOD($AF43,2)=0,INDEX(relationships,INT($AF43/2)+1,AI$3)<>1),INDEX($AC$5:$AD$24,AI$3,MOD(COLUMNS($AF$3:AI$3),2)+1),INDEX($AC$5:$AD$24,INT($AF43/2)+1,MOD(COLUMNS($AF$3:AI$3),2)+1))","v":9.7492791218182369},{"$f":"IF(OR(MOD($AF43,2)=0,INDEX(relationships,INT($AF43/2)+1,AJ$3)<>1),INDEX($AC$5:$AD$24,AJ$3,MOD(COLUMNS($AF$3:AJ$3),2)+1),INDEX($AC$5:$AD$24,INT($AF43/2)+1,MOD(COLUMNS($AF$3:AJ$3),2)+1))","v":-2.2252093395631434},{"$f":"IF(OR(MOD($AF43,2)=0,INDEX(relationships,INT($AF43/2)+1,AK$3)<>1),INDEX($AC$5:$AD$24,AK$3,MOD(COLUMNS($AF$3:AK$3),2)+1),INDEX($AC$5:$AD$24,INT($AF43/2)+1,MOD(COLUMNS($AF$3:AK$3),2)+1))","v":4.3388373911755824},{"$f":"IF(OR(MOD($AF43,2)=0,INDEX(relationships,INT($AF43/2)+1,AL$3)<>1),INDEX($AC$5:$AD$24,AL$3,MOD(COLUMNS($AF$3:AL$3),2)+1),INDEX($AC$5:$AD$24,INT($AF43/2)+1,MOD(COLUMNS($AF$3:AL$3),2)+1))","v":-9.0096886790241903},{"$f":"IF(OR(MOD($AF43,2)=0,INDEX(relationships,INT($AF43/2)+1,AM$3)<>1),INDEX($AC$5:$AD$24,AM$3,MOD(COLUMNS($AF$3:AM$3),2)+1),INDEX($AC$5:$AD$24,INT($AF43/2)+1,MOD(COLUMNS($AF$3:AM$3),2)+1))","v":-4.3388373911755798},{"$f":"IF(OR(MOD($AF43,2)=0,INDEX(relationships,INT($AF43/2)+1,AN$3)<>1),INDEX($AC$5:$AD$24,AN$3,MOD(COLUMNS($AF$3:AN$3),2)+1),INDEX($AC$5:$AD$24,INT($AF43/2)+1,MOD(COLUMNS($AF$3:AN$3),2)+1))","v":-9.0096886790241921},{"$f":"IF(OR(MOD($AF43,2)=0,INDEX(relationships,INT($AF43/2)+1,AO$3)<>1),INDEX($AC$5:$AD$24,AO$3,MOD(COLUMNS($AF$3:AO$3),2)+1),INDEX($AC$5:$AD$24,INT($AF43/2)+1,MOD(COLUMNS($AF$3:AO$3),2)+1))","v":-9.7492791218182369},{"$f":"IF(OR(MOD($AF43,2)=0,INDEX(relationships,INT($AF43/2)+1,AP$3)<>1),INDEX($AC$5:$AD$24,AP$3,MOD(COLUMNS($AF$3:AP$3),2)+1),INDEX($AC$5:$AD$24,INT($AF43/2)+1,MOD(COLUMNS($AF$3:AP$3),2)+1))","v":-2.225209339563146},{"$f":"IF(OR(MOD($AF43,2)=0,INDEX(relationships,INT($AF43/2)+1,AQ$3)<>1),INDEX($AC$5:$AD$24,AQ$3,MOD(COLUMNS($AF$3:AQ$3),2)+1),INDEX($AC$5:$AD$24,INT($AF43/2)+1,MOD(COLUMNS($AF$3:AQ$3),2)+1))","v":-7.8183148246802991},{"$f":"IF(OR(MOD($AF43,2)=0,INDEX(relationships,INT($AF43/2)+1,AR$3)<>1),INDEX($AC$5:$AD$24,AR$3,MOD(COLUMNS($AF$3:AR$3),2)+1),INDEX($AC$5:$AD$24,INT($AF43/2)+1,MOD(COLUMNS($AF$3:AR$3),2)+1))","v":6.2348980185873337},{"$f":"IF(OR(MOD($AF43,2)=0,INDEX(relationships,INT($AF43/2)+1,AS$3)<>1),INDEX($AC$5:$AD$24,AS$3,MOD(COLUMNS($AF$3:AS$3),2)+1),INDEX($AC$5:$AD$24,INT($AF43/2)+1,MOD(COLUMNS($AF$3:AS$3),2)+1))","v":-2.45029690981724E-15},{"$f":"IF(OR(MOD($AF43,2)=0,INDEX(relationships,INT($AF43/2)+1,AT$3)<>1),INDEX($AC$5:$AD$24,AT$3,MOD(COLUMNS($AF$3:AT$3),2)+1),INDEX($AC$5:$AD$24,INT($AF43/2)+1,MOD(COLUMNS($AF$3:AT$3),2)+1))","v":10},{"$f":"IF(OR(MOD($AF43,2)=0,INDEX(relationships,INT($AF43/2)+1,AU$3)<>1),INDEX($AC$5:$AD$24,AU$3,MOD(COLUMNS($AF$3:AU$3),2)+1),INDEX($AC$5:$AD$24,INT($AF43/2)+1,MOD(COLUMNS($AF$3:AU$3),2)+1))","v":7.8183148246802956},{"$f":"IF(OR(MOD($AF43,2)=0,INDEX(relationships,INT($AF43/2)+1,AV$3)<>1),INDEX($AC$5:$AD$24,AV$3,MOD(COLUMNS($AF$3:AV$3),2)+1),INDEX($AC$5:$AD$24,INT($AF43/2)+1,MOD(COLUMNS($AF$3:AV$3),2)+1))","v":6.2348980185873373},{"$f":"IF(OR(MOD($AF43,2)=0,INDEX(relationships,INT($AF43/2)+1,AW$3)<>1),INDEX($AC$5:$AD$24,AW$3,MOD(COLUMNS($AF$3:AW$3),2)+1),INDEX($AC$5:$AD$24,INT($AF43/2)+1,MOD(COLUMNS($AF$3:AW$3),2)+1))","v":9.7492791218182369},{"$f":"IF(OR(MOD($AF43,2)=0,INDEX(relationships,INT($AF43/2)+1,AX$3)<>1),INDEX($AC$5:$AD$24,AX$3,MOD(COLUMNS($AF$3:AX$3),2)+1),INDEX($AC$5:$AD$24,INT($AF43/2)+1,MOD(COLUMNS($AF$3:AX$3),2)+1))","v":-2.2252093395631407},{"$f":"IF(OR(MOD($AF43,2)=0,INDEX(relationships,INT($AF43/2)+1,AY$3)<>1),INDEX($AC$5:$AD$24,AY$3,MOD(COLUMNS($AF$3:AY$3),2)+1),INDEX($AC$5:$AD$24,INT($AF43/2)+1,MOD(COLUMNS($AF$3:AY$3),2)+1))","v":4.3388373911755842},{"$f":"IF(OR(MOD($AF43,2)=0,INDEX(relationships,INT($AF43/2)+1,AZ$3)<>1),INDEX($AC$5:$AD$24,AZ$3,MOD(COLUMNS($AF$3:AZ$3),2)+1),INDEX($AC$5:$AD$24,INT($AF43/2)+1,MOD(COLUMNS($AF$3:AZ$3),2)+1))","v":-9.0096886790241886},{"$f":"IF(OR(MOD($AF43,2)=0,INDEX(relationships,INT($AF43/2)+1,BA$3)<>1),INDEX($AC$5:$AD$24,BA$3,MOD(COLUMNS($AF$3:BA$3),2)+1),INDEX($AC$5:$AD$24,INT($AF43/2)+1,MOD(COLUMNS($AF$3:BA$3),2)+1))","v":-4.338837391175578},{"$f":"IF(OR(MOD($AF43,2)=0,INDEX(relationships,INT($AF43/2)+1,BB$3)<>1),INDEX($AC$5:$AD$24,BB$3,MOD(COLUMNS($AF$3:BB$3),2)+1),INDEX($AC$5:$AD$24,INT($AF43/2)+1,MOD(COLUMNS($AF$3:BB$3),2)+1))","v":-9.0096886790241921},{"$f":"IF(OR(MOD($AF43,2)=0,INDEX(relationships,INT($AF43/2)+1,BC$3)<>1),INDEX($AC$5:$AD$24,BC$3,MOD(COLUMNS($AF$3:BC$3),2)+1),INDEX($AC$5:$AD$24,INT($AF43/2)+1,MOD(COLUMNS($AF$3:BC$3),2)+1))","v":-9.7492791218182351},{"$f":"IF(OR(MOD($AF43,2)=0,INDEX(relationships,INT($AF43/2)+1,BD$3)<>1),INDEX($AC$5:$AD$24,BD$3,MOD(COLUMNS($AF$3:BD$3),2)+1),INDEX($AC$5:$AD$24,INT($AF43/2)+1,MOD(COLUMNS($AF$3:BD$3),2)+1))","v":-2.2252093395631483},{"$f":"IF(OR(MOD($AF43,2)=0,INDEX(relationships,INT($AF43/2)+1,BE$3)<>1),INDEX($AC$5:$AD$24,BE$3,MOD(COLUMNS($AF$3:BE$3),2)+1),INDEX($AC$5:$AD$24,INT($AF43/2)+1,MOD(COLUMNS($AF$3:BE$3),2)+1))","v":-7.8183148246803018},{"$f":"IF(OR(MOD($AF43,2)=0,INDEX(relationships,INT($AF43/2)+1,BF$3)<>1),INDEX($AC$5:$AD$24,BF$3,MOD(COLUMNS($AF$3:BF$3),2)+1),INDEX($AC$5:$AD$24,INT($AF43/2)+1,MOD(COLUMNS($AF$3:BF$3),2)+1))","v":6.2348980185873319},{"$f":"IF(OR(MOD($AF43,2)=0,INDEX(relationships,INT($AF43/2)+1,BG$3)<>1),INDEX($AC$5:$AD$24,BG$3,MOD(COLUMNS($AF$3:BG$3),2)+1),INDEX($AC$5:$AD$24,INT($AF43/2)+1,MOD(COLUMNS($AF$3:BG$3),2)+1))","v":-4.90059381963448E-15},{"$f":"IF(OR(MOD($AF43,2)=0,INDEX(relationships,INT($AF43/2)+1,BH$3)<>1),INDEX($AC$5:$AD$24,BH$3,MOD(COLUMNS($AF$3:BH$3),2)+1),INDEX($AC$5:$AD$24,INT($AF43/2)+1,MOD(COLUMNS($AF$3:BH$3),2)+1))","v":10},{"$f":"IF(OR(MOD($AF43,2)=0,INDEX(relationships,INT($AF43/2)+1,BI$3)<>1),INDEX($AC$5:$AD$24,BI$3,MOD(COLUMNS($AF$3:BI$3),2)+1),INDEX($AC$5:$AD$24,INT($AF43/2)+1,MOD(COLUMNS($AF$3:BI$3),2)+1))","v":7.8183148246802947},{"$f":"IF(OR(MOD($AF43,2)=0,INDEX(relationships,INT($AF43/2)+1,BJ$3)<>1),INDEX($AC$5:$AD$24,BJ$3,MOD(COLUMNS($AF$3:BJ$3),2)+1),INDEX($AC$5:$AD$24,INT($AF43/2)+1,MOD(COLUMNS($AF$3:BJ$3),2)+1))","v":6.2348980185873391},{"$f":"IF(OR(MOD($AF43,2)=0,INDEX(relationships,INT($AF43/2)+1,BK$3)<>1),INDEX($AC$5:$AD$24,BK$3,MOD(COLUMNS($AF$3:BK$3),2)+1),INDEX($AC$5:$AD$24,INT($AF43/2)+1,MOD(COLUMNS($AF$3:BK$3),2)+1))","v":9.7492791218182369},{"$f":"IF(OR(MOD($AF43,2)=0,INDEX(relationships,INT($AF43/2)+1,BL$3)<>1),INDEX($AC$5:$AD$24,BL$3,MOD(COLUMNS($AF$3:BL$3),2)+1),INDEX($AC$5:$AD$24,INT($AF43/2)+1,MOD(COLUMNS($AF$3:BL$3),2)+1))","v":-2.2252093395631385},{"$f":"IF(OR(MOD($AF43,2)=0,INDEX(relationships,INT($AF43/2)+1,BM$3)<>1),INDEX($AC$5:$AD$24,BM$3,MOD(COLUMNS($AF$3:BM$3),2)+1),INDEX($AC$5:$AD$24,INT($AF43/2)+1,MOD(COLUMNS($AF$3:BM$3),2)+1))","v":4.3388373911755869},{"$f":"IF(OR(MOD($AF43,2)=0,INDEX(relationships,INT($AF43/2)+1,BN$3)<>1),INDEX($AC$5:$AD$24,BN$3,MOD(COLUMNS($AF$3:BN$3),2)+1),INDEX($AC$5:$AD$24,INT($AF43/2)+1,MOD(COLUMNS($AF$3:BN$3),2)+1))","v":-9.0096886790241886},{"$f":"IF(OR(MOD($AF43,2)=0,INDEX(relationships,INT($AF43/2)+1,BO$3)<>1),INDEX($AC$5:$AD$24,BO$3,MOD(COLUMNS($AF$3:BO$3),2)+1),INDEX($AC$5:$AD$24,INT($AF43/2)+1,MOD(COLUMNS($AF$3:BO$3),2)+1))","v":-4.3388373911755753},{"$f":"IF(OR(MOD($AF43,2)=0,INDEX(relationships,INT($AF43/2)+1,BP$3)<>1),INDEX($AC$5:$AD$24,BP$3,MOD(COLUMNS($AF$3:BP$3),2)+1),INDEX($AC$5:$AD$24,INT($AF43/2)+1,MOD(COLUMNS($AF$3:BP$3),2)+1))","v":-9.0096886790241939},{"$f":"IF(OR(MOD($AF43,2)=0,INDEX(relationships,INT($AF43/2)+1,BQ$3)<>1),INDEX($AC$5:$AD$24,BQ$3,MOD(COLUMNS($AF$3:BQ$3),2)+1),INDEX($AC$5:$AD$24,INT($AF43/2)+1,MOD(COLUMNS($AF$3:BQ$3),2)+1))","v":-9.7492791218182351},{"$f":"IF(OR(MOD($AF43,2)=0,INDEX(relationships,INT($AF43/2)+1,BR$3)<>1),INDEX($AC$5:$AD$24,BR$3,MOD(COLUMNS($AF$3:BR$3),2)+1),INDEX($AC$5:$AD$24,INT($AF43/2)+1,MOD(COLUMNS($AF$3:BR$3),2)+1))","v":-2.2252093395631505},{"$f":"IF(OR(MOD($AF43,2)=0,INDEX(relationships,INT($AF43/2)+1,BS$3)<>1),INDEX($AC$5:$AD$24,BS$3,MOD(COLUMNS($AF$3:BS$3),2)+1),INDEX($AC$5:$AD$24,INT($AF43/2)+1,MOD(COLUMNS($AF$3:BS$3),2)+1))","v":-7.8183148246803027},{"$f":"IF(OR(MOD($AF43,2)=0,INDEX(relationships,INT($AF43/2)+1,BT$3)<>1),INDEX($AC$5:$AD$24,BT$3,MOD(COLUMNS($AF$3:BT$3),2)+1),INDEX($AC$5:$AD$24,INT($AF43/2)+1,MOD(COLUMNS($AF$3:BT$3),2)+1))","v":6.2348980185873293},null,{"$f":"IF(OR(MOD($AF43,2)=0,INDEX(relationships,INT($AF43/2)+1,BV$3)<>2),INDEX($AC$5:$AD$24,BV$3,MOD(COLUMNS($BU$3:BV$3),2)+1),INDEX($AC$5:$AD$24,INT($AF43/2)+1,MOD(COLUMNS($BU$3:BV$3),2)+1))","v":7.8183148246802983},{"$f":"IF(OR(MOD($AF43,2)=0,INDEX(relationships,INT($AF43/2)+1,BW$3)<>2),INDEX($AC$5:$AD$24,BW$3,MOD(COLUMNS($BU$3:BW$3),2)+1),INDEX($AC$5:$AD$24,INT($AF43/2)+1,MOD(COLUMNS($BU$3:BW$3),2)+1))","v":6.2348980185873355},{"$f":"IF(OR(MOD($AF43,2)=0,INDEX(relationships,INT($AF43/2)+1,BX$3)<>2),INDEX($AC$5:$AD$24,BX$3,MOD(COLUMNS($BU$3:BX$3),2)+1),INDEX($AC$5:$AD$24,INT($AF43/2)+1,MOD(COLUMNS($BU$3:BX$3),2)+1))","v":9.7492791218182369},{"$f":"IF(OR(MOD($AF43,2)=0,INDEX(relationships,INT($AF43/2)+1,BY$3)<>2),INDEX($AC$5:$AD$24,BY$3,MOD(COLUMNS($BU$3:BY$3),2)+1),INDEX($AC$5:$AD$24,INT($AF43/2)+1,MOD(COLUMNS($BU$3:BY$3),2)+1))","v":-2.2252093395631434},{"$f":"IF(OR(MOD($AF43,2)=0,INDEX(relationships,INT($AF43/2)+1,BZ$3)<>2),INDEX($AC$5:$AD$24,BZ$3,MOD(COLUMNS($BU$3:BZ$3),2)+1),INDEX($AC$5:$AD$24,INT($AF43/2)+1,MOD(COLUMNS($BU$3:BZ$3),2)+1))","v":4.3388373911755824},{"$f":"IF(OR(MOD($AF43,2)=0,INDEX(relationships,INT($AF43/2)+1,CA$3)<>2),INDEX($AC$5:$AD$24,CA$3,MOD(COLUMNS($BU$3:CA$3),2)+1),INDEX($AC$5:$AD$24,INT($AF43/2)+1,MOD(COLUMNS($BU$3:CA$3),2)+1))","v":-9.0096886790241903},{"$f":"IF(OR(MOD($AF43,2)=0,INDEX(relationships,INT($AF43/2)+1,CB$3)<>2),INDEX($AC$5:$AD$24,CB$3,MOD(COLUMNS($BU$3:CB$3),2)+1),INDEX($AC$5:$AD$24,INT($AF43/2)+1,MOD(COLUMNS($BU$3:CB$3),2)+1))","v":-4.3388373911755798},{"$f":"IF(OR(MOD($AF43,2)=0,INDEX(relationships,INT($AF43/2)+1,CC$3)<>2),INDEX($AC$5:$AD$24,CC$3,MOD(COLUMNS($BU$3:CC$3),2)+1),INDEX($AC$5:$AD$24,INT($AF43/2)+1,MOD(COLUMNS($BU$3:CC$3),2)+1))","v":-9.0096886790241921},{"$f":"IF(OR(MOD($AF43,2)=0,INDEX(relationships,INT($AF43/2)+1,CD$3)<>2),INDEX($AC$5:$AD$24,CD$3,MOD(COLUMNS($BU$3:CD$3),2)+1),INDEX($AC$5:$AD$24,INT($AF43/2)+1,MOD(COLUMNS($BU$3:CD$3),2)+1))","v":-9.7492791218182369},{"$f":"IF(OR(MOD($AF43,2)=0,INDEX(relationships,INT($AF43/2)+1,CE$3)<>2),INDEX($AC$5:$AD$24,CE$3,MOD(COLUMNS($BU$3:CE$3),2)+1),INDEX($AC$5:$AD$24,INT($AF43/2)+1,MOD(COLUMNS($BU$3:CE$3),2)+1))","v":-2.225209339563146},{"$f":"IF(OR(MOD($AF43,2)=0,INDEX(relationships,INT($AF43/2)+1,CF$3)<>2),INDEX($AC$5:$AD$24,CF$3,MOD(COLUMNS($BU$3:CF$3),2)+1),INDEX($AC$5:$AD$24,INT($AF43/2)+1,MOD(COLUMNS($BU$3:CF$3),2)+1))","v":-7.8183148246802991},{"$f":"IF(OR(MOD($AF43,2)=0,INDEX(relationships,INT($AF43/2)+1,CG$3)<>2),INDEX($AC$5:$AD$24,CG$3,MOD(COLUMNS($BU$3:CG$3),2)+1),INDEX($AC$5:$AD$24,INT($AF43/2)+1,MOD(COLUMNS($BU$3:CG$3),2)+1))","v":6.2348980185873337},{"$f":"IF(OR(MOD($AF43,2)=0,INDEX(relationships,INT($AF43/2)+1,CH$3)<>2),INDEX($AC$5:$AD$24,CH$3,MOD(COLUMNS($BU$3:CH$3),2)+1),INDEX($AC$5:$AD$24,INT($AF43/2)+1,MOD(COLUMNS($BU$3:CH$3),2)+1))","v":-2.45029690981724E-15},{"$f":"IF(OR(MOD($AF43,2)=0,INDEX(relationships,INT($AF43/2)+1,CI$3)<>2),INDEX($AC$5:$AD$24,CI$3,MOD(COLUMNS($BU$3:CI$3),2)+1),INDEX($AC$5:$AD$24,INT($AF43/2)+1,MOD(COLUMNS($BU$3:CI$3),2)+1))","v":10},{"$f":"IF(OR(MOD($AF43,2)=0,INDEX(relationships,INT($AF43/2)+1,CJ$3)<>2),INDEX($AC$5:$AD$24,CJ$3,MOD(COLUMNS($BU$3:CJ$3),2)+1),INDEX($AC$5:$AD$24,INT($AF43/2)+1,MOD(COLUMNS($BU$3:CJ$3),2)+1))","v":7.8183148246802956},{"$f":"IF(OR(MOD($AF43,2)=0,INDEX(relationships,INT($AF43/2)+1,CK$3)<>2),INDEX($AC$5:$AD$24,CK$3,MOD(COLUMNS($BU$3:CK$3),2)+1),INDEX($AC$5:$AD$24,INT($AF43/2)+1,MOD(COLUMNS($BU$3:CK$3),2)+1))","v":6.2348980185873373},{"$f":"IF(OR(MOD($AF43,2)=0,INDEX(relationships,INT($AF43/2)+1,CL$3)<>2),INDEX($AC$5:$AD$24,CL$3,MOD(COLUMNS($BU$3:CL$3),2)+1),INDEX($AC$5:$AD$24,INT($AF43/2)+1,MOD(COLUMNS($BU$3:CL$3),2)+1))","v":9.7492791218182369},{"$f":"IF(OR(MOD($AF43,2)=0,INDEX(relationships,INT($AF43/2)+1,CM$3)<>2),INDEX($AC$5:$AD$24,CM$3,MOD(COLUMNS($BU$3:CM$3),2)+1),INDEX($AC$5:$AD$24,INT($AF43/2)+1,MOD(COLUMNS($BU$3:CM$3),2)+1))","v":-2.2252093395631407},{"$f":"IF(OR(MOD($AF43,2)=0,INDEX(relationships,INT($AF43/2)+1,CN$3)<>2),INDEX($AC$5:$AD$24,CN$3,MOD(COLUMNS($BU$3:CN$3),2)+1),INDEX($AC$5:$AD$24,INT($AF43/2)+1,MOD(COLUMNS($BU$3:CN$3),2)+1))","v":4.3388373911755842},{"$f":"IF(OR(MOD($AF43,2)=0,INDEX(relationships,INT($AF43/2)+1,CO$3)<>2),INDEX($AC$5:$AD$24,CO$3,MOD(COLUMNS($BU$3:CO$3),2)+1),INDEX($AC$5:$AD$24,INT($AF43/2)+1,MOD(COLUMNS($BU$3:CO$3),2)+1))","v":-9.0096886790241886},{"$f":"IF(OR(MOD($AF43,2)=0,INDEX(relationships,INT($AF43/2)+1,CP$3)<>2),INDEX($AC$5:$AD$24,CP$3,MOD(COLUMNS($BU$3:CP$3),2)+1),INDEX($AC$5:$AD$24,INT($AF43/2)+1,MOD(COLUMNS($BU$3:CP$3),2)+1))","v":-4.338837391175578},{"$f":"IF(OR(MOD($AF43,2)=0,INDEX(relationships,INT($AF43/2)+1,CQ$3)<>2),INDEX($AC$5:$AD$24,CQ$3,MOD(COLUMNS($BU$3:CQ$3),2)+1),INDEX($AC$5:$AD$24,INT($AF43/2)+1,MOD(COLUMNS($BU$3:CQ$3),2)+1))","v":-9.0096886790241921},{"$f":"IF(OR(MOD($AF43,2)=0,INDEX(relationships,INT($AF43/2)+1,CR$3)<>2),INDEX($AC$5:$AD$24,CR$3,MOD(COLUMNS($BU$3:CR$3),2)+1),INDEX($AC$5:$AD$24,INT($AF43/2)+1,MOD(COLUMNS($BU$3:CR$3),2)+1))","v":-9.7492791218182351},{"$f":"IF(OR(MOD($AF43,2)=0,INDEX(relationships,INT($AF43/2)+1,CS$3)<>2),INDEX($AC$5:$AD$24,CS$3,MOD(COLUMNS($BU$3:CS$3),2)+1),INDEX($AC$5:$AD$24,INT($AF43/2)+1,MOD(COLUMNS($BU$3:CS$3),2)+1))","v":-2.2252093395631483},{"$f":"IF(OR(MOD($AF43,2)=0,INDEX(relationships,INT($AF43/2)+1,CT$3)<>2),INDEX($AC$5:$AD$24,CT$3,MOD(COLUMNS($BU$3:CT$3),2)+1),INDEX($AC$5:$AD$24,INT($AF43/2)+1,MOD(COLUMNS($BU$3:CT$3),2)+1))","v":-7.8183148246803018},{"$f":"IF(OR(MOD($AF43,2)=0,INDEX(relationships,INT($AF43/2)+1,CU$3)<>2),INDEX($AC$5:$AD$24,CU$3,MOD(COLUMNS($BU$3:CU$3),2)+1),INDEX($AC$5:$AD$24,INT($AF43/2)+1,MOD(COLUMNS($BU$3:CU$3),2)+1))","v":6.2348980185873319},{"$f":"IF(OR(MOD($AF43,2)=0,INDEX(relationships,INT($AF43/2)+1,CV$3)<>2),INDEX($AC$5:$AD$24,CV$3,MOD(COLUMNS($BU$3:CV$3),2)+1),INDEX($AC$5:$AD$24,INT($AF43/2)+1,MOD(COLUMNS($BU$3:CV$3),2)+1))","v":-4.90059381963448E-15},{"$f":"IF(OR(MOD($AF43,2)=0,INDEX(relationships,INT($AF43/2)+1,CW$3)<>2),INDEX($AC$5:$AD$24,CW$3,MOD(COLUMNS($BU$3:CW$3),2)+1),INDEX($AC$5:$AD$24,INT($AF43/2)+1,MOD(COLUMNS($BU$3:CW$3),2)+1))","v":10},{"$f":"IF(OR(MOD($AF43,2)=0,INDEX(relationships,INT($AF43/2)+1,CX$3)<>2),INDEX($AC$5:$AD$24,CX$3,MOD(COLUMNS($BU$3:CX$3),2)+1),INDEX($AC$5:$AD$24,INT($AF43/2)+1,MOD(COLUMNS($BU$3:CX$3),2)+1))","v":7.8183148246802947},{"$f":"IF(OR(MOD($AF43,2)=0,INDEX(relationships,INT($AF43/2)+1,CY$3)<>2),INDEX($AC$5:$AD$24,CY$3,MOD(COLUMNS($BU$3:CY$3),2)+1),INDEX($AC$5:$AD$24,INT($AF43/2)+1,MOD(COLUMNS($BU$3:CY$3),2)+1))","v":6.2348980185873391},{"$f":"IF(OR(MOD($AF43,2)=0,INDEX(relationships,INT($AF43/2)+1,CZ$3)<>2),INDEX($AC$5:$AD$24,CZ$3,MOD(COLUMNS($BU$3:CZ$3),2)+1),INDEX($AC$5:$AD$24,INT($AF43/2)+1,MOD(COLUMNS($BU$3:CZ$3),2)+1))","v":9.7492791218182369},{"$f":"IF(OR(MOD($AF43,2)=0,INDEX(relationships,INT($AF43/2)+1,DA$3)<>2),INDEX($AC$5:$AD$24,DA$3,MOD(COLUMNS($BU$3:DA$3),2)+1),INDEX($AC$5:$AD$24,INT($AF43/2)+1,MOD(COLUMNS($BU$3:DA$3),2)+1))","v":-2.2252093395631385},{"$f":"IF(OR(MOD($AF43,2)=0,INDEX(relationships,INT($AF43/2)+1,DB$3)<>2),INDEX($AC$5:$AD$24,DB$3,MOD(COLUMNS($BU$3:DB$3),2)+1),INDEX($AC$5:$AD$24,INT($AF43/2)+1,MOD(COLUMNS($BU$3:DB$3),2)+1))","v":4.3388373911755869},{"$f":"IF(OR(MOD($AF43,2)=0,INDEX(relationships,INT($AF43/2)+1,DC$3)<>2),INDEX($AC$5:$AD$24,DC$3,MOD(COLUMNS($BU$3:DC$3),2)+1),INDEX($AC$5:$AD$24,INT($AF43/2)+1,MOD(COLUMNS($BU$3:DC$3),2)+1))","v":-9.0096886790241886},{"$f":"IF(OR(MOD($AF43,2)=0,INDEX(relationships,INT($AF43/2)+1,DD$3)<>2),INDEX($AC$5:$AD$24,DD$3,MOD(COLUMNS($BU$3:DD$3),2)+1),INDEX($AC$5:$AD$24,INT($AF43/2)+1,MOD(COLUMNS($BU$3:DD$3),2)+1))","v":-4.3388373911755753},{"$f":"IF(OR(MOD($AF43,2)=0,INDEX(relationships,INT($AF43/2)+1,DE$3)<>2),INDEX($AC$5:$AD$24,DE$3,MOD(COLUMNS($BU$3:DE$3),2)+1),INDEX($AC$5:$AD$24,INT($AF43/2)+1,MOD(COLUMNS($BU$3:DE$3),2)+1))","v":-9.0096886790241939},{"$f":"IF(OR(MOD($AF43,2)=0,INDEX(relationships,INT($AF43/2)+1,DF$3)<>2),INDEX($AC$5:$AD$24,DF$3,MOD(COLUMNS($BU$3:DF$3),2)+1),INDEX($AC$5:$AD$24,INT($AF43/2)+1,MOD(COLUMNS($BU$3:DF$3),2)+1))","v":-9.7492791218182351},{"$f":"IF(OR(MOD($AF43,2)=0,INDEX(relationships,INT($AF43/2)+1,DG$3)<>2),INDEX($AC$5:$AD$24,DG$3,MOD(COLUMNS($BU$3:DG$3),2)+1),INDEX($AC$5:$AD$24,INT($AF43/2)+1,MOD(COLUMNS($BU$3:DG$3),2)+1))","v":-2.2252093395631505},{"$f":"IF(OR(MOD($AF43,2)=0,INDEX(relationships,INT($AF43/2)+1,DH$3)<>2),INDEX($AC$5:$AD$24,DH$3,MOD(COLUMNS($BU$3:DH$3),2)+1),INDEX($AC$5:$AD$24,INT($AF43/2)+1,MOD(COLUMNS($BU$3:DH$3),2)+1))","v":-7.8183148246803027},{"$f":"IF(OR(MOD($AF43,2)=0,INDEX(relationships,INT($AF43/2)+1,DI$3)<>2),INDEX($AC$5:$AD$24,DI$3,MOD(COLUMNS($BU$3:DI$3),2)+1),INDEX($AC$5:$AD$24,INT($AF43/2)+1,MOD(COLUMNS($BU$3:DI$3),2)+1))","v":6.2348980185873293},null,-2.45029690981724E-15,10,-2.45029690981724E-15,10]
[null,0,{"$f":"MAX(C20,INDEX(rawData,COLUMNS($C$28:C$28),ROWS($B$29:$B44)))","v":0},{"$f":"MAX(D20,INDEX(rawData,COLUMNS($C$28:D$28),ROWS($B$29:$B44)))","v":0},{"$f":"MAX(E20,INDEX(rawData,COLUMNS($C$28:E$28),ROWS($B$29:$B44)))","v":0},{"$f":"MAX(F20,INDEX(rawData,COLUMNS($C$28:F$28),ROWS($B$29:$B44)))","v":0},{"$f":"MAX(G20,INDEX(rawData,COLUMNS($C$28:G$28),ROWS($B$29:$B44)))","v":0},{"$f":"MAX(H20,INDEX(rawData,COLUMNS($C$28:H$28),ROWS($B$29:$B44)))","v":0},{"$f":"MAX(I20,INDEX(rawData,COLUMNS($C$28:I$28),ROWS($B$29:$B44)))","v":0},{"$f":"MAX(J20,INDEX(rawData,COLUMNS($C$28:J$28),ROWS($B$29:$B44)))","v":0},{"$f":"MAX(K20,INDEX(rawData,COLUMNS($C$28:K$28),ROWS($B$29:$B44)))","v":0},{"$f":"MAX(L20,INDEX(rawData,COLUMNS($C$28:L$28),ROWS($B$29:$B44)))","v":0},{"$f":"MAX(M20,INDEX(rawData,COLUMNS($C$28:M$28),ROWS($B$29:$B44)))","v":0},{"$f":"MAX(N20,INDEX(rawData,COLUMNS($C$28:N$28),ROWS($B$29:$B44)))","v":0},{"$f":"MAX(O20,INDEX(rawData,COLUMNS($C$28:O$28),ROWS($B$29:$B44)))","v":0},{"$f":"MAX(P20,INDEX(rawData,COLUMNS($C$28:P$28),ROWS($B$29:$B44)))","v":0},{"$f":"MAX(Q20,INDEX(rawData,COLUMNS($C$28:Q$28),ROWS($B$29:$B44)))","v":0},{"$f":"MAX(R20,INDEX(rawData,COLUMNS($C$28:R$28),ROWS($B$29:$B44)))","v":0},{"$f":"MAX(S20,INDEX(rawData,COLUMNS($C$28:S$28),ROWS($B$29:$B44)))","v":0},{"$f":"MAX(T20,INDEX(rawData,COLUMNS($C$28:T$28),ROWS($B$29:$B44)))","v":0},{"$f":"MAX(U20,INDEX(rawData,COLUMNS($C$28:U$28),ROWS($B$29:$B44)))","v":0},{"$f":"MAX(V20,INDEX(rawData,COLUMNS($C$28:V$28),ROWS($B$29:$B44)))","v":0},null,null,null,null,null,null,null,null,null,39,{"$f":"IF(OR(MOD($AF44,2)=0,INDEX(relationships,INT($AF44/2)+1,AG$3)<>1),INDEX($AC$5:$AD$24,AG$3,MOD(COLUMNS($AF$3:AG$3),2)+1),INDEX($AC$5:$AD$24,INT($AF44/2)+1,MOD(COLUMNS($AF$3:AG$3),2)+1))","v":7.8183148246802983},{"$f":"IF(OR(MOD($AF44,2)=0,INDEX(relationships,INT($AF44/2)+1,AH$3)<>1),INDEX($AC$5:$AD$24,AH$3,MOD(COLUMNS($AF$3:AH$3),2)+1),INDEX($AC$5:$AD$24,INT($AF44/2)+1,MOD(COLUMNS($AF$3:AH$3),2)+1))","v":6.2348980185873355},{"$f":"IF(OR(MOD($AF44,2)=0,INDEX(relationships,INT($AF44/2)+1,AI$3)<>1),INDEX($AC$5:$AD$24,AI$3,MOD(COLUMNS($AF$3:AI$3),2)+1),INDEX($AC$5:$AD$24,INT($AF44/2)+1,MOD(COLUMNS($AF$3:AI$3),2)+1))","v":9.7492791218182369},{"$f":"IF(OR(MOD($AF44,2)=0,INDEX(relationships,INT($AF44/2)+1,AJ$3)<>1),INDEX($AC$5:$AD$24,AJ$3,MOD(COLUMNS($AF$3:AJ$3),2)+1),INDEX($AC$5:$AD$24,INT($AF44/2)+1,MOD(COLUMNS($AF$3:AJ$3),2)+1))","v":-2.2252093395631434},{"$f":"IF(OR(MOD($AF44,2)=0,INDEX(relationships,INT($AF44/2)+1,AK$3)<>1),INDEX($AC$5:$AD$24,AK$3,MOD(COLUMNS($AF$3:AK$3),2)+1),INDEX($AC$5:$AD$24,INT($AF44/2)+1,MOD(COLUMNS($AF$3:AK$3),2)+1))","v":4.3388373911755824},{"$f":"IF(OR(MOD($AF44,2)=0,INDEX(relationships,INT($AF44/2)+1,AL$3)<>1),INDEX($AC$5:$AD$24,AL$3,MOD(COLUMNS($AF$3:AL$3),2)+1),INDEX($AC$5:$AD$24,INT($AF44/2)+1,MOD(COLUMNS($AF$3:AL$3),2)+1))","v":-9.0096886790241903},{"$f":"IF(OR(MOD($AF44,2)=0,INDEX(relationships,INT($AF44/2)+1,AM$3)<>1),INDEX($AC$5:$AD$24,AM$3,MOD(COLUMNS($AF$3:AM$3),2)+1),INDEX($AC$5:$AD$24,INT($AF44/2)+1,MOD(COLUMNS($AF$3:AM$3),2)+1))","v":-4.3388373911755798},{"$f":"IF(OR(MOD($AF44,2)=0,INDEX(relationships,INT($AF44/2)+1,AN$3)<>1),INDEX($AC$5:$AD$24,AN$3,MOD(COLUMNS($AF$3:AN$3),2)+1),INDEX($AC$5:$AD$24,INT($AF44/2)+1,MOD(COLUMNS($AF$3:AN$3),2)+1))","v":-9.0096886790241921},{"$f":"IF(OR(MOD($AF44,2)=0,INDEX(relationships,INT($AF44/2)+1,AO$3)<>1),INDEX($AC$5:$AD$24,AO$3,MOD(COLUMNS($AF$3:AO$3),2)+1),INDEX($AC$5:$AD$24,INT($AF44/2)+1,MOD(COLUMNS($AF$3:AO$3),2)+1))","v":-9.7492791218182369},{"$f":"IF(OR(MOD($AF44,2)=0,INDEX(relationships,INT($AF44/2)+1,AP$3)<>1),INDEX($AC$5:$AD$24,AP$3,MOD(COLUMNS($AF$3:AP$3),2)+1),INDEX($AC$5:$AD$24,INT($AF44/2)+1,MOD(COLUMNS($AF$3:AP$3),2)+1))","v":-2.225209339563146},{"$f":"IF(OR(MOD($AF44,2)=0,INDEX(relationships,INT($AF44/2)+1,AQ$3)<>1),INDEX($AC$5:$AD$24,AQ$3,MOD(COLUMNS($AF$3:AQ$3),2)+1),INDEX($AC$5:$AD$24,INT($AF44/2)+1,MOD(COLUMNS($AF$3:AQ$3),2)+1))","v":-7.8183148246802991},{"$f":"IF(OR(MOD($AF44,2)=0,INDEX(relationships,INT($AF44/2)+1,AR$3)<>1),INDEX($AC$5:$AD$24,AR$3,MOD(COLUMNS($AF$3:AR$3),2)+1),INDEX($AC$5:$AD$24,INT($AF44/2)+1,MOD(COLUMNS($AF$3:AR$3),2)+1))","v":6.2348980185873337},{"$f":"IF(OR(MOD($AF44,2)=0,INDEX(relationships,INT($AF44/2)+1,AS$3)<>1),INDEX($AC$5:$AD$24,AS$3,MOD(COLUMNS($AF$3:AS$3),2)+1),INDEX($AC$5:$AD$24,INT($AF44/2)+1,MOD(COLUMNS($AF$3:AS$3),2)+1))","v":-2.45029690981724E-15},{"$f":"IF(OR(MOD($AF44,2)=0,INDEX(relationships,INT($AF44/2)+1,AT$3)<>1),INDEX($AC$5:$AD$24,AT$3,MOD(COLUMNS($AF$3:AT$3),2)+1),INDEX($AC$5:$AD$24,INT($AF44/2)+1,MOD(COLUMNS($AF$3:AT$3),2)+1))","v":10},{"$f":"IF(OR(MOD($AF44,2)=0,INDEX(relationships,INT($AF44/2)+1,AU$3)<>1),INDEX($AC$5:$AD$24,AU$3,MOD(COLUMNS($AF$3:AU$3),2)+1),INDEX($AC$5:$AD$24,INT($AF44/2)+1,MOD(COLUMNS($AF$3:AU$3),2)+1))","v":7.8183148246802956},{"$f":"IF(OR(MOD($AF44,2)=0,INDEX(relationships,INT($AF44/2)+1,AV$3)<>1),INDEX($AC$5:$AD$24,AV$3,MOD(COLUMNS($AF$3:AV$3),2)+1),INDEX($AC$5:$AD$24,INT($AF44/2)+1,MOD(COLUMNS($AF$3:AV$3),2)+1))","v":6.2348980185873373},{"$f":"IF(OR(MOD($AF44,2)=0,INDEX(relationships,INT($AF44/2)+1,AW$3)<>1),INDEX($AC$5:$AD$24,AW$3,MOD(COLUMNS($AF$3:AW$3),2)+1),INDEX($AC$5:$AD$24,INT($AF44/2)+1,MOD(COLUMNS($AF$3:AW$3),2)+1))","v":9.7492791218182369},{"$f":"IF(OR(MOD($AF44,2)=0,INDEX(relationships,INT($AF44/2)+1,AX$3)<>1),INDEX($AC$5:$AD$24,AX$3,MOD(COLUMNS($AF$3:AX$3),2)+1),INDEX($AC$5:$AD$24,INT($AF44/2)+1,MOD(COLUMNS($AF$3:AX$3),2)+1))","v":-2.2252093395631407},{"$f":"IF(OR(MOD($AF44,2)=0,INDEX(relationships,INT($AF44/2)+1,AY$3)<>1),INDEX($AC$5:$AD$24,AY$3,MOD(COLUMNS($AF$3:AY$3),2)+1),INDEX($AC$5:$AD$24,INT($AF44/2)+1,MOD(COLUMNS($AF$3:AY$3),2)+1))","v":4.3388373911755842},{"$f":"IF(OR(MOD($AF44,2)=0,INDEX(relationships,INT($AF44/2)+1,AZ$3)<>1),INDEX($AC$5:$AD$24,AZ$3,MOD(COLUMNS($AF$3:AZ$3),2)+1),INDEX($AC$5:$AD$24,INT($AF44/2)+1,MOD(COLUMNS($AF$3:AZ$3),2)+1))","v":-9.0096886790241886},{"$f":"IF(OR(MOD($AF44,2)=0,INDEX(relationships,INT($AF44/2)+1,BA$3)<>1),INDEX($AC$5:$AD$24,BA$3,MOD(COLUMNS($AF$3:BA$3),2)+1),INDEX($AC$5:$AD$24,INT($AF44/2)+1,MOD(COLUMNS($AF$3:BA$3),2)+1))","v":-4.338837391175578},{"$f":"IF(OR(MOD($AF44,2)=0,INDEX(relationships,INT($AF44/2)+1,BB$3)<>1),INDEX($AC$5:$AD$24,BB$3,MOD(COLUMNS($AF$3:BB$3),2)+1),INDEX($AC$5:$AD$24,INT($AF44/2)+1,MOD(COLUMNS($AF$3:BB$3),2)+1))","v":-9.0096886790241921},{"$f":"IF(OR(MOD($AF44,2)=0,INDEX(relationships,INT($AF44/2)+1,BC$3)<>1),INDEX($AC$5:$AD$24,BC$3,MOD(COLUMNS($AF$3:BC$3),2)+1),INDEX($AC$5:$AD$24,INT($AF44/2)+1,MOD(COLUMNS($AF$3:BC$3),2)+1))","v":-9.7492791218182351},{"$f":"IF(OR(MOD($AF44,2)=0,INDEX(relationships,INT($AF44/2)+1,BD$3)<>1),INDEX($AC$5:$AD$24,BD$3,MOD(COLUMNS($AF$3:BD$3),2)+1),INDEX($AC$5:$AD$24,INT($AF44/2)+1,MOD(COLUMNS($AF$3:BD$3),2)+1))","v":-2.2252093395631483},{"$f":"IF(OR(MOD($AF44,2)=0,INDEX(relationships,INT($AF44/2)+1,BE$3)<>1),INDEX($AC$5:$AD$24,BE$3,MOD(COLUMNS($AF$3:BE$3),2)+1),INDEX($AC$5:$AD$24,INT($AF44/2)+1,MOD(COLUMNS($AF$3:BE$3),2)+1))","v":-7.8183148246803018},{"$f":"IF(OR(MOD($AF44,2)=0,INDEX(relationships,INT($AF44/2)+1,BF$3)<>1),INDEX($AC$5:$AD$24,BF$3,MOD(COLUMNS($AF$3:BF$3),2)+1),INDEX($AC$5:$AD$24,INT($AF44/2)+1,MOD(COLUMNS($AF$3:BF$3),2)+1))","v":6.2348980185873319},{"$f":"IF(OR(MOD($AF44,2)=0,INDEX(relationships,INT($AF44/2)+1,BG$3)<>1),INDEX($AC$5:$AD$24,BG$3,MOD(COLUMNS($AF$3:BG$3),2)+1),INDEX($AC$5:$AD$24,INT($AF44/2)+1,MOD(COLUMNS($AF$3:BG$3),2)+1))","v":-4.90059381963448E-15},{"$f":"IF(OR(MOD($AF44,2)=0,INDEX(relationships,INT($AF44/2)+1,BH$3)<>1),INDEX($AC$5:$AD$24,BH$3,MOD(COLUMNS($AF$3:BH$3),2)+1),INDEX($AC$5:$AD$24,INT($AF44/2)+1,MOD(COLUMNS($AF$3:BH$3),2)+1))","v":10},{"$f":"IF(OR(MOD($AF44,2)=0,INDEX(relationships,INT($AF44/2)+1,BI$3)<>1),INDEX($AC$5:$AD$24,BI$3,MOD(COLUMNS($AF$3:BI$3),2)+1),INDEX($AC$5:$AD$24,INT($AF44/2)+1,MOD(COLUMNS($AF$3:BI$3),2)+1))","v":7.8183148246802947},{"$f":"IF(OR(MOD($AF44,2)=0,INDEX(relationships,INT($AF44/2)+1,BJ$3)<>1),INDEX($AC$5:$AD$24,BJ$3,MOD(COLUMNS($AF$3:BJ$3),2)+1),INDEX($AC$5:$AD$24,INT($AF44/2)+1,MOD(COLUMNS($AF$3:BJ$3),2)+1))","v":6.2348980185873391},{"$f":"IF(OR(MOD($AF44,2)=0,INDEX(relationships,INT($AF44/2)+1,BK$3)<>1),INDEX($AC$5:$AD$24,BK$3,MOD(COLUMNS($AF$3:BK$3),2)+1),INDEX($AC$5:$AD$24,INT($AF44/2)+1,MOD(COLUMNS($AF$3:BK$3),2)+1))","v":9.7492791218182369},{"$f":"IF(OR(MOD($AF44,2)=0,INDEX(relationships,INT($AF44/2)+1,BL$3)<>1),INDEX($AC$5:$AD$24,BL$3,MOD(COLUMNS($AF$3:BL$3),2)+1),INDEX($AC$5:$AD$24,INT($AF44/2)+1,MOD(COLUMNS($AF$3:BL$3),2)+1))","v":-2.2252093395631385},{"$f":"IF(OR(MOD($AF44,2)=0,INDEX(relationships,INT($AF44/2)+1,BM$3)<>1),INDEX($AC$5:$AD$24,BM$3,MOD(COLUMNS($AF$3:BM$3),2)+1),INDEX($AC$5:$AD$24,INT($AF44/2)+1,MOD(COLUMNS($AF$3:BM$3),2)+1))","v":4.3388373911755869},{"$f":"IF(OR(MOD($AF44,2)=0,INDEX(relationships,INT($AF44/2)+1,BN$3)<>1),INDEX($AC$5:$AD$24,BN$3,MOD(COLUMNS($AF$3:BN$3),2)+1),INDEX($AC$5:$AD$24,INT($AF44/2)+1,MOD(COLUMNS($AF$3:BN$3),2)+1))","v":-9.0096886790241886},{"$f":"IF(OR(MOD($AF44,2)=0,INDEX(relationships,INT($AF44/2)+1,BO$3)<>1),INDEX($AC$5:$AD$24,BO$3,MOD(COLUMNS($AF$3:BO$3),2)+1),INDEX($AC$5:$AD$24,INT($AF44/2)+1,MOD(COLUMNS($AF$3:BO$3),2)+1))","v":-4.3388373911755753},{"$f":"IF(OR(MOD($AF44,2)=0,INDEX(relationships,INT($AF44/2)+1,BP$3)<>1),INDEX($AC$5:$AD$24,BP$3,MOD(COLUMNS($AF$3:BP$3),2)+1),INDEX($AC$5:$AD$24,INT($AF44/2)+1,MOD(COLUMNS($AF$3:BP$3),2)+1))","v":-9.0096886790241939},{"$f":"IF(OR(MOD($AF44,2)=0,INDEX(relationships,INT($AF44/2)+1,BQ$3)<>1),INDEX($AC$5:$AD$24,BQ$3,MOD(COLUMNS($AF$3:BQ$3),2)+1),INDEX($AC$5:$AD$24,INT($AF44/2)+1,MOD(COLUMNS($AF$3:BQ$3),2)+1))","v":-9.7492791218182351},{"$f":"IF(OR(MOD($AF44,2)=0,INDEX(relationships,INT($AF44/2)+1,BR$3)<>1),INDEX($AC$5:$AD$24,BR$3,MOD(COLUMNS($AF$3:BR$3),2)+1),INDEX($AC$5:$AD$24,INT($AF44/2)+1,MOD(COLUMNS($AF$3:BR$3),2)+1))","v":-2.2252093395631505},{"$f":"IF(OR(MOD($AF44,2)=0,INDEX(relationships,INT($AF44/2)+1,BS$3)<>1),INDEX($AC$5:$AD$24,BS$3,MOD(COLUMNS($AF$3:BS$3),2)+1),INDEX($AC$5:$AD$24,INT($AF44/2)+1,MOD(COLUMNS($AF$3:BS$3),2)+1))","v":-7.8183148246803027},{"$f":"IF(OR(MOD($AF44,2)=0,INDEX(relationships,INT($AF44/2)+1,BT$3)<>1),INDEX($AC$5:$AD$24,BT$3,MOD(COLUMNS($AF$3:BT$3),2)+1),INDEX($AC$5:$AD$24,INT($AF44/2)+1,MOD(COLUMNS($AF$3:BT$3),2)+1))","v":6.2348980185873293},null,{"$f":"IF(OR(MOD($AF44,2)=0,INDEX(relationships,INT($AF44/2)+1,BV$3)<>2),INDEX($AC$5:$AD$24,BV$3,MOD(COLUMNS($BU$3:BV$3),2)+1),INDEX($AC$5:$AD$24,INT($AF44/2)+1,MOD(COLUMNS($BU$3:BV$3),2)+1))","v":7.8183148246802983},{"$f":"IF(OR(MOD($AF44,2)=0,INDEX(relationships,INT($AF44/2)+1,BW$3)<>2),INDEX($AC$5:$AD$24,BW$3,MOD(COLUMNS($BU$3:BW$3),2)+1),INDEX($AC$5:$AD$24,INT($AF44/2)+1,MOD(COLUMNS($BU$3:BW$3),2)+1))","v":6.2348980185873355},{"$f":"IF(OR(MOD($AF44,2)=0,INDEX(relationships,INT($AF44/2)+1,BX$3)<>2),INDEX($AC$5:$AD$24,BX$3,MOD(COLUMNS($BU$3:BX$3),2)+1),INDEX($AC$5:$AD$24,INT($AF44/2)+1,MOD(COLUMNS($BU$3:BX$3),2)+1))","v":9.7492791218182369},{"$f":"IF(OR(MOD($AF44,2)=0,INDEX(relationships,INT($AF44/2)+1,BY$3)<>2),INDEX($AC$5:$AD$24,BY$3,MOD(COLUMNS($BU$3:BY$3),2)+1),INDEX($AC$5:$AD$24,INT($AF44/2)+1,MOD(COLUMNS($BU$3:BY$3),2)+1))","v":-2.2252093395631434},{"$f":"IF(OR(MOD($AF44,2)=0,INDEX(relationships,INT($AF44/2)+1,BZ$3)<>2),INDEX($AC$5:$AD$24,BZ$3,MOD(COLUMNS($BU$3:BZ$3),2)+1),INDEX($AC$5:$AD$24,INT($AF44/2)+1,MOD(COLUMNS($BU$3:BZ$3),2)+1))","v":4.3388373911755824},{"$f":"IF(OR(MOD($AF44,2)=0,INDEX(relationships,INT($AF44/2)+1,CA$3)<>2),INDEX($AC$5:$AD$24,CA$3,MOD(COLUMNS($BU$3:CA$3),2)+1),INDEX($AC$5:$AD$24,INT($AF44/2)+1,MOD(COLUMNS($BU$3:CA$3),2)+1))","v":-9.0096886790241903},{"$f":"IF(OR(MOD($AF44,2)=0,INDEX(relationships,INT($AF44/2)+1,CB$3)<>2),INDEX($AC$5:$AD$24,CB$3,MOD(COLUMNS($BU$3:CB$3),2)+1),INDEX($AC$5:$AD$24,INT($AF44/2)+1,MOD(COLUMNS($BU$3:CB$3),2)+1))","v":-4.3388373911755798},{"$f":"IF(OR(MOD($AF44,2)=0,INDEX(relationships,INT($AF44/2)+1,CC$3)<>2),INDEX($AC$5:$AD$24,CC$3,MOD(COLUMNS($BU$3:CC$3),2)+1),INDEX($AC$5:$AD$24,INT($AF44/2)+1,MOD(COLUMNS($BU$3:CC$3),2)+1))","v":-9.0096886790241921},{"$f":"IF(OR(MOD($AF44,2)=0,INDEX(relationships,INT($AF44/2)+1,CD$3)<>2),INDEX($AC$5:$AD$24,CD$3,MOD(COLUMNS($BU$3:CD$3),2)+1),INDEX($AC$5:$AD$24,INT($AF44/2)+1,MOD(COLUMNS($BU$3:CD$3),2)+1))","v":-9.7492791218182369},{"$f":"IF(OR(MOD($AF44,2)=0,INDEX(relationships,INT($AF44/2)+1,CE$3)<>2),INDEX($AC$5:$AD$24,CE$3,MOD(COLUMNS($BU$3:CE$3),2)+1),INDEX($AC$5:$AD$24,INT($AF44/2)+1,MOD(COLUMNS($BU$3:CE$3),2)+1))","v":-2.225209339563146},{"$f":"IF(OR(MOD($AF44,2)=0,INDEX(relationships,INT($AF44/2)+1,CF$3)<>2),INDEX($AC$5:$AD$24,CF$3,MOD(COLUMNS($BU$3:CF$3),2)+1),INDEX($AC$5:$AD$24,INT($AF44/2)+1,MOD(COLUMNS($BU$3:CF$3),2)+1))","v":-7.8183148246802991},{"$f":"IF(OR(MOD($AF44,2)=0,INDEX(relationships,INT($AF44/2)+1,CG$3)<>2),INDEX($AC$5:$AD$24,CG$3,MOD(COLUMNS($BU$3:CG$3),2)+1),INDEX($AC$5:$AD$24,INT($AF44/2)+1,MOD(COLUMNS($BU$3:CG$3),2)+1))","v":6.2348980185873337},{"$f":"IF(OR(MOD($AF44,2)=0,INDEX(relationships,INT($AF44/2)+1,CH$3)<>2),INDEX($AC$5:$AD$24,CH$3,MOD(COLUMNS($BU$3:CH$3),2)+1),INDEX($AC$5:$AD$24,INT($AF44/2)+1,MOD(COLUMNS($BU$3:CH$3),2)+1))","v":-2.45029690981724E-15},{"$f":"IF(OR(MOD($AF44,2)=0,INDEX(relationships,INT($AF44/2)+1,CI$3)<>2),INDEX($AC$5:$AD$24,CI$3,MOD(COLUMNS($BU$3:CI$3),2)+1),INDEX($AC$5:$AD$24,INT($AF44/2)+1,MOD(COLUMNS($BU$3:CI$3),2)+1))","v":10},{"$f":"IF(OR(MOD($AF44,2)=0,INDEX(relationships,INT($AF44/2)+1,CJ$3)<>2),INDEX($AC$5:$AD$24,CJ$3,MOD(COLUMNS($BU$3:CJ$3),2)+1),INDEX($AC$5:$AD$24,INT($AF44/2)+1,MOD(COLUMNS($BU$3:CJ$3),2)+1))","v":7.8183148246802956},{"$f":"IF(OR(MOD($AF44,2)=0,INDEX(relationships,INT($AF44/2)+1,CK$3)<>2),INDEX($AC$5:$AD$24,CK$3,MOD(COLUMNS($BU$3:CK$3),2)+1),INDEX($AC$5:$AD$24,INT($AF44/2)+1,MOD(COLUMNS($BU$3:CK$3),2)+1))","v":6.2348980185873373},{"$f":"IF(OR(MOD($AF44,2)=0,INDEX(relationships,INT($AF44/2)+1,CL$3)<>2),INDEX($AC$5:$AD$24,CL$3,MOD(COLUMNS($BU$3:CL$3),2)+1),INDEX($AC$5:$AD$24,INT($AF44/2)+1,MOD(COLUMNS($BU$3:CL$3),2)+1))","v":9.7492791218182369},{"$f":"IF(OR(MOD($AF44,2)=0,INDEX(relationships,INT($AF44/2)+1,CM$3)<>2),INDEX($AC$5:$AD$24,CM$3,MOD(COLUMNS($BU$3:CM$3),2)+1),INDEX($AC$5:$AD$24,INT($AF44/2)+1,MOD(COLUMNS($BU$3:CM$3),2)+1))","v":-2.2252093395631407},{"$f":"IF(OR(MOD($AF44,2)=0,INDEX(relationships,INT($AF44/2)+1,CN$3)<>2),INDEX($AC$5:$AD$24,CN$3,MOD(COLUMNS($BU$3:CN$3),2)+1),INDEX($AC$5:$AD$24,INT($AF44/2)+1,MOD(COLUMNS($BU$3:CN$3),2)+1))","v":4.3388373911755842},{"$f":"IF(OR(MOD($AF44,2)=0,INDEX(relationships,INT($AF44/2)+1,CO$3)<>2),INDEX($AC$5:$AD$24,CO$3,MOD(COLUMNS($BU$3:CO$3),2)+1),INDEX($AC$5:$AD$24,INT($AF44/2)+1,MOD(COLUMNS($BU$3:CO$3),2)+1))","v":-9.0096886790241886},{"$f":"IF(OR(MOD($AF44,2)=0,INDEX(relationships,INT($AF44/2)+1,CP$3)<>2),INDEX($AC$5:$AD$24,CP$3,MOD(COLUMNS($BU$3:CP$3),2)+1),INDEX($AC$5:$AD$24,INT($AF44/2)+1,MOD(COLUMNS($BU$3:CP$3),2)+1))","v":-4.338837391175578},{"$f":"IF(OR(MOD($AF44,2)=0,INDEX(relationships,INT($AF44/2)+1,CQ$3)<>2),INDEX($AC$5:$AD$24,CQ$3,MOD(COLUMNS($BU$3:CQ$3),2)+1),INDEX($AC$5:$AD$24,INT($AF44/2)+1,MOD(COLUMNS($BU$3:CQ$3),2)+1))","v":-9.0096886790241921},{"$f":"IF(OR(MOD($AF44,2)=0,INDEX(relationships,INT($AF44/2)+1,CR$3)<>2),INDEX($AC$5:$AD$24,CR$3,MOD(COLUMNS($BU$3:CR$3),2)+1),INDEX($AC$5:$AD$24,INT($AF44/2)+1,MOD(COLUMNS($BU$3:CR$3),2)+1))","v":-9.7492791218182351},{"$f":"IF(OR(MOD($AF44,2)=0,INDEX(relationships,INT($AF44/2)+1,CS$3)<>2),INDEX($AC$5:$AD$24,CS$3,MOD(COLUMNS($BU$3:CS$3),2)+1),INDEX($AC$5:$AD$24,INT($AF44/2)+1,MOD(COLUMNS($BU$3:CS$3),2)+1))","v":-2.2252093395631483},{"$f":"IF(OR(MOD($AF44,2)=0,INDEX(relationships,INT($AF44/2)+1,CT$3)<>2),INDEX($AC$5:$AD$24,CT$3,MOD(COLUMNS($BU$3:CT$3),2)+1),INDEX($AC$5:$AD$24,INT($AF44/2)+1,MOD(COLUMNS($BU$3:CT$3),2)+1))","v":-7.8183148246803018},{"$f":"IF(OR(MOD($AF44,2)=0,INDEX(relationships,INT($AF44/2)+1,CU$3)<>2),INDEX($AC$5:$AD$24,CU$3,MOD(COLUMNS($BU$3:CU$3),2)+1),INDEX($AC$5:$AD$24,INT($AF44/2)+1,MOD(COLUMNS($BU$3:CU$3),2)+1))","v":6.2348980185873319},{"$f":"IF(OR(MOD($AF44,2)=0,INDEX(relationships,INT($AF44/2)+1,CV$3)<>2),INDEX($AC$5:$AD$24,CV$3,MOD(COLUMNS($BU$3:CV$3),2)+1),INDEX($AC$5:$AD$24,INT($AF44/2)+1,MOD(COLUMNS($BU$3:CV$3),2)+1))","v":-4.90059381963448E-15},{"$f":"IF(OR(MOD($AF44,2)=0,INDEX(relationships,INT($AF44/2)+1,CW$3)<>2),INDEX($AC$5:$AD$24,CW$3,MOD(COLUMNS($BU$3:CW$3),2)+1),INDEX($AC$5:$AD$24,INT($AF44/2)+1,MOD(COLUMNS($BU$3:CW$3),2)+1))","v":10},{"$f":"IF(OR(MOD($AF44,2)=0,INDEX(relationships,INT($AF44/2)+1,CX$3)<>2),INDEX($AC$5:$AD$24,CX$3,MOD(COLUMNS($BU$3:CX$3),2)+1),INDEX($AC$5:$AD$24,INT($AF44/2)+1,MOD(COLUMNS($BU$3:CX$3),2)+1))","v":7.8183148246802947},{"$f":"IF(OR(MOD($AF44,2)=0,INDEX(relationships,INT($AF44/2)+1,CY$3)<>2),INDEX($AC$5:$AD$24,CY$3,MOD(COLUMNS($BU$3:CY$3),2)+1),INDEX($AC$5:$AD$24,INT($AF44/2)+1,MOD(COLUMNS($BU$3:CY$3),2)+1))","v":6.2348980185873391},{"$f":"IF(OR(MOD($AF44,2)=0,INDEX(relationships,INT($AF44/2)+1,CZ$3)<>2),INDEX($AC$5:$AD$24,CZ$3,MOD(COLUMNS($BU$3:CZ$3),2)+1),INDEX($AC$5:$AD$24,INT($AF44/2)+1,MOD(COLUMNS($BU$3:CZ$3),2)+1))","v":9.7492791218182369},{"$f":"IF(OR(MOD($AF44,2)=0,INDEX(relationships,INT($AF44/2)+1,DA$3)<>2),INDEX($AC$5:$AD$24,DA$3,MOD(COLUMNS($BU$3:DA$3),2)+1),INDEX($AC$5:$AD$24,INT($AF44/2)+1,MOD(COLUMNS($BU$3:DA$3),2)+1))","v":-2.2252093395631385},{"$f":"IF(OR(MOD($AF44,2)=0,INDEX(relationships,INT($AF44/2)+1,DB$3)<>2),INDEX($AC$5:$AD$24,DB$3,MOD(COLUMNS($BU$3:DB$3),2)+1),INDEX($AC$5:$AD$24,INT($AF44/2)+1,MOD(COLUMNS($BU$3:DB$3),2)+1))","v":4.3388373911755869},{"$f":"IF(OR(MOD($AF44,2)=0,INDEX(relationships,INT($AF44/2)+1,DC$3)<>2),INDEX($AC$5:$AD$24,DC$3,MOD(COLUMNS($BU$3:DC$3),2)+1),INDEX($AC$5:$AD$24,INT($AF44/2)+1,MOD(COLUMNS($BU$3:DC$3),2)+1))","v":-9.0096886790241886},{"$f":"IF(OR(MOD($AF44,2)=0,INDEX(relationships,INT($AF44/2)+1,DD$3)<>2),INDEX($AC$5:$AD$24,DD$3,MOD(COLUMNS($BU$3:DD$3),2)+1),INDEX($AC$5:$AD$24,INT($AF44/2)+1,MOD(COLUMNS($BU$3:DD$3),2)+1))","v":-4.3388373911755753},{"$f":"IF(OR(MOD($AF44,2)=0,INDEX(relationships,INT($AF44/2)+1,DE$3)<>2),INDEX($AC$5:$AD$24,DE$3,MOD(COLUMNS($BU$3:DE$3),2)+1),INDEX($AC$5:$AD$24,INT($AF44/2)+1,MOD(COLUMNS($BU$3:DE$3),2)+1))","v":-9.0096886790241939},{"$f":"IF(OR(MOD($AF44,2)=0,INDEX(relationships,INT($AF44/2)+1,DF$3)<>2),INDEX($AC$5:$AD$24,DF$3,MOD(COLUMNS($BU$3:DF$3),2)+1),INDEX($AC$5:$AD$24,INT($AF44/2)+1,MOD(COLUMNS($BU$3:DF$3),2)+1))","v":-9.7492791218182351},{"$f":"IF(OR(MOD($AF44,2)=0,INDEX(relationships,INT($AF44/2)+1,DG$3)<>2),INDEX($AC$5:$AD$24,DG$3,MOD(COLUMNS($BU$3:DG$3),2)+1),INDEX($AC$5:$AD$24,INT($AF44/2)+1,MOD(COLUMNS($BU$3:DG$3),2)+1))","v":-2.2252093395631505},{"$f":"IF(OR(MOD($AF44,2)=0,INDEX(relationships,INT($AF44/2)+1,DH$3)<>2),INDEX($AC$5:$AD$24,DH$3,MOD(COLUMNS($BU$3:DH$3),2)+1),INDEX($AC$5:$AD$24,INT($AF44/2)+1,MOD(COLUMNS($BU$3:DH$3),2)+1))","v":-7.8183148246803027},{"$f":"IF(OR(MOD($AF44,2)=0,INDEX(relationships,INT($AF44/2)+1,DI$3)<>2),INDEX($AC$5:$AD$24,DI$3,MOD(COLUMNS($BU$3:DI$3),2)+1),INDEX($AC$5:$AD$24,INT($AF44/2)+1,MOD(COLUMNS($BU$3:DI$3),2)+1))","v":6.2348980185873293},null,-2.45029690981724E-15,10,-2.45029690981724E-15,10]
[null,0,{"$f":"MAX(C21,INDEX(rawData,COLUMNS($C$28:C$28),ROWS($B$29:$B45)))","v":0},{"$f":"MAX(D21,INDEX(rawData,COLUMNS($C$28:D$28),ROWS($B$29:$B45)))","v":0},{"$f":"MAX(E21,INDEX(rawData,COLUMNS($C$28:E$28),ROWS($B$29:$B45)))","v":0},{"$f":"MAX(F21,INDEX(rawData,COLUMNS($C$28:F$28),ROWS($B$29:$B45)))","v":0},{"$f":"MAX(G21,INDEX(rawData,COLUMNS($C$28:G$28),ROWS($B$29:$B45)))","v":0},{"$f":"MAX(H21,INDEX(rawData,COLUMNS($C$28:H$28),ROWS($B$29:$B45)))","v":0},{"$f":"MAX(I21,INDEX(rawData,COLUMNS($C$28:I$28),ROWS($B$29:$B45)))","v":0},{"$f":"MAX(J21,INDEX(rawData,COLUMNS($C$28:J$28),ROWS($B$29:$B45)))","v":0},{"$f":"MAX(K21,INDEX(rawData,COLUMNS($C$28:K$28),ROWS($B$29:$B45)))","v":0},{"$f":"MAX(L21,INDEX(rawData,COLUMNS($C$28:L$28),ROWS($B$29:$B45)))","v":0},{"$f":"MAX(M21,INDEX(rawData,COLUMNS($C$28:M$28),ROWS($B$29:$B45)))","v":0},{"$f":"MAX(N21,INDEX(rawData,COLUMNS($C$28:N$28),ROWS($B$29:$B45)))","v":0},{"$f":"MAX(O21,INDEX(rawData,COLUMNS($C$28:O$28),ROWS($B$29:$B45)))","v":0},{"$f":"MAX(P21,INDEX(rawData,COLUMNS($C$28:P$28),ROWS($B$29:$B45)))","v":0},{"$f":"MAX(Q21,INDEX(rawData,COLUMNS($C$28:Q$28),ROWS($B$29:$B45)))","v":0},{"$f":"MAX(R21,INDEX(rawData,COLUMNS($C$28:R$28),ROWS($B$29:$B45)))","v":0},{"$f":"MAX(S21,INDEX(rawData,COLUMNS($C$28:S$28),ROWS($B$29:$B45)))","v":0},{"$f":"MAX(T21,INDEX(rawData,COLUMNS($C$28:T$28),ROWS($B$29:$B45)))","v":0},{"$f":"MAX(U21,INDEX(rawData,COLUMNS($C$28:U$28),ROWS($B$29:$B45)))","v":0},{"$f":"MAX(V21,INDEX(rawData,COLUMNS($C$28:V$28),ROWS($B$29:$B45)))","v":0}]
[null,0,{"$f":"MAX(C22,INDEX(rawData,COLUMNS($C$28:C$28),ROWS($B$29:$B46)))","v":0},{"$f":"MAX(D22,INDEX(rawData,COLUMNS($C$28:D$28),ROWS($B$29:$B46)))","v":0},{"$f":"MAX(E22,INDEX(rawData,COLUMNS($C$28:E$28),ROWS($B$29:$B46)))","v":0},{"$f":"MAX(F22,INDEX(rawData,COLUMNS($C$28:F$28),ROWS($B$29:$B46)))","v":0},{"$f":"MAX(G22,INDEX(rawData,COLUMNS($C$28:G$28),ROWS($B$29:$B46)))","v":0},{"$f":"MAX(H22,INDEX(rawData,COLUMNS($C$28:H$28),ROWS($B$29:$B46)))","v":0},{"$f":"MAX(I22,INDEX(rawData,COLUMNS($C$28:I$28),ROWS($B$29:$B46)))","v":0},{"$f":"MAX(J22,INDEX(rawData,COLUMNS($C$28:J$28),ROWS($B$29:$B46)))","v":0},{"$f":"MAX(K22,INDEX(rawData,COLUMNS($C$28:K$28),ROWS($B$29:$B46)))","v":0},{"$f":"MAX(L22,INDEX(rawData,COLUMNS($C$28:L$28),ROWS($B$29:$B46)))","v":0},{"$f":"MAX(M22,INDEX(rawData,COLUMNS($C$28:M$28),ROWS($B$29:$B46)))","v":0},{"$f":"MAX(N22,INDEX(rawData,COLUMNS($C$28:N$28),ROWS($B$29:$B46)))","v":0},{"$f":"MAX(O22,INDEX(rawData,COLUMNS($C$28:O$28),ROWS($B$29:$B46)))","v":0},{"$f":"MAX(P22,INDEX(rawData,COLUMNS($C$28:P$28),ROWS($B$29:$B46)))","v":0},{"$f":"MAX(Q22,INDEX(rawData,COLUMNS($C$28:Q$28),ROWS($B$29:$B46)))","v":0},{"$f":"MAX(R22,INDEX(rawData,COLUMNS($C$28:R$28),ROWS($B$29:$B46)))","v":0},{"$f":"MAX(S22,INDEX(rawData,COLUMNS($C$28:S$28),ROWS($B$29:$B46)))","v":0},{"$f":"MAX(T22,INDEX(rawData,COLUMNS($C$28:T$28),ROWS($B$29:$B46)))","v":0},{"$f":"MAX(U22,INDEX(rawData,COLUMNS($C$28:U$28),ROWS($B$29:$B46)))","v":0},{"$f":"MAX(V22,INDEX(rawData,COLUMNS($C$28:V$28),ROWS($B$29:$B46)))","v":0}]
[null,0,{"$f":"MAX(C23,INDEX(rawData,COLUMNS($C$28:C$28),ROWS($B$29:$B47)))","v":0},{"$f":"MAX(D23,INDEX(rawData,COLUMNS($C$28:D$28),ROWS($B$29:$B47)))","v":0},{"$f":"MAX(E23,INDEX(rawData,COLUMNS($C$28:E$28),ROWS($B$29:$B47)))","v":0},{"$f":"MAX(F23,INDEX(rawData,COLUMNS($C$28:F$28),ROWS($B$29:$B47)))","v":0},{"$f":"MAX(G23,INDEX(rawData,COLUMNS($C$28:G$28),ROWS($B$29:$B47)))","v":0},{"$f":"MAX(H23,INDEX(rawData,COLUMNS($C$28:H$28),ROWS($B$29:$B47)))","v":0},{"$f":"MAX(I23,INDEX(rawData,COLUMNS($C$28:I$28),ROWS($B$29:$B47)))","v":0},{"$f":"MAX(J23,INDEX(rawData,COLUMNS($C$28:J$28),ROWS($B$29:$B47)))","v":0},{"$f":"MAX(K23,INDEX(rawData,COLUMNS($C$28:K$28),ROWS($B$29:$B47)))","v":0},{"$f":"MAX(L23,INDEX(rawData,COLUMNS($C$28:L$28),ROWS($B$29:$B47)))","v":0},{"$f":"MAX(M23,INDEX(rawData,COLUMNS($C$28:M$28),ROWS($B$29:$B47)))","v":0},{"$f":"MAX(N23,INDEX(rawData,COLUMNS($C$28:N$28),ROWS($B$29:$B47)))","v":0},{"$f":"MAX(O23,INDEX(rawData,COLUMNS($C$28:O$28),ROWS($B$29:$B47)))","v":0},{"$f":"MAX(P23,INDEX(rawData,COLUMNS($C$28:P$28),ROWS($B$29:$B47)))","v":0},{"$f":"MAX(Q23,INDEX(rawData,COLUMNS($C$28:Q$28),ROWS($B$29:$B47)))","v":0},{"$f":"MAX(R23,INDEX(rawData,COLUMNS($C$28:R$28),ROWS($B$29:$B47)))","v":0},{"$f":"MAX(S23,INDEX(rawData,COLUMNS($C$28:S$28),ROWS($B$29:$B47)))","v":0},{"$f":"MAX(T23,INDEX(rawData,COLUMNS($C$28:T$28),ROWS($B$29:$B47)))","v":0},{"$f":"MAX(U23,INDEX(rawData,COLUMNS($C$28:U$28),ROWS($B$29:$B47)))","v":0},{"$f":"MAX(V23,INDEX(rawData,COLUMNS($C$28:V$28),ROWS($B$29:$B47)))","v":0}]
[null,0,{"$f":"MAX(C24,INDEX(rawData,COLUMNS($C$28:C$28),ROWS($B$29:$B48)))","v":0},{"$f":"MAX(D24,INDEX(rawData,COLUMNS($C$28:D$28),ROWS($B$29:$B48)))","v":0},{"$f":"MAX(E24,INDEX(rawData,COLUMNS($C$28:E$28),ROWS($B$29:$B48)))","v":0},{"$f":"MAX(F24,INDEX(rawData,COLUMNS($C$28:F$28),ROWS($B$29:$B48)))","v":0},{"$f":"MAX(G24,INDEX(rawData,COLUMNS($C$28:G$28),ROWS($B$29:$B48)))","v":0},{"$f":"MAX(H24,INDEX(rawData,COLUMNS($C$28:H$28),ROWS($B$29:$B48)))","v":0},{"$f":"MAX(I24,INDEX(rawData,COLUMNS($C$28:I$28),ROWS($B$29:$B48)))","v":0},{"$f":"MAX(J24,INDEX(rawData,COLUMNS($C$28:J$28),ROWS($B$29:$B48)))","v":0},{"$f":"MAX(K24,INDEX(rawData,COLUMNS($C$28:K$28),ROWS($B$29:$B48)))","v":0},{"$f":"MAX(L24,INDEX(rawData,COLUMNS($C$28:L$28),ROWS($B$29:$B48)))","v":0},{"$f":"MAX(M24,INDEX(rawData,COLUMNS($C$28:M$28),ROWS($B$29:$B48)))","v":0},{"$f":"MAX(N24,INDEX(rawData,COLUMNS($C$28:N$28),ROWS($B$29:$B48)))","v":0},{"$f":"MAX(O24,INDEX(rawData,COLUMNS($C$28:O$28),ROWS($B$29:$B48)))","v":0},{"$f":"MAX(P24,INDEX(rawData,COLUMNS($C$28:P$28),ROWS($B$29:$B48)))","v":0},{"$f":"MAX(Q24,INDEX(rawData,COLUMNS($C$28:Q$28),ROWS($B$29:$B48)))","v":0},{"$f":"MAX(R24,INDEX(rawData,COLUMNS($C$28:R$28),ROWS($B$29:$B48)))","v":0},{"$f":"MAX(S24,INDEX(rawData,COLUMNS($C$28:S$28),ROWS($B$29:$B48)))","v":0},{"$f":"MAX(T24,INDEX(rawData,COLUMNS($C$28:T$28),ROWS($B$29:$B48)))","v":0},{"$f":"MAX(U24,INDEX(rawData,COLUMNS($C$28:U$28),ROWS($B$29:$B48)))","v":0},{"$f":"MAX(V24,INDEX(rawData,COLUMNS($C$28:V$28),ROWS($B$29:$B48)))","v":0}]
[]
[]
[]
[]
[]
[]
[]
[]
[]
[]
[]
[null,"Row Labels","Count of Stakeholders"]
[null,"Colleagues ",1]

{"sheet":"Your MAP","index":11,"n_rows":23,"n_cols":18,"rows_kept":23,"cut":false,"hidden":false,"merged":[]}
[]
[]
[]
[]
[null,null,null,null,null,null,null,null,null,null,null,null,null,"Instructions:"]
[null,null,null,null,null,null,null,null,null,null,null,null,null,"This is the visual plot of your social network."]
[null,null,null,null,null,null,null,null,null,null,null,null,null,"You can select your GROUP  to view by selecting the GROUP Name"]
[]
[null,null,null,null,null,null,null,null,null,null,null,null,null,"Refresh:"]
[null,null,null,null,null,null,null,null,null,null,null,null,null,"Right click on the 'select a group' text and then choose 'refresh' to see your groups if you update your network map."]
[]
[null,null,null,null,null,null,null,null,null,null,null,null,null,"You can change the sensitivity of the map (the point at which a relationship gains limited and then significant influence."]
[null,null,null,null,null,null,null,null,null,null,null,null,null," "]
[null,null,null,null,null,null,null,null,null,null,null,null,null,"Sensitivity=",null,4,null,"[NB - Default =4]"]
[null,null,null,null,null,null,null,null,null,null,null,null,null,"Status = ",null,{"$f":"IF('Group Data'!AN11>=1,IF('Group Data'!AN11<>\"change\",\"OK\",\"Too Low\"),\"Too Low\")","v":"OK"},null," A lower number = more sensitive and a higher number = less sensitive"]
[null,null,null,null,null,null,null,null,null,null,null,null,null,null,null,null,null,"Minimum sensitivity value = 3"]
[]
[]
[]
[]
[null,null,null,null,null,null,null,null,null,{"$f":"'Data & Calc'!Y25","v":"How Influential is Colleagues ?"}]
[null,null,null,null,null,null,null,null,null,{"$f":"'Data & Calc'!Y26","v":"Limited:"},null,{"$f":"'Data & Calc'!Z26","v":"0 (0%)"}]
[null,null,null,null,null,null,null,null,null,{"$f":"'Data & Calc'!Y27","v":"Significant:"},null,{"$f":"'Data & Calc'!Z27","v":"1 (14%)"}]